{"text_format":"1","workbook":"xlsx","n_sheets":11,"sheets":["Berechnung","Anteile","Dateneingabe Ggl. und KG","Ggl. Historie","Ggl. Korr.","Ggl. Prog.","Ggl. Grafik","KG Korr.","KG akt.","Zählung","Parameter"],"not_rendered":{"charts":1,"images":1,"macros":1,"external_links":3,"defined_names":153,"comments":5,"pivot_tables":0},"unopened":[],"bounds":{"document_bytes":16777216,"sheet_cells":100000,"rows_first":2000,"rows_last":500,"rows_between":2000,"halvings":0,"cell_chars":16384,"cell_head_chars":4096},"cells_cut":0,"cells_raw":0,"read":"whole","date_system":"1900"}

{"sheet":"Berechnung","index":0,"n_rows":73,"n_cols":27,"rows_kept":73,"cut":false,"hidden":false,"merged":[[69,0,69,14],[72,0,72,14],[71,0,71,14],[65,0,65,14],[66,0,66,14],[67,0,67,14],[68,0,68,14]]}
[{"$f":"\"PfarrPlan \" & Parameter!A2 & \": Merkmalswerte und Zielzahlen \"","v":"PfarrPlan 2024: Merkmalswerte und Zielzahlen "},null,null,null,null,null,null,null,null,null,null,null,null,null,null,null,null,null,"Kursiv dargestellte Werte sind wegen Verschiebungen"]
[{"$f":"\"Stand der Gemeindeglieder- und Kirchengemeindedaten: 31.12.\"&Parameter!A8","v":"Stand der Gemeindeglieder- und Kirchengemeindedaten: 31.12.2016"},null,null,null,null,null,null,null,null,null,null,null,null,null,null,null,null,null,"zwischen Kirchenbezirken nur bedingt vergleichbar "]
[null,{"$f":"A3+1","v":1},{"$f":"B3+1","v":2},3,4,5,5,6,7,8,9,10,11,12,13,14,15,16,17,18,19,20,21]
[{"$f":"Parameter!B1","v":"Dekanat/Kirchenbezirk"},"Grundaufwand Kirchenbezirk \n(Sockel)","Seelsorge, Kasualien, gemeindl. Leben (Zahl der Gemeindeglieder in Tausend)","Verkündigung und Leitung \n(mod. Zahl der Kirchengemeinden)","Weiterer Aufwand für Verkündigung (Anzahl zusätzliche Predigtstellen)","Überdurchschnittliche Urbanität mit Zentralfunktion","Überdurchschnittliche Ländlichkeit","Klassische Diaspora","Moderne Diaspora","Religionsunterricht\n(aufgrund Formel)","Stellenanteile für Krankenhausseelsorge","Stellenanteile für Hochschulseelsorge","Stellenanteile für Reha-Seelsorge","Stellenanteile für überregionale Aufgaben im landeskirchl. Interesse",{"$f":" \"Aus den vorigen Spalten: Zielzahlen \"&Parameter!A2&\" (in der Anzeige gerundet auf 3 Stellen)\"","v":"Aus den vorigen Spalten: Zielzahlen 2024 (in der Anzeige gerundet auf 3 Stellen)"},"Ggf. Korrekturen (Stellenanteile)",{"$f":"\"Aus den vorigen Spalten: Zielzahlen \"&Parameter!A2&\" (gerundet auf Viertelstellen)\"","v":"Aus den vorigen Spalten: Zielzahlen 2024 (gerundet auf Viertelstellen)"},null,{"$f":"\"Zum Vergleich: \nZielzahlen \"&Parameter!A5","v":"Zum Vergleich: \nZielzahlen 2018"},{"$f":"\"Differenz zwischen den Zielzahlen \"&Parameter!A5&\" und \"&Parameter!A2","v":"Differenz zwischen den Zielzahlen 2018 und 2024"},"Differenz (vorige Spalte) in Prozent",null,{"$f":"\"Geschätzte Veränderung der Gemeindegliederzahlen zwischen dem akt. Stand Ende \"&Parameter!A8&\" und dem Zieljahr \"&Parameter!A2","v":"Geschätzte Veränderung der Gemeindegliederzahlen zwischen dem akt. Stand Ende 2016 und dem Zieljahr 2024"}]
[{"$f":"Parameter!B2","v":"Aalen"},1,{"$f":"'Ggl. Prog.'!AF5/1000","v":33.661371428571428},{"$f":"'KG akt.'!K5","v":23},{"$f":"Zählung!I5","v":12},0,1.4291975055958739,8.0878543313162563,0,{"$f":"IF(C5=0,0,(O5-K5-L5-M5-N5)*J$63/Parameter!$A$11-C5*J$64/Parameter!$A$11)","v":4.068954051963475},{"$f":"Zählung!D5","v":1},{"$f":"Zählung!F5","v":0.25},{"$f":"Zählung!H5","v":0},null,{"$f":"IF(C5=0,0,(B5*B$57+C5*C$57+D5*D$57+E5*E$57+F5*F$57+G5*G$57+H5*H$57+I5*I$57+K5*K$57+L5*L$57+M5*M$57+N5*N$57-(K5+L5+M5+N5)*J$63*$J$57/Parameter!$A$11-C5*J$64*$J$57/Parameter!$A$11)/(1-J$63*$J$57/Parameter!$A$11))","v":23.262283518917172},null,{"$f":"ROUND(4*O5,0)/4+P5","v":23.25},null,27.25,{"$f":"Q5-S5","v":-4},{"$f":"IF(C5=0,0,T5/S5)","v":-0.14678899082568808},null,{"$f":"'Ggl. Prog.'!AF5-'Ggl. Prog.'!P5","v":-3790.6285714285696}]
[{"$f":"Parameter!B3","v":"Backnang"},1,{"$f":"'Ggl. Prog.'!AF6/1000","v":36.686057142857145},{"$f":"'KG akt.'!K6","v":25},{"$f":"Zählung!I6","v":14},0,1.9879633600223543,0,0,{"$f":"IF(C6=0,0,(O6-K6-L6-M6-N6)*J$63/Parameter!$A$11-C6*J$64/Parameter!$A$11)","v":4.0901345242268432},{"$f":"Zählung!D6","v":0},{"$f":"Zählung!F6","v":0},{"$f":"Zählung!H6","v":0},null,{"$f":"IF(C6=0,0,(B6*B$57+C6*C$57+D6*D$57+E6*E$57+F6*F$57+G6*G$57+H6*H$57+I6*I$57+K6*K$57+L6*L$57+M6*M$57+N6*N$57-(K6+L6+M6+N6)*J$63*$J$57/Parameter!$A$11-C6*J$64*$J$57/Parameter!$A$11)/(1-J$63*$J$57/Parameter!$A$11))","v":22.760080443667299},null,{"$f":"ROUND(4*O6,0)/4+P6","v":22.75},null,26.25,{"$f":"Q6-S6","v":-3.5},{"$f":"IF(C6=0,0,T6/S6)","v":-0.13333333333333333},null,{"$f":"'Ggl. Prog.'!AF6-'Ggl. Prog.'!P6","v":-5357.942857142858}]
[{"$f":"Parameter!B4","v":"Bad Cannstatt"},0.5,{"$f":"'Ggl. Prog.'!AF7/1000","v":24.61394285714286},{"$f":"'KG akt.'!K7","v":20.5},{"$f":"Zählung!I7","v":1},0,0,0,62.195995281945031,{"$f":"IF(C7=0,0,(O7-K7-L7-M7-N7)*J$63/Parameter!$A$11-C7*J$64/Parameter!$A$11)","v":3.0480581445223969},{"$f":"Zählung!D7","v":0},{"$f":"Zählung!F7","v":0},{"$f":"Zählung!H7","v":0},null,{"$f":"IF(C7=0,0,(B7*B$57+C7*C$57+D7*D$57+E7*E$57+F7*F$57+G7*G$57+H7*H$57+I7*I$57+K7*K$57+L7*L$57+M7*M$57+N7*N$57-(K7+L7+M7+N7)*J$63*$J$57/Parameter!$A$11-C7*J$64*$J$57/Parameter!$A$11)/(1-J$63*$J$57/Parameter!$A$11))","v":16.355687024087928},null,16.25,null,21.5,-5.25,-0.2441860465116279,null,{"$f":"'Ggl. Prog.'!AF7-'Ggl. Prog.'!P7","v":-5778.057142857142}]
[{"$f":"Parameter!B5","v":"Bad Urach-Münsingen"},2,{"$f":"'Ggl. Prog.'!AF8/1000","v":50.569428571428574},{"$f":"'KG akt.'!K8","v":52.5},{"$f":"Zählung!I8","v":12},0,{"$f":"0+6.11045199968429","v":6.1104519996842903},{"$f":"0.280773969537783+3.24545158164799","v":3.5262255511857727},0,{"$f":"IF(C8=0,0,(O8-K8-L8-M8-N8)*J$63/Parameter!$A$11-C8*J$64/Parameter!$A$11)","v":7.7867924410110625},{"$f":"Zählung!D8","v":1},{"$f":"Zählung!F8","v":0},{"$f":"Zählung!H8","v":0.5},null,{"$f":"IF(C8=0,0,(B8*B$57+C8*C$57+D8*D$57+E8*E$57+F8*F$57+G8*G$57+H8*H$57+I8*I$57+K8*K$57+L8*L$57+M8*M$57+N8*N$57-(K8+L8+M8+N8)*J$63*$J$57/Parameter!$A$11-C8*J$64*$J$57/Parameter!$A$11)/(1-J$63*$J$57/Parameter!$A$11))","v":40.547623797261735},null,40.5,null,46,-5.5,-0.11956521739130435,null,{"$f":"'Ggl. Prog.'!AF8-'Ggl. Prog.'!P8","v":-6940.5714285714275}]
[{"$f":"Parameter!B6","v":"Balingen"},1,{"$f":"'Ggl. Prog.'!AF9/1000","v":53.509399999999999},{"$f":"'KG akt.'!K9","v":37},{"$f":"Zählung!I9","v":22},0,4.4937713049419772,7.4204835966316072,0,{"$f":"IF(C9=0,0,(O9-K9-L9-M9-N9)*J$63/Parameter!$A$11-C9*J$64/Parameter!$A$11)","v":6.2848107757072675},{"$f":"Zählung!D9","v":1},{"$f":"Zählung!F9","v":0.25},{"$f":"Zählung!H9","v":0},null,{"$f":"IF(C9=0,0,(B9*B$57+C9*C$57+D9*D$57+E9*E$57+F9*F$57+G9*G$57+H9*H$57+I9*I$57+K9*K$57+L9*L$57+M9*M$57+N9*N$57-(K9+L9+M9+N9)*J$63*$J$57/Parameter!$A$11-C9*J$64*$J$57/Parameter!$A$11)/(1-J$63*$J$57/Parameter!$A$11))","v":35.58673054816088},null,35.5,null,41.25,-5.75,-0.1393939393939394,null,{"$f":"'Ggl. Prog.'!AF9-'Ggl. Prog.'!P9","v":-8113.5999999999985}]
[{"$f":"Parameter!B7","v":"Bernhausen"},1,{"$f":"'Ggl. Prog.'!AF10/1000","v":40.802857142857142},{"$f":"'KG akt.'!K10","v":21},{"$f":"Zählung!I10","v":6},0,0,5.8996227933284962E-2,53.361800918836138,{"$f":"IF(C10=0,0,(O10-K10-L10-M10-N10)*J$63/Parameter!$A$11-C10*J$64/Parameter!$A$11)","v":3.7516409199541667},{"$f":"Zählung!D10","v":0},{"$f":"Zählung!F10","v":0},{"$f":"Zählung!H10","v":0},null,{"$f":"IF(C10=0,0,(B10*B$57+C10*C$57+D10*D$57+E10*E$57+F10*F$57+G10*G$57+H10*H$57+I10*I$57+K10*K$57+L10*L$57+M10*M$57+N10*N$57-(K10+L10+M10+N10)*J$63*$J$57/Parameter!$A$11-C10*J$64*$J$57/Parameter!$A$11)/(1-J$63*$J$57/Parameter!$A$11))","v":22.466019158566468},null,22.5,null,25,-2.5,-0.1,null,{"$f":"'Ggl. Prog.'!AF10-'Ggl. Prog.'!P10","v":-4665.1428571428551}]
[{"$f":"Parameter!B8","v":"Besigheim"},1,{"$f":"'Ggl. Prog.'!AF11/1000","v":38.214599999999997},{"$f":"'KG akt.'!K11","v":22.5},{"$f":"Zählung!I11","v":12},0,0,0,0,{"$f":"IF(C11=0,0,(O11-K11-L11-M11-N11)*J$63/Parameter!$A$11-C11*J$64/Parameter!$A$11)","v":3.7093405188824522},{"$f":"Zählung!D11","v":0},{"$f":"Zählung!F11","v":0},{"$f":"Zählung!H11","v":0},null,{"$f":"IF(C11=0,0,(B11*B$57+C11*C$57+D11*D$57+E11*E$57+F11*F$57+G11*G$57+H11*H$57+I11*I$57+K11*K$57+L11*L$57+M11*M$57+N11*N$57-(K11+L11+M11+N11)*J$63*$J$57/Parameter!$A$11-C11*J$64*$J$57/Parameter!$A$11)/(1-J$63*$J$57/Parameter!$A$11))","v":21.739778043627805},null,21.75,null,25.5,-3.75,-0.14705882352941177,null,{"$f":"'Ggl. Prog.'!AF11-'Ggl. Prog.'!P11","v":-5534.4000000000015}]
[{"$f":"Parameter!B9","v":"Biberach"},1,{"$f":"'Ggl. Prog.'!AF12/1000","v":43.125028571428572},{"$f":"'KG akt.'!K12","v":26.5},{"$f":"Zählung!I12","v":17},0,5.0718024828592778,18.083818077845713,52.046263975839821,{"$f":"IF(C12=0,0,(O12-K12-L12-M12-N12)*J$63/Parameter!$A$11-C12*J$64/Parameter!$A$11)","v":5.6434645934529613},{"$f":"Zählung!D12","v":1},{"$f":"Zählung!F12","v":0.25},{"$f":"Zählung!H12","v":0},null,{"$f":"IF(C12=0,0,(B12*B$57+C12*C$57+D12*D$57+E12*E$57+F12*F$57+G12*G$57+H12*H$57+I12*I$57+K12*K$57+L12*L$57+M12*M$57+N12*N$57-(K12+L12+M12+N12)*J$63*$J$57/Parameter!$A$11-C12*J$64*$J$57/Parameter!$A$11)/(1-J$63*$J$57/Parameter!$A$11))","v":30.988570373443114},null,31,null,32.75,-1.75,-5.3435114503816793E-2,null,{"$f":"'Ggl. Prog.'!AF12-'Ggl. Prog.'!P12","v":-1250.971428571429}]
[{"$f":"Parameter!B10","v":"Blaubeuren"},1,{"$f":"'Ggl. Prog.'!AF13/1000","v":21.170285714285715},{"$f":"'KG akt.'!K13","v":26.5},{"$f":"Zählung!I13","v":2},0,4.0563073295208625,4.0897986964450705,0,{"$f":"IF(C13=0,0,(O13-K13-L13-M13-N13)*J$63/Parameter!$A$11-C13*J$64/Parameter!$A$11)","v":3.8878423091215799},{"$f":"Zählung!D13","v":0.5},{"$f":"Zählung!F13","v":0},{"$f":"Zählung!H13","v":0},null,{"$f":"IF(C13=0,0,(B13*B$57+C13*C$57+D13*D$57+E13*E$57+F13*F$57+G13*G$57+H13*H$57+I13*I$57+K13*K$57+L13*L$57+M13*M$57+N13*N$57-(K13+L13+M13+N13)*J$63*$J$57/Parameter!$A$11-C13*J$64*$J$57/Parameter!$A$11)/(1-J$63*$J$57/Parameter!$A$11))","v":19.089659040513578},null,19,null,22,-3,-0.13636363636363635,null,{"$f":"'Ggl. Prog.'!AF13-'Ggl. Prog.'!P13","v":-2861.7142857142862}]
[{"$f":"Parameter!B11","v":"Blaufelden"},1,{"$f":"'Ggl. Prog.'!AF14/1000","v":17.370657142857144},{"$f":"'KG akt.'!K14","v":24.5},{"$f":"Zählung!I14","v":0},0,6.9328064139097059,0,0,{"$f":"IF(C14=0,0,(O14-K14-L14-M14-N14)*J$63/Parameter!$A$11-C14*J$64/Parameter!$A$11)","v":3.5924953819554775},{"$f":"Zählung!D14","v":0},{"$f":"Zählung!F14","v":0},{"$f":"Zählung!H14","v":0},null,{"$f":"IF(C14=0,0,(B14*B$57+C14*C$57+D14*D$57+E14*E$57+F14*F$57+G14*G$57+H14*H$57+I14*I$57+K14*K$57+L14*L$57+M14*M$57+N14*N$57-(K14+L14+M14+N14)*J$63*$J$57/Parameter!$A$11-C14*J$64*$J$57/Parameter!$A$11)/(1-J$63*$J$57/Parameter!$A$11))","v":16.690486681587025},null,16.75,null,19.25,-2.5,-0.12987012987012986,null,{"$f":"'Ggl. Prog.'!AF14-'Ggl. Prog.'!P14","v":-1396.3428571428558}]
[{"$f":"Parameter!B12","v":"Böblingen"},1,{"$f":"'Ggl. Prog.'!AF15/1000","v":53.761600000000001},{"$f":"'KG akt.'!K15","v":28.5},{"$f":"Zählung!I15","v":12},0,0,0,78.7243417905744,{"$f":"IF(C15=0,0,(O15-K15-L15-M15-N15)*J$63/Parameter!$A$11-C15*J$64/Parameter!$A$11)","v":5.0316707264344895},{"$f":"Zählung!D15","v":0},{"$f":"Zählung!F15","v":0},{"$f":"Zählung!H15","v":0},null,{"$f":"IF(C15=0,0,(B15*B$57+C15*C$57+D15*D$57+E15*E$57+F15*F$57+G15*G$57+H15*H$57+I15*I$57+K15*K$57+L15*L$57+M15*M$57+N15*N$57-(K15+L15+M15+N15)*J$63*$J$57/Parameter!$A$11-C15*J$64*$J$57/Parameter!$A$11)/(1-J$63*$J$57/Parameter!$A$11))","v":29.91727481663111},null,30,null,34.5,-4.5,-0.13043478260869565,null,{"$f":"'Ggl. Prog.'!AF15-'Ggl. Prog.'!P15","v":-7718.4000000000015}]
[{"$f":"Parameter!B13","v":"Brackenheim"},1,{"$f":"'Ggl. Prog.'!AF16/1000","v":23.656514285714284},{"$f":"'KG akt.'!K16","v":22.5},{"$f":"Zählung!I16","v":2},0,1.7977597830619838,0,0,{"$f":"IF(C16=0,0,(O16-K16-L16-M16-N16)*J$63/Parameter!$A$11-C16*J$64/Parameter!$A$11)","v":3.2511121390042641},{"$f":"Zählung!D16","v":0},{"$f":"Zählung!F16","v":0},{"$f":"Zählung!H16","v":0},null,{"$f":"IF(C16=0,0,(B16*B$57+C16*C$57+D16*D$57+E16*E$57+F16*F$57+G16*G$57+H16*H$57+I16*I$57+K16*K$57+L16*L$57+M16*M$57+N16*N$57-(K16+L16+M16+N16)*J$63*$J$57/Parameter!$A$11-C16*J$64*$J$57/Parameter!$A$11)/(1-J$63*$J$57/Parameter!$A$11))","v":16.86811795676126},null,16.75,null,20.25,-3.5,-0.1728395061728395,null,{"$f":"'Ggl. Prog.'!AF16-'Ggl. Prog.'!P16","v":-2725.4857142857145}]
[{"$f":"Parameter!B14","v":"Calw"},1,{"$f":"'Ggl. Prog.'!AF17/1000","v":27.135400000000001},{"$f":"'KG akt.'!K17","v":33},{"$f":"Zählung!I17","v":8},0,4.0171854170852033,0,0,{"$f":"IF(C17=0,0,(O17-K17-L17-M17-N17)*J$63/Parameter!$A$11-C17*J$64/Parameter!$A$11)","v":4.6174729060367374},{"$f":"Zählung!D17","v":0.75},{"$f":"Zählung!F17","v":0},{"$f":"Zählung!H17","v":0},null,{"$f":"IF(C17=0,0,(B17*B$57+C17*C$57+D17*D$57+E17*E$57+F17*F$57+G17*G$57+H17*H$57+I17*I$57+K17*K$57+L17*L$57+M17*M$57+N17*N$57-(K17+L17+M17+N17)*J$63*$J$57/Parameter!$A$11-C17*J$64*$J$57/Parameter!$A$11)/(1-J$63*$J$57/Parameter!$A$11))","v":23.271063553305812},null,23.25,null,26,-2.75,-0.10576923076923077,null,{"$f":"'Ggl. Prog.'!AF17-'Ggl. Prog.'!P17","v":-3489.5999999999985}]
[{"$f":"Parameter!B15","v":"Crailsheim"},1,{"$f":"'Ggl. Prog.'!AF18/1000","v":26.433171428571431},{"$f":"'KG akt.'!K18","v":27.5},{"$f":"Zählung!I18","v":4},0,3.1159804790797963,1.4589313035572211,0,{"$f":"IF(C18=0,0,(O18-K18-L18-M18-N18)*J$63/Parameter!$A$11-C18*J$64/Parameter!$A$11)","v":3.985721267620133},{"$f":"Zählung!D18","v":0.25},{"$f":"Zählung!F18","v":0},{"$f":"Zählung!H18","v":0},null,{"$f":"IF(C18=0,0,(B18*B$57+C18*C$57+D18*D$57+E18*E$57+F18*F$57+G18*G$57+H18*H$57+I18*I$57+K18*K$57+L18*L$57+M18*M$57+N18*N$57-(K18+L18+M18+N18)*J$63*$J$57/Parameter!$A$11-C18*J$64*$J$57/Parameter!$A$11)/(1-J$63*$J$57/Parameter!$A$11))","v":20.358756908167145},null,20.25,null,24,-3.75,-0.15625,null,{"$f":"'Ggl. Prog.'!AF18-'Ggl. Prog.'!P18","v":-2689.8285714285703}]
[{"$f":"Parameter!B16","v":"Degerloch"},0.5,{"$f":"'Ggl. Prog.'!AF19/1000","v":35.385371428571432},{"$f":"'KG akt.'!K19","v":21},{"$f":"Zählung!I19","v":7},0,0,0,80.860302505970353,{"$f":"IF(C19=0,0,(O19-K19-L19-M19-N19)*J$63/Parameter!$A$11-C19*J$64/Parameter!$A$11)","v":3.5827603716252776},{"$f":"Zählung!D19","v":0},{"$f":"Zählung!F19","v":0.25},{"$f":"Zählung!H19","v":0},null,{"$f":"IF(C19=0,0,(B19*B$57+C19*C$57+D19*D$57+E19*E$57+F19*F$57+G19*G$57+H19*H$57+I19*I$57+K19*K$57+L19*L$57+M19*M$57+N19*N$57-(K19+L19+M19+N19)*J$63*$J$57/Parameter!$A$11-C19*J$64*$J$57/Parameter!$A$11)/(1-J$63*$J$57/Parameter!$A$11))","v":20.908988628820438},null,21,null,26.75,-5.75,-0.21495327102803738,null,{"$f":"'Ggl. Prog.'!AF19-'Ggl. Prog.'!P19","v":-5126.6285714285696}]
[{"$f":"Parameter!B17","v":"Ditzingen"},1,{"$f":"'Ggl. Prog.'!AF20/1000","v":27.357200000000002},{"$f":"'KG akt.'!K20","v":15.5},{"$f":"Zählung!I20","v":1},0,0,0,0,{"$f":"IF(C20=0,0,(O20-K20-L20-M20-N20)*J$63/Parameter!$A$11-C20*J$64/Parameter!$A$11)","v":2.5327255149623893},{"$f":"Zählung!D20","v":0},{"$f":"Zählung!F20","v":0},{"$f":"Zählung!H20","v":0},null,{"$f":"IF(C20=0,0,(B20*B$57+C20*C$57+D20*D$57+E20*E$57+F20*F$57+G20*G$57+H20*H$57+I20*I$57+K20*K$57+L20*L$57+M20*M$57+N20*N$57-(K20+L20+M20+N20)*J$63*$J$57/Parameter!$A$11-C20*J$64*$J$57/Parameter!$A$11)/(1-J$63*$J$57/Parameter!$A$11))","v":15.124826045500598},null,15,null,19,-4,-0.21052631578947367,null,{"$f":"'Ggl. Prog.'!AF20-'Ggl. Prog.'!P20","v":-4372.7999999999993}]
[{"$f":"Parameter!B18","v":"Esslingen"},1,{"$f":"'Ggl. Prog.'!AF21/1000","v":51.052257142857137},{"$f":"'KG akt.'!K21","v":29.5},{"$f":"Zählung!I21","v":14},0,0,0.20694434425153463,71.338000000000022,{"$f":"IF(C21=0,0,(O21-K21-L21-M21-N21)*J$63/Parameter!$A$11-C21*J$64/Parameter!$A$11)","v":5.0793001955669608},{"$f":"Zählung!D21","v":0},{"$f":"Zählung!F21","v":0.25},{"$f":"Zählung!H21","v":0},null,{"$f":"IF(C21=0,0,(B21*B$57+C21*C$57+D21*D$57+E21*E$57+F21*F$57+G21*G$57+H21*H$57+I21*I$57+K21*K$57+L21*L$57+M21*M$57+N21*N$57-(K21+L21+M21+N21)*J$63*$J$57/Parameter!$A$11-C21*J$64*$J$57/Parameter!$A$11)/(1-J$63*$J$57/Parameter!$A$11))","v":29.735303873056608},null,29.75,null,35.75,-6,-0.16783216783216784,null,{"$f":"'Ggl. Prog.'!AF21-'Ggl. Prog.'!P21","v":-7522.7428571428609}]
[{"$f":"Parameter!B19","v":"Freudenstadt"},1,{"$f":"'Ggl. Prog.'!AF22/1000","v":33.40962857142857},{"$f":"'KG akt.'!K22","v":34.5},{"$f":"Zählung!I22","v":20},0,4.2673878663213429,0.12541026338285577,0,{"$f":"IF(C22=0,0,(O22-K22-L22-M22-N22)*J$63/Parameter!$A$11-C22*J$64/Parameter!$A$11)","v":5.2075225315372577},{"$f":"Zählung!D22","v":0},{"$f":"Zählung!F22","v":0},{"$f":"Zählung!H22","v":0},null,{"$f":"IF(C22=0,0,(B22*B$57+C22*C$57+D22*D$57+E22*E$57+F22*F$57+G22*G$57+H22*H$57+I22*I$57+K22*K$57+L22*L$57+M22*M$57+N22*N$57-(K22+L22+M22+N22)*J$63*$J$57/Parameter!$A$11-C22*J$64*$J$57/Parameter!$A$11)/(1-J$63*$J$57/Parameter!$A$11))","v":26.022656660252107},null,26,null,29.5,-3.5,-0.11864406779661017,null,{"$f":"'Ggl. Prog.'!AF22-'Ggl. Prog.'!P22","v":-4745.3714285714304}]
[{"$f":"Parameter!B20","v":"Gaildorf"},1,{"$f":"'Ggl. Prog.'!AF23/1000","v":18.380228571428571},{"$f":"'KG akt.'!K23","v":18},{"$f":"Zählung!I23","v":2},0,1.8901974440405214,0.51895651585567637,0,{"$f":"IF(C23=0,0,(O23-K23-L23-M23-N23)*J$63/Parameter!$A$11-C23*J$64/Parameter!$A$11)","v":2.7246549864342642},{"$f":"Zählung!D23","v":0},{"$f":"Zählung!F23","v":0},{"$f":"Zählung!H23","v":0},null,{"$f":"IF(C23=0,0,(B23*B$57+C23*C$57+D23*D$57+E23*E$57+F23*F$57+G23*G$57+H23*H$57+I23*I$57+K23*K$57+L23*L$57+M23*M$57+N23*N$57-(K23+L23+M23+N23)*J$63*$J$57/Parameter!$A$11-C23*J$64*$J$57/Parameter!$A$11)/(1-J$63*$J$57/Parameter!$A$11))","v":13.815405903931895},null,13.75,null,16.25,-2.5,-0.15384615384615385,null,{"$f":"'Ggl. Prog.'!AF23-'Ggl. Prog.'!P23","v":-2015.7714285714283}]
[{"$f":"Parameter!B21","v":"Geislingen a.d. Steige"},1,{"$f":"'Ggl. Prog.'!AF24/1000","v":22.3156},{"$f":"'KG akt.'!K24","v":22.5},{"$f":"Zählung!I24","v":10},0,1.6018072592632326,2.4800370187162231,0,{"$f":"IF(C24=0,0,(O24-K24-L24-M24-N24)*J$63/Parameter!$A$11-C24*J$64/Parameter!$A$11)","v":3.4877817956052013},{"$f":"Zählung!D24","v":0},{"$f":"Zählung!F24","v":0.25},{"$f":"Zählung!H24","v":0},null,{"$f":"IF(C24=0,0,(B24*B$57+C24*C$57+D24*D$57+E24*E$57+F24*F$57+G24*G$57+H24*H$57+I24*I$57+K24*K$57+L24*L$57+M24*M$57+N24*N$57-(K24+L24+M24+N24)*J$63*$J$57/Parameter!$A$11-C24*J$64*$J$57/Parameter!$A$11)/(1-J$63*$J$57/Parameter!$A$11))","v":17.665385777955084},null,17.75,null,20.75,-3,-0.14457831325301204,null,{"$f":"'Ggl. Prog.'!AF24-'Ggl. Prog.'!P24","v":-3574.4000000000015}]
[{"$f":"Parameter!B22","v":"Göppingen"},1,{"$f":"'Ggl. Prog.'!AF25/1000","v":49.114914285714285},{"$f":"'KG akt.'!K25","v":36.5},{"$f":"Zählung!I25","v":12},0,0,0.45699452149406494,56.196278461752655,{"$f":"IF(C25=0,0,(O25-K25-L25-M25-N25)*J$63/Parameter!$A$11-C25*J$64/Parameter!$A$11)","v":5.586627539030081},{"$f":"Zählung!D25","v":0},{"$f":"Zählung!F25","v":0.25},{"$f":"Zählung!H25","v":0},null,{"$f":"IF(C25=0,0,(B25*B$57+C25*C$57+D25*D$57+E25*E$57+F25*F$57+G25*G$57+H25*H$57+I25*I$57+K25*K$57+L25*L$57+M25*M$57+N25*N$57-(K25+L25+M25+N25)*J$63*$J$57/Parameter!$A$11-C25*J$64*$J$57/Parameter!$A$11)/(1-J$63*$J$57/Parameter!$A$11))","v":31.116666607647115},null,31,null,34.5,-3.5,-0.10144927536231885,null,{"$f":"'Ggl. Prog.'!AF25-'Ggl. Prog.'!P25","v":-7407.085714285713}]
[{"$f":"Parameter!B23","v":"Heidenheim"},1,{"$f":"'Ggl. Prog.'!AF26/1000","v":40.706114285714285},{"$f":"'KG akt.'!K26","v":32},{"$f":"Zählung!I26","v":17},0,0,0.61376320215019542,0,{"$f":"IF(C26=0,0,(O26-K26-L26-M26-N26)*J$63/Parameter!$A$11-C26*J$64/Parameter!$A$11)","v":4.8077668690674891},{"$f":"Zählung!D26","v":0},{"$f":"Zählung!F26","v":0},{"$f":"Zählung!H26","v":0},null,{"$f":"IF(C26=0,0,(B26*B$57+C26*C$57+D26*D$57+E26*E$57+F26*F$57+G26*G$57+H26*H$57+I26*I$57+K26*K$57+L26*L$57+M26*M$57+N26*N$57-(K26+L26+M26+N26)*J$63*$J$57/Parameter!$A$11-C26*J$64*$J$57/Parameter!$A$11)/(1-J$63*$J$57/Parameter!$A$11))","v":26.216399135558497},null,26.25,null,29.25,-3,-0.10256410256410256,null,{"$f":"'Ggl. Prog.'!AF26-'Ggl. Prog.'!P26","v":-6915.8857142857159}]
[{"$f":"Parameter!B24","v":"Heilbronn"},1,{"$f":"'Ggl. Prog.'!AF27/1000","v":52.036714285714289},{"$f":"'KG akt.'!K27","v":31.5},{"$f":"Zählung!I27","v":10},0,0,0,68.132535953022597,{"$f":"IF(C27=0,0,(O27-K27-L27-M27-N27)*J$63/Parameter!$A$11-C27*J$64/Parameter!$A$11)","v":5.1773224669764133},{"$f":"Zählung!D27","v":0},{"$f":"Zählung!F27","v":0.25},{"$f":"Zählung!H27","v":0.25},1,{"$f":"IF(C27=0,0,(B27*B$57+C27*C$57+D27*D$57+E27*E$57+F27*F$57+G27*G$57+H27*H$57+I27*I$57+K27*K$57+L27*L$57+M27*M$57+N27*N$57-(K27+L27+M27+N27)*J$63*$J$57/Parameter!$A$11-C27*J$64*$J$57/Parameter!$A$11)/(1-J$63*$J$57/Parameter!$A$11))","v":31.554151667772906},null,31.5,null,36.25,-4.75,-0.1310344827586207,null,{"$f":"'Ggl. Prog.'!AF27-'Ggl. Prog.'!P27","v":-9490.2857142857101}]
[{"$f":"Parameter!B25","v":"Herrenberg"},1,{"$f":"'Ggl. Prog.'!AF28/1000","v":34.698457142857144},{"$f":"'KG akt.'!K28","v":25},{"$f":"Zählung!I28","v":5},0,0,0.11802547283672229,0,{"$f":"IF(C28=0,0,(O28-K28-L28-M28-N28)*J$63/Parameter!$A$11-C28*J$64/Parameter!$A$11)","v":3.7057181487349333},{"$f":"Zählung!D28","v":0.25},{"$f":"Zählung!F28","v":0},{"$f":"Zählung!H28","v":0},null,{"$f":"IF(C28=0,0,(B28*B$57+C28*C$57+D28*D$57+E28*E$57+F28*F$57+G28*G$57+H28*H$57+I28*I$57+K28*K$57+L28*L$57+M28*M$57+N28*N$57-(K28+L28+M28+N28)*J$63*$J$57/Parameter!$A$11-C28*J$64*$J$57/Parameter!$A$11)/(1-J$63*$J$57/Parameter!$A$11))","v":21.195475928021587},null,21.25,null,24.5,-3.25,-0.1326530612244898,null,{"$f":"'Ggl. Prog.'!AF28-'Ggl. Prog.'!P28","v":-3799.5428571428565}]
[{"$f":"Parameter!B26","v":"Kirchheim unter Teck"},1,{"$f":"'Ggl. Prog.'!AF29/1000","v":30.197800000000001},{"$f":"'KG akt.'!K29","v":25},{"$f":"Zählung!I29","v":7},0,0,0,0,{"$f":"IF(C29=0,0,(O29-K29-L29-M29-N29)*J$63/Parameter!$A$11-C29*J$64/Parameter!$A$11)","v":3.6377764656277582},{"$f":"Zählung!D29","v":0.75},{"$f":"Zählung!F29","v":0},{"$f":"Zählung!H29","v":0},null,{"$f":"IF(C29=0,0,(B29*B$57+C29*C$57+D29*D$57+E29*E$57+F29*F$57+G29*G$57+H29*H$57+I29*I$57+K29*K$57+L29*L$57+M29*M$57+N29*N$57-(K29+L29+M29+N29)*J$63*$J$57/Parameter!$A$11-C29*J$64*$J$57/Parameter!$A$11)/(1-J$63*$J$57/Parameter!$A$11))","v":20.452681028035645},null,20.5,null,23.25,-2.75,-0.11827956989247312,null,{"$f":"'Ggl. Prog.'!AF29-'Ggl. Prog.'!P29","v":-4443.2000000000007}]
[{"$f":"Parameter!B27","v":"Künzelsau"},1,{"$f":"'Ggl. Prog.'!AF30/1000","v":13.164628571428571},{"$f":"'KG akt.'!K30","v":15},{"$f":"Zählung!I30","v":3},0,3.4358596086657633,1.5180133136910448,0,{"$f":"IF(C30=0,0,(O30-K30-L30-M30-N30)*J$63/Parameter!$A$11-C30*J$64/Parameter!$A$11)","v":2.4828040105994114},{"$f":"Zählung!D30","v":0.25},{"$f":"Zählung!F30","v":0.25},{"$f":"Zählung!H30","v":0},null,{"$f":"IF(C30=0,0,(B30*B$57+C30*C$57+D30*D$57+E30*E$57+F30*F$57+G30*G$57+H30*H$57+I30*I$57+K30*K$57+L30*L$57+M30*M$57+N30*N$57-(K30+L30+M30+N30)*J$63*$J$57/Parameter!$A$11-C30*J$64*$J$57/Parameter!$A$11)/(1-J$63*$J$57/Parameter!$A$11))","v":12.292630196585199},null,12.25,null,14.5,-2.25,-0.15517241379310345,null,{"$f":"'Ggl. Prog.'!AF30-'Ggl. Prog.'!P30","v":-1521.3714285714286}]
[{"$f":"Parameter!B28","v":"Leonberg"},1,{"$f":"'Ggl. Prog.'!AF31/1000","v":36.637828571428571},{"$f":"'KG akt.'!K31","v":25},{"$f":"Zählung!I31","v":10},0,0,0,0,{"$f":"IF(C31=0,0,(O31-K31-L31-M31-N31)*J$63/Parameter!$A$11-C31*J$64/Parameter!$A$11)","v":3.8621361351972996},{"$f":"Zählung!D31","v":0},{"$f":"Zählung!F31","v":0},{"$f":"Zählung!H31","v":0},null,{"$f":"IF(C31=0,0,(B31*B$57+C31*C$57+D31*D$57+E31*E$57+F31*F$57+G31*G$57+H31*H$57+I31*I$57+K31*K$57+L31*L$57+M31*M$57+N31*N$57-(K31+L31+M31+N31)*J$63*$J$57/Parameter!$A$11-C31*J$64*$J$57/Parameter!$A$11)/(1-J$63*$J$57/Parameter!$A$11))","v":21.935083022530041},null,22,null,25.25,-3.25,-0.12871287128712872,null,{"$f":"'Ggl. Prog.'!AF31-'Ggl. Prog.'!P31","v":-5230.1714285714261}]
[{"$f":"Parameter!B29","v":"Ludwigsburg"},1,{"$f":"'Ggl. Prog.'!AF32/1000","v":56.707571428571427},{"$f":"'KG akt.'!K32","v":29},{"$f":"Zählung!I32","v":7},0,0,0,85.637950689858371,{"$f":"IF(C32=0,0,(O32-K32-L32-M32-N32)*J$63/Parameter!$A$11-C32*J$64/Parameter!$A$11)","v":5.069254432986261},{"$f":"Zählung!D32","v":0},{"$f":"Zählung!F32","v":0},{"$f":"Zählung!H32","v":0},null,{"$f":"IF(C32=0,0,(B32*B$57+C32*C$57+D32*D$57+E32*E$57+F32*F$57+G32*G$57+H32*H$57+I32*I$57+K32*K$57+L32*L$57+M32*M$57+N32*N$57-(K32+L32+M32+N32)*J$63*$J$57/Parameter!$A$11-C32*J$64*$J$57/Parameter!$A$11)/(1-J$63*$J$57/Parameter!$A$11))","v":30.706162657490616},null,30.75,null,35.25,-4.5,-0.1276595744680851,null,{"$f":"'Ggl. Prog.'!AF32-'Ggl. Prog.'!P32","v":-6835.4285714285725}]
[{"$f":"Parameter!B30","v":"Marbach a.N."},1,{"$f":"'Ggl. Prog.'!AF33/1000","v":33.497485714285716},{"$f":"'KG akt.'!K33","v":21},{"$f":"Zählung!I33","v":5},0,0,0,0,{"$f":"IF(C33=0,0,(O33-K33-L33-M33-N33)*J$63/Parameter!$A$11-C33*J$64/Parameter!$A$11)","v":3.2932910629769911},{"$f":"Zählung!D33","v":0.25},{"$f":"Zählung!F33","v":0},{"$f":"Zählung!H33","v":0},null,{"$f":"IF(C33=0,0,(B33*B$57+C33*C$57+D33*D$57+E33*E$57+F33*F$57+G33*G$57+H33*H$57+I33*I$57+K33*K$57+L33*L$57+M33*M$57+N33*N$57-(K33+L33+M33+N33)*J$63*$J$57/Parameter!$A$11-C33*J$64*$J$57/Parameter!$A$11)/(1-J$63*$J$57/Parameter!$A$11))","v":19.455639510632114},null,19.5,null,22.75,-3.25,-0.14285714285714285,null,{"$f":"'Ggl. Prog.'!AF33-'Ggl. Prog.'!P33","v":-4794.5142857142855}]
[{"$f":"Parameter!B31","v":"Mühlacker"},1,{"$f":"'Ggl. Prog.'!AF34/1000","v":27.492457142857145},{"$f":"'KG akt.'!K34","v":26.5},{"$f":"Zählung!I34","v":10},0,0,0,0,{"$f":"IF(C34=0,0,(O34-K34-L34-M34-N34)*J$63/Parameter!$A$11-C34*J$64/Parameter!$A$11)","v":3.7828486508674581},{"$f":"Zählung!D34","v":0},{"$f":"Zählung!F34","v":0},{"$f":"Zählung!H34","v":0},null,{"$f":"IF(C34=0,0,(B34*B$57+C34*C$57+D34*D$57+E34*E$57+F34*F$57+G34*G$57+H34*H$57+I34*I$57+K34*K$57+L34*L$57+M34*M$57+N34*N$57-(K34+L34+M34+N34)*J$63*$J$57/Parameter!$A$11-C34*J$64*$J$57/Parameter!$A$11)/(1-J$63*$J$57/Parameter!$A$11))","v":19.619608673732987},null,19.5,null,22.75,-3.25,-0.14285714285714285,null,{"$f":"'Ggl. Prog.'!AF34-'Ggl. Prog.'!P34","v":-4215.5428571428565}]
[{"$f":"Parameter!B32","v":"Münsingen (siehe Bad Urach-Münsigen)"},null,{"$f":"'Ggl. Prog.'!AF35/1000","v":0},{"$f":"'KG akt.'!K35","v":0},{"$f":"Zählung!I35","v":0},null,null,null,null,{"$f":"IF(C35=0,0,(O35-K35-L35-M35-N35)*J$63/Parameter!$A$11-C35*J$64/Parameter!$A$11)","v":0},{"$f":"Zählung!D35","v":0},{"$f":"Zählung!F35","v":0},{"$f":"Zählung!H35","v":0},null,{"$f":"IF(C35=0,0,(B35*B$57+C35*C$57+D35*D$57+E35*E$57+F35*F$57+G35*G$57+H35*H$57+I35*I$57+K35*K$57+L35*L$57+M35*M$57+N35*N$57-(K35+L35+M35+N35)*J$63*$J$57/Parameter!$A$11-C35*J$64*$J$57/Parameter!$A$11)/(1-J$63*$J$57/Parameter!$A$11))","v":0},null,0,null,null,0,null,null,{"$f":"'Ggl. Prog.'!AF35-'Ggl. Prog.'!P35","v":0}]
[{"$f":"Parameter!B33","v":"Nagold"},1,{"$f":"'Ggl. Prog.'!AF36/1000","v":26.895742857142857},{"$f":"'KG akt.'!K36","v":30.5},{"$f":"Zählung!I36","v":10},0,4.1769779887878711,0.45872691282495082,0,{"$f":"IF(C36=0,0,(O36-K36-L36-M36-N36)*J$63/Parameter!$A$11-C36*J$64/Parameter!$A$11)","v":4.4500533667068112},{"$f":"Zählung!D36","v":0.5},{"$f":"Zählung!F36","v":0},{"$f":"Zählung!H36","v":0},null,{"$f":"IF(C36=0,0,(B36*B$57+C36*C$57+D36*D$57+E36*E$57+F36*F$57+G36*G$57+H36*H$57+I36*I$57+K36*K$57+L36*L$57+M36*M$57+N36*N$57-(K36+L36+M36+N36)*J$63*$J$57/Parameter!$A$11-C36*J$64*$J$57/Parameter!$A$11)/(1-J$63*$J$57/Parameter!$A$11))","v":22.36987948427036},null,22.25,null,24.75,-2.5,-0.10101010101010101,null,{"$f":"'Ggl. Prog.'!AF36-'Ggl. Prog.'!P36","v":-2629.2571428571428}]
[{"$f":"Parameter!B34","v":"Neuenbürg"},1,{"$f":"'Ggl. Prog.'!AF37/1000","v":26.068857142857141},{"$f":"'KG akt.'!K37","v":27.5},{"$f":"Zählung!I37","v":11},0,2.1171645300201938,0,0,{"$f":"IF(C37=0,0,(O37-K37-L37-M37-N37)*J$63/Parameter!$A$11-C37*J$64/Parameter!$A$11)","v":4.0101518487262151},{"$f":"Zählung!D37","v":0.5},{"$f":"Zählung!F37","v":0},{"$f":"Zählung!H37","v":0.5},null,{"$f":"IF(C37=0,0,(B37*B$57+C37*C$57+D37*D$57+E37*E$57+F37*F$57+G37*G$57+H37*H$57+I37*I$57+K37*K$57+L37*L$57+M37*M$57+N37*N$57-(K37+L37+M37+N37)*J$63*$J$57/Parameter!$A$11-C37*J$64*$J$57/Parameter!$A$11)/(1-J$63*$J$57/Parameter!$A$11))","v":21.115050253387274},null,21,null,24,-3,-0.125,null,{"$f":"'Ggl. Prog.'!AF37-'Ggl. Prog.'!P37","v":-3849.1428571428587}]
[{"$f":"Parameter!B35","v":"Neuenstadt a.K."},1,{"$f":"'Ggl. Prog.'!AF38/1000","v":26.216371428571431},{"$f":"'KG akt.'!K38","v":22},{"$f":"Zählung!I38","v":11},0,1.6435869941420165,1.068790791065007,0,{"$f":"IF(C38=0,0,(O38-K38-L38-M38-N38)*J$63/Parameter!$A$11-C38*J$64/Parameter!$A$11)","v":3.5038040129045926},{"$f":"Zählung!D38","v":0},{"$f":"Zählung!F38","v":0},{"$f":"Zählung!H38","v":0},null,{"$f":"IF(C38=0,0,(B38*B$57+C38*C$57+D38*D$57+E38*E$57+F38*F$57+G38*G$57+H38*H$57+I38*I$57+K38*K$57+L38*L$57+M38*M$57+N38*N$57-(K38+L38+M38+N38)*J$63*$J$57/Parameter!$A$11-C38*J$64*$J$57/Parameter!$A$11)/(1-J$63*$J$57/Parameter!$A$11))","v":18.339446077833863},null,18.25,null,22.25,-4,-0.1797752808988764,null,{"$f":"'Ggl. Prog.'!AF38-'Ggl. Prog.'!P38","v":-3470.6285714285696}]
[{"$f":"Parameter!B36","v":"Nürtingen"},1,{"$f":"'Ggl. Prog.'!AF39/1000","v":43.705171428571425},{"$f":"'KG akt.'!K39","v":32},{"$f":"Zählung!I39","v":4},0,0,0,0,{"$f":"IF(C39=0,0,(O39-K39-L39-M39-N39)*J$63/Parameter!$A$11-C39*J$64/Parameter!$A$11)","v":4.5586389214817906},{"$f":"Zählung!D39","v":0},{"$f":"Zählung!F39","v":0.25},{"$f":"Zählung!H39","v":0},null,{"$f":"IF(C39=0,0,(B39*B$57+C39*C$57+D39*D$57+E39*E$57+F39*F$57+G39*G$57+H39*H$57+I39*I$57+K39*K$57+L39*L$57+M39*M$57+N39*N$57-(K39+L39+M39+N39)*J$63*$J$57/Parameter!$A$11-C39*J$64*$J$57/Parameter!$A$11)/(1-J$63*$J$57/Parameter!$A$11))","v":26.243113608466714},null,26.25,null,30,-3.75,-0.125,null,{"$f":"'Ggl. Prog.'!AF39-'Ggl. Prog.'!P39","v":-5825.8285714285739}]
[{"$f":"Parameter!B37","v":"Öhringen"},1,{"$f":"'Ggl. Prog.'!AF40/1000","v":26.05985714285714},{"$f":"'KG akt.'!K40","v":21.5},{"$f":"Zählung!I40","v":7},0,3.8956618653349473,0,0,{"$f":"IF(C40=0,0,(O40-K40-L40-M40-N40)*J$63/Parameter!$A$11-C40*J$64/Parameter!$A$11)","v":3.4717739602571656},{"$f":"Zählung!D40","v":0.25},{"$f":"Zählung!F40","v":0},{"$f":"Zählung!H40","v":0},null,{"$f":"IF(C40=0,0,(B40*B$57+C40*C$57+D40*D$57+E40*E$57+F40*F$57+G40*G$57+H40*H$57+I40*I$57+K40*K$57+L40*L$57+M40*M$57+N40*N$57-(K40+L40+M40+N40)*J$63*$J$57/Parameter!$A$11-C40*J$64*$J$57/Parameter!$A$11)/(1-J$63*$J$57/Parameter!$A$11))","v":18.440272080283528},null,18.5,null,21.25,-2.75,-0.12941176470588237,null,{"$f":"'Ggl. Prog.'!AF40-'Ggl. Prog.'!P40","v":-2153.1428571428587}]
[{"$f":"Parameter!B38","v":"Ravensburg"},1,{"$f":"'Ggl. Prog.'!AF41/1000","v":55.438714285714283},{"$f":"'KG akt.'!K41","v":33},{"$f":"Zählung!I41","v":17},0,0,21.582280262886744,92.204179241321739,{"$f":"IF(C41=0,0,(O41-K41-L41-M41-N41)*J$63/Parameter!$A$11-C41*J$64/Parameter!$A$11)","v":6.5446722187973343},{"$f":"Zählung!D41","v":1},{"$f":"Zählung!F41","v":0.5},{"$f":"Zählung!H41","v":0.5},null,{"$f":"IF(C41=0,0,(B41*B$57+C41*C$57+D41*D$57+E41*E$57+F41*F$57+G41*G$57+H41*H$57+I41*I$57+K41*K$57+L41*L$57+M41*M$57+N41*N$57-(K41+L41+M41+N41)*J$63*$J$57/Parameter!$A$11-C41*J$64*$J$57/Parameter!$A$11)/(1-J$63*$J$57/Parameter!$A$11))","v":37.693543638561906},null,37.75,null,41.75,-4,-9.580838323353294E-2,null,{"$f":"'Ggl. Prog.'!AF41-'Ggl. Prog.'!P41","v":-4202.2857142857174}]
[{"$f":"Parameter!B39","v":"Reutlingen"},1,{"$f":"'Ggl. Prog.'!AF42/1000","v":57.7804},{"$f":"'KG akt.'!K42","v":37},{"$f":"Zählung!I42","v":11},0,0,1.4486864596402993,61.125447610998734,{"$f":"IF(C42=0,0,(O42-K42-L42-M42-N42)*J$63/Parameter!$A$11-C42*J$64/Parameter!$A$11)","v":5.8843111195709099},{"$f":"Zählung!D42","v":0},{"$f":"Zählung!F42","v":0},{"$f":"Zählung!H42","v":0},1,{"$f":"IF(C42=0,0,(B42*B$57+C42*C$57+D42*D$57+E42*E$57+F42*F$57+G42*G$57+H42*H$57+I42*I$57+K42*K$57+L42*L$57+M42*M$57+N42*N$57-(K42+L42+M42+N42)*J$63*$J$57/Parameter!$A$11-C42*J$64*$J$57/Parameter!$A$11)/(1-J$63*$J$57/Parameter!$A$11))","v":34.855485744499283},null,34.75,null,39.5,-4.75,-0.12025316455696203,null,{"$f":"'Ggl. Prog.'!AF42-'Ggl. Prog.'!P42","v":-8545.5999999999985}]
[{"$f":"Parameter!B40","v":"Schorndorf"},1,{"$f":"'Ggl. Prog.'!AF43/1000","v":45.947285714285719},{"$f":"'KG akt.'!K43","v":30},{"$f":"Zählung!I43","v":13},0,0,0,0,{"$f":"IF(C43=0,0,(O43-K43-L43-M43-N43)*J$63/Parameter!$A$11-C43*J$64/Parameter!$A$11)","v":4.629203770096475},{"$f":"Zählung!D43","v":0},{"$f":"Zählung!F43","v":0},{"$f":"Zählung!H43","v":0},null,{"$f":"IF(C43=0,0,(B43*B$57+C43*C$57+D43*D$57+E43*E$57+F43*F$57+G43*G$57+H43*H$57+I43*I$57+K43*K$57+L43*L$57+M43*M$57+N43*N$57-(K43+L43+M43+N43)*J$63*$J$57/Parameter!$A$11-C43*J$64*$J$57/Parameter!$A$11)/(1-J$63*$J$57/Parameter!$A$11))","v":26.743378543995352},null,26.75,null,31.75,-5,-0.15748031496062992,null,{"$f":"'Ggl. Prog.'!AF43-'Ggl. Prog.'!P43","v":-6597.7142857142826}]
[{"$f":"Parameter!B41","v":"Schwäbisch Gmünd"},1,{"$f":"'Ggl. Prog.'!AF44/1000","v":28.8734},{"$f":"'KG akt.'!K44","v":21},{"$f":"Zählung!I44","v":7},0,0,4.002424464950181,0,{"$f":"IF(C44=0,0,(O44-K44-L44-M44-N44)*J$63/Parameter!$A$11-C44*J$64/Parameter!$A$11)","v":3.3879782477124776},{"$f":"Zählung!D44","v":0},{"$f":"Zählung!F44","v":0.25},{"$f":"Zählung!H44","v":0},null,{"$f":"IF(C44=0,0,(B44*B$57+C44*C$57+D44*D$57+E44*E$57+F44*F$57+G44*G$57+H44*H$57+I44*I$57+K44*K$57+L44*L$57+M44*M$57+N44*N$57-(K44+L44+M44+N44)*J$63*$J$57/Parameter!$A$11-C44*J$64*$J$57/Parameter!$A$11)/(1-J$63*$J$57/Parameter!$A$11))","v":18.766233424369961},null,18.75,null,21.5,-2.75,-0.12790697674418605,null,{"$f":"'Ggl. Prog.'!AF44-'Ggl. Prog.'!P44","v":-2361.5999999999985}]
[{"$f":"Parameter!B42","v":"Schwäbisch Hall"},1,{"$f":"'Ggl. Prog.'!AF45/1000","v":34.822971428571428},{"$f":"'KG akt.'!K45","v":36.5},{"$f":"Zählung!I45","v":9},0,4.5131178815170987,0,0,{"$f":"IF(C45=0,0,(O45-K45-L45-M45-N45)*J$63/Parameter!$A$11-C45*J$64/Parameter!$A$11)","v":5.1914068862585481},{"$f":"Zählung!D45","v":0},{"$f":"Zählung!F45","v":0},{"$f":"Zählung!H45","v":0},null,{"$f":"IF(C45=0,0,(B45*B$57+C45*C$57+D45*D$57+E45*E$57+F45*F$57+G45*G$57+H45*H$57+I45*I$57+K45*K$57+L45*L$57+M45*M$57+N45*N$57-(K45+L45+M45+N45)*J$63*$J$57/Parameter!$A$11-C45*J$64*$J$57/Parameter!$A$11)/(1-J$63*$J$57/Parameter!$A$11))","v":26.279176974732909},null,26.25,null,28.25,-2,-7.0796460176991149E-2,null,{"$f":"'Ggl. Prog.'!AF45-'Ggl. Prog.'!P45","v":-2205.028571428571}]
[{"$f":"Parameter!B43","v":"Stuttgart"},1,{"$f":"'Ggl. Prog.'!AF46/1000","v":45.676628571428573},{"$f":"'KG akt.'!K46","v":26.5},{"$f":"Zählung!I46","v":15},0,0,0,102.03228788728488,{"$f":"IF(C46=0,0,(O46-K46-L46-M46-N46)*J$63/Parameter!$A$11-C46*J$64/Parameter!$A$11)","v":4.8272686790761972},{"$f":"Zählung!D46","v":0},{"$f":"Zählung!F46","v":0},{"$f":"Zählung!H46","v":0},2,{"$f":"IF(C46=0,0,(B46*B$57+C46*C$57+D46*D$57+E46*E$57+F46*F$57+G46*G$57+H46*H$57+I46*I$57+K46*K$57+L46*L$57+M46*M$57+N46*N$57-(K46+L46+M46+N46)*J$63*$J$57/Parameter!$A$11-C46*J$64*$J$57/Parameter!$A$11)/(1-J$63*$J$57/Parameter!$A$11))","v":29.390607187176897},null,29.5,null,35,-5.5,-0.15714285714285714,null,{"$f":"'Ggl. Prog.'!AF46-'Ggl. Prog.'!P46","v":-5673.3714285714304}]
[{"$f":"Parameter!B44","v":"Sulz/Neckar"},1,{"$f":"'Ggl. Prog.'!AF47/1000","v":32.139028571428568},{"$f":"'KG akt.'!K47","v":33.5},{"$f":"Zählung!I47","v":10},0,5.2171204184291451,6.0551214841763707,0,{"$f":"IF(C47=0,0,(O47-K47-L47-M47-N47)*J$63/Parameter!$A$11-C47*J$64/Parameter!$A$11)","v":5.1566876564725037},{"$f":"Zählung!D47","v":0.25},{"$f":"Zählung!F47","v":0},{"$f":"Zählung!H47","v":0},null,{"$f":"IF(C47=0,0,(B47*B$57+C47*C$57+D47*D$57+E47*E$57+F47*F$57+G47*G$57+H47*H$57+I47*I$57+K47*K$57+L47*L$57+M47*M$57+N47*N$57-(K47+L47+M47+N47)*J$63*$J$57/Parameter!$A$11-C47*J$64*$J$57/Parameter!$A$11)/(1-J$63*$J$57/Parameter!$A$11))","v":25.808747979465291},null,25.75,null,30.25,-4.5,-0.1487603305785124,null,{"$f":"'Ggl. Prog.'!AF47-'Ggl. Prog.'!P47","v":-3170.971428571429}]
[{"$f":"Parameter!B45","v":"Tübingen"},1,{"$f":"'Ggl. Prog.'!AF48/1000","v":75.699571428571431},{"$f":"'KG akt.'!K48","v":48.5},{"$f":"Zählung!I48","v":16},0,0,1.8189313104710501,72.475844928117482,{"$f":"IF(C48=0,0,(O48-K48-L48-M48-N48)*J$63/Parameter!$A$11-C48*J$64/Parameter!$A$11)","v":7.5900675814605254},{"$f":"Zählung!D48","v":0},{"$f":"Zählung!F48","v":0},{"$f":"Zählung!H48","v":0},null,{"$f":"IF(C48=0,0,(B48*B$57+C48*C$57+D48*D$57+E48*E$57+F48*F$57+G48*G$57+H48*H$57+I48*I$57+K48*K$57+L48*L$57+M48*M$57+N48*N$57-(K48+L48+M48+N48)*J$63*$J$57/Parameter!$A$11-C48*J$64*$J$57/Parameter!$A$11)/(1-J$63*$J$57/Parameter!$A$11))","v":43.929511203628863},null,44,null,49.5,-5.5,-0.1111111111111111,null,{"$f":"'Ggl. Prog.'!AF48-'Ggl. Prog.'!P48","v":-7243.4285714285652}]
[{"$f":"Parameter!B46","v":"Tuttlingen"},1,{"$f":"'Ggl. Prog.'!AF49/1000","v":47.036285714285718},{"$f":"'KG akt.'!K49","v":26.5},{"$f":"Zählung!I49","v":17},0,2.7586230772879605,6.6687688381006964,60.527547809229091,{"$f":"IF(C49=0,0,(O49-K49-L49-M49-N49)*J$63/Parameter!$A$11-C49*J$64/Parameter!$A$11)","v":5.1624377626029068},{"$f":"Zählung!D49","v":0.75},{"$f":"Zählung!F49","v":0.25},{"$f":"Zählung!H49","v":0},null,{"$f":"IF(C49=0,0,(B49*B$57+C49*C$57+D49*D$57+E49*E$57+F49*F$57+G49*G$57+H49*H$57+I49*I$57+K49*K$57+L49*L$57+M49*M$57+N49*N$57-(K49+L49+M49+N49)*J$63*$J$57/Parameter!$A$11-C49*J$64*$J$57/Parameter!$A$11)/(1-J$63*$J$57/Parameter!$A$11))","v":29.889785660089746},null,30,null,33.5,-3.5,-0.1044776119402985,null,{"$f":"'Ggl. Prog.'!AF49-'Ggl. Prog.'!P49","v":-6085.7142857142826}]
[{"$f":"Parameter!B47","v":"Ulm"},1,{"$f":"'Ggl. Prog.'!AF50/1000","v":44.89742857142857},{"$f":"'KG akt.'!K50","v":36},{"$f":"Zählung!I50","v":13},0,2.6505608215958927,2.1475436075018219,60.906663329764136,{"$f":"IF(C50=0,0,(O50-K50-L50-M50-N50)*J$63/Parameter!$A$11-C50*J$64/Parameter!$A$11)","v":5.7312686451069901},{"$f":"Zählung!D50","v":0.25},{"$f":"Zählung!F50","v":0},{"$f":"Zählung!H50","v":0},1,{"$f":"IF(C50=0,0,(B50*B$57+C50*C$57+D50*D$57+E50*E$57+F50*F$57+G50*G$57+H50*H$57+I50*I$57+K50*K$57+L50*L$57+M50*M$57+N50*N$57-(K50+L50+M50+N50)*J$63*$J$57/Parameter!$A$11-C50*J$64*$J$57/Parameter!$A$11)/(1-J$63*$J$57/Parameter!$A$11))","v":31.696022938874169},null,31.75,null,35.25,-3.5,-9.9290780141843976E-2,null,{"$f":"'Ggl. Prog.'!AF50-'Ggl. Prog.'!P50","v":-5044.5714285714275}]
[{"$f":"Parameter!B48","v":"Vaihingen an der Enz"},1,{"$f":"'Ggl. Prog.'!AF51/1000","v":24.295685714285714},{"$f":"'KG akt.'!K51","v":20.5},{"$f":"Zählung!I51","v":3},0,0,0,0,{"$f":"IF(C51=0,0,(O51-K51-L51-M51-N51)*J$63/Parameter!$A$11-C51*J$64/Parameter!$A$11)","v":2.9776299080679509},{"$f":"Zählung!D51","v":0},{"$f":"Zählung!F51","v":0},{"$f":"Zählung!H51","v":0},null,{"$f":"IF(C51=0,0,(B51*B$57+C51*C$57+D51*D$57+E51*E$57+F51*F$57+G51*G$57+H51*H$57+I51*I$57+K51*K$57+L51*L$57+M51*M$57+N51*N$57-(K51+L51+M51+N51)*J$63*$J$57/Parameter!$A$11-C51*J$64*$J$57/Parameter!$A$11)/(1-J$63*$J$57/Parameter!$A$11))","v":16.033433798655381},null,16,null,19.5,-3.5,-0.17948717948717949,null,{"$f":"'Ggl. Prog.'!AF51-'Ggl. Prog.'!P51","v":-3463.3142857142848}]
[{"$f":"Parameter!B49","v":"Waiblingen"},1,{"$f":"'Ggl. Prog.'!AF52/1000","v":57.816942857142855},{"$f":"'KG akt.'!K52","v":38},{"$f":"Zählung!I52","v":4},0,0,0,73.975036108485327,{"$f":"IF(C52=0,0,(O52-K52-L52-M52-N52)*J$63/Parameter!$A$11-C52*J$64/Parameter!$A$11)","v":5.8234256914389437},{"$f":"Zählung!D52","v":0},{"$f":"Zählung!F52","v":0},{"$f":"Zählung!H52","v":0},null,{"$f":"IF(C52=0,0,(B52*B$57+C52*C$57+D52*D$57+E52*E$57+F52*F$57+G52*G$57+H52*H$57+I52*I$57+K52*K$57+L52*L$57+M52*M$57+N52*N$57-(K52+L52+M52+N52)*J$63*$J$57/Parameter!$A$11-C52*J$64*$J$57/Parameter!$A$11)/(1-J$63*$J$57/Parameter!$A$11))","v":33.646158421805751},null,33.75,null,38,-4.25,-0.1118421052631579,null,{"$f":"'Ggl. Prog.'!AF52-'Ggl. Prog.'!P52","v":-9226.057142857142}]
[{"$f":"Parameter!B50","v":"Weikersheim"},1,{"$f":"'Ggl. Prog.'!AF53/1000","v":16.432285714285715},{"$f":"'KG akt.'!K53","v":23.5},{"$f":"Zählung!I53","v":2},0,4.725977310726452,0.72519301644799961,0,{"$f":"IF(C53=0,0,(O53-K53-L53-M53-N53)*J$63/Parameter!$A$11-C53*J$64/Parameter!$A$11)","v":3.399626741667698},{"$f":"Zählung!D53","v":0},{"$f":"Zählung!F53","v":0},{"$f":"Zählung!H53","v":0},null,{"$f":"IF(C53=0,0,(B53*B$57+C53*C$57+D53*D$57+E53*E$57+F53*F$57+G53*G$57+H53*H$57+I53*I$57+K53*K$57+L53*L$57+M53*M$57+N53*N$57-(K53+L53+M53+N53)*J$63*$J$57/Parameter!$A$11-C53*J$64*$J$57/Parameter!$A$11)/(1-J$63*$J$57/Parameter!$A$11))","v":15.793143125003684},null,15.75,null,18.25,-2.5,-0.13698630136986301,null,{"$f":"'Ggl. Prog.'!AF53-'Ggl. Prog.'!P53","v":-1661.7142857142862}]
[{"$f":"Parameter!B51","v":"Weinsberg"},1,{"$f":"'Ggl. Prog.'!AF54/1000","v":25.700914285714287},{"$f":"'KG akt.'!K54","v":23},{"$f":"Zählung!I54","v":4},0,1.9312188818807319,0,0,{"$f":"IF(C54=0,0,(O54-K54-L54-M54-N54)*J$63/Parameter!$A$11-C54*J$64/Parameter!$A$11)","v":3.4026927018743609},{"$f":"Zählung!D54","v":0.5},{"$f":"Zählung!F54","v":0},{"$f":"Zählung!H54","v":0},null,{"$f":"IF(C54=0,0,(B54*B$57+C54*C$57+D54*D$57+E54*E$57+F54*F$57+G54*G$57+H54*H$57+I54*I$57+K54*K$57+L54*L$57+M54*M$57+N54*N$57-(K54+L54+M54+N54)*J$63*$J$57/Parameter!$A$11-C54*J$64*$J$57/Parameter!$A$11)/(1-J$63*$J$57/Parameter!$A$11))","v":18.36378822097986},null,18.25,null,21,-2.75,-0.13095238095238096,null,{"$f":"'Ggl. Prog.'!AF54-'Ggl. Prog.'!P54","v":-2703.085714285713}]
[{"$f":"Parameter!B52","v":"Zuffenhausen"},0.5,{"$f":"'Ggl. Prog.'!AF55/1000","v":22.357057142857141},{"$f":"'KG akt.'!K55","v":13.5},{"$f":"Zählung!I55","v":16},null,0,0,57.128940586385717,{"$f":"IF(C55=0,0,(O55-K55-L55-M55-N55)*J$63/Parameter!$A$11-C55*J$64/Parameter!$A$11)","v":2.6492293685208379},{"$f":"Zählung!D55","v":0},{"$f":"Zählung!F55","v":0},{"$f":"Zählung!H55","v":0},null,{"$f":"IF(C55=0,0,(B55*B$57+C55*C$57+D55*D$57+E55*E$57+F55*F$57+G55*G$57+H55*H$57+I55*I$57+K55*K$57+L55*L$57+M55*M$57+N55*N$57-(K55+L55+M55+N55)*J$63*$J$57/Parameter!$A$11-C55*J$64*$J$57/Parameter!$A$11)/(1-J$63*$J$57/Parameter!$A$11))","v":14.429768379637911},null,14.5,null,18.75,-4.25,-0.22666666666666666,null,{"$f":"'Ggl. Prog.'!AF55-'Ggl. Prog.'!P55","v":-5509.942857142858}]
["Summen (Werte)",{"$f":"SUM(B5:B55)","v":49.5},{"$f":"SUM(C5:C55)","v":1816.7251714285712},1378.5,464,0,83.838488023774516,94.740719585358349,1188.8694170793863,219.12213096648998,11,3.5,1.75,{"$f":"SUM(N5:N55)","v":5},{"$f":"SUM(O5:O55)","v":1207.5457439279401},{"$f":"SUM(P5:P55)","v":0},{"$f":"SUM(Q5:Q55)","v":1207},null,{"$f":"SUM(S5:S55)","v":1391.75},null,{"$f":"QUADRATESMME(U5:U55)","v":{"$error":"#NAME?"}},null,{"$f":"SUM(W5:W55)","v":-235945.82857142857}]
["    Multiplikatoren \n    (teilweise gerundet)",1,{"$f":"C61*$C$63","v":0.28576015780912389},{"$f":"D61*$C$63","v":0.24857523811055401},0.06,null,{"$f":"15/SUM(G5:G55)","v":0.17891544031359882},{"$f":"10/SUM(H5:H55)","v":0.10555123545362478},{"$f":"15/SUM(I5:I55)","v":1.2617029073596214E-2},{"$f":"J61*$C$63","v":0.94535000000061287},1,1,1,1]
["Summen (Stellen)",{"$f":"$B$57*SUM(B5:B55)","v":49.5},{"$f":"C57*SUM(C5:C55)","v":519.14767168323613},342.66096573539869,27.84,0,15,10,15,{"$f":"J57*SUM(J5:J55)","v":207.14710650930559},{"$f":"K57*SUM(K5:K55)","v":11},{"$f":"L57*SUM(L5:L55)","v":3.5},{"$f":"M57*SUM(M5:M55)","v":1.75},{"$f":"N57*SUM(N5:N55)","v":5}]
["Anteile",{"$f":"B58/$O$56","v":4.0992235904028743E-2},0.4299196732659894,0.28376644732379336,2.3055027223599193E-2,0,1.2421889667887497E-2,8.2812597785916642E-3,1.2421889667887497E-2,0.17154390013871559,9.1093857564508319E-3,2.8984409225070828E-3,1.4492204612535414E-3,4.1406298892958321E-3]
[]
["   Ursprüngliche Multiplikatoren PP 2006:",null,0.30227974592366702,0.26294519290251533,null,null,null,null,null,1]
[]
["    Faktor für Mulitplikatoren:",null,0.94535000000061287,{"$f":"\"(Multiplikator für PP 2006 mal ''Faktor'' = Multiplikator für PP \"&Parameter!A2&\")\"","v":"(Multiplikator für PP 2006 mal ''Faktor'' = Multiplikator für PP 2024)"},null,null,null,null,null,7]
[null,null,null,null,null,null,null,null,null,{"$f":"7/4.5","v":1.5555555555555556},null,null,null,null,null,null,null,null,null,null,null,null,null,null,"Kontrollbereich (darf keine Einträge anzeigen):"]
["Umrechnung aus der Personalstrukturplanung:",null,null,null,null,null,null,null,null,null,null,null,null,null,null,null,null,null,null,null,null,null,null,null,{"$f":"Q56-ROUND(P73,0)","v":0},{"$f":"Q56-Anteile!AE57","v":0},{"$f":"'Ggl. Korr.'!R57-'Ggl. Prog.'!P56","v":0}]
["Rechnerisch Vollbeschäftigte 2024 (Zahl aus der PSP 2016), plus 15 Aufnahmen über andere Zugänge (= 14 rechnerisch Vollbeschäftigte), plus 15 Beauftragungen im Ruhestand:",null,null,null,null,null,null,null,null,null,null,null,null,null,null,{"$f":"1422+14+15","v":1451},null,null,null,null,null,null,null,null,{"$f":"ROUND(S73-Q56+T73,0)","v":0},{"$f":"ROUND(SUM(C5:C55)*1000-'Ggl. Prog.'!AF56,1)","v":0},{"$f":"'KG Korr.'!A5-'KG akt.'!G57","v":0}]
["Abzug für \"sonstige Dienstaufträge\" außerhalb des regulären Stellenplans (Wartestand, Übergangsdienstaufträge, Sonderfälle auf beweglichen Pfarrstellen):",null,null,null,null,null,null,null,null,null,null,null,null,null,null,-110,null,null,null,null,null,null,null,null,{"$f":"O56-SUM(B58:N58)","v":0}]
["Zuzüglich durchschnittliche Vakaturrate im Pfarrdienst ingesamt:",null,null,null,null,null,null,null,null,null,null,null,null,null,null,90,null,null,null,null,null,null,null,null,null,{"$f":"'Ggl. Historie'!AC56-'Ggl. Prog.'!F56","v":0}]
["Zuzüglich Dienstaufträge anderer Professionen, die in Arbeitsbereichen des Zielstellenplans Sonderpfarrdienst eingesetzt werden können:",null,null,null,null,null,null,null,null,null,null,null,null,null,null,15]
["Für die Verteilung auf Zielstellenplan Sonderpfarrdienst und PfarrPlan zur Verfügung stehende Stellen (Summe aus den vorigen Zeilen): ",null,null,null,null,null,null,null,null,null,null,null,null,null,null,{"$f":"SUM(P66:P69)","v":1446}]
["Aufteilung im Verhältnis 16,5 Prozent zu 83,5 Prozent:"]
["Zielstellenplan Sonderpfarrdienst (gerundet auf volle Stellen), darin enthalten 15 durch andere Professionen zu besetzende Angestellten- oder Beamtenstellen:",null,null,null,null,null,null,null,null,null,null,null,null,null,null,{"$f":"P70*Q72","v":238.59},0.16500000000000001,null,"Kürzung im PfarrPlan:"]
["Zielzahlen des PfarrPlans 2024 (gerundet auf volle Stellen):",null,null,null,null,null,null,null,null,null,null,null,null,null,null,{"$f":"P70*(Q73)","v":1207.4099999999999},{"$f":"1-Q72","v":0.83499999999999996},null,{"$f":"SUM(S5:S55)","v":1391.75},{"$f":"-S73+ROUND(P73,0)","v":-184.75},{"$f":"(S73-P73)/S73","v":0.13245194898509083}]

{"sheet":"Anteile","index":1,"n_rows":58,"n_cols":31,"rows_kept":58,"cut":false,"hidden":false,"merged":[[2,27,2,28],[2,9,2,10],[2,11,2,12],[2,13,2,14],[2,15,2,16],[2,19,2,20],[2,21,2,22],[2,25,2,26],[2,23,2,24],[3,1,3,2],[3,3,3,4],[3,5,3,6],[3,7,3,8],[2,17,2,18],[2,1,2,2],[2,3,2,4],[2,5,2,6],[2,7,2,8],[3,9,3,10],[3,11,3,12],[3,13,3,14],[3,15,3,16],[3,27,3,28],[3,17,3,18],[3,19,3,20],[3,21,3,22],[3,23,3,24],[3,25,3,26]]}
[{"$f":"\"PfarrPlan \" & Parameter!A2 & \": Auf die einzelnen Merkmale entfallende Stellenanteile\"","v":"PfarrPlan 2024: Auf die einzelnen Merkmale entfallende Stellenanteile"}]
[{"$f":"\"Stand der Gemeindeglieder- und Kirchengemeindedaten: 31.12.\"&Parameter!A8","v":"Stand der Gemeindeglieder- und Kirchengemeindedaten: 31.12.2016"}]
[{"$f":"Berechnung!A3","v":0},{"$f":"Berechnung!B3","v":1},{"$f":"Berechnung!C3","v":2},{"$f":"Berechnung!C3","v":2},{"$f":"Berechnung!E3","v":4},{"$f":"Berechnung!D3","v":3},{"$f":"Berechnung!G3","v":5},{"$f":"Berechnung!E3","v":4},{"$f":"Berechnung!I3","v":7},{"$f":"Berechnung!F3","v":5},{"$f":"Berechnung!K3","v":9},{"$f":"Berechnung!G3","v":5},{"$f":"Berechnung!M3","v":11},{"$f":"Berechnung!H3","v":6},{"$f":"Berechnung!O3","v":13},{"$f":"Berechnung!I3","v":7},{"$f":"Berechnung!Q3","v":15},{"$f":"Berechnung!J3","v":8},{"$f":"Berechnung!S3","v":17},{"$f":"Berechnung!K3","v":9},{"$f":"Berechnung!U3","v":19},{"$f":"Berechnung!L3","v":10},{"$f":"Berechnung!W3","v":21},{"$f":"Berechnung!M3","v":11},{"$f":"Berechnung!Y3","v":0},{"$f":"Berechnung!N3","v":12},{"$f":"Berechnung!AA3","v":0},{"$f":"Berechnung!O3","v":13},{"$f":"Berechnung!AC3","v":0},{"$f":"Berechnung!P3","v":14},{"$f":"Berechnung!Q3","v":15}]
[{"$f":"Parameter!B1","v":"Dekanat/Kirchenbezirk"},{"$f":"Berechnung!B4","v":"Grundaufwand Kirchenbezirk \n(Sockel)"},null,{"$f":"Berechnung!C4","v":"Seelsorge, Kasualien, gemeindl. Leben (Zahl der Gemeindeglieder in Tausend)"},null,{"$f":"Berechnung!D4","v":"Verkündigung und Leitung \n(mod. Zahl der Kirchengemeinden)"},null,{"$f":"Berechnung!E4","v":"Weiterer Aufwand für Verkündigung (Anzahl zusätzliche Predigtstellen)"},null,{"$f":"Berechnung!F4","v":"Überdurchschnittliche Urbanität mit Zentralfunktion"},null,{"$f":"Berechnung!G4","v":"Überdurchschnittliche Ländlichkeit"},null,{"$f":"Berechnung!H4","v":"Klassische Diaspora"},null,{"$f":"Berechnung!I4","v":"Moderne Diaspora"},null,{"$f":"Berechnung!J4","v":"Religionsunterricht\n(aufgrund Formel)"},null,{"$f":"Berechnung!K4","v":"Stellenanteile für Krankenhausseelsorge"},null,{"$f":"Berechnung!L4","v":"Stellenanteile für Hochschulseelsorge"},null,{"$f":"Berechnung!M4","v":"Stellenanteile für Reha-Seelsorge"},null,{"$f":"Berechnung!N4","v":"Stellenanteile für überregionale Aufgaben im landeskirchl. Interesse"},null,{"$f":"Berechnung!O4","v":"Aus den vorigen Spalten: Zielzahlen 2024 (in der Anzeige gerundet auf 3 Stellen)"},null,{"$f":"Berechnung!P4","v":"Ggf. Korrekturen (Stellenanteile)"},{"$f":"Berechnung!Q4","v":"Aus den vorigen Spalten: Zielzahlen 2024 (gerundet auf Viertelstellen)"}]
[{"$f":"Parameter!B2","v":"Aalen"},{"$f":"Berechnung!B5*Berechnung!$B$57/Berechnung!O5","v":4.2988041100384143E-2},{"$f":"Berechnung!B5*Berechnung!B$57","v":1},{"$f":"Berechnung!C5*Berechnung!C$57/Berechnung!O5","v":0.41350535529660076},{"$f":"Berechnung!C5*Berechnung!C$57","v":9.6190788115001062},{"$f":"Berechnung!D5*Berechnung!D$57/Berechnung!O5","v":0.2457725387059882},{"$f":"Berechnung!D5*Berechnung!D$57","v":5.717230476542742},{"$f":"Berechnung!E5*Berechnung!E$57/Berechnung!O5","v":3.0951389592276578E-2},{"$f":"Berechnung!E5*Berechnung!E$57","v":0.72},{"$f":"Berechnung!F5*Berechnung!F$57/Berechnung!O5","v":0},{"$f":"Berechnung!F5*Berechnung!F$57","v":0},{"$f":"Berechnung!G5*Berechnung!G$57/Berechnung!O5","v":1.0992278586959878E-2},{"$f":"Berechnung!G5*Berechnung!G$57","v":0.25570550100878292},{"$f":"Berechnung!H5*Berechnung!H$57/Berechnung!O5","v":3.6698160614591246E-2},{"$f":"Berechnung!H5*Berechnung!H$57","v":0.85368301683938119},{"$f":"Berechnung!I5*Berechnung!I$57/Berechnung!O5","v":0},{"$f":"Berechnung!I5*Berechnung!I$57","v":0},{"$f":"Berechnung!J5*Berechnung!J$57/Berechnung!O5","v":0.16535718472771921},{"$f":"Berechnung!J5*Berechnung!J$57","v":3.8465857130261649},{"$f":"Berechnung!K5*Berechnung!K$57/Berechnung!O5","v":4.2988041100384143E-2},{"$f":"Berechnung!K5*Berechnung!K$57","v":1},{"$f":"Berechnung!L5*Berechnung!L$57/Berechnung!O5","v":1.0747010275096036E-2},{"$f":"Berechnung!L5*Berechnung!K$57","v":0.25},{"$f":"Berechnung!M5/Berechnung!O5","v":0},{"$f":"Berechnung!M5*Berechnung!M$57","v":0},{"$f":"Berechnung!N5/Berechnung!O5","v":0},{"$f":"Berechnung!N5*Berechnung!N$57","v":0},{"$f":"Z5+X5+V5+T5+R5+P5+N5+L5+J5+H5+F5+D5+B5","v":1.0000000000000002},{"$f":"AA5+Y5+W5+U5+S5+Q5+O5+M5+K5+I5+G5+E5+C5","v":23.262283518917179},{"$f":"Berechnung!P5","v":0},{"$f":"Berechnung!Q5","v":23.25}]
[{"$f":"Parameter!B3","v":"Backnang"},{"$f":"Berechnung!B6*Berechnung!$B$57/Berechnung!O6","v":4.3936575816375778E-2},{"$f":"Berechnung!B6*Berechnung!B$57","v":1},{"$f":"Berechnung!C6*Berechnung!C$57/Berechnung!O6","v":0.46060529111417403},{"$f":"Berechnung!C6*Berechnung!C$57","v":10.483413478537395},{"$f":"Berechnung!D6*Berechnung!D$57/Berechnung!O6","v":0.27303861988295047},{"$f":"Berechnung!D6*Berechnung!D$57","v":6.2143809527638503},{"$f":"Berechnung!E6*Berechnung!E$57/Berechnung!O6","v":3.6906723685755656E-2},{"$f":"Berechnung!E6*Berechnung!E$57","v":0.84},{"$f":"Berechnung!F6*Berechnung!F$57/Berechnung!O6","v":0},{"$f":"Berechnung!F6*Berechnung!F$57","v":0},{"$f":"Berechnung!G6*Berechnung!G$57/Berechnung!O6","v":1.5627244410054954E-2},{"$f":"Berechnung!G6*Berechnung!G$57","v":0.35567733988570088},{"$f":"Berechnung!H6*Berechnung!H$57/Berechnung!O6","v":0},{"$f":"Berechnung!H6*Berechnung!H$57","v":0},{"$f":"Berechnung!I6*Berechnung!I$57/Berechnung!O6","v":0},{"$f":"Berechnung!I6*Berechnung!I$57","v":0},{"$f":"Berechnung!J6*Berechnung!J$57/Berechnung!O6","v":0.16988554509068915},{"$f":"Berechnung!J6*Berechnung!J$57","v":3.866608672480353},{"$f":"Berechnung!K6*Berechnung!K$57/Berechnung!O6","v":0},{"$f":"Berechnung!K6*Berechnung!K$57","v":0},{"$f":"Berechnung!L6*Berechnung!L$57/Berechnung!O6","v":0},{"$f":"Berechnung!L6*Berechnung!K$57","v":0},{"$f":"Berechnung!M6/Berechnung!O6","v":0},{"$f":"Berechnung!M6*Berechnung!M$57","v":0},{"$f":"Berechnung!N6/Berechnung!O6","v":0},{"$f":"Berechnung!N6*Berechnung!N$57","v":0},{"$f":"Z6+X6+V6+T6+R6+P6+N6+L6+J6+H6+F6+D6+B6","v":1},{"$f":"AA6+Y6+W6+U6+S6+Q6+O6+M6+K6+I6+G6+E6+C6","v":22.760080443667299},{"$f":"Berechnung!P6","v":0},{"$f":"Berechnung!Q6","v":22.75}]
[{"$f":"Parameter!B4","v":"Bad Cannstatt"},{"$f":"Berechnung!B7*Berechnung!$B$57/Berechnung!O7","v":3.0570406444169682E-2},{"$f":"Berechnung!B7*Berechnung!B$57","v":0.5},{"$f":"Berechnung!C7*Berechnung!C$57/Berechnung!O7","v":0.43004516929206366},{"$f":"Berechnung!C7*Berechnung!C$57","v":7.0336841951619018},{"$f":"Berechnung!D7*Berechnung!D$57/Berechnung!O7","v":0.31156088850083163},{"$f":"Berechnung!D7*Berechnung!D$57","v":5.0957923812663575},{"$f":"Berechnung!E7*Berechnung!E$57/Berechnung!O7","v":3.6684487733003616E-3},{"$f":"Berechnung!E7*Berechnung!E$57","v":0.06},{"$f":"Berechnung!F7*Berechnung!F$57/Berechnung!O7","v":0},{"$f":"Berechnung!F7*Berechnung!F$57","v":0},{"$f":"Berechnung!G7*Berechnung!G$57/Berechnung!O7","v":0},{"$f":"Berechnung!G7*Berechnung!G$57","v":0},{"$f":"Berechnung!H7*Berechnung!H$57/Berechnung!O7","v":0},{"$f":"Berechnung!H7*Berechnung!H$57","v":0},{"$f":"Berechnung!I7*Berechnung!I$57/Berechnung!O7","v":4.7978949436843582E-2},{"$f":"Berechnung!I7*Berechnung!I$57","v":0.7847286807335534},{"$f":"Berechnung!J7*Berechnung!J$57/Berechnung!O7","v":0.17617613755279113},{"$f":"Berechnung!J7*Berechnung!J$57","v":2.8814817669261159},{"$f":"Berechnung!K7*Berechnung!K$57/Berechnung!O7","v":0},{"$f":"Berechnung!K7*Berechnung!K$57","v":0},{"$f":"Berechnung!L7*Berechnung!L$57/Berechnung!O7","v":0},{"$f":"Berechnung!L7*Berechnung!K$57","v":0},{"$f":"Berechnung!M7/Berechnung!O7","v":0},{"$f":"Berechnung!M7*Berechnung!M$57","v":0},{"$f":"Berechnung!N7/Berechnung!O7","v":0},{"$f":"Berechnung!N7*Berechnung!N$57","v":0},1,16.355687024087928,{"$f":"Berechnung!P7","v":0},{"$f":"Berechnung!Q7","v":16.25}]
[{"$f":"Parameter!B5","v":"Bad Urach-Münsingen"},{"$f":"Berechnung!B8*Berechnung!$B$57/Berechnung!O8","v":4.9324715302677347E-2},{"$f":"Berechnung!B8*Berechnung!B$57","v":2},{"$f":"Berechnung!C8*Berechnung!C$57/Berechnung!O8","v":0.3563890195179461},{"$f":"Berechnung!C8*Berechnung!C$57","v":14.450727888888649},{"$f":"Berechnung!D8*Berechnung!D$57/Berechnung!O8","v":0.32184869984133058},{"$f":"Berechnung!D8*Berechnung!D$57","v":13.050200000804086},{"$f":"Berechnung!E8*Berechnung!E$57/Berechnung!O8","v":1.7756897508963844E-2},{"$f":"Berechnung!E8*Berechnung!E$57","v":0.72},{"$f":"Berechnung!F8*Berechnung!F$57/Berechnung!O8","v":0},{"$f":"Berechnung!F8*Berechnung!F$57","v":0},{"$f":"Berechnung!G8*Berechnung!G$57/Berechnung!O8","v":2.6962226331804302E-2},{"$f":"Berechnung!G8*Berechnung!G$57","v":1.0932542100386251},{"$f":"Berechnung!H8*Berechnung!H$57/Berechnung!O8","v":9.1792669596814352E-3},{"$f":"Berechnung!H8*Berechnung!H$57","v":0.37219746341579735},{"$f":"Berechnung!I8*Berechnung!I$57/Berechnung!O8","v":0},{"$f":"Berechnung!I8*Berechnung!I$57","v":0},{"$f":"Berechnung!J8*Berechnung!J$57/Berechnung!O8","v":0.1815456380605884},{"$f":"Berechnung!J8*Berechnung!J$57","v":7.3612442341145803},{"$f":"Berechnung!K8*Berechnung!K$57/Berechnung!O8","v":2.4662357651338673E-2},{"$f":"Berechnung!K8*Berechnung!K$57","v":1},{"$f":"Berechnung!L8*Berechnung!L$57/Berechnung!O8","v":0},{"$f":"Berechnung!L8*Berechnung!K$57","v":0},{"$f":"Berechnung!M8/Berechnung!O8","v":1.2331178825669337E-2},{"$f":"Berechnung!M8*Berechnung!M$57","v":0.5},{"$f":"Berechnung!N8/Berechnung!O8","v":0},{"$f":"Berechnung!N8*Berechnung!N$57","v":0},1,40.547623797261735,{"$f":"Berechnung!P8","v":0},{"$f":"Berechnung!Q8","v":40.5}]
[{"$f":"Parameter!B6","v":"Balingen"},{"$f":"Berechnung!B9*Berechnung!$B$57/Berechnung!O9","v":2.8100361696522299E-2},{"$f":"Berechnung!B9*Berechnung!B$57","v":1},{"$f":"Berechnung!C9*Berechnung!C$57/Berechnung!O9","v":0.42967854457935767},{"$f":"Berechnung!C9*Berechnung!C$57","v":15.290854588271534},{"$f":"Berechnung!D9*Berechnung!D$57/Berechnung!O9","v":0.25844700168911172},{"$f":"Berechnung!D9*Berechnung!D$57","v":9.1972838100904983},{"$f":"Berechnung!E9*Berechnung!E$57/Berechnung!O9","v":3.7092477439409431E-2},{"$f":"Berechnung!E9*Berechnung!E$57","v":1.3199999999999998},{"$f":"Berechnung!F9*Berechnung!F$57/Berechnung!O9","v":0},{"$f":"Berechnung!F9*Berechnung!F$57","v":0},{"$f":"Berechnung!G9*Berechnung!G$57/Berechnung!O9","v":2.2592833320392237E-2},{"$f":"Berechnung!G9*Berechnung!G$57","v":0.80400507169230939},{"$f":"Berechnung!H9*Berechnung!H$57/Berechnung!O9","v":2.2009361332810076E-2},{"$f":"Berechnung!H9*Berechnung!H$57","v":0.7832412112878232},{"$f":"Berechnung!I9*Berechnung!I$57/Berechnung!O9","v":0},{"$f":"Berechnung!I9*Berechnung!I$57","v":0},{"$f":"Berechnung!J9*Berechnung!J$57/Berechnung!O9","v":0.16695396782174377},{"$f":"Berechnung!J9*Berechnung!J$57","v":5.9413458668187173},{"$f":"Berechnung!K9*Berechnung!K$57/Berechnung!O9","v":2.8100361696522299E-2},{"$f":"Berechnung!K9*Berechnung!K$57","v":1},{"$f":"Berechnung!L9*Berechnung!L$57/Berechnung!O9","v":7.0250904241305747E-3},{"$f":"Berechnung!L9*Berechnung!K$57","v":0.25},{"$f":"Berechnung!M9/Berechnung!O9","v":0},{"$f":"Berechnung!M9*Berechnung!M$57","v":0},{"$f":"Berechnung!N9/Berechnung!O9","v":0},{"$f":"Berechnung!N9*Berechnung!N$57","v":0},1,35.586730548160887,{"$f":"Berechnung!P9","v":0},{"$f":"Berechnung!Q9","v":35.5}]
[{"$f":"Parameter!B7","v":"Bernhausen"},{"$f":"Berechnung!B10*Berechnung!$B$57/Berechnung!O10","v":4.4511668620147694E-2},{"$f":"Berechnung!B10*Berechnung!B$57","v":1},{"$f":"Berechnung!C10*Berechnung!C$57/Berechnung!O10","v":0.51899852901888099},{"$f":"Berechnung!C10*Berechnung!C$57","v":11.659830896205996},{"$f":"Berechnung!D10*Berechnung!D$57/Berechnung!O10","v":0.23235447114497707},{"$f":"Berechnung!D10*Berechnung!D$57","v":5.2200800003216346},{"$f":"Berechnung!E10*Berechnung!E$57/Berechnung!O10","v":1.602420070325317E-2},{"$f":"Berechnung!E10*Berechnung!E$57","v":0.36},{"$f":"Berechnung!F10*Berechnung!F$57/Berechnung!O10","v":0},{"$f":"Berechnung!F10*Berechnung!F$57","v":0},{"$f":"Berechnung!G10*Berechnung!G$57/Berechnung!O10","v":0},{"$f":"Berechnung!G10*Berechnung!G$57","v":0},{"$f":"Berechnung!H10*Berechnung!H$57/Berechnung!O10","v":2.7717971312632065E-4},{"$f":"Berechnung!H10*Berechnung!H$57","v":6.2271247454618768E-3},{"$f":"Berechnung!I10*Berechnung!I$57/Berechnung!O10","v":2.9968255117226082E-2},{"$f":"Berechnung!I10*Berechnung!I$57","v":0.67326739361240873},{"$f":"Berechnung!J10*Berechnung!J$57/Berechnung!O10","v":0.15786569568238881},{"$f":"Berechnung!J10*Berechnung!J$57","v":3.5466137436809708},{"$f":"Berechnung!K10*Berechnung!K$57/Berechnung!O10","v":0},{"$f":"Berechnung!K10*Berechnung!K$57","v":0},{"$f":"Berechnung!L10*Berechnung!L$57/Berechnung!O10","v":0},{"$f":"Berechnung!L10*Berechnung!K$57","v":0},{"$f":"Berechnung!M10/Berechnung!O10","v":0},{"$f":"Berechnung!M10*Berechnung!M$57","v":0},{"$f":"Berechnung!N10/Berechnung!O10","v":0},{"$f":"Berechnung!N10*Berechnung!N$57","v":0},1.0000000000000002,22.466019158566471,{"$f":"Berechnung!P10","v":0},{"$f":"Berechnung!Q10","v":22.5}]
[{"$f":"Parameter!B8","v":"Besigheim"},{"$f":"Berechnung!B11*Berechnung!$B$57/Berechnung!O11","v":4.5998629700504799E-2},{"$f":"Berechnung!B11*Berechnung!B$57","v":1},{"$f":"Berechnung!C11*Berechnung!C$57/Berechnung!O11","v":0.50231470186575311},{"$f":"Berechnung!C11*Berechnung!C$57","v":10.920210126612545},{"$f":"Berechnung!D11*Berechnung!D$57/Berechnung!O11","v":0.2572677074376491},{"$f":"Berechnung!D11*Berechnung!D$57","v":5.5929428574874649},{"$f":"Berechnung!E11*Berechnung!E$57/Berechnung!O11","v":3.3119013384363453E-2},{"$f":"Berechnung!E11*Berechnung!E$57","v":0.72},{"$f":"Berechnung!F11*Berechnung!F$57/Berechnung!O11","v":0},{"$f":"Berechnung!F11*Berechnung!F$57","v":0},{"$f":"Berechnung!G11*Berechnung!G$57/Berechnung!O11","v":0},{"$f":"Berechnung!G11*Berechnung!G$57","v":0},{"$f":"Berechnung!H11*Berechnung!H$57/Berechnung!O11","v":0},{"$f":"Berechnung!H11*Berechnung!H$57","v":0},{"$f":"Berechnung!I11*Berechnung!I$57/Berechnung!O11","v":0},{"$f":"Berechnung!I11*Berechnung!I$57","v":0},{"$f":"Berechnung!J11*Berechnung!J$57/Berechnung!O11","v":0.16129994761172986},{"$f":"Berechnung!J11*Berechnung!J$57","v":3.5066250595277997},{"$f":"Berechnung!K11*Berechnung!K$57/Berechnung!O11","v":0},{"$f":"Berechnung!K11*Berechnung!K$57","v":0},{"$f":"Berechnung!L11*Berechnung!L$57/Berechnung!O11","v":0},{"$f":"Berechnung!L11*Berechnung!K$57","v":0},{"$f":"Berechnung!M11/Berechnung!O11","v":0},{"$f":"Berechnung!M11*Berechnung!M$57","v":0},{"$f":"Berechnung!N11/Berechnung!O11","v":0},{"$f":"Berechnung!N11*Berechnung!N$57","v":0},1.0000000000000002,21.739778043627808,{"$f":"Berechnung!P11","v":0},{"$f":"Berechnung!Q11","v":21.75}]
[{"$f":"Parameter!B9","v":"Biberach"},{"$f":"Berechnung!B12*Berechnung!$B$57/Berechnung!O12","v":3.2269962374804798E-2},{"$f":"Berechnung!B12*Berechnung!B$57","v":1},{"$f":"Berechnung!C12*Berechnung!C$57/Berechnung!O12","v":0.39767613741405272},{"$f":"Berechnung!C12*Berechnung!C$57","v":12.323414970094406},{"$f":"Berechnung!D12*Berechnung!D$57/Berechnung!O12","v":0.21257010990009664},{"$f":"Berechnung!D12*Berechnung!D$57","v":6.5872438099296815},{"$f":"Berechnung!E12*Berechnung!E$57/Berechnung!O12","v":3.2915361622300895E-2},{"$f":"Berechnung!E12*Berechnung!E$57","v":1.02},{"$f":"Berechnung!F12*Berechnung!F$57/Berechnung!O12","v":0},{"$f":"Berechnung!F12*Berechnung!F$57","v":0},{"$f":"Berechnung!G12*Berechnung!G$57/Berechnung!O12","v":2.9282531058032423E-2},{"$f":"Berechnung!G12*Berechnung!G$57","v":0.90742377440437139},{"$f":"Berechnung!H12*Berechnung!H$57/Berechnung!O12","v":6.1595914778663198E-2},{"$f":"Berechnung!H12*Berechnung!H$57","v":1.9087693398352092},{"$f":"Berechnung!I12*Berechnung!I$57/Berechnung!O12","v":2.1190691207813611E-2},{"$f":"Berechnung!I12*Berechnung!I$57","v":0.65666922575523434},{"$f":"Berechnung!J12*Berechnung!J$57/Berechnung!O12","v":0.17216183867572987},{"$f":"Berechnung!J12*Berechnung!J$57","v":5.3350492534242155},{"$f":"Berechnung!K12*Berechnung!K$57/Berechnung!O12","v":3.2269962374804798E-2},{"$f":"Berechnung!K12*Berechnung!K$57","v":1},{"$f":"Berechnung!L12*Berechnung!L$57/Berechnung!O12","v":8.0674905937011994E-3},{"$f":"Berechnung!L12*Berechnung!K$57","v":0.25},{"$f":"Berechnung!M12/Berechnung!O12","v":0},{"$f":"Berechnung!M12*Berechnung!M$57","v":0},{"$f":"Berechnung!N12/Berechnung!O12","v":0},{"$f":"Berechnung!N12*Berechnung!N$57","v":0},1.0000000000000002,30.988570373443117,{"$f":"Berechnung!P12","v":0},{"$f":"Berechnung!Q12","v":31}]
[{"$f":"Parameter!B10","v":"Blaubeuren"},{"$f":"Berechnung!B13*Berechnung!$B$57/Berechnung!O13","v":5.238438244903805E-2},{"$f":"Berechnung!B13*Berechnung!B$57","v":1},{"$f":"Berechnung!C13*Berechnung!C$57/Berechnung!O13","v":0.31690582706268028},{"$f":"Berechnung!C13*Berechnung!C$57","v":6.0496241865785274},{"$f":"Berechnung!D13*Berechnung!D$57/Berechnung!O13","v":0.34506869902441495},{"$f":"Berechnung!D13*Berechnung!D$57","v":6.5872438099296815},{"$f":"Berechnung!E13*Berechnung!E$57/Berechnung!O13","v":6.2861258938845662E-3},{"$f":"Berechnung!E13*Berechnung!E$57","v":0.12},{"$f":"Berechnung!F13*Berechnung!F$57/Berechnung!O13","v":0},{"$f":"Berechnung!F13*Berechnung!F$57","v":0},{"$f":"Berechnung!G13*Berechnung!G$57/Berechnung!O13","v":3.8017232804854674E-2},{"$f":"Berechnung!G13*Berechnung!G$57","v":0.72573601190850334},{"$f":"Berechnung!H13*Berechnung!H$57/Berechnung!O13","v":2.2613463354701571E-2},{"$f":"Berechnung!H13*Berechnung!H$57","v":0.43168330516640135},{"$f":"Berechnung!I13*Berechnung!I$57/Berechnung!O13","v":0},{"$f":"Berechnung!I13*Berechnung!I$57","v":0},{"$f":"Berechnung!J13*Berechnung!J$57/Berechnung!O13","v":0.19253207818590709},{"$f":"Berechnung!J13*Berechnung!J$57","v":3.6753717269304684},{"$f":"Berechnung!K13*Berechnung!K$57/Berechnung!O13","v":2.6192191224519025E-2},{"$f":"Berechnung!K13*Berechnung!K$57","v":0.5},{"$f":"Berechnung!L13*Berechnung!L$57/Berechnung!O13","v":0},{"$f":"Berechnung!L13*Berechnung!K$57","v":0},{"$f":"Berechnung!M13/Berechnung!O13","v":0},{"$f":"Berechnung!M13*Berechnung!M$57","v":0},{"$f":"Berechnung!N13/Berechnung!O13","v":0},{"$f":"Berechnung!N13*Berechnung!N$57","v":0},1.0000000000000002,19.089659040513581,{"$f":"Berechnung!P13","v":0},{"$f":"Berechnung!Q13","v":19}]
[{"$f":"Parameter!B11","v":"Blaufelden"},{"$f":"Berechnung!B14*Berechnung!$B$57/Berechnung!O14","v":5.9914370328290174E-2},{"$f":"Berechnung!B14*Berechnung!B$57","v":1},{"$f":"Berechnung!C14*Berechnung!C$57/Berechnung!O14","v":0.29740545144601216},{"$f":"Berechnung!C14*Berechnung!C$57","v":4.9638417263910428},{"$f":"Berechnung!D14*Berechnung!D$57/Berechnung!O14","v":0.36488410732966675},{"$f":"Berechnung!D14*Berechnung!D$57","v":6.0900933337085732},{"$f":"Berechnung!E14*Berechnung!E$57/Berechnung!O14","v":0},{"$f":"Berechnung!E14*Berechnung!E$57","v":0},{"$f":"Berechnung!F14*Berechnung!F$57/Berechnung!O14","v":0},{"$f":"Berechnung!F14*Berechnung!F$57","v":0},{"$f":"Berechnung!G14*Berechnung!G$57/Berechnung!O14","v":7.4316952873638681E-2},{"$f":"Berechnung!G14*Berechnung!G$57","v":1.2403861121535971},{"$f":"Berechnung!H14*Berechnung!H$57/Berechnung!O14","v":0},{"$f":"Berechnung!H14*Berechnung!H$57","v":0},{"$f":"Berechnung!I14*Berechnung!I$57/Berechnung!O14","v":0},{"$f":"Berechnung!I14*Berechnung!I$57","v":0},{"$f":"Berechnung!J14*Berechnung!J$57/Berechnung!O14","v":0.20347911802239227},{"$f":"Berechnung!J14*Berechnung!J$57","v":3.3961655093338123},{"$f":"Berechnung!K14*Berechnung!K$57/Berechnung!O14","v":0},{"$f":"Berechnung!K14*Berechnung!K$57","v":0},{"$f":"Berechnung!L14*Berechnung!L$57/Berechnung!O14","v":0},{"$f":"Berechnung!L14*Berechnung!K$57","v":0},{"$f":"Berechnung!M14/Berechnung!O14","v":0},{"$f":"Berechnung!M14*Berechnung!M$57","v":0},{"$f":"Berechnung!N14/Berechnung!O14","v":0},{"$f":"Berechnung!N14*Berechnung!N$57","v":0},1,16.690486681587025,{"$f":"Berechnung!P14","v":0},{"$f":"Berechnung!Q14","v":16.75}]
[{"$f":"Parameter!B12","v":"Böblingen"},{"$f":"Berechnung!B15*Berechnung!$B$57/Berechnung!O15","v":3.3425504365928969E-2},{"$f":"Berechnung!B15*Berechnung!B$57","v":1},{"$f":"Berechnung!C15*Berechnung!C$57/Berechnung!O15","v":0.513513459839955},{"$f":"Berechnung!C15*Berechnung!C$57","v":15.362923300070996},{"$f":"Berechnung!D15*Berechnung!D$57/Berechnung!O15","v":0.23679945214169548},{"$f":"Berechnung!D15*Berechnung!D$57","v":7.0843942861507898},{"$f":"Berechnung!E15*Berechnung!E$57/Berechnung!O15","v":2.4066363143468859E-2},{"$f":"Berechnung!E15*Berechnung!E$57","v":0.72},{"$f":"Berechnung!F15*Berechnung!F$57/Berechnung!O15","v":0},{"$f":"Berechnung!F15*Berechnung!F$57","v":0},{"$f":"Berechnung!G15*Berechnung!G$57/Berechnung!O15","v":0},{"$f":"Berechnung!G15*Berechnung!G$57","v":0},{"$f":"Berechnung!H15*Berechnung!H$57/Berechnung!O15","v":0},{"$f":"Berechnung!H15*Berechnung!H$57","v":0},{"$f":"Berechnung!I15*Berechnung!I$57/Berechnung!O15","v":3.320046077924324E-2},{"$f":"Berechnung!I15*Berechnung!I$57","v":0.9932673091714026},{"$f":"Berechnung!J15*Berechnung!J$57/Berechnung!O15","v":0.1589947597297087},{"$f":"Berechnung!J15*Berechnung!J$57","v":4.7566899212379283},{"$f":"Berechnung!K15*Berechnung!K$57/Berechnung!O15","v":0},{"$f":"Berechnung!K15*Berechnung!K$57","v":0},{"$f":"Berechnung!L15*Berechnung!L$57/Berechnung!O15","v":0},{"$f":"Berechnung!L15*Berechnung!K$57","v":0},{"$f":"Berechnung!M15/Berechnung!O15","v":0},{"$f":"Berechnung!M15*Berechnung!M$57","v":0},{"$f":"Berechnung!N15/Berechnung!O15","v":0},{"$f":"Berechnung!N15*Berechnung!N$57","v":0},1.0000000000000002,29.917274816631117,{"$f":"Berechnung!P15","v":0},{"$f":"Berechnung!Q15","v":30}]
[{"$f":"Parameter!B13","v":"Brackenheim"},{"$f":"Berechnung!B16*Berechnung!$B$57/Berechnung!O16","v":5.9283436513981054E-2},{"$f":"Berechnung!B16*Berechnung!B$57","v":1},{"$f":"Berechnung!C16*Berechnung!C$57/Berechnung!O16","v":0.40076132220725053},{"$f":"Berechnung!C16*Berechnung!C$57","v":6.7600892554995076},{"$f":"Berechnung!D16*Berechnung!D$57/Berechnung!O16","v":0.33156887281818193},{"$f":"Berechnung!D16*Berechnung!D$57","v":5.5929428574874649},{"$f":"Berechnung!E16*Berechnung!E$57/Berechnung!O16","v":7.1140123816777262E-3},{"$f":"Berechnung!E16*Berechnung!E$57","v":0.12},{"$f":"Berechnung!F16*Berechnung!F$57/Berechnung!O16","v":0},{"$f":"Berechnung!F16*Berechnung!F$57","v":0},{"$f":"Berechnung!G16*Berechnung!G$57/Berechnung!O16","v":1.9068338506352971E-2},{"$f":"Berechnung!G16*Berechnung!G$57","v":0.32164698316461471},{"$f":"Berechnung!H16*Berechnung!H$57/Berechnung!O16","v":0},{"$f":"Berechnung!H16*Berechnung!H$57","v":0},{"$f":"Berechnung!I16*Berechnung!I$57/Berechnung!O16","v":0},{"$f":"Berechnung!I16*Berechnung!I$57","v":0},{"$f":"Berechnung!J16*Berechnung!J$57/Berechnung!O16","v":0.18220401757255586},{"$f":"Berechnung!J16*Berechnung!J$57","v":3.0734388606096736},{"$f":"Berechnung!K16*Berechnung!K$57/Berechnung!O16","v":0},{"$f":"Berechnung!K16*Berechnung!K$57","v":0},{"$f":"Berechnung!L16*Berechnung!L$57/Berechnung!O16","v":0},{"$f":"Berechnung!L16*Berechnung!K$57","v":0},{"$f":"Berechnung!M16/Berechnung!O16","v":0},{"$f":"Berechnung!M16*Berechnung!M$57","v":0},{"$f":"Berechnung!N16/Berechnung!O16","v":0},{"$f":"Berechnung!N16*Berechnung!N$57","v":0},1.0000000000000002,16.86811795676126,{"$f":"Berechnung!P16","v":0},{"$f":"Berechnung!Q16","v":16.75}]
[{"$f":"Parameter!B14","v":"Calw"},{"$f":"Berechnung!B17*Berechnung!$B$57/Berechnung!O17","v":4.2971821967197683E-2},{"$f":"Berechnung!B17*Berechnung!B$57","v":1},{"$f":"Berechnung!C17*Berechnung!C$57/Berechnung!O17","v":0.33321279744913773},{"$f":"Berechnung!C17*Berechnung!C$57","v":7.7542161862137009},{"$f":"Berechnung!D17*Berechnung!D$57/Berechnung!O17","v":0.35249711895883645},{"$f":"Berechnung!D17*Berechnung!D$57","v":8.2029828576482817},{"$f":"Berechnung!E17*Berechnung!E$57/Berechnung!O17","v":2.0626474544254886E-2},{"$f":"Berechnung!E17*Berechnung!E$57","v":0.48},{"$f":"Berechnung!F17*Berechnung!F$57/Berechnung!O17","v":0},{"$f":"Berechnung!F17*Berechnung!F$57","v":0},{"$f":"Berechnung!G17*Berechnung!G$57/Berechnung!O17","v":3.0885416821315237E-2},{"$f":"Berechnung!G17*Berechnung!G$57","v":0.71873649771916726},{"$f":"Berechnung!H17*Berechnung!H$57/Berechnung!O17","v":0},{"$f":"Berechnung!H17*Berechnung!H$57","v":0},{"$f":"Berechnung!I17*Berechnung!I$57/Berechnung!O17","v":0},{"$f":"Berechnung!I17*Berechnung!I$57","v":0},{"$f":"Berechnung!J17*Berechnung!J$57/Berechnung!O17","v":0.18757750378385968},{"$f":"Berechnung!J17*Berechnung!J$57","v":4.3651280117246598},{"$f":"Berechnung!K17*Berechnung!K$57/Berechnung!O17","v":3.2228866475398257E-2},{"$f":"Berechnung!K17*Berechnung!K$57","v":0.75},{"$f":"Berechnung!L17*Berechnung!L$57/Berechnung!O17","v":0},{"$f":"Berechnung!L17*Berechnung!K$57","v":0},{"$f":"Berechnung!M17/Berechnung!O17","v":0},{"$f":"Berechnung!M17*Berechnung!M$57","v":0},{"$f":"Berechnung!N17/Berechnung!O17","v":0},{"$f":"Berechnung!N17*Berechnung!N$57","v":0},1,23.271063553305808,{"$f":"Berechnung!P17","v":0},{"$f":"Berechnung!Q17","v":23.25}]
[{"$f":"Parameter!B15","v":"Crailsheim"},{"$f":"Berechnung!B18*Berechnung!$B$57/Berechnung!O18","v":4.9118912540226795E-2},{"$f":"Berechnung!B18*Berechnung!B$57","v":1},{"$f":"Berechnung!C18*Berechnung!C$57/Berechnung!O18","v":0.37102202619227731},{"$f":"Berechnung!C18*Berechnung!C$57","v":7.5535472388241969},{"$f":"Berechnung!D18*Berechnung!D$57/Berechnung!O18","v":0.33576799796150469},{"$f":"Berechnung!D18*Berechnung!D$57","v":6.8358190480402357},{"$f":"Berechnung!E18*Berechnung!E$57/Berechnung!O18","v":1.1788539009654429E-2},{"$f":"Berechnung!E18*Berechnung!E$57","v":0.24},{"$f":"Berechnung!F18*Berechnung!F$57/Berechnung!O18","v":0},{"$f":"Berechnung!F18*Berechnung!F$57","v":0},{"$f":"Berechnung!G18*Berechnung!G$57/Berechnung!O18","v":2.7383647338482347E-2},{"$f":"Berechnung!G18*Berechnung!G$57","v":0.55749701942314034},{"$f":"Berechnung!H18*Berechnung!H$57/Berechnung!O18","v":7.5639196551659967E-3},{"$f":"Berechnung!H18*Berechnung!H$57","v":0.15399200153243198},{"$f":"Berechnung!I18*Berechnung!I$57/Berechnung!O18","v":0},{"$f":"Berechnung!I18*Berechnung!I$57","v":0},{"$f":"Berechnung!J18*Berechnung!J$57/Berechnung!O18","v":0.1850752291676315},{"$f":"Berechnung!J18*Berechnung!J$57","v":3.7679016003471353},{"$f":"Berechnung!K18*Berechnung!K$57/Berechnung!O18","v":1.2279728135056699E-2},{"$f":"Berechnung!K18*Berechnung!K$57","v":0.25},{"$f":"Berechnung!L18*Berechnung!L$57/Berechnung!O18","v":0},{"$f":"Berechnung!L18*Berechnung!K$57","v":0},{"$f":"Berechnung!M18/Berechnung!O18","v":0},{"$f":"Berechnung!M18*Berechnung!M$57","v":0},{"$f":"Berechnung!N18/Berechnung!O18","v":0},{"$f":"Berechnung!N18*Berechnung!N$57","v":0},0.99999999999999978,20.358756908167141,{"$f":"Berechnung!P18","v":0},{"$f":"Berechnung!Q18","v":20.25}]
[{"$f":"Parameter!B16","v":"Degerloch"},{"$f":"Berechnung!B19*Berechnung!$B$57/Berechnung!O19","v":2.3913160453433516E-2},{"$f":"Berechnung!B19*Berechnung!B$57","v":0.5},{"$f":"Berechnung!C19*Berechnung!C$57/Berechnung!O19","v":0.48360681155210328},{"$f":"Berechnung!C19*Berechnung!C$57","v":10.111729323563036},{"$f":"Berechnung!D19*Berechnung!D$57/Berechnung!O19","v":0.24965722125490106},{"$f":"Berechnung!D19*Berechnung!D$57","v":5.2200800003216346},{"$f":"Berechnung!E19*Berechnung!E$57/Berechnung!O19","v":2.0087054780884152E-2},{"$f":"Berechnung!E19*Berechnung!E$57","v":0.42},{"$f":"Berechnung!F19*Berechnung!F$57/Berechnung!O19","v":0},{"$f":"Berechnung!F19*Berechnung!F$57","v":0},{"$f":"Berechnung!G19*Berechnung!G$57/Berechnung!O19","v":0},{"$f":"Berechnung!G19*Berechnung!G$57","v":0},{"$f":"Berechnung!H19*Berechnung!H$57/Berechnung!O19","v":0},{"$f":"Berechnung!H19*Berechnung!H$57","v":0},{"$f":"Berechnung!I19*Berechnung!I$57/Berechnung!O19","v":4.8793215479172952E-2},{"$f":"Berechnung!I19*Berechnung!I$57","v":1.0202167876176127},{"$f":"Berechnung!J19*Berechnung!J$57/Berechnung!O19","v":0.16198595625278814},{"$f":"Berechnung!J19*Berechnung!J$57","v":3.3869625173181519},{"$f":"Berechnung!K19*Berechnung!K$57/Berechnung!O19","v":0},{"$f":"Berechnung!K19*Berechnung!K$57","v":0},{"$f":"Berechnung!L19*Berechnung!L$57/Berechnung!O19","v":1.1956580226716758E-2},{"$f":"Berechnung!L19*Berechnung!K$57","v":0.25},{"$f":"Berechnung!M19/Berechnung!O19","v":0},{"$f":"Berechnung!M19*Berechnung!M$57","v":0},{"$f":"Berechnung!N19/Berechnung!O19","v":0},{"$f":"Berechnung!N19*Berechnung!N$57","v":0},0.99999999999999978,20.908988628820435,{"$f":"Berechnung!P19","v":0},{"$f":"Berechnung!Q19","v":21}]
[{"$f":"Parameter!B17","v":"Ditzingen"},{"$f":"Berechnung!B20*Berechnung!$B$57/Berechnung!O20","v":6.6116462892972225E-2},{"$f":"Berechnung!B20*Berechnung!B$57","v":1},{"$f":"Berechnung!C20*Berechnung!C$57/Berechnung!O20","v":0.51687191414286582},{"$f":"Berechnung!C20*Berechnung!C$57","v":7.8175977892157649},{"$f":"Berechnung!D20*Berechnung!D$57/Berechnung!O20","v":0.25474119035304676},{"$f":"Berechnung!D20*Berechnung!D$57","v":3.8529161907135872},{"$f":"Berechnung!E20*Berechnung!E$57/Berechnung!O20","v":3.9669877735783333E-3},{"$f":"Berechnung!E20*Berechnung!E$57","v":0.06},{"$f":"Berechnung!F20*Berechnung!F$57/Berechnung!O20","v":0},{"$f":"Berechnung!F20*Berechnung!F$57","v":0},{"$f":"Berechnung!G20*Berechnung!G$57/Berechnung!O20","v":0},{"$f":"Berechnung!G20*Berechnung!G$57","v":0},{"$f":"Berechnung!H20*Berechnung!H$57/Berechnung!O20","v":0},{"$f":"Berechnung!H20*Berechnung!H$57","v":0},{"$f":"Berechnung!I20*Berechnung!I$57/Berechnung!O20","v":0},{"$f":"Berechnung!I20*Berechnung!I$57","v":0},{"$f":"Berechnung!J20*Berechnung!J$57/Berechnung!O20","v":0.158303444837537},{"$f":"Berechnung!J20*Berechnung!J$57","v":2.3943120655712469},{"$f":"Berechnung!K20*Berechnung!K$57/Berechnung!O20","v":0},{"$f":"Berechnung!K20*Berechnung!K$57","v":0},{"$f":"Berechnung!L20*Berechnung!L$57/Berechnung!O20","v":0},{"$f":"Berechnung!L20*Berechnung!K$57","v":0},{"$f":"Berechnung!M20/Berechnung!O20","v":0},{"$f":"Berechnung!M20*Berechnung!M$57","v":0},{"$f":"Berechnung!N20/Berechnung!O20","v":0},{"$f":"Berechnung!N20*Berechnung!N$57","v":0},1.0000000000000002,15.124826045500598,{"$f":"Berechnung!P20","v":0},{"$f":"Berechnung!Q20","v":15}]
[{"$f":"Parameter!B18","v":"Esslingen"},{"$f":"Berechnung!B21*Berechnung!$B$57/Berechnung!O21","v":3.3630058205193179E-2},{"$f":"Berechnung!B21*Berechnung!B$57","v":1},{"$f":"Berechnung!C21*Berechnung!C$57/Berechnung!O21","v":0.49061886570709518},{"$f":"Berechnung!C21*Berechnung!C$57","v":14.588701057654827},{"$f":"Berechnung!D21*Berechnung!D$57/Berechnung!O21","v":0.24660819191781672},{"$f":"Berechnung!D21*Berechnung!D$57","v":7.3329695242613431},{"$f":"Berechnung!E21*Berechnung!E$57/Berechnung!O21","v":2.8249248892362272E-2},{"$f":"Berechnung!E21*Berechnung!E$57","v":0.84},{"$f":"Berechnung!F21*Berechnung!F$57/Berechnung!O21","v":0},{"$f":"Berechnung!F21*Berechnung!F$57","v":0},{"$f":"Berechnung!G21*Berechnung!G$57/Berechnung!O21","v":0},{"$f":"Berechnung!G21*Berechnung!G$57","v":0},{"$f":"Berechnung!H21*Berechnung!H$57/Berechnung!O21","v":7.3458913684356308E-4},{"$f":"Berechnung!H21*Berechnung!H$57","v":2.1843231205889713E-2},{"$f":"Berechnung!I21*Berechnung!I$57/Berechnung!O21","v":3.0269528231314655E-2},{"$f":"Berechnung!I21*Berechnung!I$57","v":0.90007362005220704},{"$f":"Berechnung!J21*Berechnung!J$57/Berechnung!O21","v":0.16148200335807605},{"$f":"Berechnung!J21*Berechnung!J$57","v":4.8017164398823393},{"$f":"Berechnung!K21*Berechnung!K$57/Berechnung!O21","v":0},{"$f":"Berechnung!K21*Berechnung!K$57","v":0},{"$f":"Berechnung!L21*Berechnung!L$57/Berechnung!O21","v":8.4075145512982948E-3},{"$f":"Berechnung!L21*Berechnung!K$57","v":0.25},{"$f":"Berechnung!M21/Berechnung!O21","v":0},{"$f":"Berechnung!M21*Berechnung!M$57","v":0},{"$f":"Berechnung!N21/Berechnung!O21","v":0},{"$f":"Berechnung!N21*Berechnung!N$57","v":0},0.99999999999999989,29.735303873056605,{"$f":"Berechnung!P21","v":0},{"$f":"Berechnung!Q21","v":29.75}]
[{"$f":"Parameter!B19","v":"Freudenstadt"},{"$f":"Berechnung!B22*Berechnung!$B$57/Berechnung!O22","v":3.8428051872483646E-2},{"$f":"Berechnung!B22*Berechnung!B$57","v":1},{"$f":"Berechnung!C22*Berechnung!C$57/Berechnung!O22","v":0.36687801931838387},{"$f":"Berechnung!C22*Berechnung!C$57","v":9.5471407329156435},{"$f":"Berechnung!D22*Berechnung!D$57/Berechnung!O22","v":0.3295530439792933},{"$f":"Berechnung!D22*Berechnung!D$57","v":8.575845714814113},{"$f":"Berechnung!E22*Berechnung!E$57/Berechnung!O22","v":4.6113662246980373E-2},{"$f":"Berechnung!E22*Berechnung!E$57","v":1.2},{"$f":"Berechnung!F22*Berechnung!F$57/Berechnung!O22","v":0},{"$f":"Berechnung!F22*Berechnung!F$57","v":0},{"$f":"Berechnung!G22*Berechnung!G$57/Berechnung!O22","v":2.9339878286062562E-2},{"$f":"Berechnung!G22*Berechnung!G$57","v":0.76350157909179206},{"$f":"Berechnung!H22*Berechnung!H$57/Berechnung!O22","v":5.0868012484074588E-4},{"$f":"Berechnung!H22*Berechnung!H$57","v":1.3237208238624908E-2},{"$f":"Berechnung!I22*Berechnung!I$57/Berechnung!O22","v":0},{"$f":"Berechnung!I22*Berechnung!I$57","v":0},{"$f":"Berechnung!J22*Berechnung!J$57/Berechnung!O22","v":0.18917866417195564},{"$f":"Berechnung!J22*Berechnung!J$57","v":4.9229314251919378},{"$f":"Berechnung!K22*Berechnung!K$57/Berechnung!O22","v":0},{"$f":"Berechnung!K22*Berechnung!K$57","v":0},{"$f":"Berechnung!L22*Berechnung!L$57/Berechnung!O22","v":0},{"$f":"Berechnung!L22*Berechnung!K$57","v":0},{"$f":"Berechnung!M22/Berechnung!O22","v":0},{"$f":"Berechnung!M22*Berechnung!M$57","v":0},{"$f":"Berechnung!N22/Berechnung!O22","v":0},{"$f":"Berechnung!N22*Berechnung!N$57","v":0},1,26.02265666025211,{"$f":"Berechnung!P22","v":0},{"$f":"Berechnung!Q22","v":26}]
[{"$f":"Parameter!B20","v":"Gaildorf"},{"$f":"Berechnung!B23*Berechnung!$B$57/Berechnung!O23","v":7.2382961959546757E-2},{"$f":"Berechnung!B23*Berechnung!B$57","v":1},{"$f":"Berechnung!C23*Berechnung!C$57/Berechnung!O23","v":0.38017971051030575},{"$f":"Berechnung!C23*Berechnung!C$57","v":5.2523370171391965},{"$f":"Berechnung!D23*Berechnung!D$57/Berechnung!O23","v":0.32386701607634716},{"$f":"Berechnung!D23*Berechnung!D$57","v":4.4743542859899721},{"$f":"Berechnung!E23*Berechnung!E$57/Berechnung!O23","v":8.6859554351456109E-3},{"$f":"Berechnung!E23*Berechnung!E$57","v":0.12},{"$f":"Berechnung!F23*Berechnung!F$57/Berechnung!O23","v":0},{"$f":"Berechnung!F23*Berechnung!F$57","v":0},{"$f":"Berechnung!G23*Berechnung!G$57/Berechnung!O23","v":2.4478868759397119E-2},{"$f":"Berechnung!G23*Berechnung!G$57","v":0.33818550798014896},{"$f":"Berechnung!H23*Berechnung!H$57/Berechnung!O23","v":3.964885416771269E-3},{"$f":"Berechnung!H23*Berechnung!H$57","v":5.4776501395275262E-2},{"$f":"Berechnung!I23*Berechnung!I$57/Berechnung!O23","v":0},{"$f":"Berechnung!I23*Berechnung!I$57","v":0},{"$f":"Berechnung!J23*Berechnung!J$57/Berechnung!O23","v":0.18644060184248634},{"$f":"Berechnung!J23*Berechnung!J$57","v":2.5757525914273014},{"$f":"Berechnung!K23*Berechnung!K$57/Berechnung!O23","v":0},{"$f":"Berechnung!K23*Berechnung!K$57","v":0},{"$f":"Berechnung!L23*Berechnung!L$57/Berechnung!O23","v":0},{"$f":"Berechnung!L23*Berechnung!K$57","v":0},{"$f":"Berechnung!M23/Berechnung!O23","v":0},{"$f":"Berechnung!M23*Berechnung!M$57","v":0},{"$f":"Berechnung!N23/Berechnung!O23","v":0},{"$f":"Berechnung!N23*Berechnung!N$57","v":0},1,13.815405903931893,{"$f":"Berechnung!P23","v":0},{"$f":"Berechnung!Q23","v":13.75}]
[{"$f":"Parameter!B21","v":"Geislingen a.d. Steige"},{"$f":"Berechnung!B24*Berechnung!$B$57/Berechnung!O24","v":5.6607877833492658E-2},{"$f":"Berechnung!B24*Berechnung!B$57","v":1},{"$f":"Berechnung!C24*Berechnung!C$57/Berechnung!O24","v":0.36098330700273368},{"$f":"Berechnung!C24*Berechnung!C$57","v":6.3769093776052852},{"$f":"Berechnung!D24*Berechnung!D$57/Berechnung!O24","v":0.31660462600635575},{"$f":"Berechnung!D24*Berechnung!D$57","v":5.5929428574874649},{"$f":"Berechnung!E24*Berechnung!E$57/Berechnung!O24","v":3.3964726700095593E-2},{"$f":"Berechnung!E24*Berechnung!E$57","v":0.6},{"$f":"Berechnung!F24*Berechnung!F$57/Berechnung!O24","v":0},{"$f":"Berechnung!F24*Berechnung!F$57","v":0},{"$f":"Berechnung!G24*Berechnung!G$57/Berechnung!O24","v":1.6223141384562233E-2},{"$f":"Berechnung!G24*Berechnung!G$57","v":0.28658805108860019},{"$f":"Berechnung!H24*Berechnung!H$57/Berechnung!O24","v":1.4818299163491233E-2},{"$f":"Berechnung!H24*Berechnung!H$57","v":0.26177097129622173},{"$f":"Berechnung!I24*Berechnung!I$57/Berechnung!O24","v":0},{"$f":"Berechnung!I24*Berechnung!I$57","v":0},{"$f":"Berechnung!J24*Berechnung!J$57/Berechnung!O24","v":0.18664605245089586},{"$f":"Berechnung!J24*Berechnung!J$57","v":3.2971745204775145},{"$f":"Berechnung!K24*Berechnung!K$57/Berechnung!O24","v":0},{"$f":"Berechnung!K24*Berechnung!K$57","v":0},{"$f":"Berechnung!L24*Berechnung!L$57/Berechnung!O24","v":1.4151969458373164E-2},{"$f":"Berechnung!L24*Berechnung!K$57","v":0.25},{"$f":"Berechnung!M24/Berechnung!O24","v":0},{"$f":"Berechnung!M24*Berechnung!M$57","v":0},{"$f":"Berechnung!N24/Berechnung!O24","v":0},{"$f":"Berechnung!N24*Berechnung!N$57","v":0},1.0000000000000002,17.665385777955088,{"$f":"Berechnung!P24","v":0},{"$f":"Berechnung!Q24","v":17.75}]
[{"$f":"Parameter!B22","v":"Göppingen"},{"$f":"Berechnung!B25*Berechnung!$B$57/Berechnung!O25","v":3.2137118432674396E-2},{"$f":"Berechnung!B25*Berechnung!B$57","v":1},{"$f":"Berechnung!C25*Berechnung!C$57/Berechnung!O25","v":0.4510472099739018},{"$f":"Berechnung!C25*Berechnung!C$57","v":14.035085657067308},{"$f":"Berechnung!D25*Berechnung!D$57/Berechnung!O25","v":0.29157995313050261},{"$f":"Berechnung!D25*Berechnung!D$57","v":9.0729961910352213},{"$f":"Berechnung!E25*Berechnung!E$57/Berechnung!O25","v":2.3138725271525565E-2},{"$f":"Berechnung!E25*Berechnung!E$57","v":0.72},{"$f":"Berechnung!F25*Berechnung!F$57/Berechnung!O25","v":0},{"$f":"Berechnung!F25*Berechnung!F$57","v":0},{"$f":"Berechnung!G25*Berechnung!G$57/Berechnung!O25","v":0},{"$f":"Berechnung!G25*Berechnung!G$57","v":0},{"$f":"Berechnung!H25*Berechnung!H$57/Berechnung!O25","v":1.5501768536923639E-3},{"$f":"Berechnung!H25*Berechnung!H$57","v":4.8236336339236643E-2},{"$f":"Berechnung!I25*Berechnung!I$57/Berechnung!O25","v":2.2786183626931085E-2},{"$f":"Berechnung!I25*Berechnung!I$57","v":0.70903007917984195},{"$f":"Berechnung!J25*Berechnung!J$57/Berechnung!O25","v":0.16972635310260367},{"$f":"Berechnung!J25*Berechnung!J$57","v":5.2813183440255109},{"$f":"Berechnung!K25*Berechnung!K$57/Berechnung!O25","v":0},{"$f":"Berechnung!K25*Berechnung!K$57","v":0},{"$f":"Berechnung!L25*Berechnung!L$57/Berechnung!O25","v":8.0342796081685989E-3},{"$f":"Berechnung!L25*Berechnung!K$57","v":0.25},{"$f":"Berechnung!M25/Berechnung!O25","v":0},{"$f":"Berechnung!M25*Berechnung!M$57","v":0},{"$f":"Berechnung!N25/Berechnung!O25","v":0},{"$f":"Berechnung!N25*Berechnung!N$57","v":0},1,31.116666607647119,{"$f":"Berechnung!P25","v":0},{"$f":"Berechnung!Q25","v":31}]
[{"$f":"Parameter!B23","v":"Heidenheim"},{"$f":"Berechnung!B26*Berechnung!$B$57/Berechnung!O26","v":3.8144063752968062E-2},{"$f":"Berechnung!B26*Berechnung!B$57","v":1},{"$f":"Berechnung!C26*Berechnung!C$57/Berechnung!O26","v":0.44369883071793348},{"$f":"Berechnung!C26*Berechnung!C$57","v":11.632185642081946},{"$f":"Berechnung!D26*Berechnung!D$57/Berechnung!O26","v":0.30341343135674198},{"$f":"Berechnung!D26*Berechnung!D$57","v":7.9544076195377285},{"$f":"Berechnung!E26*Berechnung!E$57/Berechnung!O26","v":3.8906945028027419E-2},{"$f":"Berechnung!E26*Berechnung!E$57","v":1.02},{"$f":"Berechnung!F26*Berechnung!F$57/Berechnung!O26","v":0},{"$f":"Berechnung!F26*Berechnung!F$57","v":0},{"$f":"Berechnung!G26*Berechnung!G$57/Berechnung!O26","v":0},{"$f":"Berechnung!G26*Berechnung!G$57","v":0},{"$f":"Berechnung!H26*Berechnung!H$57/Berechnung!O26","v":2.4711045909831765E-3},{"$f":"Berechnung!H26*Berechnung!H$57","v":6.4783464262925985E-2},{"$f":"Berechnung!I26*Berechnung!I$57/Berechnung!O26","v":0},{"$f":"Berechnung!I26*Berechnung!I$57","v":0},{"$f":"Berechnung!J26*Berechnung!J$57/Berechnung!O26","v":0.17336562455334592},{"$f":"Berechnung!J26*Berechnung!J$57","v":4.5450224096758971},{"$f":"Berechnung!K26*Berechnung!K$57/Berechnung!O26","v":0},{"$f":"Berechnung!K26*Berechnung!K$57","v":0},{"$f":"Berechnung!L26*Berechnung!L$57/Berechnung!O26","v":0},{"$f":"Berechnung!L26*Berechnung!K$57","v":0},{"$f":"Berechnung!M26/Berechnung!O26","v":0},{"$f":"Berechnung!M26*Berechnung!M$57","v":0},{"$f":"Berechnung!N26/Berechnung!O26","v":0},{"$f":"Berechnung!N26*Berechnung!N$57","v":0},1,26.216399135558497,{"$f":"Berechnung!P26","v":0},{"$f":"Berechnung!Q26","v":26.25}]
[{"$f":"Parameter!B24","v":"Heilbronn"},{"$f":"Berechnung!B27*Berechnung!$B$57/Berechnung!O27","v":3.1691550783199365E-2},{"$f":"Berechnung!B27*Berechnung!B$57","v":1},{"$f":"Berechnung!C27*Berechnung!C$57/Berechnung!O27","v":0.471253984030924},{"$f":"Berechnung!C27*Berechnung!C$57","v":14.870019686154007},{"$f":"Berechnung!D27*Berechnung!D$57/Berechnung!O27","v":0.24814864563383465},{"$f":"Berechnung!D27*Berechnung!D$57","v":7.8301200004824514},{"$f":"Berechnung!E27*Berechnung!E$57/Berechnung!O27","v":1.901493046991962E-2},{"$f":"Berechnung!E27*Berechnung!E$57","v":0.6},{"$f":"Berechnung!F27*Berechnung!F$57/Berechnung!O27","v":0},{"$f":"Berechnung!F27*Berechnung!F$57","v":0},{"$f":"Berechnung!G27*Berechnung!G$57/Berechnung!O27","v":0},{"$f":"Berechnung!G27*Berechnung!G$57","v":0},{"$f":"Berechnung!H27*Berechnung!H$57/Berechnung!O27","v":0},{"$f":"Berechnung!H27*Berechnung!H$57","v":0},{"$f":"Berechnung!I27*Berechnung!I$57/Berechnung!O27","v":2.7243013725356736E-2},{"$f":"Berechnung!I27*Berechnung!I$57","v":0.85963018697712545},{"$f":"Berechnung!J27*Berechnung!J$57/Berechnung!O27","v":0.15511054918196668},{"$f":"Berechnung!J27*Berechnung!J$57","v":4.8943817941593251},{"$f":"Berechnung!K27*Berechnung!K$57/Berechnung!O27","v":0},{"$f":"Berechnung!K27*Berechnung!K$57","v":0},{"$f":"Berechnung!L27*Berechnung!L$57/Berechnung!O27","v":7.9228876957998413E-3},{"$f":"Berechnung!L27*Berechnung!K$57","v":0.25},{"$f":"Berechnung!M27/Berechnung!O27","v":7.9228876957998413E-3},{"$f":"Berechnung!M27*Berechnung!M$57","v":0.25},{"$f":"Berechnung!N27/Berechnung!O27","v":3.1691550783199365E-2},{"$f":"Berechnung!N27*Berechnung!N$57","v":1},1,31.554151667772906,{"$f":"Berechnung!P27","v":0},{"$f":"Berechnung!Q27","v":31.5}]
[{"$f":"Parameter!B25","v":"Herrenberg"},{"$f":"Berechnung!B28*Berechnung!$B$57/Berechnung!O28","v":4.7179879489185943E-2},{"$f":"Berechnung!B28*Berechnung!B$57","v":1},{"$f":"Berechnung!C28*Berechnung!C$57/Berechnung!O28","v":0.4678091033458337},{"$f":"Berechnung!C28*Berechnung!C$57","v":9.9154365888759806},{"$f":"Berechnung!D28*Berechnung!D$57/Berechnung!O28","v":0.29319374445129098},{"$f":"Berechnung!D28*Berechnung!D$57","v":6.2143809527638503},{"$f":"Berechnung!E28*Berechnung!E$57/Berechnung!O28","v":1.4153963846755782E-2},{"$f":"Berechnung!E28*Berechnung!E$57","v":0.3},{"$f":"Berechnung!F28*Berechnung!F$57/Berechnung!O28","v":0},{"$f":"Berechnung!F28*Berechnung!F$57","v":0},{"$f":"Berechnung!G28*Berechnung!G$57/Berechnung!O28","v":0},{"$f":"Berechnung!G28*Berechnung!G$57","v":0},{"$f":"Berechnung!H28*Berechnung!H$57/Berechnung!O28","v":5.8775441114037263E-4},{"$f":"Berechnung!H28*Berechnung!H$57","v":1.2457734472914272E-2},{"$f":"Berechnung!I28*Berechnung!I$57/Berechnung!O28","v":0},{"$f":"Berechnung!I28*Berechnung!I$57","v":0},{"$f":"Berechnung!J28*Berechnung!J$57/Berechnung!O28","v":0.1652805845834967},{"$f":"Berechnung!J28*Berechnung!J$57","v":3.5032006519088403},{"$f":"Berechnung!K28*Berechnung!K$57/Berechnung!O28","v":1.1794969872296486E-2},{"$f":"Berechnung!K28*Berechnung!K$57","v":0.25},{"$f":"Berechnung!L28*Berechnung!L$57/Berechnung!O28","v":0},{"$f":"Berechnung!L28*Berechnung!K$57","v":0},{"$f":"Berechnung!M28/Berechnung!O28","v":0},{"$f":"Berechnung!M28*Berechnung!M$57","v":0},{"$f":"Berechnung!N28/Berechnung!O28","v":0},{"$f":"Berechnung!N28*Berechnung!N$57","v":0},0.99999999999999989,21.195475928021587,{"$f":"Berechnung!P28","v":0},{"$f":"Berechnung!Q28","v":21.25}]
[{"$f":"Parameter!B26","v":"Kirchheim unter Teck"},{"$f":"Berechnung!B29*Berechnung!$B$57/Berechnung!O29","v":4.8893345504642818E-2},{"$f":"Berechnung!B29*Berechnung!B$57","v":1},{"$f":"Berechnung!C29*Berechnung!C$57/Berechnung!O29","v":0.42191671994784713},{"$f":"Berechnung!C29*Berechnung!C$57","v":8.6293280934883612},{"$f":"Berechnung!D29*Berechnung!D$57/Berechnung!O29","v":0.30384187502095433},{"$f":"Berechnung!D29*Berechnung!D$57","v":6.2143809527638503},{"$f":"Berechnung!E29*Berechnung!E$57/Berechnung!O29","v":2.0535205111949981E-2},{"$f":"Berechnung!E29*Berechnung!E$57","v":0.42},{"$f":"Berechnung!F29*Berechnung!F$57/Berechnung!O29","v":0},{"$f":"Berechnung!F29*Berechnung!F$57","v":0},{"$f":"Berechnung!G29*Berechnung!G$57/Berechnung!O29","v":0},{"$f":"Berechnung!G29*Berechnung!G$57","v":0},{"$f":"Berechnung!H29*Berechnung!H$57/Berechnung!O29","v":0},{"$f":"Berechnung!H29*Berechnung!H$57","v":0},{"$f":"Berechnung!I29*Berechnung!I$57/Berechnung!O29","v":0},{"$f":"Berechnung!I29*Berechnung!I$57","v":0},{"$f":"Berechnung!J29*Berechnung!J$57/Berechnung!O29","v":0.1681428452861235},{"$f":"Berechnung!J29*Berechnung!J$57","v":3.4389719817834306},{"$f":"Berechnung!K29*Berechnung!K$57/Berechnung!O29","v":3.667000912848211E-2},{"$f":"Berechnung!K29*Berechnung!K$57","v":0.75},{"$f":"Berechnung!L29*Berechnung!L$57/Berechnung!O29","v":0},{"$f":"Berechnung!L29*Berechnung!K$57","v":0},{"$f":"Berechnung!M29/Berechnung!O29","v":0},{"$f":"Berechnung!M29*Berechnung!M$57","v":0},{"$f":"Berechnung!N29/Berechnung!O29","v":0},{"$f":"Berechnung!N29*Berechnung!N$57","v":0},0.99999999999999989,20.452681028035641,{"$f":"Berechnung!P29","v":0},{"$f":"Berechnung!Q29","v":20.5}]
[{"$f":"Parameter!B27","v":"Künzelsau"},{"$f":"Berechnung!B30*Berechnung!$B$57/Berechnung!O30","v":8.134955530328998E-2},{"$f":"Berechnung!B30*Berechnung!B$57","v":1},{"$f":"Berechnung!C30*Berechnung!C$57/Berechnung!O30","v":0.3060310346857229},{"$f":"Berechnung!C30*Berechnung!C$57","v":3.7619263380699297},{"$f":"Berechnung!D30*Berechnung!D$57/Berechnung!O30","v":0.3033222761955448},{"$f":"Berechnung!D30*Berechnung!D$57","v":3.7286285716583101},{"$f":"Berechnung!E30*Berechnung!E$57/Berechnung!O30","v":1.4642919954592196E-2},{"$f":"Berechnung!E30*Berechnung!E$57","v":0.18},{"$f":"Berechnung!F30*Berechnung!F$57/Berechnung!O30","v":0},{"$f":"Berechnung!F30*Berechnung!F$57","v":0},{"$f":"Berechnung!G30*Berechnung!G$57/Berechnung!O30","v":5.0007876663442731E-2},{"$f":"Berechnung!G30*Berechnung!G$57","v":0.61472833474014443},{"$f":"Berechnung!H30*Berechnung!H$57/Berechnung!O30","v":1.3034491246604883E-2},{"$f":"Berechnung!H30*Berechnung!H$57","v":0.16022818069514064},{"$f":"Berechnung!I30*Berechnung!I$57/Berechnung!O30","v":0},{"$f":"Berechnung!I30*Berechnung!I$57","v":0},{"$f":"Berechnung!J30*Berechnung!J$57/Berechnung!O30","v":0.19093706829915758},{"$f":"Berechnung!J30*Berechnung!J$57","v":2.347118771421675},{"$f":"Berechnung!K30*Berechnung!K$57/Berechnung!O30","v":2.0337388825822495E-2},{"$f":"Berechnung!K30*Berechnung!K$57","v":0.25},{"$f":"Berechnung!L30*Berechnung!L$57/Berechnung!O30","v":2.0337388825822495E-2},{"$f":"Berechnung!L30*Berechnung!K$57","v":0.25},{"$f":"Berechnung!M30/Berechnung!O30","v":0},{"$f":"Berechnung!M30*Berechnung!M$57","v":0},{"$f":"Berechnung!N30/Berechnung!O30","v":0},{"$f":"Berechnung!N30*Berechnung!N$57","v":0},1,12.292630196585201,{"$f":"Berechnung!P30","v":0},{"$f":"Berechnung!Q30","v":12.25}]
[{"$f":"Parameter!B28","v":"Leonberg"},{"$f":"Berechnung!B31*Berechnung!$B$57/Berechnung!O31","v":4.5589068387517681E-2},{"$f":"Berechnung!B31*Berechnung!B$57","v":1},{"$f":"Berechnung!C31*Berechnung!C$57/Berechnung!O31","v":0.47730075439429392},{"$f":"Berechnung!C31*Berechnung!C$57","v":10.469631674355057},{"$f":"Berechnung!D31*Berechnung!D$57/Berechnung!O31","v":0.28330783824163841},{"$f":"Berechnung!D31*Berechnung!D$57","v":6.2143809527638503},{"$f":"Berechnung!E31*Berechnung!E$57/Berechnung!O31","v":2.7353441032510604E-2},{"$f":"Berechnung!E31*Berechnung!E$57","v":0.6},{"$f":"Berechnung!F31*Berechnung!F$57/Berechnung!O31","v":0},{"$f":"Berechnung!F31*Berechnung!F$57","v":0},{"$f":"Berechnung!G31*Berechnung!G$57/Berechnung!O31","v":0},{"$f":"Berechnung!G31*Berechnung!G$57","v":0},{"$f":"Berechnung!H31*Berechnung!H$57/Berechnung!O31","v":0},{"$f":"Berechnung!H31*Berechnung!H$57","v":0},{"$f":"Berechnung!I31*Berechnung!I$57/Berechnung!O31","v":0},{"$f":"Berechnung!I31*Berechnung!I$57","v":0},{"$f":"Berechnung!J31*Berechnung!J$57/Berechnung!O31","v":0.16644889794403941},{"$f":"Berechnung!J31*Berechnung!J$57","v":3.6510703954111343},{"$f":"Berechnung!K31*Berechnung!K$57/Berechnung!O31","v":0},{"$f":"Berechnung!K31*Berechnung!K$57","v":0},{"$f":"Berechnung!L31*Berechnung!L$57/Berechnung!O31","v":0},{"$f":"Berechnung!L31*Berechnung!K$57","v":0},{"$f":"Berechnung!M31/Berechnung!O31","v":0},{"$f":"Berechnung!M31*Berechnung!M$57","v":0},{"$f":"Berechnung!N31/Berechnung!O31","v":0},{"$f":"Berechnung!N31*Berechnung!N$57","v":0},1,21.935083022530041,{"$f":"Berechnung!P31","v":0},{"$f":"Berechnung!Q31","v":22}]
[{"$f":"Parameter!B29","v":"Ludwigsburg"},{"$f":"Berechnung!B32*Berechnung!$B$57/Berechnung!O32","v":3.2566752516568688E-2},{"$f":"Berechnung!B32*Berechnung!B$57","v":1},{"$f":"Berechnung!C32*Berechnung!C$57/Berechnung!O32","v":0.52773655702783373},{"$f":"Berechnung!C32*Berechnung!C$57","v":16.204764560400736},{"$f":"Berechnung!D32*Berechnung!D$57/Berechnung!O32","v":0.23476335957751282},{"$f":"Berechnung!D32*Berechnung!D$57","v":7.208681905206066},{"$f":"Berechnung!E32*Berechnung!E$57/Berechnung!O32","v":1.3678036056958848E-2},{"$f":"Berechnung!E32*Berechnung!E$57","v":0.42},{"$f":"Berechnung!F32*Berechnung!F$57/Berechnung!O32","v":0},{"$f":"Berechnung!F32*Berechnung!F$57","v":0},{"$f":"Berechnung!G32*Berechnung!G$57/Berechnung!O32","v":0},{"$f":"Berechnung!G32*Berechnung!G$57","v":0},{"$f":"Berechnung!H32*Berechnung!H$57/Berechnung!O32","v":0},{"$f":"Berechnung!H32*Berechnung!H$57","v":0},{"$f":"Berechnung!I32*Berechnung!I$57/Berechnung!O32","v":3.5188262555287425E-2},{"$f":"Berechnung!I32*Berechnung!I$57","v":1.0804965136571421},{"$f":"Berechnung!J32*Berechnung!J$57/Berechnung!O32","v":0.15606703226583835},{"$f":"Berechnung!J32*Berechnung!J$57","v":4.7922196782266688},{"$f":"Berechnung!K32*Berechnung!K$57/Berechnung!O32","v":0},{"$f":"Berechnung!K32*Berechnung!K$57","v":0},{"$f":"Berechnung!L32*Berechnung!L$57/Berechnung!O32","v":0},{"$f":"Berechnung!L32*Berechnung!K$57","v":0},{"$f":"Berechnung!M32/Berechnung!O32","v":0},{"$f":"Berechnung!M32*Berechnung!M$57","v":0},{"$f":"Berechnung!N32/Berechnung!O32","v":0},{"$f":"Berechnung!N32*Berechnung!N$57","v":0},0.99999999999999989,30.706162657490612,{"$f":"Berechnung!P32","v":0},{"$f":"Berechnung!Q32","v":30.75}]
[{"$f":"Parameter!B30","v":"Marbach a.N."},{"$f":"Berechnung!B33*Berechnung!$B$57/Berechnung!O33","v":5.1398978658785295E-2},{"$f":"Berechnung!B33*Berechnung!B$57","v":1},{"$f":"Berechnung!C33*Berechnung!C$57/Berechnung!O33","v":0.49200370919147218},{"$f":"Berechnung!C33*Berechnung!C$57","v":9.572246803923159},{"$f":"Berechnung!D33*Berechnung!D$57/Berechnung!O33","v":0.26830678053368362},{"$f":"Berechnung!D33*Berechnung!D$57","v":5.2200800003216346},{"$f":"Berechnung!E33*Berechnung!E$57/Berechnung!O33","v":1.5419693597635589E-2},{"$f":"Berechnung!E33*Berechnung!E$57","v":0.3},{"$f":"Berechnung!F33*Berechnung!F$57/Berechnung!O33","v":0},{"$f":"Berechnung!F33*Berechnung!F$57","v":0},{"$f":"Berechnung!G33*Berechnung!G$57/Berechnung!O33","v":0},{"$f":"Berechnung!G33*Berechnung!G$57","v":0},{"$f":"Berechnung!H33*Berechnung!H$57/Berechnung!O33","v":0},{"$f":"Berechnung!H33*Berechnung!H$57","v":0},{"$f":"Berechnung!I33*Berechnung!I$57/Berechnung!O33","v":0},{"$f":"Berechnung!I33*Berechnung!I$57","v":0},{"$f":"Berechnung!J33*Berechnung!J$57/Berechnung!O33","v":0.16002109335372677},{"$f":"Berechnung!J33*Berechnung!J$57","v":3.1133127063873167},{"$f":"Berechnung!K33*Berechnung!K$57/Berechnung!O33","v":1.2849744664696324E-2},{"$f":"Berechnung!K33*Berechnung!K$57","v":0.25},{"$f":"Berechnung!L33*Berechnung!L$57/Berechnung!O33","v":0},{"$f":"Berechnung!L33*Berechnung!K$57","v":0},{"$f":"Berechnung!M33/Berechnung!O33","v":0},{"$f":"Berechnung!M33*Berechnung!M$57","v":0},{"$f":"Berechnung!N33/Berechnung!O33","v":0},{"$f":"Berechnung!N33*Berechnung!N$57","v":0},0.99999999999999978,19.455639510632111,{"$f":"Berechnung!P33","v":0},{"$f":"Berechnung!Q33","v":19.5}]
[{"$f":"Parameter!B31","v":"Mühlacker"},{"$f":"Berechnung!B34*Berechnung!$B$57/Berechnung!O34","v":5.0969416191201322E-2},{"$f":"Berechnung!B34*Berechnung!B$57","v":1},{"$f":"Berechnung!C34*Berechnung!C$57/Berechnung!O34","v":0.40042841946289637},{"$f":"Berechnung!C34*Berechnung!C$57","v":7.8562488917034328},{"$f":"Berechnung!D34*Berechnung!D$57/Berechnung!O34","v":0.33574797130122058},{"$f":"Berechnung!D34*Berechnung!D$57","v":6.5872438099296815},{"$f":"Berechnung!E34*Berechnung!E$57/Berechnung!O34","v":3.0581649714720792E-2},{"$f":"Berechnung!E34*Berechnung!E$57","v":0.6},{"$f":"Berechnung!F34*Berechnung!F$57/Berechnung!O34","v":0},{"$f":"Berechnung!F34*Berechnung!F$57","v":0},{"$f":"Berechnung!G34*Berechnung!G$57/Berechnung!O34","v":0},{"$f":"Berechnung!G34*Berechnung!G$57","v":0},{"$f":"Berechnung!H34*Berechnung!H$57/Berechnung!O34","v":0},{"$f":"Berechnung!H34*Berechnung!H$57","v":0},{"$f":"Berechnung!I34*Berechnung!I$57/Berechnung!O34","v":0},{"$f":"Berechnung!I34*Berechnung!I$57","v":0},{"$f":"Berechnung!J34*Berechnung!J$57/Berechnung!O34","v":0.18227254332996076},{"$f":"Berechnung!J34*Berechnung!J$57","v":3.5761159720998701},{"$f":"Berechnung!K34*Berechnung!K$57/Berechnung!O34","v":0},{"$f":"Berechnung!K34*Berechnung!K$57","v":0},{"$f":"Berechnung!L34*Berechnung!L$57/Berechnung!O34","v":0},{"$f":"Berechnung!L34*Berechnung!K$57","v":0},{"$f":"Berechnung!M34/Berechnung!O34","v":0},{"$f":"Berechnung!M34*Berechnung!M$57","v":0},{"$f":"Berechnung!N34/Berechnung!O34","v":0},{"$f":"Berechnung!N34*Berechnung!N$57","v":0},0.99999999999999978,19.619608673732984,{"$f":"Berechnung!P34","v":0},{"$f":"Berechnung!Q34","v":19.5}]
[{"$f":"Parameter!B32","v":"Münsingen (siehe Bad Urach-Münsigen)"}]
[{"$f":"Parameter!B33","v":"Nagold"},{"$f":"Berechnung!B36*Berechnung!$B$57/Berechnung!O36","v":4.4702967698290984E-2},{"$f":"Berechnung!B36*Berechnung!B$57","v":1},{"$f":"Berechnung!C36*Berechnung!C$57/Berechnung!O36","v":0.34357501696220899},{"$f":"Berechnung!C36*Berechnung!C$57","v":7.6857317232507594},{"$f":"Berechnung!D36*Berechnung!D$57/Berechnung!O36","v":0.33891755061545809},{"$f":"Berechnung!D36*Berechnung!D$57","v":7.5815447623718972},{"$f":"Berechnung!E36*Berechnung!E$57/Berechnung!O36","v":2.6821780618974587E-2},{"$f":"Berechnung!E36*Berechnung!E$57","v":0.6},{"$f":"Berechnung!F36*Berechnung!F$57/Berechnung!O36","v":0},{"$f":"Berechnung!F36*Berechnung!F$57","v":0},{"$f":"Berechnung!G36*Berechnung!G$57/Berechnung!O36","v":3.3407683602841187E-2},{"$f":"Berechnung!G36*Berechnung!G$57","v":0.74732585604419244},{"$f":"Berechnung!H36*Berechnung!H$57/Berechnung!O36","v":2.1644815931416757E-3},{"$f":"Berechnung!H36*Berechnung!H$57","v":4.8419192384500792E-2},{"$f":"Berechnung!I36*Berechnung!I$57/Berechnung!O36","v":0},{"$f":"Berechnung!I36*Berechnung!I$57","v":0},{"$f":"Berechnung!J36*Berechnung!J$57/Berechnung!O36","v":0.18805903505993907},{"$f":"Berechnung!J36*Berechnung!J$57","v":4.2068579502190113},{"$f":"Berechnung!K36*Berechnung!K$57/Berechnung!O36","v":2.2351483849145492E-2},{"$f":"Berechnung!K36*Berechnung!K$57","v":0.5},{"$f":"Berechnung!L36*Berechnung!L$57/Berechnung!O36","v":0},{"$f":"Berechnung!L36*Berechnung!K$57","v":0},{"$f":"Berechnung!M36/Berechnung!O36","v":0},{"$f":"Berechnung!M36*Berechnung!M$57","v":0},{"$f":"Berechnung!N36/Berechnung!O36","v":0},{"$f":"Berechnung!N36*Berechnung!N$57","v":0},{"$f":"Z36+X36+V36+T36+R36+P36+N36+L36+J36+H36+F36+D36+B36","v":1.0000000000000002},{"$f":"AA36+Y36+W36+U36+S36+Q36+O36+M36+K36+I36+G36+E36+C36","v":22.369879484270363},{"$f":"Berechnung!P36","v":0},{"$f":"Berechnung!Q36","v":22.25}]
[{"$f":"Parameter!B34","v":"Neuenbürg"},{"$f":"Berechnung!B37*Berechnung!$B$57/Berechnung!O37","v":4.735958418283092E-2},{"$f":"Berechnung!B37*Berechnung!B$57","v":1},{"$f":"Berechnung!C37*Berechnung!C$57/Berechnung!O37","v":0.35280241541699975},{"$f":"Berechnung!C37*Berechnung!C$57","v":7.4494407310463631},{"$f":"Berechnung!D37*Berechnung!D$57/Berechnung!O37","v":0.32374154766426066},{"$f":"Berechnung!D37*Berechnung!D$57","v":6.8358190480402357},{"$f":"Berechnung!E37*Berechnung!E$57/Berechnung!O37","v":3.1257325560668403E-2},{"$f":"Berechnung!E37*Berechnung!E$57","v":0.65999999999999992},{"$f":"Berechnung!F37*Berechnung!F$57/Berechnung!O37","v":0},{"$f":"Berechnung!F37*Berechnung!F$57","v":0},{"$f":"Berechnung!G37*Berechnung!G$57/Berechnung!O37","v":1.7939499056798619E-2},{"$f":"Berechnung!G37*Berechnung!G$57","v":0.37879342410489647},{"$f":"Berechnung!H37*Berechnung!H$57/Berechnung!O37","v":0},{"$f":"Berechnung!H37*Berechnung!H$57","v":0},{"$f":"Berechnung!I37*Berechnung!I$57/Berechnung!O37","v":0},{"$f":"Berechnung!I37*Berechnung!I$57","v":0},{"$f":"Berechnung!J37*Berechnung!J$57/Berechnung!O37","v":0.17954004393561099},{"$f":"Berechnung!J37*Berechnung!J$57","v":3.7909970501957853},{"$f":"Berechnung!K37*Berechnung!K$57/Berechnung!O37","v":2.367979209141546E-2},{"$f":"Berechnung!K37*Berechnung!K$57","v":0.5},{"$f":"Berechnung!L37*Berechnung!L$57/Berechnung!O37","v":0},{"$f":"Berechnung!L37*Berechnung!K$57","v":0},{"$f":"Berechnung!M37/Berechnung!O37","v":2.367979209141546E-2},{"$f":"Berechnung!M37*Berechnung!M$57","v":0.5},{"$f":"Berechnung!N37/Berechnung!O37","v":0},{"$f":"Berechnung!N37*Berechnung!N$57","v":0},{"$f":"Z37+X37+V37+T37+R37+P37+N37+L37+J37+H37+F37+D37+B37","v":1.0000000000000002},{"$f":"AA37+Y37+W37+U37+S37+Q37+O37+M37+K37+I37+G37+E37+C37","v":21.115050253387281},{"$f":"Berechnung!P37","v":0},{"$f":"Berechnung!Q37","v":21}]
[{"$f":"Parameter!B35","v":"Neuenstadt a.K."},{"$f":"Berechnung!B38*Berechnung!$B$57/Berechnung!O38","v":5.4527273929426856E-2},{"$f":"Berechnung!B38*Berechnung!B$57","v":1},{"$f":"Berechnung!C38*Berechnung!C$57/Berechnung!O38","v":0.40849622201326802},{"$f":"Berechnung!C38*Berechnung!C$57","v":7.4915944366111793},{"$f":"Berechnung!D38*Berechnung!D$57/Berechnung!O38","v":0.29819086221158708},{"$f":"Berechnung!D38*Berechnung!D$57","v":5.4686552384321887},{"$f":"Berechnung!E38*Berechnung!E$57/Berechnung!O38","v":3.5988000793421723E-2},{"$f":"Berechnung!E38*Berechnung!E$57","v":0.65999999999999992},{"$f":"Berechnung!F38*Berechnung!F$57/Berechnung!O38","v":0},{"$f":"Berechnung!F38*Berechnung!F$57","v":0},{"$f":"Berechnung!G38*Berechnung!G$57/Berechnung!O38","v":1.6034458701893142E-2},{"$f":"Berechnung!G38*Berechnung!G$57","v":0.29406309075062326},{"$f":"Berechnung!H38*Berechnung!H$57/Berechnung!O38","v":6.1513411015570374E-3},{"$f":"Berechnung!H38*Berechnung!H$57","v":0.11281218843836845},{"$f":"Berechnung!I38*Berechnung!I$57/Berechnung!O38","v":0},{"$f":"Berechnung!I38*Berechnung!I$57","v":0},{"$f":"Berechnung!J38*Berechnung!J$57/Berechnung!O38","v":0.18061184124884616},{"$f":"Berechnung!J38*Berechnung!J$57","v":3.312321123601504},{"$f":"Berechnung!K38*Berechnung!K$57/Berechnung!O38","v":0},{"$f":"Berechnung!K38*Berechnung!K$57","v":0},{"$f":"Berechnung!L38*Berechnung!L$57/Berechnung!O38","v":0},{"$f":"Berechnung!L38*Berechnung!K$57","v":0},{"$f":"Berechnung!M38/Berechnung!O38","v":0},{"$f":"Berechnung!M38*Berechnung!M$57","v":0},{"$f":"Berechnung!N38/Berechnung!O38","v":0},{"$f":"Berechnung!N38*Berechnung!N$57","v":0},1,18.339446077833863,{"$f":"Berechnung!P38","v":0},{"$f":"Berechnung!Q38","v":18.25}]
[{"$f":"Parameter!B36","v":"Nürtingen"},{"$f":"Berechnung!B39*Berechnung!$B$57/Berechnung!O39","v":3.8105234573894989E-2},{"$f":"Berechnung!B39*Berechnung!B$57","v":1},{"$f":"Berechnung!C39*Berechnung!C$57/Berechnung!O39","v":0.47590376930251305},{"$f":"Berechnung!C39*Berechnung!C$57","v":12.489196684503383},{"$f":"Berechnung!D39*Berechnung!D$57/Berechnung!O39","v":0.30310456823886278},{"$f":"Berechnung!D39*Berechnung!D$57","v":7.9544076195377285},{"$f":"Berechnung!E39*Berechnung!E$57/Berechnung!O39","v":9.1452562977347978E-3},{"$f":"Berechnung!E39*Berechnung!E$57","v":0.24},{"$f":"Berechnung!F39*Berechnung!F$57/Berechnung!O39","v":0},{"$f":"Berechnung!F39*Berechnung!F$57","v":0},{"$f":"Berechnung!G39*Berechnung!G$57/Berechnung!O39","v":0},{"$f":"Berechnung!G39*Berechnung!G$57","v":0},{"$f":"Berechnung!H39*Berechnung!H$57/Berechnung!O39","v":0},{"$f":"Berechnung!H39*Berechnung!H$57","v":0},{"$f":"Berechnung!I39*Berechnung!I$57/Berechnung!O39","v":0},{"$f":"Berechnung!I39*Berechnung!I$57","v":0},{"$f":"Berechnung!J39*Berechnung!J$57/Berechnung!O39","v":0.16421486294352072},{"$f":"Berechnung!J39*Berechnung!J$57","v":4.309509304425605},{"$f":"Berechnung!K39*Berechnung!K$57/Berechnung!O39","v":0},{"$f":"Berechnung!K39*Berechnung!K$57","v":0},{"$f":"Berechnung!L39*Berechnung!L$57/Berechnung!O39","v":9.5263086434737472E-3},{"$f":"Berechnung!L39*Berechnung!K$57","v":0.25},{"$f":"Berechnung!M39/Berechnung!O39","v":0},{"$f":"Berechnung!M39*Berechnung!M$57","v":0},{"$f":"Berechnung!N39/Berechnung!O39","v":0},{"$f":"Berechnung!N39*Berechnung!N$57","v":0},1.0000000000000002,26.243113608466718,{"$f":"Berechnung!P39","v":0},{"$f":"Berechnung!Q39","v":26.25}]
[{"$f":"Parameter!B37","v":"Öhringen"},{"$f":"Berechnung!B40*Berechnung!$B$57/Berechnung!O40","v":5.4229134778830471E-2},{"$f":"Berechnung!B40*Berechnung!B$57","v":1},{"$f":"Berechnung!C40*Berechnung!C$57/Berechnung!O40","v":0.40383725669581233},{"$f":"Berechnung!C40*Berechnung!C$57","v":7.4468688896260806},{"$f":"Berechnung!D40*Berechnung!D$57/Berechnung!O40","v":0.28982043193880791},{"$f":"Berechnung!D40*Berechnung!D$57","v":5.3443676193769116},{"$f":"Berechnung!E40*Berechnung!E$57/Berechnung!O40","v":2.2776236607108799E-2},{"$f":"Berechnung!E40*Berechnung!E$57","v":0.42},{"$f":"Berechnung!F40*Berechnung!F$57/Berechnung!O40","v":0},{"$f":"Berechnung!F40*Berechnung!F$57","v":0},{"$f":"Berechnung!G40*Berechnung!G$57/Berechnung!O40","v":3.7797384708576451E-2},{"$f":"Berechnung!G40*Berechnung!G$57","v":0.69699405794929781},{"$f":"Berechnung!H40*Berechnung!H$57/Berechnung!O40","v":0},{"$f":"Berechnung!H40*Berechnung!H$57","v":0},{"$f":"Berechnung!I40*Berechnung!I$57/Berechnung!O40","v":0},{"$f":"Berechnung!I40*Berechnung!I$57","v":0},{"$f":"Berechnung!J40*Berechnung!J$57/Berechnung!O40","v":0.17798227157615651},{"$f":"Berechnung!J40*Berechnung!J$57","v":3.2820415133312393},{"$f":"Berechnung!K40*Berechnung!K$57/Berechnung!O40","v":1.3557283694707618E-2},{"$f":"Berechnung!K40*Berechnung!K$57","v":0.25},{"$f":"Berechnung!L40*Berechnung!L$57/Berechnung!O40","v":0},{"$f":"Berechnung!L40*Berechnung!K$57","v":0},{"$f":"Berechnung!M40/Berechnung!O40","v":0},{"$f":"Berechnung!M40*Berechnung!M$57","v":0},{"$f":"Berechnung!N40/Berechnung!O40","v":0},{"$f":"Berechnung!N40*Berechnung!N$57","v":0},1,18.440272080283531,{"$f":"Berechnung!P40","v":0},{"$f":"Berechnung!Q40","v":18.5}]
[{"$f":"Parameter!B38","v":"Ravensburg"},{"$f":"Berechnung!B41*Berechnung!$B$57/Berechnung!O41","v":2.6529742323748055E-2},{"$f":"Berechnung!B41*Berechnung!B$57","v":1},{"$f":"Berechnung!C41*Berechnung!C$57/Berechnung!O41","v":0.42028884030986957},{"$f":"Berechnung!C41*Berechnung!C$57","v":15.842175743020645},{"$f":"Berechnung!D41*Berechnung!D$57/Berechnung!O41","v":0.21762302149953139},{"$f":"Berechnung!D41*Berechnung!D$57","v":8.2029828576482817},{"$f":"Berechnung!E41*Berechnung!E$57/Berechnung!O41","v":2.7060337170223017E-2},{"$f":"Berechnung!E41*Berechnung!E$57","v":1.02},{"$f":"Berechnung!F41*Berechnung!F$57/Berechnung!O41","v":0},{"$f":"Berechnung!F41*Berechnung!F$57","v":0},{"$f":"Berechnung!G41*Berechnung!G$57/Berechnung!O41","v":0},{"$f":"Berechnung!G41*Berechnung!G$57","v":0},{"$f":"Berechnung!H41*Berechnung!H$57/Berechnung!O41","v":6.043571725433533E-2},{"$f":"Berechnung!H41*Berechnung!H$57","v":2.2780363456540775},{"$f":"Berechnung!I41*Berechnung!I$57/Berechnung!O41","v":3.0863184988653855E-2},{"$f":"Berechnung!I41*Berechnung!I$57","v":1.1633428101948329},{"$f":"Berechnung!J41*Berechnung!J$57/Berechnung!O41","v":0.16413967180614275},{"$f":"Berechnung!J41*Berechnung!J$57","v":6.1870058820440708},{"$f":"Berechnung!K41*Berechnung!K$57/Berechnung!O41","v":2.6529742323748055E-2},{"$f":"Berechnung!K41*Berechnung!K$57","v":1},{"$f":"Berechnung!L41*Berechnung!L$57/Berechnung!O41","v":1.3264871161874027E-2},{"$f":"Berechnung!L41*Berechnung!K$57","v":0.5},{"$f":"Berechnung!M41/Berechnung!O41","v":1.3264871161874027E-2},{"$f":"Berechnung!M41*Berechnung!M$57","v":0.5},{"$f":"Berechnung!N41/Berechnung!O41","v":0},{"$f":"Berechnung!N41*Berechnung!N$57","v":0},1.0000000000000002,37.693543638561906,{"$f":"Berechnung!P41","v":0},{"$f":"Berechnung!Q41","v":37.75}]
[{"$f":"Parameter!B39","v":"Reutlingen"},{"$f":"Berechnung!B42*Berechnung!$B$57/Berechnung!O42","v":2.8689888510815401E-2},{"$f":"Berechnung!B42*Berechnung!B$57","v":1},{"$f":"Berechnung!C42*Berechnung!C$57/Berechnung!O42","v":0.47370839538163767},{"$f":"Berechnung!C42*Berechnung!C$57","v":16.511336222274302},{"$f":"Berechnung!D42*Berechnung!D$57/Berechnung!O42","v":0.26386904711382386},{"$f":"Berechnung!D42*Berechnung!D$57","v":9.1972838100904983},{"$f":"Berechnung!E42*Berechnung!E$57/Berechnung!O42","v":1.8935326417138163E-2},{"$f":"Berechnung!E42*Berechnung!E$57","v":0.65999999999999992},{"$f":"Berechnung!F42*Berechnung!F$57/Berechnung!O42","v":0},{"$f":"Berechnung!F42*Berechnung!F$57","v":0},{"$f":"Berechnung!G42*Berechnung!G$57/Berechnung!O42","v":0},{"$f":"Berechnung!G42*Berechnung!G$57","v":0},{"$f":"Berechnung!H42*Berechnung!H$57/Berechnung!O42","v":4.3869893743799836E-3},{"$f":"Berechnung!H42*Berechnung!H$57","v":0.15291064559997133},{"$f":"Berechnung!I42*Berechnung!I$57/Berechnung!O42","v":2.2126260276440518E-2},{"$f":"Berechnung!I42*Berechnung!I$57","v":0.77122154964455325},{"$f":"Berechnung!J42*Berechnung!J$57/Berechnung!O42","v":0.1595942044149492},{"$f":"Berechnung!J42*Berechnung!J$57","v":5.5627335168899661},{"$f":"Berechnung!K42*Berechnung!K$57/Berechnung!O42","v":0},{"$f":"Berechnung!K42*Berechnung!K$57","v":0},{"$f":"Berechnung!L42*Berechnung!L$57/Berechnung!O42","v":0},{"$f":"Berechnung!L42*Berechnung!K$57","v":0},{"$f":"Berechnung!M42/Berechnung!O42","v":0},{"$f":"Berechnung!M42*Berechnung!M$57","v":0},{"$f":"Berechnung!N42/Berechnung!O42","v":2.8689888510815401E-2},{"$f":"Berechnung!N42*Berechnung!N$57","v":1},1.0000000000000002,34.85548574449929,{"$f":"Berechnung!P42","v":0},{"$f":"Berechnung!Q42","v":34.75}]
[{"$f":"Parameter!B40","v":"Schorndorf"},{"$f":"Berechnung!B43*Berechnung!$B$57/Berechnung!O43","v":3.7392433358967969E-2},{"$f":"Berechnung!B43*Berechnung!B$57","v":1},{"$f":"Berechnung!C43*Berechnung!C$57/Berechnung!O43","v":0.49095904599395607},{"$f":"Berechnung!C43*Berechnung!C$57","v":13.129903616615191},{"$f":"Berechnung!D43*Berechnung!D$57/Berechnung!O43","v":0.27884499077215458},{"$f":"Berechnung!D43*Berechnung!D$57","v":7.4572571433166202},{"$f":"Berechnung!E43*Berechnung!E$57/Berechnung!O43","v":2.9166098019995017E-2},{"$f":"Berechnung!E43*Berechnung!E$57","v":0.78},{"$f":"Berechnung!F43*Berechnung!F$57/Berechnung!O43","v":0},{"$f":"Berechnung!F43*Berechnung!F$57","v":0},{"$f":"Berechnung!G43*Berechnung!G$57/Berechnung!O43","v":0},{"$f":"Berechnung!G43*Berechnung!G$57","v":0},{"$f":"Berechnung!H43*Berechnung!H$57/Berechnung!O43","v":0},{"$f":"Berechnung!H43*Berechnung!H$57","v":0},{"$f":"Berechnung!I43*Berechnung!I$57/Berechnung!O43","v":0},{"$f":"Berechnung!I43*Berechnung!I$57","v":0},{"$f":"Berechnung!J43*Berechnung!J$57/Berechnung!O43","v":0.16363743185492638},{"$f":"Berechnung!J43*Berechnung!J$57","v":4.3762177840635399},{"$f":"Berechnung!K43*Berechnung!K$57/Berechnung!O43","v":0},{"$f":"Berechnung!K43*Berechnung!K$57","v":0},{"$f":"Berechnung!L43*Berechnung!L$57/Berechnung!O43","v":0},{"$f":"Berechnung!L43*Berechnung!K$57","v":0},{"$f":"Berechnung!M43/Berechnung!O43","v":0},{"$f":"Berechnung!M43*Berechnung!M$57","v":0},{"$f":"Berechnung!N43/Berechnung!O43","v":0},{"$f":"Berechnung!N43*Berechnung!N$57","v":0},1,26.743378543995352,{"$f":"Berechnung!P43","v":0},{"$f":"Berechnung!Q43","v":26.75}]
[{"$f":"Parameter!B41","v":"Schwäbisch Gmünd"},{"$f":"Berechnung!B44*Berechnung!$B$57/Berechnung!O44","v":5.3287198202564882E-2},{"$f":"Berechnung!B44*Berechnung!B$57","v":1},{"$f":"Berechnung!C44*Berechnung!C$57/Berechnung!O44","v":0.43966560331554461},{"$f":"Berechnung!C44*Berechnung!C$57","v":8.2508673404859572},{"$f":"Berechnung!D44*Berechnung!D$57/Berechnung!O44","v":0.27816343761038387},{"$f":"Berechnung!D44*Berechnung!D$57","v":5.2200800003216346},{"$f":"Berechnung!E44*Berechnung!E$57/Berechnung!O44","v":2.2380623245077249E-2},{"$f":"Berechnung!E44*Berechnung!E$57","v":0.42},{"$f":"Berechnung!F44*Berechnung!F$57/Berechnung!O44","v":0},{"$f":"Berechnung!F44*Berechnung!F$57","v":0},{"$f":"Berechnung!G44*Berechnung!G$57/Berechnung!O44","v":0},{"$f":"Berechnung!G44*Berechnung!G$57","v":0},{"$f":"Berechnung!H44*Berechnung!H$57/Berechnung!O44","v":2.2511754891458086E-2},{"$f":"Berechnung!H44*Berechnung!H$57","v":0.42246084708530474},{"$f":"Berechnung!I44*Berechnung!I$57/Berechnung!O44","v":0},{"$f":"Berechnung!I44*Berechnung!I$57","v":0},{"$f":"Berechnung!J44*Berechnung!J$57/Berechnung!O44","v":0.1706695831843302},{"$f":"Berechnung!J44*Berechnung!J$57","v":3.2028252364770671},{"$f":"Berechnung!K44*Berechnung!K$57/Berechnung!O44","v":0},{"$f":"Berechnung!K44*Berechnung!K$57","v":0},{"$f":"Berechnung!L44*Berechnung!L$57/Berechnung!O44","v":1.3321799550641221E-2},{"$f":"Berechnung!L44*Berechnung!K$57","v":0.25},{"$f":"Berechnung!M44/Berechnung!O44","v":0},{"$f":"Berechnung!M44*Berechnung!M$57","v":0},{"$f":"Berechnung!N44/Berechnung!O44","v":0},{"$f":"Berechnung!N44*Berechnung!N$57","v":0},1,18.766233424369965,{"$f":"Berechnung!P44","v":0},{"$f":"Berechnung!Q44","v":18.75}]
[{"$f":"Parameter!B42","v":"Schwäbisch Hall"},{"$f":"Berechnung!B45*Berechnung!$B$57/Berechnung!O45","v":3.8052942105511411E-2},{"$f":"Berechnung!B45*Berechnung!B$57","v":1},{"$f":"Berechnung!C45*Berechnung!C$57/Berechnung!O45","v":0.37866550464571092},{"$f":"Berechnung!C45*Berechnung!C$57","v":9.9510178108111838},{"$f":"Berechnung!D45*Berechnung!D$57/Berechnung!O45","v":0.34525419878098884},{"$f":"Berechnung!D45*Berechnung!D$57","v":9.0729961910352213},{"$f":"Berechnung!E45*Berechnung!E$57/Berechnung!O45","v":2.0548588736976164E-2},{"$f":"Berechnung!E45*Berechnung!E$57","v":0.54},{"$f":"Berechnung!F45*Berechnung!F$57/Berechnung!O45","v":0},{"$f":"Berechnung!F45*Berechnung!F$57","v":0},{"$f":"Berechnung!G45*Berechnung!G$57/Berechnung!O45","v":3.072647494764302E-2},{"$f":"Berechnung!G45*Berechnung!G$57","v":0.80746647295880802},{"$f":"Berechnung!H45*Berechnung!H$57/Berechnung!O45","v":0},{"$f":"Berechnung!H45*Berechnung!H$57","v":0},{"$f":"Berechnung!I45*Berechnung!I$57/Berechnung!O45","v":0},{"$f":"Berechnung!I45*Berechnung!I$57","v":0},{"$f":"Berechnung!J45*Berechnung!J$57/Berechnung!O45","v":0.18675229078316977},{"$f":"Berechnung!J45*Berechnung!J$57","v":4.9076964999276997},{"$f":"Berechnung!K45*Berechnung!K$57/Berechnung!O45","v":0},{"$f":"Berechnung!K45*Berechnung!K$57","v":0},{"$f":"Berechnung!L45*Berechnung!L$57/Berechnung!O45","v":0},{"$f":"Berechnung!L45*Berechnung!K$57","v":0},{"$f":"Berechnung!M45/Berechnung!O45","v":0},{"$f":"Berechnung!M45*Berechnung!M$57","v":0},{"$f":"Berechnung!N45/Berechnung!O45","v":0},{"$f":"Berechnung!N45*Berechnung!N$57","v":0},1.0000000000000002,26.279176974732913,{"$f":"Berechnung!P45","v":0},{"$f":"Berechnung!Q45","v":26.25}]
[{"$f":"Parameter!B43","v":"Stuttgart"},{"$f":"Berechnung!B46*Berechnung!$B$57/Berechnung!O46","v":3.402447569835506E-2},{"$f":"Berechnung!B46*Berechnung!B$57","v":1},{"$f":"Berechnung!C46*Berechnung!C$57/Berechnung!O46","v":0.44410653055357729},{"$f":"Berechnung!C46*Berechnung!C$57","v":13.052560588760166},{"$f":"Berechnung!D46*Berechnung!D$57/Berechnung!O46","v":0.22412751693009228},{"$f":"Berechnung!D46*Berechnung!D$57","v":6.5872438099296815},{"$f":"Berechnung!E46*Berechnung!E$57/Berechnung!O46","v":3.0622028128519555E-2},{"$f":"Berechnung!E46*Berechnung!E$57","v":0.89999999999999991},{"$f":"Berechnung!F46*Berechnung!F$57/Berechnung!O46","v":0},{"$f":"Berechnung!F46*Berechnung!F$57","v":0},{"$f":"Berechnung!G46*Berechnung!G$57/Berechnung!O46","v":0},{"$f":"Berechnung!G46*Berechnung!G$57","v":0},{"$f":"Berechnung!H46*Berechnung!H$57/Berechnung!O46","v":0},{"$f":"Berechnung!H46*Berechnung!H$57","v":0},{"$f":"Berechnung!I46*Berechnung!I$57/Berechnung!O46","v":4.3801216304271515E-2},{"$f":"Berechnung!I46*Berechnung!I$57","v":1.2873443427194122},{"$f":"Berechnung!J46*Berechnung!J$57/Berechnung!O46","v":0.15526928098847428},{"$f":"Berechnung!J46*Berechnung!J$57","v":4.5634584457676413},{"$f":"Berechnung!K46*Berechnung!K$57/Berechnung!O46","v":0},{"$f":"Berechnung!K46*Berechnung!K$57","v":0},{"$f":"Berechnung!L46*Berechnung!L$57/Berechnung!O46","v":0},{"$f":"Berechnung!L46*Berechnung!K$57","v":0},{"$f":"Berechnung!M46/Berechnung!O46","v":0},{"$f":"Berechnung!M46*Berechnung!M$57","v":0},{"$f":"Berechnung!N46/Berechnung!O46","v":6.8048951396710119E-2},{"$f":"Berechnung!N46*Berechnung!N$57","v":2},1,29.390607187176901,{"$f":"Berechnung!P46","v":0},{"$f":"Berechnung!Q46","v":29.5}]
[{"$f":"Parameter!B44","v":"Sulz/Neckar"},{"$f":"Berechnung!B47*Berechnung!$B$57/Berechnung!O47","v":3.8746552168886658E-2},{"$f":"Berechnung!B47*Berechnung!B$57","v":1},{"$f":"Berechnung!C47*Berechnung!C$57/Berechnung!O47","v":0.35585042264392891},{"$f":"Berechnung!C47*Berechnung!C$57","v":9.1840538764033699},{"$f":"Berechnung!D47*Berechnung!D$57/Berechnung!O47","v":0.3226530199500241},{"$f":"Berechnung!D47*Berechnung!D$57","v":8.3272704767035588},{"$f":"Berechnung!E47*Berechnung!E$57/Berechnung!O47","v":2.3247931301331994E-2},{"$f":"Berechnung!E47*Berechnung!E$57","v":0.6},{"$f":"Berechnung!F47*Berechnung!F$57/Berechnung!O47","v":0},{"$f":"Berechnung!F47*Berechnung!F$57","v":0},{"$f":"Berechnung!G47*Berechnung!G$57/Berechnung!O47","v":3.6166938341022782E-2},{"$f":"Berechnung!G47*Berechnung!G$57","v":0.93342339683231745},{"$f":"Berechnung!H47*Berechnung!H$57/Berechnung!O47","v":2.4763911600249721E-2},{"$f":"Berechnung!H47*Berechnung!H$57","v":0.63912555347660205},{"$f":"Berechnung!I47*Berechnung!I$57/Berechnung!O47","v":0},{"$f":"Berechnung!I47*Berechnung!I$57","v":0},{"$f":"Berechnung!J47*Berechnung!J$57/Berechnung!O47","v":0.18888458595233412},{"$f":"Berechnung!J47*Berechnung!J$57","v":4.8748746760494415},{"$f":"Berechnung!K47*Berechnung!K$57/Berechnung!O47","v":9.6866380422216646E-3},{"$f":"Berechnung!K47*Berechnung!K$57","v":0.25},{"$f":"Berechnung!L47*Berechnung!L$57/Berechnung!O47","v":0},{"$f":"Berechnung!L47*Berechnung!K$57","v":0},{"$f":"Berechnung!M47/Berechnung!O47","v":0},{"$f":"Berechnung!M47*Berechnung!M$57","v":0},{"$f":"Berechnung!N47/Berechnung!O47","v":0},{"$f":"Berechnung!N47*Berechnung!N$57","v":0},1,25.808747979465288,{"$f":"Berechnung!P47","v":0},{"$f":"Berechnung!Q47","v":25.75}]
[{"$f":"Parameter!B45","v":"Tübingen"},{"$f":"Berechnung!B48*Berechnung!$B$57/Berechnung!O48","v":2.2763740651805694E-2},{"$f":"Berechnung!B48*Berechnung!B$57","v":1},{"$f":"Berechnung!C48*Berechnung!C$57/Berechnung!O48","v":0.4924234503142999},{"$f":"Berechnung!C48*Berechnung!C$57","v":21.631921477511618},{"$f":"Berechnung!D48*Berechnung!D$57/Berechnung!O48","v":0.27443735926126067},{"$f":"Berechnung!D48*Berechnung!D$57","v":12.055899048361869},{"$f":"Berechnung!E48*Berechnung!E$57/Berechnung!O48","v":2.1853191025733465E-2},{"$f":"Berechnung!E48*Berechnung!E$57","v":0.96},{"$f":"Berechnung!F48*Berechnung!F$57/Berechnung!O48","v":0},{"$f":"Berechnung!F48*Berechnung!F$57","v":0},{"$f":"Berechnung!G48*Berechnung!G$57/Berechnung!O48","v":0},{"$f":"Berechnung!G48*Berechnung!G$57","v":0},{"$f":"Berechnung!H48*Berechnung!H$57/Berechnung!O48","v":4.3704207437127241E-3},{"$f":"Berechnung!H48*Berechnung!H$57","v":0.19199044702550008},{"$f":"Berechnung!I48*Berechnung!I$57/Berechnung!O48","v":2.0815843781024614E-2},{"$f":"Berechnung!I48*Berechnung!I$57","v":0.91442984259150895},{"$f":"Berechnung!J48*Berechnung!J$57/Berechnung!O48","v":0.16333599422216277},{"$f":"Berechnung!J48*Berechnung!J$57","v":7.175270388138359},{"$f":"Berechnung!K48*Berechnung!K$57/Berechnung!O48","v":0},{"$f":"Berechnung!K48*Berechnung!K$57","v":0},{"$f":"Berechnung!L48*Berechnung!L$57/Berechnung!O48","v":0},{"$f":"Berechnung!L48*Berechnung!K$57","v":0},{"$f":"Berechnung!M48/Berechnung!O48","v":0},{"$f":"Berechnung!M48*Berechnung!M$57","v":0},{"$f":"Berechnung!N48/Berechnung!O48","v":0},{"$f":"Berechnung!N48*Berechnung!N$57","v":0},0.99999999999999978,43.929511203628856,{"$f":"Berechnung!P48","v":0},{"$f":"Berechnung!Q48","v":44}]
[{"$f":"Parameter!B46","v":"Tuttlingen"},{"$f":"Berechnung!B49*Berechnung!$B$57/Berechnung!O49","v":3.3456245266263222E-2},{"$f":"Berechnung!B49*Berechnung!B$57","v":1},{"$f":"Berechnung!C49*Berechnung!C$57/Berechnung!O49","v":0.44968861875836441},{"$f":"Berechnung!C49*Berechnung!C$57","v":13.441096428469326},{"$f":"Berechnung!D49*Berechnung!D$57/Berechnung!O49","v":0.22038444453368164},{"$f":"Berechnung!D49*Berechnung!D$57","v":6.5872438099296815},{"$f":"Berechnung!E49*Berechnung!E$57/Berechnung!O49","v":3.4125370171588489E-2},{"$f":"Berechnung!E49*Berechnung!E$57","v":1.02},{"$f":"Berechnung!F49*Berechnung!F$57/Berechnung!O49","v":0},{"$f":"Berechnung!F49*Berechnung!F$57","v":0},{"$f":"Berechnung!G49*Berechnung!G$57/Berechnung!O49","v":1.6512673196959569E-2},{"$f":"Berechnung!G49*Berechnung!G$57","v":0.4935602625322304},{"$f":"Berechnung!H49*Berechnung!H$57/Berechnung!O49","v":2.3549743642224865E-2},{"$f":"Berechnung!H49*Berechnung!H$57","v":0.70389678981616244},{"$f":"Berechnung!I49*Berechnung!I$57/Berechnung!O49","v":2.5549792800362129E-2},{"$f":"Berechnung!I49*Berechnung!I$57","v":0.76367783046252824},{"$f":"Berechnung!J49*Berechnung!J$57/Berechnung!O49","v":0.16327686636429256},{"$f":"Berechnung!J49*Berechnung!J$57","v":4.8803105388798214},{"$f":"Berechnung!K49*Berechnung!K$57/Berechnung!O49","v":2.5092183949697418E-2},{"$f":"Berechnung!K49*Berechnung!K$57","v":0.75},{"$f":"Berechnung!L49*Berechnung!L$57/Berechnung!O49","v":8.3640613165658056E-3},{"$f":"Berechnung!L49*Berechnung!K$57","v":0.25},{"$f":"Berechnung!M49/Berechnung!O49","v":0},{"$f":"Berechnung!M49*Berechnung!M$57","v":0},{"$f":"Berechnung!N49/Berechnung!O49","v":0},{"$f":"Berechnung!N49*Berechnung!N$57","v":0},1,29.88978566008975,{"$f":"Berechnung!P49","v":0},{"$f":"Berechnung!Q49","v":30}]
[{"$f":"Parameter!B47","v":"Ulm"},{"$f":"Berechnung!B50*Berechnung!$B$57/Berechnung!O50","v":3.1549699529448902E-2},{"$f":"Berechnung!B50*Berechnung!B$57","v":1},{"$f":"Berechnung!C50*Berechnung!C$57/Berechnung!O50","v":0.40477937243223766},{"$f":"Berechnung!C50*Berechnung!C$57","v":12.829896273795296},{"$f":"Berechnung!D50*Berechnung!D$57/Berechnung!O50","v":0.28232906662257101},{"$f":"Berechnung!D50*Berechnung!D$57","v":8.9487085719799442},{"$f":"Berechnung!E50*Berechnung!E$57/Berechnung!O50","v":2.4608765632970146E-2},{"$f":"Berechnung!E50*Berechnung!E$57","v":0.78},{"$f":"Berechnung!F50*Berechnung!F$57/Berechnung!O50","v":0},{"$f":"Berechnung!F50*Berechnung!F$57","v":0},{"$f":"Berechnung!G50*Berechnung!G$57/Berechnung!O50","v":1.4961695900723869E-2},{"$f":"Berechnung!G50*Berechnung!G$57","v":0.4742262564738034},{"$f":"Berechnung!H50*Berechnung!H$57/Berechnung!O50","v":7.1515559349353197E-3},{"$f":"Berechnung!H50*Berechnung!H$57","v":0.22667588096235158},{"$f":"Berechnung!I50*Berechnung!I$57/Berechnung!O50","v":2.4244718130389704E-2},{"$f":"Berechnung!I50*Berechnung!I$57","v":0.76846114200737048},{"$f":"Berechnung!J50*Berechnung!J$57/Berechnung!O50","v":0.17093800140491233},{"$f":"Berechnung!J50*Berechnung!J$57","v":5.4180548136554059},{"$f":"Berechnung!K50*Berechnung!K$57/Berechnung!O50","v":7.8874248823622255E-3},{"$f":"Berechnung!K50*Berechnung!K$57","v":0.25},{"$f":"Berechnung!L50*Berechnung!L$57/Berechnung!O50","v":0},{"$f":"Berechnung!L50*Berechnung!K$57","v":0},{"$f":"Berechnung!M50/Berechnung!O50","v":0},{"$f":"Berechnung!M50*Berechnung!M$57","v":0},{"$f":"Berechnung!N50/Berechnung!O50","v":3.1549699529448902E-2},{"$f":"Berechnung!N50*Berechnung!N$57","v":1},1,31.696022938874169,{"$f":"Berechnung!P50","v":0},{"$f":"Berechnung!Q50","v":31.75}]
[{"$f":"Parameter!B48","v":"Vaihingen an der Enz"},{"$f":"Berechnung!B51*Berechnung!$B$57/Berechnung!O51","v":6.2369671559928945E-2},{"$f":"Berechnung!B51*Berechnung!B$57","v":1},{"$f":"Berechnung!C51*Berechnung!C$57/Berechnung!O51","v":0.43301635014561918},{"$f":"Berechnung!C51*Berechnung!C$57","v":6.942738983795163},{"$f":"Berechnung!D51*Berechnung!D$57/Berechnung!O51","v":0.31782289715717094},{"$f":"Berechnung!D51*Berechnung!D$57","v":5.0957923812663575},{"$f":"Berechnung!E51*Berechnung!E$57/Berechnung!O51","v":1.1226540880787209E-2},{"$f":"Berechnung!E51*Berechnung!E$57","v":0.18},{"$f":"Berechnung!F51*Berechnung!F$57/Berechnung!O51","v":0},{"$f":"Berechnung!F51*Berechnung!F$57","v":0},{"$f":"Berechnung!G51*Berechnung!G$57/Berechnung!O51","v":0},{"$f":"Berechnung!G51*Berechnung!G$57","v":0},{"$f":"Berechnung!H51*Berechnung!H$57/Berechnung!O51","v":0},{"$f":"Berechnung!H51*Berechnung!H$57","v":0},{"$f":"Berechnung!I51*Berechnung!I$57/Berechnung!O51","v":0},{"$f":"Berechnung!I51*Berechnung!I$57","v":0},{"$f":"Berechnung!J51*Berechnung!J$57/Berechnung!O51","v":0.17556454025649387},{"$f":"Berechnung!J51*Berechnung!J$57","v":2.8149024335938622},{"$f":"Berechnung!K51*Berechnung!K$57/Berechnung!O51","v":0},{"$f":"Berechnung!K51*Berechnung!K$57","v":0},{"$f":"Berechnung!L51*Berechnung!L$57/Berechnung!O51","v":0},{"$f":"Berechnung!L51*Berechnung!K$57","v":0},{"$f":"Berechnung!M51/Berechnung!O51","v":0},{"$f":"Berechnung!M51*Berechnung!M$57","v":0},{"$f":"Berechnung!N51/Berechnung!O51","v":0},{"$f":"Berechnung!N51*Berechnung!N$57","v":0},1,16.033433798655381,{"$f":"Berechnung!P51","v":0},{"$f":"Berechnung!Q51","v":16}]
[{"$f":"Parameter!B49","v":"Waiblingen"},{"$f":"Berechnung!B52*Berechnung!$B$57/Berechnung!O52","v":2.9721075061927713E-2},{"$f":"Berechnung!B52*Berechnung!B$57","v":1},{"$f":"Berechnung!C52*Berechnung!C$57/Berechnung!O52","v":0.49104502534205019},{"$f":"Berechnung!C52*Berechnung!C$57","v":16.52177871489824},{"$f":"Berechnung!D52*Berechnung!D$57/Berechnung!O52","v":0.28074108579597257},{"$f":"Berechnung!D52*Berechnung!D$57","v":9.4458590482010525},{"$f":"Berechnung!E52*Berechnung!E$57/Berechnung!O52","v":7.1330580148626505E-3},{"$f":"Berechnung!E52*Berechnung!E$57","v":0.24},{"$f":"Berechnung!F52*Berechnung!F$57/Berechnung!O52","v":0},{"$f":"Berechnung!F52*Berechnung!F$57","v":0},{"$f":"Berechnung!G52*Berechnung!G$57/Berechnung!O52","v":0},{"$f":"Berechnung!G52*Berechnung!G$57","v":0},{"$f":"Berechnung!H52*Berechnung!H$57/Berechnung!O52","v":0},{"$f":"Berechnung!H52*Berechnung!H$57","v":0},{"$f":"Berechnung!I52*Berechnung!I$57/Berechnung!O52","v":2.7740022192138201E-2},{"$f":"Berechnung!I52*Berechnung!I$57","v":0.93334518130108912},{"$f":"Berechnung!J52*Berechnung!J$57/Berechnung!O52","v":0.16361973359304885},{"$f":"Berechnung!J52*Berechnung!J$57","v":5.5051754774053743},{"$f":"Berechnung!K52*Berechnung!K$57/Berechnung!O52","v":0},{"$f":"Berechnung!K52*Berechnung!K$57","v":0},{"$f":"Berechnung!L52*Berechnung!L$57/Berechnung!O52","v":0},{"$f":"Berechnung!L52*Berechnung!K$57","v":0},{"$f":"Berechnung!M52/Berechnung!O52","v":0},{"$f":"Berechnung!M52*Berechnung!M$57","v":0},{"$f":"Berechnung!N52/Berechnung!O52","v":0},{"$f":"Berechnung!N52*Berechnung!N$57","v":0},1.0000000000000002,33.646158421805751,{"$f":"Berechnung!P52","v":0},{"$f":"Berechnung!Q52","v":33.75}]
[{"$f":"Parameter!B50","v":"Weikersheim"},{"$f":"Berechnung!B53*Berechnung!$B$57/Berechnung!O53","v":6.3318618218358394E-2},{"$f":"Berechnung!B53*Berechnung!B$57","v":1},{"$f":"Berechnung!C53*Berechnung!C$57/Berechnung!O53","v":0.29732476440643935},{"$f":"Berechnung!C53*Berechnung!C$57","v":4.695692558878898},{"$f":"Berechnung!D53*Berechnung!D$57/Berechnung!O53","v":0.36987685411080301},{"$f":"Berechnung!D53*Berechnung!D$57","v":5.841518095598019},{"$f":"Berechnung!E53*Berechnung!E$57/Berechnung!O53","v":7.5982341862030076E-3},{"$f":"Berechnung!E53*Berechnung!E$57","v":0.12},{"$f":"Berechnung!F53*Berechnung!F$57/Berechnung!O53","v":0},{"$f":"Berechnung!F53*Berechnung!F$57","v":0},{"$f":"Berechnung!G53*Berechnung!G$57/Berechnung!O53","v":5.3539077355794149E-2},{"$f":"Berechnung!G53*Berechnung!G$57","v":0.84555031146070081},{"$f":"Berechnung!H53*Berechnung!H$57/Berechnung!O53","v":4.8467248237142367E-3},{"$f":"Berechnung!H53*Berechnung!H$57","v":7.6545018828427194E-2},{"$f":"Berechnung!I53*Berechnung!I$57/Berechnung!O53","v":0},{"$f":"Berechnung!I53*Berechnung!I$57","v":0},{"$f":"Berechnung!J53*Berechnung!J$57/Berechnung!O53","v":0.203495726898688},{"$f":"Berechnung!J53*Berechnung!J$57","v":3.2138371402376418},{"$f":"Berechnung!K53*Berechnung!K$57/Berechnung!O53","v":0},{"$f":"Berechnung!K53*Berechnung!K$57","v":0},{"$f":"Berechnung!L53*Berechnung!L$57/Berechnung!O53","v":0},{"$f":"Berechnung!L53*Berechnung!K$57","v":0},{"$f":"Berechnung!M53/Berechnung!O53","v":0},{"$f":"Berechnung!M53*Berechnung!M$57","v":0},{"$f":"Berechnung!N53/Berechnung!O53","v":0},{"$f":"Berechnung!N53*Berechnung!N$57","v":0},1.0000000000000002,15.793143125003686,{"$f":"Berechnung!P53","v":0},{"$f":"Berechnung!Q53","v":15.75}]
[{"$f":"Parameter!B51","v":"Weinsberg"},{"$f":"Berechnung!B54*Berechnung!$B$57/Berechnung!O54","v":5.4454995231187749E-2},{"$f":"Berechnung!B54*Berechnung!B$57","v":1},{"$f":"Berechnung!C54*Berechnung!C$57/Berechnung!O54","v":0.39993367565271354},{"$f":"Berechnung!C54*Berechnung!C$57","v":7.3442973221244809},{"$f":"Berechnung!D54*Berechnung!D$57/Berechnung!O54","v":0.31133175833573629},{"$f":"Berechnung!D54*Berechnung!D$57","v":5.717230476542742},{"$f":"Berechnung!E54*Berechnung!E$57/Berechnung!O54","v":1.3069198855485058E-2},{"$f":"Berechnung!E54*Berechnung!E$57","v":0.24},{"$f":"Berechnung!F54*Berechnung!F$57/Berechnung!O54","v":0},{"$f":"Berechnung!F54*Berechnung!F$57","v":0},{"$f":"Berechnung!G54*Berechnung!G$57/Berechnung!O54","v":1.8815555507162702E-2},{"$f":"Berechnung!G54*Berechnung!G$57","v":0.34552487659362713},{"$f":"Berechnung!H54*Berechnung!H$57/Berechnung!O54","v":0},{"$f":"Berechnung!H54*Berechnung!H$57","v":0},{"$f":"Berechnung!I54*Berechnung!I$57/Berechnung!O54","v":0},{"$f":"Berechnung!I54*Berechnung!I$57","v":0},{"$f":"Berechnung!J54*Berechnung!J$57/Berechnung!O54","v":0.17516731880212094},{"$f":"Berechnung!J54*Berechnung!J$57","v":3.2167355457190125},{"$f":"Berechnung!K54*Berechnung!K$57/Berechnung!O54","v":2.7227497615593874E-2},{"$f":"Berechnung!K54*Berechnung!K$57","v":0.5},{"$f":"Berechnung!L54*Berechnung!L$57/Berechnung!O54","v":0},{"$f":"Berechnung!L54*Berechnung!K$57","v":0},{"$f":"Berechnung!M54/Berechnung!O54","v":0},{"$f":"Berechnung!M54*Berechnung!M$57","v":0},{"$f":"Berechnung!N54/Berechnung!O54","v":0},{"$f":"Berechnung!N54*Berechnung!N$57","v":0},1.0000000000000002,18.363788220979863,{"$f":"Berechnung!P54","v":0},{"$f":"Berechnung!Q54","v":18.25}]
[{"$f":"Parameter!B52","v":"Zuffenhausen"},{"$f":"Berechnung!B55*Berechnung!$B$57/Berechnung!O55","v":3.4650590837310903E-2},{"$f":"Berechnung!B55*Berechnung!B$57","v":0.5},{"$f":"Berechnung!C55*Berechnung!C$57/Berechnung!O55","v":0.44274835251726824},{"$f":"Berechnung!C55*Berechnung!C$57","v":6.3887561772904569},{"$f":"Berechnung!D55*Berechnung!D$57/Berechnung!O55","v":0.23255852943751035},{"$f":"Berechnung!D55*Berechnung!D$57","v":3.3557657144924793},{"$f":"Berechnung!E55*Berechnung!E$57/Berechnung!O55","v":6.6529134407636928E-2},{"$f":"Berechnung!E55*Berechnung!E$57","v":0.96},{"$f":"Berechnung!F55*Berechnung!F$57/Berechnung!O55","v":0},{"$f":"Berechnung!F55*Berechnung!F$57","v":0},{"$f":"Berechnung!G55*Berechnung!G$57/Berechnung!O55","v":0},{"$f":"Berechnung!G55*Berechnung!G$57","v":0},{"$f":"Berechnung!H55*Berechnung!H$57/Berechnung!O55","v":0},{"$f":"Berechnung!H55*Berechnung!H$57","v":0},{"$f":"Berechnung!I55*Berechnung!I$57/Berechnung!O55","v":4.9952118797645349E-2},{"$f":"Berechnung!I55*Berechnung!I$57","v":0.72079750432217937},{"$f":"Berechnung!J55*Berechnung!J$57/Berechnung!O55","v":0.17356127400262833},{"$f":"Berechnung!J55*Berechnung!J$57","v":2.5044489835327979},{"$f":"Berechnung!K55*Berechnung!K$57/Berechnung!O55","v":0},{"$f":"Berechnung!K55*Berechnung!K$57","v":0},{"$f":"Berechnung!L55*Berechnung!L$57/Berechnung!O55","v":0},{"$f":"Berechnung!L55*Berechnung!K$57","v":0},{"$f":"Berechnung!M55/Berechnung!O55","v":0},{"$f":"Berechnung!M55*Berechnung!M$57","v":0},{"$f":"Berechnung!N55/Berechnung!O55","v":0},{"$f":"Berechnung!N55*Berechnung!N$57","v":0},1.0000000000000002,14.429768379637913,{"$f":"Berechnung!P55","v":0},{"$f":"Berechnung!Q55","v":14.5}]
[]
["Landeskirche",{"$f":"Berechnung!B59","v":4.0992235904028743E-2},{"$f":"Berechnung!B58","v":49.5},{"$f":"Berechnung!C59","v":0.4299196732659894},{"$f":"Berechnung!C58","v":519.14767168323613},{"$f":"Berechnung!D59","v":0.28376644732379336},{"$f":"Berechnung!D58","v":342.66096573539869},{"$f":"Berechnung!E59","v":2.3055027223599193E-2},{"$f":"Berechnung!E58","v":27.84},{"$f":"Berechnung!F59","v":0},{"$f":"Berechnung!F58","v":0},{"$f":"Berechnung!G59","v":1.2421889667887497E-2},{"$f":"Berechnung!G58","v":15},{"$f":"Berechnung!H59","v":8.2812597785916642E-3},{"$f":"Berechnung!H58","v":10},{"$f":"Berechnung!I59","v":1.2421889667887497E-2},{"$f":"Berechnung!I58","v":15},{"$f":"Berechnung!J59","v":0.17154390013871559},{"$f":"Berechnung!J58","v":207.14710650930559},{"$f":"Berechnung!K59","v":9.1093857564508319E-3},{"$f":"Berechnung!K58","v":11},{"$f":"Berechnung!L59","v":2.8984409225070828E-3},{"$f":"Berechnung!L58","v":3.5},{"$f":"Berechnung!M59","v":1.4492204612535414E-3},{"$f":"Berechnung!M58","v":1.75},{"$f":"Berechnung!N59","v":4.1406298892958321E-3},{"$f":"Berechnung!N58","v":5},{"$f":"X57+V57+T57+R57+P57+N57+L57+J57+H57+F57+D57+B57","v":0.99585937011070447},{"$f":"SUM(AC5:AC55)","v":1207.5457439279398},null,{"$f":"SUM(AE5:AE55)","v":1207}]
[null,null,{"$f":"SUM(C5:C55)","v":49.5},null,{"$f":"SUM(E5:E55)","v":519.14767168323624},null,{"$f":"SUM(G5:G55)","v":342.66096573539875},null,{"$f":"SUM(I5:I55)","v":27.84},null,{"$f":"SUM(K5:K55)","v":0},null,{"$f":"SUM(M5:M55)","v":14.999999999999995},null,{"$f":"SUM(O5:O55)","v":10.000000000000002},null,{"$f":"SUM(Q5:Q55)","v":15.000000000000002},null,{"$f":"SUM(S5:S55)","v":207.14710650930562},null,{"$f":"SUM(U5:U55)","v":11},null,{"$f":"SUM(W5:W55)","v":3.5},null,{"$f":"SUM(Y5:Y55)","v":1.75},null,{"$f":"SUM(AA5:AA55)","v":5}]

{"sheet":"Dateneingabe Ggl. und KG","index":2,"n_rows":2245,"n_cols":17,"rows_kept":2245,"cut":false,"hidden":false,"merged":[]}
["name der kirchengemeinde - pfbez","anzahl gemeindeglieder der kg","dekanat_2","dekanat","mod KB","Anzahl","Selektion","istpfst","4 Spalten der Auswertung \"_SCHÖLL für PP-Daten...\" in die Spalten ganz links eingeben; prüfen ob in Spalte C \"Dekanat\" lückenlos eingetragen ist."]
["Botnang                                                     ",4083,"Stuttgart",1,{"$f":"IF($G2<>\"\",IF($B2<400,0.5,IF($B2<2801,1,IF($B2<5601,1.5,IF($B2<8401,2,IF($B2<11201,2.5,\"???\"))))),\"\")","v":1.5},null,{"$f":"IF(IF(LEN(A2)>0,ERROR.TYPE(MATCH(H2,H$1:H1,0))=7,0),C2,\"\")","v":"Stuttgart"},{"$f":"D2&A2","v":"1Botnang                                                     "}]
["Stuttgart Christuskirchengemeinde                           ",1515,"Stuttgart",1,{"$f":"IF($G3<>\"\",IF($B3<400,0.5,IF($B3<2801,1,IF($B3<5601,1.5,IF($B3<8401,2,IF($B3<11201,2.5,1000))))),\"\")","v":1},{"$f":"IF(E3<>\"#NV\",B3,\"\")","v":1515},{"$f":"IF(IF(LEN(A3)>0,ERROR.TYPE(MATCH(H3,H$1:H2,0))=7,0),C3,\"\")","v":"Stuttgart"},{"$f":"D3&A3","v":"1Stuttgart Christuskirchengemeinde                           "},null,null,null,null,null,{"$f":"IF(MAX(B:B)>O125,\"Kontrollfeld: Die Tabelle muss nach unten verlängert werden!\",\"Kontrollfeld: In Ordnung\")","v":"Kontrollfeld: In Ordnung"}]
["Stuttgart Friedenskirchengemeinde                           ",1922,"Stuttgart",1,1,{"$f":"IF(E4<>\"#NV\",B4,\"\")","v":1922},{"$f":"IF(IF(LEN(A4)>0,ERROR.TYPE(MATCH(H4,H$1:H3,0))=7,0),C4,\"\")","v":"Stuttgart"},{"$f":"D4&A4","v":"1Stuttgart Friedenskirchengemeinde                           "},"Folgende künftige (teilweise erst geplante) Kirchenbezirkswechsel von ",null,null,null,null,"Größe KG von","Größe KG bis","Anzahl Kgen im Intervall","Anzahl gesamt "]
["Gaisburg                                                    ",1396,"Stuttgart",1,1,1396,{"$f":"IF(IF(LEN(A5)>0,ERROR.TYPE(MATCH(H5,H$1:H4,0))=7,0),C5,\"\")","v":"Stuttgart"},"1Gaisburg                                                    ","Kirchengemeinden wurden in den Spalten A-D manuell angepasst:",null,null,null,null,1,{"$f":"N6-1","v":99},{"$f":"Q6-Q5","v":16},{"$f":"COUNTIF(F:F,\"<\"&TEXT(N5,\"#####\"))-COUNTIF(F:F,\"<\"&TEXT(N$5,\"#####\"))","v":0}]
["Stuttgart Haigstkirchengemeinde                             ",775,"Stuttgart",1,1,775,{"$f":"IF(IF(LEN(A6)>0,ERROR.TYPE(MATCH(H6,H$1:H5,0))=7,0),C6,\"\")","v":"Stuttgart"},"1Stuttgart Haigstkirchengemeinde                             ","KG","von","nach","Datum",null,100,{"$f":"N7-1","v":199},41,16]
["Heilandskirchengemeinde Stuttgart-Berg                      ",1333,"Stuttgart",1,1,1333,{"$f":"IF(IF(LEN(A7)>0,ERROR.TYPE(MATCH(H7,H$1:H6,0))=7,0),C7,\"\")","v":"Stuttgart"},"1Heilandskirchengemeinde Stuttgart-Berg                      ","Ruppertshofen","Blaufelden","Schwäbisch Hall (21)","2017-01-01",null,200,299,51,57]
["Stuttgart Hospitalkirchengemeinde                           ",753,"Stuttgart",1,1,753,{"$f":"IF(IF(LEN(A8)>0,ERROR.TYPE(MATCH(H8,H$1:H7,0))=7,0),C8,\"\")","v":"Stuttgart"},"1Stuttgart Hospitalkirchengemeinde                           ","Aichelberg","Calw","Neuenbürg (34)","geplant",null,300,399,63,108]
["Stuttgart Johanneskirchengemeinde                           ",2874,"Stuttgart",1,1.5,2874,{"$f":"IF(IF(LEN(A9)>0,ERROR.TYPE(MATCH(H9,H$1:H8,0))=7,0),C9,\"\")","v":"Stuttgart"},"1Stuttgart Johanneskirchengemeinde                           ","Isingen (Teil; s.a. Ostdorf)","Balingen","Sulz/Neckar (41)","geplant",null,400,499,68,171]
["Stuttgart Leonhardskirchengemeinde                          ",1563,"Stuttgart",1,1,1563,{"$f":"IF(IF(LEN(A10)>0,ERROR.TYPE(MATCH(H10,H$1:H9,0))=7,0),C10,\"\")","v":"Stuttgart"},"1Stuttgart Leonhardskirchengemeinde                          ",null,null,null,null,null,500,599,50,239]
["Stuttgart Ludwig-Hofacker-Kirchengemeinde                   ",1231,"Stuttgart",1,1,1231,{"$f":"IF(IF(LEN(A11)>0,ERROR.TYPE(MATCH(H11,H$1:H10,0))=7,0),C11,\"\")","v":"Stuttgart"},"1Stuttgart Ludwig-Hofacker-Kirchengemeinde                   ","Die Brüdergemeinde Wilhelmsdorf war, da separat pastoriert, aus den Spalten A-D zu löschen.",null,null,null,null,600,699,72,289]
["Stuttgart Markuskirchengemeinde                             ",3345,"Stuttgart",1,1.5,3345,{"$f":"IF(IF(LEN(A12)>0,ERROR.TYPE(MATCH(H12,H$1:H11,0))=7,0),C12,\"\")","v":"Stuttgart"},"1Stuttgart Markuskirchengemeinde                             ","In Walxheim waren 503 Gemeindeglieder (Stödtlen), die zur KG Mönchsrodt (Bayern) gehören, abzuziehen.",null,null,null,null,700,799,58,361]
["Stuttgart Paul-Gerhardt-Kirchengemeinde                     ",2194,"Stuttgart",1,1,2194,{"$f":"IF(IF(LEN(A13)>0,ERROR.TYPE(MATCH(H13,H$1:H12,0))=7,0),C13,\"\")","v":"Stuttgart"},"1Stuttgart Paul-Gerhardt-Kirchengemeinde                     ",null,null,null,null,null,800,899,56,419]
["Stuttgart Pauluskirchengemeinde                             ",3766,"Stuttgart",1,1.5,3766,{"$f":"IF(IF(LEN(A14)>0,ERROR.TYPE(MATCH(H14,H$1:H13,0))=7,0),C14,\"\")","v":"Stuttgart"},"1Stuttgart Pauluskirchengemeinde                             ",null,null,null,null,null,900,999,50,475]
["Stuttgart-Gablenberg Petruskirchengemeinde                  ",3174,"Stuttgart",1,1.5,3174,{"$f":"IF(IF(LEN(A15)>0,ERROR.TYPE(MATCH(H15,H$1:H14,0))=7,0),C15,\"\")","v":"Stuttgart"},"1Stuttgart-Gablenberg Petruskirchengemeinde                  ",null,null,null,null,null,1000,1099,52,525]
["Stuttgart Stiftskirchengemeinde                             ",696,"Stuttgart",1,1,696,{"$f":"IF(IF(LEN(A16)>0,ERROR.TYPE(MATCH(H16,H$1:H15,0))=7,0),C16,\"\")","v":"Stuttgart"},"1Stuttgart Stiftskirchengemeinde                             ",null,null,null,null,null,1100,1199,47,577]
["Stuttgart Thomaskirchengemeinde                             ",2616,"Stuttgart",1,1,2616,{"$f":"IF(IF(LEN(A17)>0,ERROR.TYPE(MATCH(H17,H$1:H16,0))=7,0),C17,\"\")","v":"Stuttgart"},"1Stuttgart Thomaskirchengemeinde                             ",null,null,null,null,null,1200,1299,52,624]
["Stuttgart Waldkirchengemeinde                               ",1403,"Stuttgart",1,1,1403,{"$f":"IF(IF(LEN(A18)>0,ERROR.TYPE(MATCH(H18,H$1:H17,0))=7,0),C18,\"\")","v":"Stuttgart"},"1Stuttgart Waldkirchengemeinde                               ",null,null,null,null,null,1300,1399,42,676]
["Stuttgart Nord                                              ",5380,"Stuttgart",1,1.5,5380,{"$f":"IF(IF(LEN(A19)>0,ERROR.TYPE(MATCH(H19,H$1:H18,0))=7,0),C19,\"\")","v":"Stuttgart"},"1Stuttgart Nord                                              ",null,null,null,null,null,1400,1499,41,718]
["Stuttgart Gedächtnis-u.Rosenbergkirchengemeinde                                                ",4200,"Stuttgart",1,1.5,4200,{"$f":"IF(IF(LEN(A20)>0,ERROR.TYPE(MATCH(H20,H$1:H19,0))=7,0),C20,\"\")","v":"Stuttgart"},"1Stuttgart Gedächtnis-u.Rosenbergkirchengemeinde                                                ",null,null,null,null,null,1500,1599,44,759]
["Stuttgart Lukas- und Lutherhauskirchengemeinde                                                 ",2807,"Stuttgart",1,1.5,2807,{"$f":"IF(IF(LEN(A21)>0,ERROR.TYPE(MATCH(H21,H$1:H20,0))=7,0),C21,\"\")","v":"Stuttgart"},"1Stuttgart Lukas- und Lutherhauskirchengemeinde                                                 ",null,null,null,null,null,1600,1699,39,803]
["Stuttgart-Heslach                                           ",4324,"Stuttgart",1,1.5,4324,{"$f":"IF(IF(LEN(A22)>0,ERROR.TYPE(MATCH(H22,H$1:H21,0))=7,0),C22,\"\")","v":"Stuttgart"},"1Stuttgart-Heslach                                           ",null,null,null,null,null,1700,1799,28,842]
["Aalen                                                       ",6450,"Aalen",2,2,6450,{"$f":"IF(IF(LEN(A23)>0,ERROR.TYPE(MATCH(H23,H$1:H22,0))=7,0),C23,\"\")","v":"Aalen"},"2Aalen                                                       ",null,null,null,null,null,1800,1899,51,870]
["Unterrombach-Hofherrnweiler                                 ",2556,"Aalen",2,1,2556,{"$f":"IF(IF(LEN(A24)>0,ERROR.TYPE(MATCH(H24,H$1:H23,0))=7,0),C24,\"\")","v":"Aalen"},"2Unterrombach-Hofherrnweiler                                 ",null,null,null,null,null,1900,1999,33,921]
["Adelmannsfelden                                             ",1089,"Aalen",2,1,1089,{"$f":"IF(IF(LEN(A25)>0,ERROR.TYPE(MATCH(H25,H$1:H24,0))=7,0),C25,\"\")","v":"Aalen"},"2Adelmannsfelden                                             ",null,null,null,null,null,2000,2099,24,954]
["Pommertsweiler                                              ",321,"Aalen",2,0.5,321,{"$f":"IF(IF(LEN(A26)>0,ERROR.TYPE(MATCH(H26,H$1:H25,0))=7,0),C26,\"\")","v":"Aalen"},"2Pommertsweiler                                              ",null,null,null,null,null,2100,2199,24,978]
["Bopfingen                                                   ",1914,"Aalen",2,1,1914,{"$f":"IF(IF(LEN(A27)>0,ERROR.TYPE(MATCH(H27,H$1:H26,0))=7,0),C27,\"\")","v":"Aalen"},"2Bopfingen                                                   ",null,null,null,null,null,2200,2299,25,1002]
["Ellwangen/Jagst                                             ",5092,"Aalen",2,1.5,5092,{"$f":"IF(IF(LEN(A28)>0,ERROR.TYPE(MATCH(H28,H$1:H27,0))=7,0),C28,\"\")","v":"Aalen"},"2Ellwangen/Jagst                                             ",null,null,null,null,null,2300,2399,17,1027]
["Essingen                                                    ",2216,"Aalen",2,1,2216,{"$f":"IF(IF(LEN(A29)>0,ERROR.TYPE(MATCH(H29,H$1:H28,0))=7,0),C29,\"\")","v":"Aalen"},"2Essingen                                                    ",null,null,null,null,null,2400,2499,18,1044]
["Fachsenfeld                                                 ",1480,"Aalen",2,1,1480,{"$f":"IF(IF(LEN(A30)>0,ERROR.TYPE(MATCH(H30,H$1:H29,0))=7,0),C30,\"\")","v":"Aalen"},"2Fachsenfeld                                                 ",null,null,null,null,null,2500,2599,18,1062]
["Goldburghausen                                              ",182,"Aalen",2,0.5,182,{"$f":"IF(IF(LEN(A31)>0,ERROR.TYPE(MATCH(H31,H$1:H30,0))=7,0),C31,\"\")","v":"Aalen"},"2Goldburghausen                                              ",null,null,null,null,null,2600,2699,7,1080]
["Pflaumloch                                                  ",351,"Aalen",2,0.5,351,{"$f":"IF(IF(LEN(A32)>0,ERROR.TYPE(MATCH(H32,H$1:H31,0))=7,0),C32,\"\")","v":"Aalen"},"2Pflaumloch                                                  ",null,null,null,null,null,2700,2799,12,1087]
["Kirchheim am Ries                                           ",434,"Aalen",2,1,434,{"$f":"IF(IF(LEN(A33)>0,ERROR.TYPE(MATCH(H33,H$1:H32,0))=7,0),C33,\"\")","v":"Aalen"},"2Kirchheim am Ries                                           ",null,null,null,null,null,2800,2899,19,1099]
["Benzenzimmern                                               ",142,"Aalen",2,0.5,142,{"$f":"IF(IF(LEN(A34)>0,ERROR.TYPE(MATCH(H34,H$1:H33,0))=7,0),C34,\"\")","v":"Aalen"},"2Benzenzimmern                                               ",null,null,null,null,null,2900,2999,13,1118]
["Lauchheim-Westhausen                                        ",1915,"Aalen",2,1,1915,{"$f":"IF(IF(LEN(A35)>0,ERROR.TYPE(MATCH(H35,H$1:H34,0))=7,0),C35,\"\")","v":"Aalen"},"2Lauchheim-Westhausen                                        ",null,null,null,null,null,3000,3099,15,1131]
["Lauterburg                                                  ",388,"Aalen",2,0.5,388,{"$f":"IF(IF(LEN(A36)>0,ERROR.TYPE(MATCH(H36,H$1:H35,0))=7,0),C36,\"\")","v":"Aalen"},"2Lauterburg                                                  ",null,null,null,null,null,3100,3199,18,1146]
["Neresheim                                                   ",1160,"Aalen",2,1,1160,{"$f":"IF(IF(LEN(A37)>0,ERROR.TYPE(MATCH(H37,H$1:H36,0))=7,0),C37,\"\")","v":"Aalen"},"2Neresheim                                                   ",null,null,null,null,null,3200,3299,{"$f":"Q38-Q37","v":14},{"$f":"COUNTIF(F:F,\"<\"&TEXT(N37,\"#####\"))-COUNTIF(F:F,\"<\"&TEXT(N$5,\"#####\"))","v":1164}]
["Abtsgmünd-Leinroden-Neubronn                                ",1259,"Aalen",2,1,1259,{"$f":"IF(IF(LEN(A38)>0,ERROR.TYPE(MATCH(H38,H$1:H37,0))=7,0),C38,\"\")","v":"Aalen"},"2Abtsgmünd-Leinroden-Neubronn                                ",null,null,null,null,null,3300,3399,5,1178]
["Oberdorf am Ipf                                             ",729,"Aalen",2,1,729,{"$f":"IF(IF(LEN(A39)>0,ERROR.TYPE(MATCH(H39,H$1:H38,0))=7,0),C39,\"\")","v":"Aalen"},"2Oberdorf am Ipf                                             ",null,null,null,null,null,3400,3499,12,1183]
["Oberkochen                                                  ",2144,"Aalen",2,1,2144,{"$f":"IF(IF(LEN(A40)>0,ERROR.TYPE(MATCH(H40,H$1:H39,0))=7,0),C40,\"\")","v":"Aalen"},"2Oberkochen                                                  ",null,null,null,null,null,3500,3599,3,1195]
["Schweindorf                                                 ",254,"Aalen",2,0.5,254,{"$f":"IF(IF(LEN(A41)>0,ERROR.TYPE(MATCH(H41,H$1:H40,0))=7,0),C41,\"\")","v":"Aalen"},"2Schweindorf                                                 ",null,null,null,null,null,3600,3699,7,1198]
["Trochtelfingen                                              ",754,"Aalen",2,1,754,{"$f":"IF(IF(LEN(A42)>0,ERROR.TYPE(MATCH(H42,H$1:H41,0))=7,0),C42,\"\")","v":"Aalen"},"2Trochtelfingen                                              ",null,null,null,null,null,3700,3799,8,1205]
["Unterkochen-Ebnat                                           ",1359,"Aalen",2,1,1359,{"$f":"IF(IF(LEN(A43)>0,ERROR.TYPE(MATCH(H43,H$1:H42,0))=7,0),C43,\"\")","v":"Aalen"},"2Unterkochen-Ebnat                                           ",null,null,null,null,null,3800,3899,4,1213]
["Walxheim                                                    ",1014,"Aalen",2,1,1014,{"$f":"IF(IF(LEN(A44)>0,ERROR.TYPE(MATCH(H44,H$1:H43,0))=7,0),C44,\"\")","v":"Aalen"},"2Walxheim                                                    ",null,null,null,null,null,3900,3999,6,1217]
["Wasseralfingen-Hüttlingen                                   ",3626,"Aalen",2,1.5,3626,{"$f":"IF(IF(LEN(A45)>0,ERROR.TYPE(MATCH(H45,H$1:H44,0))=7,0),C45,\"\")","v":"Aalen"},"2Wasseralfingen-Hüttlingen                                   ",null,null,null,null,null,4000,4099,7,1223]
["Wört                                                        ",623,"Aalen",2,1,623,{"$f":"IF(IF(LEN(A46)>0,ERROR.TYPE(MATCH(H46,H$1:H45,0))=7,0),C46,\"\")","v":"Aalen"},"2Wört                                                        ",null,null,null,null,null,4100,4199,2,1230]
["Backnang Stiftskirchengemeinde                              ",2911,"Backnang",3,1.5,2911,{"$f":"IF(IF(LEN(A47)>0,ERROR.TYPE(MATCH(H47,H$1:H46,0))=7,0),C47,\"\")","v":"Backnang"},"3Backnang Stiftskirchengemeinde                              ",null,null,null,null,null,4200,4299,10,1232]
["Backnang Markuskirchengemeinde                              ",2490,"Backnang",3,1,2490,{"$f":"IF(IF(LEN(A48)>0,ERROR.TYPE(MATCH(H48,H$1:H47,0))=7,0),C48,\"\")","v":"Backnang"},"3Backnang Markuskirchengemeinde                              ",null,null,null,null,null,4300,4399,3,1242]
["Backnang Matthäuskirchengemeinde                            ",3290,"Backnang",3,1.5,3290,{"$f":"IF(IF(LEN(A49)>0,ERROR.TYPE(MATCH(H49,H$1:H48,0))=7,0),C49,\"\")","v":"Backnang"},"3Backnang Matthäuskirchengemeinde                            ",null,null,null,null,null,4400,4499,6,1245]
["Sachsenweiler-Steinbach                                     ",1246,"Backnang",3,1,1246,{"$f":"IF(IF(LEN(A50)>0,ERROR.TYPE(MATCH(H50,H$1:H49,0))=7,0),C50,\"\")","v":"Backnang"},"3Sachsenweiler-Steinbach                                     ",null,null,null,null,null,4500,4599,2,1251]
["Waldrems-Maubach-Heiningen                                  ",2489,"Backnang",3,1,2489,{"$f":"IF(IF(LEN(A51)>0,ERROR.TYPE(MATCH(H51,H$1:H50,0))=7,0),C51,\"\")","v":"Backnang"},"3Waldrems-Maubach-Heiningen                                  ",null,null,null,null,null,4600,4699,4,1253]
["Allmersbach im Tal                                          ",2175,"Backnang",3,1,2175,{"$f":"IF(IF(LEN(A52)>0,ERROR.TYPE(MATCH(H52,H$1:H51,0))=7,0),C52,\"\")","v":"Backnang"},"3Allmersbach im Tal                                          ",null,null,null,null,null,4700,4799,1,1257]
["Althütte                                                    ",1862,"Backnang",3,1,1862,{"$f":"IF(IF(LEN(A53)>0,ERROR.TYPE(MATCH(H53,H$1:H52,0))=7,0),C53,\"\")","v":"Backnang"},"3Althütte                                                    ",null,null,null,null,null,4800,4899,5,1258]
["Burgstall                                                   ",748,"Backnang",3,1,748,{"$f":"IF(IF(LEN(A54)>0,ERROR.TYPE(MATCH(H54,H$1:H53,0))=7,0),C54,\"\")","v":"Backnang"},"3Burgstall                                                   ",null,null,null,null,null,4900,4999,4,1263]
["Erbstetten                                                  ",976,"Backnang",3,1,976,{"$f":"IF(IF(LEN(A55)>0,ERROR.TYPE(MATCH(H55,H$1:H54,0))=7,0),C55,\"\")","v":"Backnang"},"3Erbstetten                                                  ",null,null,null,null,null,5000,5099,6,1267]
["Fornsbach                                                   ",778,"Backnang",3,1,778,{"$f":"IF(IF(LEN(A56)>0,ERROR.TYPE(MATCH(H56,H$1:H55,0))=7,0),C56,\"\")","v":"Backnang"},"3Fornsbach                                                   ",null,null,null,null,null,5100,5199,3,1273]
["Großaspach                                                  ",1992,"Backnang",3,1,1992,{"$f":"IF(IF(LEN(A57)>0,ERROR.TYPE(MATCH(H57,H$1:H56,0))=7,0),C57,\"\")","v":"Backnang"},"3Großaspach                                                  ",null,null,null,null,null,5200,5299,2,1276]
["Kleinaspach-Allmersbach am Weinberg                         ",1519,"Backnang",3,1,1519,{"$f":"IF(IF(LEN(A58)>0,ERROR.TYPE(MATCH(H58,H$1:H57,0))=7,0),C58,\"\")","v":"Backnang"},"3Kleinaspach-Allmersbach am Weinberg                         ",null,null,null,null,null,5300,5399,1,1278]
["Lippoldsweiler                                              ",1203,"Backnang",3,1,1203,{"$f":"IF(IF(LEN(A59)>0,ERROR.TYPE(MATCH(H59,H$1:H58,0))=7,0),C59,\"\")","v":"Backnang"},"3Lippoldsweiler                                              ",null,null,null,null,null,5400,5499,1,1279]
["Murrhardt                                                   ",4871,"Backnang",3,1.5,4871,{"$f":"IF(IF(LEN(A60)>0,ERROR.TYPE(MATCH(H60,H$1:H59,0))=7,0),C60,\"\")","v":"Backnang"},"3Murrhardt                                                   ",null,null,null,null,null,5500,5599,1,1280]
["Oberbrüden-Unterbrüden                                      ",2069,"Backnang",3,1,2069,{"$f":"IF(IF(LEN(A61)>0,ERROR.TYPE(MATCH(H61,H$1:H60,0))=7,0),C61,\"\")","v":"Backnang"},"3Oberbrüden-Unterbrüden                                      ",null,null,null,null,null,5600,5699,1,1281]
["Oppenweiler                                                 ",2393,"Backnang",3,1,2393,{"$f":"IF(IF(LEN(A62)>0,ERROR.TYPE(MATCH(H62,H$1:H61,0))=7,0),C62,\"\")","v":"Backnang"},"3Oppenweiler                                                 ",null,null,null,null,null,5700,5799,1,1282]
["Rietenau                                                    ",512,"Backnang",3,1,512,{"$f":"IF(IF(LEN(A63)>0,ERROR.TYPE(MATCH(H63,H$1:H62,0))=7,0),C63,\"\")","v":"Backnang"},"3Rietenau                                                    ",null,null,null,null,null,5800,5899,1,1283]
["Spiegelberg                                                 ",1009,"Backnang",3,1,1009,{"$f":"IF(IF(LEN(A64)>0,ERROR.TYPE(MATCH(H64,H$1:H63,0))=7,0),C64,\"\")","v":"Backnang"},"3Spiegelberg                                                 ",null,null,null,null,null,5900,5999,1,1284]
["Sulzbach an der Murr                                        ",2449,"Backnang",3,1,2449,{"$f":"IF(IF(LEN(A65)>0,ERROR.TYPE(MATCH(H65,H$1:H64,0))=7,0),C65,\"\")","v":"Backnang"},"3Sulzbach an der Murr                                        ",null,null,null,null,null,6000,6099,0,1285]
["Weissach im Tal                                             ",3184,"Backnang",3,1.5,3184,{"$f":"IF(IF(LEN(A66)>0,ERROR.TYPE(MATCH(H66,H$1:H65,0))=7,0),C66,\"\")","v":"Backnang"},"3Weissach im Tal                                             ",null,null,null,null,null,6100,6199,1,1285]
["Kirchenkirnberg                                             ",665,"Backnang",3,{"$f":"IF($G67<>\"\",IF($B67<400,0.5,IF($B67<2801,1,IF($B67<5601,1.5,IF($B67<8401,2,IF($B67<11201,2.5,1000))))),\"\")","v":1},665,{"$f":"IF(IF(LEN(A67)>0,ERROR.TYPE(MATCH(H67,H$1:H66,0))=7,0),C67,\"\")","v":"Backnang"},"3Kirchenkirnberg                                             ",null,null,null,null,null,6200,6299,1,1286]
["Großerlach/Grab                                             ",1213,"Backnang",3,1,{"$f":"IF(E68<>\"#NV\",B68,\"\")","v":1213},{"$f":"IF(IF(LEN(A68)>0,ERROR.TYPE(MATCH(H68,H$1:H67,0))=7,0),C68,\"\")","v":"Backnang"},{"$f":"D68&A68","v":"3Großerlach/Grab                                             "},null,null,null,null,null,6300,6399,0,1287]
["Balingen Stadtkirchengemeinde                               ",1704,"Balingen",4,1,1704,{"$f":"IF(IF(LEN(A69)>0,ERROR.TYPE(MATCH(H69,H$1:H68,0))=7,0),C69,\"\")","v":"Balingen"},"4Balingen Stadtkirchengemeinde                               ",null,null,null,null,null,6400,6499,{"$f":"Q70-Q69","v":1},{"$f":"COUNTIF(F:F,\"<\"&TEXT(N69,\"#####\"))-COUNTIF(F:F,\"<\"&TEXT(N$5,\"#####\"))","v":1287}]
["Bisingen                                                    ",2565,"Balingen",4,1,2565,{"$f":"IF(IF(LEN(A70)>0,ERROR.TYPE(MATCH(H70,H$1:H69,0))=7,0),C70,\"\")","v":"Balingen"},"4Bisingen                                                    ",null,null,null,null,null,6500,{"$f":"N71-1","v":6599},1,1288]
["Bitz                                                        ",1908,"Balingen",4,1,1908,{"$f":"IF(IF(LEN(A71)>0,ERROR.TYPE(MATCH(H71,H$1:H70,0))=7,0),C71,\"\")","v":"Balingen"},"4Bitz                                                        ",null,null,null,null,null,6600,6699,0,1289]
["Dürrwangen-Stockenhausen                                    ",814,"Balingen",4,1,814,{"$f":"IF(IF(LEN(A72)>0,ERROR.TYPE(MATCH(H72,H$1:H71,0))=7,0),C72,\"\")","v":"Balingen"},"4Dürrwangen-Stockenhausen                                    ",null,null,null,null,null,6700,6799,0,1289]
["Endingen                                                    ",1020,"Balingen",4,1,1020,{"$f":"IF(IF(LEN(A73)>0,ERROR.TYPE(MATCH(H73,H$1:H72,0))=7,0),C73,\"\")","v":"Balingen"},"4Endingen                                                    ",null,null,null,null,null,6800,6899,0,1289]
["Engstlatt                                                   ",928,"Balingen",4,1,928,{"$f":"IF(IF(LEN(A74)>0,ERROR.TYPE(MATCH(H74,H$1:H73,0))=7,0),C74,\"\")","v":"Balingen"},"4Engstlatt                                                   ",null,null,null,null,null,6900,6999,1,1289]
["Erzingen-Schömberg                                          ",1894,"Balingen",4,1,1894,{"$f":"IF(IF(LEN(A75)>0,ERROR.TYPE(MATCH(H75,H$1:H74,0))=7,0),C75,\"\")","v":"Balingen"},"4Erzingen-Schömberg                                          ",null,null,null,null,null,7000,7099,0,1290]
["Frommern                                                    ",1824,"Balingen",4,1,1824,{"$f":"IF(IF(LEN(A76)>0,ERROR.TYPE(MATCH(H76,H$1:H75,0))=7,0),C76,\"\")","v":"Balingen"},"4Frommern                                                    ",null,null,null,null,null,7100,7199,0,1290]
["Haigerloch                                                  ",1946,"Balingen",4,1,1946,{"$f":"IF(IF(LEN(A77)>0,ERROR.TYPE(MATCH(H77,H$1:H76,0))=7,0),C77,\"\")","v":"Balingen"},"4Haigerloch                                                  ",null,null,null,null,null,7200,7299,1,1290]
["Hechingen                                                   ",4495,"Balingen",4,1.5,4495,{"$f":"IF(IF(LEN(A78)>0,ERROR.TYPE(MATCH(H78,H$1:H77,0))=7,0),C78,\"\")","v":"Balingen"},"4Hechingen                                                   ",null,null,null,null,null,7300,7399,1,1291]
["Laufen an der Eyach                                         ",1568,"Balingen",4,1,1568,{"$f":"IF(IF(LEN(A79)>0,ERROR.TYPE(MATCH(H79,H$1:H78,0))=7,0),C79,\"\")","v":"Balingen"},"4Laufen an der Eyach                                         ",null,null,null,null,null,7400,7499,0,1292]
["Meßstetten                                                  ",2504,"Balingen",4,1,2504,{"$f":"IF(IF(LEN(A80)>0,ERROR.TYPE(MATCH(H80,H$1:H79,0))=7,0),C80,\"\")","v":"Balingen"},"4Meßstetten                                                  ",null,null,null,null,null,7500,7599,1,1292]
["Hossingen                                                   ",477,"Balingen",4,1,477,{"$f":"IF(IF(LEN(A81)>0,ERROR.TYPE(MATCH(H81,H$1:H80,0))=7,0),C81,\"\")","v":"Balingen"},"4Hossingen                                                   ",null,null,null,null,null,7600,7699,0,1293]
["Onstmettingen                                               ",2405,"Balingen",4,1,2405,{"$f":"IF(IF(LEN(A82)>0,ERROR.TYPE(MATCH(H82,H$1:H81,0))=7,0),C82,\"\")","v":"Balingen"},"4Onstmettingen                                               ",null,null,null,null,null,7700,7799,0,1293]
["Ostdorf-Geislingen                                          ",{"$f":"1644+364","v":2008},"Balingen",4,1,2008,{"$f":"IF(IF(LEN(A83)>0,ERROR.TYPE(MATCH(H83,H$1:H82,0))=7,0),C83,\"\")","v":"Balingen"},"4Ostdorf-Geislingen                                          ",null,null,null,null,null,7800,7899,0,1293]
["Ostrach                                                     ",1204,"Balingen",4,1,1204,{"$f":"IF(IF(LEN(A84)>0,ERROR.TYPE(MATCH(H84,H$1:H83,0))=7,0),C84,\"\")","v":"Balingen"},"4Ostrach                                                     ",null,null,null,null,null,7900,7999,1,1293]
["Pfeffingen                                                  ",1195,"Balingen",4,1,1195,{"$f":"IF(IF(LEN(A85)>0,ERROR.TYPE(MATCH(H85,H$1:H84,0))=7,0),C85,\"\")","v":"Balingen"},"4Pfeffingen                                                  ",null,null,null,null,null,8000,8099,0,1294]
["Burgfelden                                                  ",156,"Balingen",4,0.5,156,{"$f":"IF(IF(LEN(A86)>0,ERROR.TYPE(MATCH(H86,H$1:H85,0))=7,0),C86,\"\")","v":"Balingen"},"4Burgfelden                                                  ",null,null,null,null,null,8100,8199,0,1294]
["Sigmaringen                                                 ",5086,"Balingen",4,1.5,5086,{"$f":"IF(IF(LEN(A87)>0,ERROR.TYPE(MATCH(H87,H$1:H86,0))=7,0),C87,\"\")","v":"Balingen"},"4Sigmaringen                                                 ",null,null,null,null,null,8200,8299,0,1294]
["Täbingen                                                    ",475,"Balingen",4,1,475,{"$f":"IF(IF(LEN(A88)>0,ERROR.TYPE(MATCH(H88,H$1:H87,0))=7,0),C88,\"\")","v":"Balingen"},"4Täbingen                                                    ",null,null,null,null,null,8300,8399,1,1294]
["Tailfingen                                                  ",4403,"Balingen",4,1.5,4403,{"$f":"IF(IF(LEN(A89)>0,ERROR.TYPE(MATCH(H89,H$1:H88,0))=7,0),C89,\"\")","v":"Balingen"},"4Tailfingen                                                  ",null,null,null,null,null,8400,8499,0,1295]
["Truchtelfingen                                              ",1438,"Balingen",4,1,1438,{"$f":"IF(IF(LEN(A90)>0,ERROR.TYPE(MATCH(H90,H$1:H89,0))=7,0),C90,\"\")","v":"Balingen"},"4Truchtelfingen                                              ",null,null,null,null,null,8500,8599,0,1295]
["Tieringen                                                   ",654,"Balingen",4,1,654,{"$f":"IF(IF(LEN(A91)>0,ERROR.TYPE(MATCH(H91,H$1:H90,0))=7,0),C91,\"\")","v":"Balingen"},"4Tieringen                                                   ",null,null,null,null,null,8600,8699,0,1295]
["Oberdigisheim                                               ",827,"Balingen",4,1,827,{"$f":"IF(IF(LEN(A92)>0,ERROR.TYPE(MATCH(H92,H$1:H91,0))=7,0),C92,\"\")","v":"Balingen"},"4Oberdigisheim                                               ",null,null,null,null,null,8700,8799,0,1295]
["Weilstetten                                                 ",2002,"Balingen",4,1,2002,{"$f":"IF(IF(LEN(A93)>0,ERROR.TYPE(MATCH(H93,H$1:H92,0))=7,0),C93,\"\")","v":"Balingen"},"4Weilstetten                                                 ",null,null,null,null,null,8800,8899,0,1295]
["Winterlingen                                                ",2910,"Balingen",4,1.5,2910,{"$f":"IF(IF(LEN(A94)>0,ERROR.TYPE(MATCH(H94,H$1:H93,0))=7,0),C94,\"\")","v":"Balingen"},"4Winterlingen                                                ",null,null,null,null,null,8900,8999,0,1295]
["Zillhausen                                                  ",461,"Balingen",4,1,461,{"$f":"IF(IF(LEN(A95)>0,ERROR.TYPE(MATCH(H95,H$1:H94,0))=7,0),C95,\"\")","v":"Balingen"},"4Zillhausen                                                  ",null,null,null,null,null,9000,9099,0,1295]
["Streichen                                                   ",297,"Balingen",4,0.5,297,{"$f":"IF(IF(LEN(A96)>0,ERROR.TYPE(MATCH(H96,H$1:H95,0))=7,0),C96,\"\")","v":"Balingen"},"4Streichen                                                   ",null,null,null,null,null,9100,9199,0,1295]
["Ebingen Martinskirchengemeinde                              ",2659,"Balingen",4,1,2659,{"$f":"IF(IF(LEN(A97)>0,ERROR.TYPE(MATCH(H97,H$1:H96,0))=7,0),C97,\"\")","v":"Balingen"},"4Ebingen Martinskirchengemeinde                              ",null,null,null,null,null,9200,9299,0,1295]
["Ebingen Friedenskirchengemeinde                             ",2200,"Balingen",4,1,2200,{"$f":"IF(IF(LEN(A98)>0,ERROR.TYPE(MATCH(H98,H$1:H97,0))=7,0),C98,\"\")","v":"Balingen"},"4Ebingen Friedenskirchengemeinde                             ",null,null,null,null,null,9300,9399,1,1295]
["Ebingen Thomaskirchengemeinde                               ",1377,"Balingen",4,1,1377,{"$f":"IF(IF(LEN(A99)>0,ERROR.TYPE(MATCH(H99,H$1:H98,0))=7,0),C99,\"\")","v":"Balingen"},"4Ebingen Thomaskirchengemeinde                               ",null,null,null,null,null,9400,9499,1,1296]
["Heselwangen                                                 ",641,"Balingen",4,1,641,{"$f":"IF(IF(LEN(A100)>0,ERROR.TYPE(MATCH(H100,H$1:H99,0))=7,0),C100,\"\")","v":"Balingen"},"4Heselwangen                                                 ",null,null,null,null,null,9500,9599,0,1297]
["Balingen auf Schmiden                                       ",1320,"Balingen",4,1,1320,{"$f":"IF(IF(LEN(A101)>0,ERROR.TYPE(MATCH(H101,H$1:H100,0))=7,0),C101,\"\")","v":"Balingen"},"4Balingen auf Schmiden                                       ",null,null,null,null,null,9600,9699,{"$f":"Q102-Q101","v":1},{"$f":"COUNTIF(F:F,\"<\"&TEXT(N101,\"#####\"))-COUNTIF(F:F,\"<\"&TEXT(N$5,\"#####\"))","v":1297}]
["Rangendingen                                                ",733,"Balingen",4,1,733,{"$f":"IF(IF(LEN(A102)>0,ERROR.TYPE(MATCH(H102,H$1:H101,0))=7,0),C102,\"\")","v":"Balingen"},"4Rangendingen                                                ",null,null,null,null,null,9700,9799,0,1298]
["Balingen-Ost                                                ",2134,"Balingen",4,1,2134,{"$f":"IF(IF(LEN(A103)>0,ERROR.TYPE(MATCH(H103,H$1:H102,0))=7,0),C103,\"\")","v":"Balingen"},"4Balingen-Ost                                                ",null,null,null,null,null,9800,9899,0,1298]
["Burladingen                                                 ",1391,"Balingen",4,1,1391,{"$f":"IF(IF(LEN(A104)>0,ERROR.TYPE(MATCH(H104,H$1:H103,0))=7,0),C104,\"\")","v":"Balingen"},"4Burladingen                                                 ",null,null,null,null,null,9900,9999,0,1298]
["Isingen                                                     ",363,"Sulz/Neckar",41,0.5,363,{"$f":"IF(IF(LEN(A105)>0,ERROR.TYPE(MATCH(H105,H$1:H104,0))=7,0),C105,\"\")","v":"Sulz/Neckar"},"41Isingen                                                     ",null,null,null,null,null,10000,10099,0,1298]
["Besigheim                                                   ",4938,"Besigheim",5,1.5,4938,{"$f":"IF(IF(LEN(A106)>0,ERROR.TYPE(MATCH(H106,H$1:H105,0))=7,0),C106,\"\")","v":"Besigheim"},"5Besigheim                                                   ",null,null,null,null,null,10100,10199,0,1298]
["Bietigheim Stadtkirchengemeinde                             ",3798,"Besigheim",5,1.5,3798,{"$f":"IF(IF(LEN(A107)>0,ERROR.TYPE(MATCH(H107,H$1:H106,0))=7,0),C107,\"\")","v":"Besigheim"},"5Bietigheim Stadtkirchengemeinde                             ",null,null,null,null,null,10200,10299,0,1298]
["Bietigheim Friedenskirchengemeinde                          ",2075,"Besigheim",5,1,2075,{"$f":"IF(IF(LEN(A108)>0,ERROR.TYPE(MATCH(H108,H$1:H107,0))=7,0),C108,\"\")","v":"Besigheim"},"5Bietigheim Friedenskirchengemeinde                          ",null,null,null,null,null,10300,10399,0,1298]
["Bietigheim Pauluskirchengemeinde                            ",3015,"Besigheim",5,1.5,3015,{"$f":"IF(IF(LEN(A109)>0,ERROR.TYPE(MATCH(H109,H$1:H108,0))=7,0),C109,\"\")","v":"Besigheim"},"5Bietigheim Pauluskirchengemeinde                            ",null,null,null,null,null,10400,10499,0,1298]
["Metterzimmern                                               ",700,"Besigheim",5,1,700,{"$f":"IF(IF(LEN(A110)>0,ERROR.TYPE(MATCH(H110,H$1:H109,0))=7,0),C110,\"\")","v":"Besigheim"},"5Metterzimmern                                               ",null,null,null,null,null,10500,10599,0,1298]
["Bönnigheim                                                  ",3112,"Besigheim",5,1.5,3112,{"$f":"IF(IF(LEN(A111)>0,ERROR.TYPE(MATCH(H111,H$1:H110,0))=7,0),C111,\"\")","v":"Besigheim"},"5Bönnigheim                                                  ",null,null,null,null,null,10600,10699,0,1298]
["Hohenstein                                                  ",231,"Besigheim",5,0.5,231,{"$f":"IF(IF(LEN(A112)>0,ERROR.TYPE(MATCH(H112,H$1:H111,0))=7,0),C112,\"\")","v":"Besigheim"},"5Hohenstein                                                  ",null,null,null,null,null,10700,10799,0,1298]
["Erligheim                                                   ",1327,"Besigheim",5,1,1327,{"$f":"IF(IF(LEN(A113)>0,ERROR.TYPE(MATCH(H113,H$1:H112,0))=7,0),C113,\"\")","v":"Besigheim"},"5Erligheim                                                   ",null,null,null,null,null,10800,10899,0,1298]
["Freudental                                                  ",1143,"Besigheim",5,1,1143,{"$f":"IF(IF(LEN(A114)>0,ERROR.TYPE(MATCH(H114,H$1:H113,0))=7,0),C114,\"\")","v":"Besigheim"},"5Freudental                                                  ",null,null,null,null,null,10900,10999,0,1298]
["Gemmrigheim                                                 ",1808,"Besigheim",5,1,1808,{"$f":"IF(IF(LEN(A115)>0,ERROR.TYPE(MATCH(H115,H$1:H114,0))=7,0),C115,\"\")","v":"Besigheim"},"5Gemmrigheim                                                 ",null,null,null,null,null,11000,11099,0,1298]
["Großingersheim                                              ",2137,"Besigheim",5,1,2137,{"$f":"IF(IF(LEN(A116)>0,ERROR.TYPE(MATCH(H116,H$1:H115,0))=7,0),C116,\"\")","v":"Besigheim"},"5Großingersheim                                              ",null,null,null,null,null,11100,11199,0,1298]
["Hessigheim                                                  ",1288,"Besigheim",5,1,1288,{"$f":"IF(IF(LEN(A117)>0,ERROR.TYPE(MATCH(H117,H$1:H116,0))=7,0),C117,\"\")","v":"Besigheim"},"5Hessigheim                                                  ",null,null,null,null,null,11200,11299,0,1298]
["Kirchheim am Neckar                                         ",2097,"Besigheim",5,1,2097,{"$f":"IF(IF(LEN(A118)>0,ERROR.TYPE(MATCH(H118,H$1:H117,0))=7,0),C118,\"\")","v":"Besigheim"},"5Kirchheim am Neckar                                         ",null,null,null,null,null,11300,11399,0,1298]
["Kleiningersheim                                             ",581,"Besigheim",5,1,581,{"$f":"IF(IF(LEN(A119)>0,ERROR.TYPE(MATCH(H119,H$1:H118,0))=7,0),C119,\"\")","v":"Besigheim"},"5Kleiningersheim                                             ",null,null,null,null,null,11400,11499,0,1298]
["Lauffen am Neckar                                           ",4836,"Besigheim",5,1.5,4836,{"$f":"IF(IF(LEN(A120)>0,ERROR.TYPE(MATCH(H120,H$1:H119,0))=7,0),C120,\"\")","v":"Besigheim"},"5Lauffen am Neckar                                           ",null,null,null,null,null,11500,11599,0,1298]
["Löchgau                                                     ",2525,"Besigheim",5,1,2525,{"$f":"IF(IF(LEN(A121)>0,ERROR.TYPE(MATCH(H121,H$1:H120,0))=7,0),C121,\"\")","v":"Besigheim"},"5Löchgau                                                     ",null,null,null,null,null,11600,11699,0,1298]
["Neckarwestheim                                              ",1785,"Besigheim",5,1,1785,{"$f":"IF(IF(LEN(A122)>0,ERROR.TYPE(MATCH(H122,H$1:H121,0))=7,0),C122,\"\")","v":"Besigheim"},"5Neckarwestheim                                              ",null,null,null,null,null,11700,11799,0,1298]
["Walheim                                                     ",1508,"Besigheim",5,1,1508,{"$f":"IF(IF(LEN(A123)>0,ERROR.TYPE(MATCH(H123,H$1:H122,0))=7,0),C123,\"\")","v":"Besigheim"},"5Walheim                                                     ",null,null,null,null,null,11800,11899,0,1298]
["Bissingen a.d. Enz                                          ",4845,"Besigheim",5,1.5,4845,{"$f":"IF(IF(LEN(A124)>0,ERROR.TYPE(MATCH(H124,H$1:H123,0))=7,0),C124,\"\")","v":"Besigheim"},"5Bissingen a.d. Enz                                          ",null,null,null,null,null,11900,11999,0,1298]
["Biberach Stadtpfarrkirchengemeinde                          ",1206,"Biberach",6,1,1206,{"$f":"IF(IF(LEN(A125)>0,ERROR.TYPE(MATCH(H125,H$1:H124,0))=7,0),C125,\"\")","v":"Biberach"},"6Biberach Stadtpfarrkirchengemeinde                          ",null,null,null,null,null,12000,12099,0,1298]
["Altshausen                                                  ",1552,"Biberach",6,1,1552,{"$f":"IF(IF(LEN(A126)>0,ERROR.TYPE(MATCH(H126,H$1:H125,0))=7,0),C126,\"\")","v":"Biberach"},"6Altshausen                                                  ",null,null,null,null,null,12100,12199,0,{"$f":"COUNTIF(F:F,\"<\"&TEXT(N126,\"#####\"))-COUNTIF(F:F,\"<\"&TEXT(N$5,\"#####\"))","v":1298}]
["Attenweiler                                                 ",1006,"Biberach",6,1,1006,{"$f":"IF(IF(LEN(A127)>0,ERROR.TYPE(MATCH(H127,H$1:H126,0))=7,0),C127,\"\")","v":"Biberach"},"6Attenweiler                                                 ",null,null,null,null,null,12200,12299,0,1298]
["Aulendorf Thomaskirchengemeinde                             ",2267,"Biberach",6,1,2267,{"$f":"IF(IF(LEN(A128)>0,ERROR.TYPE(MATCH(H128,H$1:H127,0))=7,0),C128,\"\")","v":"Biberach"},"6Aulendorf Thomaskirchengemeinde                             ",null,null,null,null,null,12300,12399,0,1298]
["Bad Buchau                                                  ",1005,"Biberach",6,1,1005,{"$f":"IF(IF(LEN(A129)>0,ERROR.TYPE(MATCH(H129,H$1:H128,0))=7,0),C129,\"\")","v":"Biberach"},"6Bad Buchau                                                  ",null,null,null,null,null,12400,12499,0,1298]
["Ersingen                                                    ",1223,"Biberach",6,1,1223,{"$f":"IF(IF(LEN(A130)>0,ERROR.TYPE(MATCH(H130,H$1:H129,0))=7,0),C130,\"\")","v":"Biberach"},"6Ersingen                                                    ",null,null,null,null,null,12500,12599,0,1298]
["Kirchdorf an der Iller                                      ",1425,"Biberach",6,{"$f":"IF($G131<>\"\",IF($B131<400,0.5,IF($B131<2801,1,IF($B131<5601,1.5,IF($B131<8401,2,IF($B131<11201,2.5,1000))))),\"\")","v":1},1425,{"$f":"IF(IF(LEN(A131)>0,ERROR.TYPE(MATCH(H131,H$1:H130,0))=7,0),C131,\"\")","v":"Biberach"},"6Kirchdorf an der Iller                                      ",null,null,null,null,null,12600,12699,0,1298]
["Laupheim                                                    ",3986,"Biberach",6,1.5,{"$f":"IF(E132<>\"#NV\",B132,\"\")","v":3986},{"$f":"IF(IF(LEN(A132)>0,ERROR.TYPE(MATCH(H132,H$1:H131,0))=7,0),C132,\"\")","v":"Biberach"},{"$f":"D132&A132","v":"6Laupheim                                                    "},null,null,null,null,null,12700,12799,0,1298]
["Mengen                                                      ",2096,"Biberach",6,1,2096,{"$f":"IF(IF(LEN(A133)>0,ERROR.TYPE(MATCH(H133,H$1:H132,0))=7,0),C133,\"\")","v":"Biberach"},"6Mengen                                                      ",null,null,null,null,null,12800,12899,0,1298]
["Oberholzheim                                                ",2436,"Biberach",6,1,2436,{"$f":"IF(IF(LEN(A134)>0,ERROR.TYPE(MATCH(H134,H$1:H133,0))=7,0),C134,\"\")","v":"Biberach"},"6Oberholzheim                                                ",null,null,null,null,null,12900,{"$f":"N135-1","v":12999},0,1298]
["Ochsenhausen                                                ",1541,"Biberach",6,1,1541,{"$f":"IF(IF(LEN(A135)>0,ERROR.TYPE(MATCH(H135,H$1:H134,0))=7,0),C135,\"\")","v":"Biberach"},"6Ochsenhausen                                                ",null,null,null,null,null,13000,13099,0,1298]
["Pflummern                                                   ",382,"Biberach",6,0.5,382,{"$f":"IF(IF(LEN(A136)>0,ERROR.TYPE(MATCH(H136,H$1:H135,0))=7,0),C136,\"\")","v":"Biberach"},"6Pflummern                                                   ",null,null,null,null,null,13100,13199,0,1298]
["Heiligkreuztal                                              ",445,"Biberach",6,1,445,{"$f":"IF(IF(LEN(A137)>0,ERROR.TYPE(MATCH(H137,H$1:H136,0))=7,0),C137,\"\")","v":"Biberach"},"6Heiligkreuztal                                              ",null,null,null,null,null,13200,13299,0,1298]
["Riedlingen                                                  ",4086,"Biberach",6,1.5,4086,{"$f":"IF(IF(LEN(A138)>0,ERROR.TYPE(MATCH(H138,H$1:H137,0))=7,0),C138,\"\")","v":"Biberach"},"6Riedlingen                                                  ",null,null,null,null,null,13300,13399,0,1298]
["Bad Saulgau                                                 ",3124,"Biberach",6,1.5,3124,{"$f":"IF(IF(LEN(A139)>0,ERROR.TYPE(MATCH(H139,H$1:H138,0))=7,0),C139,\"\")","v":"Biberach"},"6Bad Saulgau                                                 ",null,null,null,null,null,13400,13499,0,1298]
["Bad Schussenried                                            ",1360,"Biberach",6,1,1360,{"$f":"IF(IF(LEN(A140)>0,ERROR.TYPE(MATCH(H140,H$1:H139,0))=7,0),C140,\"\")","v":"Biberach"},"6Bad Schussenried                                            ",null,null,null,null,null,13500,13599,0,1298]
["Balzheim                                                    ",978,"Biberach",6,1,978,{"$f":"IF(IF(LEN(A141)>0,ERROR.TYPE(MATCH(H141,H$1:H140,0))=7,0),C141,\"\")","v":"Biberach"},"6Balzheim                                                    ",null,null,null,null,null,13600,13699,0,1298]
["Dietenheim                                                  ",1560,"Biberach",6,1,1560,{"$f":"IF(IF(LEN(A142)>0,ERROR.TYPE(MATCH(H142,H$1:H141,0))=7,0),C142,\"\")","v":"Biberach"},"6Dietenheim                                                  ",null,null,null,null,null,13700,13799,0,1298]
["Wain                                                        ",1267,"Biberach",6,1,1267,{"$f":"IF(IF(LEN(A143)>0,ERROR.TYPE(MATCH(H143,H$1:H142,0))=7,0),C143,\"\")","v":"Biberach"},"6Wain                                                        ",null,null,null,null,null,13800,13899,0,1298]
["Biberach Heilig-Geist-Kirchengemeinde                       ",1729,"Biberach",6,1,1729,{"$f":"IF(IF(LEN(A144)>0,ERROR.TYPE(MATCH(H144,H$1:H143,0))=7,0),C144,\"\")","v":"Biberach"},"6Biberach Heilig-Geist-Kirchengemeinde                       ",null,null,null,null,null,13900,13999,0,1298]
["Biberach Friedenskirchengemeinde                            ",2848,"Biberach",6,1.5,2848,{"$f":"IF(IF(LEN(A145)>0,ERROR.TYPE(MATCH(H145,H$1:H144,0))=7,0),C145,\"\")","v":"Biberach"},"6Biberach Friedenskirchengemeinde                            ",null,null,null,null,null,14000,14099,0,1298]
["Biberach Bonhoeffer-Kirchengemeinde                         ",1540,"Biberach",6,1,1540,{"$f":"IF(IF(LEN(A146)>0,ERROR.TYPE(MATCH(H146,H$1:H145,0))=7,0),C146,\"\")","v":"Biberach"},"6Biberach Bonhoeffer-Kirchengemeinde                         ",null,null,null,null,null,14100,14199,0,1298]
["Ummendorf Versöhnungskirche                                 ",1886,"Biberach",6,1,1886,{"$f":"IF(IF(LEN(A147)>0,ERROR.TYPE(MATCH(H147,H$1:H146,0))=7,0),C147,\"\")","v":"Biberach"},"6Ummendorf Versöhnungskirche                                 ",null,null,null,null,null,14200,14299,0,1298]
["Warthausen                                                  ",2254,"Biberach",6,1,2254,{"$f":"IF(IF(LEN(A148)>0,ERROR.TYPE(MATCH(H148,H$1:H147,0))=7,0),C148,\"\")","v":"Biberach"},"6Warthausen                                                  ",null,null,null,null,null,14300,14399,0,1298]
["Erolzheim-Rot                                               ",1174,"Biberach",6,1,1174,{"$f":"IF(IF(LEN(A149)>0,ERROR.TYPE(MATCH(H149,H$1:H148,0))=7,0),C149,\"\")","v":"Biberach"},"6Erolzheim-Rot                                               ",null,null,null,null,null,14400,14499,0,1298]
["Blaubeuren                                                  ",1661,"Blaubeuren",7,1,1661,{"$f":"IF(IF(LEN(A150)>0,ERROR.TYPE(MATCH(H150,H$1:H149,0))=7,0),C150,\"\")","v":"Blaubeuren"},"7Blaubeuren                                                  ",null,null,null,null,null,14500,14599,0,1298]
["Gerhausen                                                   ",666,"Blaubeuren",7,1,666,{"$f":"IF(IF(LEN(A151)>0,ERROR.TYPE(MATCH(H151,H$1:H150,0))=7,0),C151,\"\")","v":"Blaubeuren"},"7Gerhausen                                                   ",null,null,null,null,null,14600,14699,0,1298]
["Asch                                                        ",618,"Blaubeuren",7,1,618,{"$f":"IF(IF(LEN(A152)>0,ERROR.TYPE(MATCH(H152,H$1:H151,0))=7,0),C152,\"\")","v":"Blaubeuren"},"7Asch                                                        ",null,null,null,null,null,14700,14799,0,1298]
["Sonderbuch                                                  ",375,"Blaubeuren",7,0.5,375,{"$f":"IF(IF(LEN(A153)>0,ERROR.TYPE(MATCH(H153,H$1:H152,0))=7,0),C153,\"\")","v":"Blaubeuren"},"7Sonderbuch                                                  ",null,null,null,null,null,14800,14899,0,1298]
["Berghülen                                                   ",833,"Blaubeuren",7,1,833,{"$f":"IF(IF(LEN(A154)>0,ERROR.TYPE(MATCH(H154,H$1:H153,0))=7,0),C154,\"\")","v":"Blaubeuren"},"7Berghülen                                                   ",null,null,null,null,null,14900,14999,0,1298]
["Bühlenhausen                                                ",262,"Blaubeuren",7,0.5,262,{"$f":"IF(IF(LEN(A155)>0,ERROR.TYPE(MATCH(H155,H$1:H154,0))=7,0),C155,\"\")","v":"Blaubeuren"},"7Bühlenhausen                                                ",null,null,null,null,null,15000,null,null,1298]
["Treffensbuch                                                ",56,"Blaubeuren",7,0.5,56,{"$f":"IF(IF(LEN(A156)>0,ERROR.TYPE(MATCH(H156,H$1:H155,0))=7,0),C156,\"\")","v":"Blaubeuren"},"7Treffensbuch                                                "]
["Bermaringen                                                 ",750,"Blaubeuren",7,1,750,{"$f":"IF(IF(LEN(A157)>0,ERROR.TYPE(MATCH(H157,H$1:H156,0))=7,0),C157,\"\")","v":"Blaubeuren"},"7Bermaringen                                                 "]
["Temmenhausen-Tomerdingen                                    ",724,"Blaubeuren",7,1,724,{"$f":"IF(IF(LEN(A158)>0,ERROR.TYPE(MATCH(H158,H$1:H157,0))=7,0),C158,\"\")","v":"Blaubeuren"},"7Temmenhausen-Tomerdingen                                    "]
["Ehingen                                                     ",3487,"Blaubeuren",7,1.5,3487,{"$f":"IF(IF(LEN(A159)>0,ERROR.TYPE(MATCH(H159,H$1:H158,0))=7,0),C159,\"\")","v":"Blaubeuren"},"7Ehingen                                                     "]
["Allmendingen                                                ",603,"Blaubeuren",7,1,603,{"$f":"IF(IF(LEN(A160)>0,ERROR.TYPE(MATCH(H160,H$1:H159,0))=7,0),C160,\"\")","v":"Blaubeuren"},"7Allmendingen                                                "]
["Blaustein                                                   ",1693,"Blaubeuren",7,1,1693,{"$f":"IF(IF(LEN(A161)>0,ERROR.TYPE(MATCH(H161,H$1:H160,0))=7,0),C161,\"\")","v":"Blaubeuren"},"7Blaustein                                                   "]
["Machtolsheim                                                ",642,"Blaubeuren",7,1,642,{"$f":"IF(IF(LEN(A162)>0,ERROR.TYPE(MATCH(H162,H$1:H161,0))=7,0),C162,\"\")","v":"Blaubeuren"},"7Machtolsheim                                                "]
["Merklingen                                                  ",1212,"Blaubeuren",7,1,1212,{"$f":"IF(IF(LEN(A163)>0,ERROR.TYPE(MATCH(H163,H$1:H162,0))=7,0),C163,\"\")","v":"Blaubeuren"},"7Merklingen                                                  "]
["Munderkingen                                                ",1359,"Blaubeuren",7,1,1359,{"$f":"IF(IF(LEN(A164)>0,ERROR.TYPE(MATCH(H164,H$1:H163,0))=7,0),C164,\"\")","v":"Blaubeuren"},"7Munderkingen                                                "]
["Nellingen/Alb                                               ",1149,"Blaubeuren",7,1,1149,{"$f":"IF(IF(LEN(A165)>0,ERROR.TYPE(MATCH(H165,H$1:H164,0))=7,0),C165,\"\")","v":"Blaubeuren"},"7Nellingen/Alb                                               "]
["Oppingen                                                    ",109,"Blaubeuren",7,0.5,109,{"$f":"IF(IF(LEN(A166)>0,ERROR.TYPE(MATCH(H166,H$1:H165,0))=7,0),C166,\"\")","v":"Blaubeuren"},"7Oppingen                                                    "]
["Pappelau                                                    ",855,"Blaubeuren",7,1,855,{"$f":"IF(IF(LEN(A167)>0,ERROR.TYPE(MATCH(H167,H$1:H166,0))=7,0),C167,\"\")","v":"Blaubeuren"},"7Pappelau                                                    "]
["Markbronn                                                   ",418,"Blaubeuren",7,1,418,{"$f":"IF(IF(LEN(A168)>0,ERROR.TYPE(MATCH(H168,H$1:H167,0))=7,0),C168,\"\")","v":"Blaubeuren"},"7Markbronn                                                   "]
["Rottenacker                                                 ",1274,"Blaubeuren",7,1,1274,{"$f":"IF(IF(LEN(A169)>0,ERROR.TYPE(MATCH(H169,H$1:H168,0))=7,0),C169,\"\")","v":"Blaubeuren"},"7Rottenacker                                                 "]
["Scharenstetten                                              ",476,"Blaubeuren",7,1,476,{"$f":"IF(IF(LEN(A170)>0,ERROR.TYPE(MATCH(H170,H$1:H169,0))=7,0),C170,\"\")","v":"Blaubeuren"},"7Scharenstetten                                              "]
["Radelstetten                                                ",135,"Blaubeuren",7,0.5,135,{"$f":"IF(IF(LEN(A171)>0,ERROR.TYPE(MATCH(H171,H$1:H170,0))=7,0),C171,\"\")","v":"Blaubeuren"},"7Radelstetten                                                "]
["Schelklingen                                                ",900,"Blaubeuren",7,1,900,{"$f":"IF(IF(LEN(A172)>0,ERROR.TYPE(MATCH(H172,H$1:H171,0))=7,0),C172,\"\")","v":"Blaubeuren"},"7Schelklingen                                                "]
["Weiler                                                      ",262,"Blaubeuren",7,0.5,262,{"$f":"IF(IF(LEN(A173)>0,ERROR.TYPE(MATCH(H173,H$1:H172,0))=7,0),C173,\"\")","v":"Blaubeuren"},"7Weiler                                                      "]
["Seißen                                                      ",826,"Blaubeuren",7,1,826,{"$f":"IF(IF(LEN(A174)>0,ERROR.TYPE(MATCH(H174,H$1:H173,0))=7,0),C174,\"\")","v":"Blaubeuren"},"7Seißen                                                      "]
["Suppingen                                                   ",517,"Blaubeuren",7,1,517,{"$f":"IF(IF(LEN(A175)>0,ERROR.TYPE(MATCH(H175,H$1:H174,0))=7,0),C175,\"\")","v":"Blaubeuren"},"7Suppingen                                                   "]
["Weilersteusslingen                                          ",572,"Blaubeuren",7,1,572,{"$f":"IF(IF(LEN(A176)>0,ERROR.TYPE(MATCH(H176,H$1:H175,0))=7,0),C176,\"\")","v":"Blaubeuren"},"7Weilersteusslingen                                          "]
["Wippingen                                                   ",467,"Blaubeuren",7,1,467,{"$f":"IF(IF(LEN(A177)>0,ERROR.TYPE(MATCH(H177,H$1:H176,0))=7,0),C177,\"\")","v":"Blaubeuren"},"7Wippingen                                                   "]
["Herrlingen                                                  ",1131,"Blaubeuren",7,1,1131,{"$f":"IF(IF(LEN(A178)>0,ERROR.TYPE(MATCH(H178,H$1:H177,0))=7,0),C178,\"\")","v":"Blaubeuren"},"7Herrlingen                                                  "]
["Blaufelden                                                  ",1761,"Blaufelden",8,1,1761,{"$f":"IF(IF(LEN(A179)>0,ERROR.TYPE(MATCH(H179,H$1:H178,0))=7,0),C179,\"\")","v":"Blaufelden"},"8Blaufelden                                                  "]
["Amlishagen                                                  ",236,"Blaufelden",8,0.5,236,{"$f":"IF(IF(LEN(A180)>0,ERROR.TYPE(MATCH(H180,H$1:H179,0))=7,0),C180,\"\")","v":"Blaufelden"},"8Amlishagen                                                  "]
["Bächlingen                                                  ",202,"Blaufelden",8,0.5,202,{"$f":"IF(IF(LEN(A181)>0,ERROR.TYPE(MATCH(H181,H$1:H180,0))=7,0),C181,\"\")","v":"Blaufelden"},"8Bächlingen                                                  "]
["Beimbach                                                    ",238,"Blaufelden",8,0.5,238,{"$f":"IF(IF(LEN(A182)>0,ERROR.TYPE(MATCH(H182,H$1:H181,0))=7,0),C182,\"\")","v":"Blaufelden"},"8Beimbach                                                    "]
["Billingsbach                                                ",413,"Blaufelden",8,1,413,{"$f":"IF(IF(LEN(A183)>0,ERROR.TYPE(MATCH(H183,H$1:H182,0))=7,0),C183,\"\")","v":"Blaufelden"},"8Billingsbach                                                "]
["Brettheim                                                   ",662,"Blaufelden",8,1,662,{"$f":"IF(IF(LEN(A184)>0,ERROR.TYPE(MATCH(H184,H$1:H183,0))=7,0),C184,\"\")","v":"Blaufelden"},"8Brettheim                                                   "]
["Hilgartshausen                                              ",132,"Blaufelden",8,0.5,132,{"$f":"IF(IF(LEN(A185)>0,ERROR.TYPE(MATCH(H185,H$1:H184,0))=7,0),C185,\"\")","v":"Blaufelden"},"8Hilgartshausen                                              "]
["Dünsbach                                                    ",397,"Blaufelden",8,0.5,397,{"$f":"IF(IF(LEN(A186)>0,ERROR.TYPE(MATCH(H186,H$1:H185,0))=7,0),C186,\"\")","v":"Blaufelden"},"8Dünsbach                                                    "]
["Ettenhausen                                                 ",389,"Blaufelden",8,0.5,389,{"$f":"IF(IF(LEN(A187)>0,ERROR.TYPE(MATCH(H187,H$1:H186,0))=7,0),C187,\"\")","v":"Blaufelden"},"8Ettenhausen                                                 "]
["Gaggstatt                                                   ",286,"Blaufelden",8,0.5,286,{"$f":"IF(IF(LEN(A188)>0,ERROR.TYPE(MATCH(H188,H$1:H187,0))=7,0),C188,\"\")","v":"Blaufelden"},"8Gaggstatt                                                   "]
["Mistlau                                                     ",78,"Blaufelden",8,0.5,78,{"$f":"IF(IF(LEN(A189)>0,ERROR.TYPE(MATCH(H189,H$1:H188,0))=7,0),C189,\"\")","v":"Blaufelden"},"8Mistlau                                                     "]
["Gerabronn                                                   ",1472,"Blaufelden",8,1,1472,{"$f":"IF(IF(LEN(A190)>0,ERROR.TYPE(MATCH(H190,H$1:H189,0))=7,0),C190,\"\")","v":"Blaufelden"},"8Gerabronn                                                   "]
["Hausen am Bach                                              ",246,"Blaufelden",8,0.5,246,{"$f":"IF(IF(LEN(A191)>0,ERROR.TYPE(MATCH(H191,H$1:H190,0))=7,0),C191,\"\")","v":"Blaufelden"},"8Hausen am Bach                                              "]
["Buch                                                        ",57,"Blaufelden",8,0.5,57,{"$f":"IF(IF(LEN(A192)>0,ERROR.TYPE(MATCH(H192,H$1:H191,0))=7,0),C192,\"\")","v":"Blaufelden"},"8Buch                                                        "]
["Hengstfeld                                                  ",527,"Blaufelden",8,1,527,{"$f":"IF(IF(LEN(A193)>0,ERROR.TYPE(MATCH(H193,H$1:H192,0))=7,0),C193,\"\")","v":"Blaufelden"},"8Hengstfeld                                                  "]
["Herrentierbach                                              ",288,"Blaufelden",8,0.5,288,{"$f":"IF(IF(LEN(A194)>0,ERROR.TYPE(MATCH(H194,H$1:H193,0))=7,0),C194,\"\")","v":"Blaufelden"},"8Herrentierbach                                              "]
["Riedbach                                                    ",115,"Blaufelden",8,{"$f":"IF($G195<>\"\",IF($B195<400,0.5,IF($B195<2801,1,IF($B195<5601,1.5,IF($B195<8401,2,IF($B195<11201,2.5,1000))))),\"\")","v":0.5},115,{"$f":"IF(IF(LEN(A195)>0,ERROR.TYPE(MATCH(H195,H$1:H194,0))=7,0),C195,\"\")","v":"Blaufelden"},"8Riedbach                                                    "]
["Kirchberg/Jagst                                             ",1071,"Blaufelden",8,1,{"$f":"IF(E196<>\"#NV\",B196,\"\")","v":1071},{"$f":"IF(IF(LEN(A196)>0,ERROR.TYPE(MATCH(H196,H$1:H195,0))=7,0),C196,\"\")","v":"Blaufelden"},{"$f":"D196&A196","v":"8Kirchberg/Jagst                                             "}]
["Langenburg                                                  ",782,"Blaufelden",8,1,782,{"$f":"IF(IF(LEN(A197)>0,ERROR.TYPE(MATCH(H197,H$1:H196,0))=7,0),C197,\"\")","v":"Blaufelden"},"8Langenburg                                                  "]
["Lendsiedel                                                  ",786,"Blaufelden",8,1,786,{"$f":"IF(IF(LEN(A198)>0,ERROR.TYPE(MATCH(H198,H$1:H197,0))=7,0),C198,\"\")","v":"Blaufelden"},"8Lendsiedel                                                  "]
["Leuzendorf                                                  ",337,"Blaufelden",8,0.5,337,{"$f":"IF(IF(LEN(A199)>0,ERROR.TYPE(MATCH(H199,H$1:H198,0))=7,0),C199,\"\")","v":"Blaufelden"},"8Leuzendorf                                                  "]
["Michelbach a.d. Heide                                       ",306,"Blaufelden",8,0.5,306,{"$f":"IF(IF(LEN(A200)>0,ERROR.TYPE(MATCH(H200,H$1:H199,0))=7,0),C200,\"\")","v":"Blaufelden"},"8Michelbach a.d. Heide                                       "]
["Reubach                                                     ",234,"Blaufelden",8,0.5,234,{"$f":"IF(IF(LEN(A201)>0,ERROR.TYPE(MATCH(H201,H$1:H200,0))=7,0),C201,\"\")","v":"Blaufelden"},"8Reubach                                                     "]
["Michelbach a.d. Lücke                                       ",378,"Blaufelden",8,0.5,378,{"$f":"IF(IF(LEN(A202)>0,ERROR.TYPE(MATCH(H202,H$1:H201,0))=7,0),C202,\"\")","v":"Blaufelden"},"8Michelbach a.d. Lücke                                       "]
["Kleinansbach                                                ",71,"Blaufelden",8,0.5,71,{"$f":"IF(IF(LEN(A203)>0,ERROR.TYPE(MATCH(H203,H$1:H202,0))=7,0),C203,\"\")","v":"Blaufelden"},"8Kleinansbach                                                "]
["Rot am See                                                  ",1799,"Blaufelden",8,1,1799,{"$f":"IF(IF(LEN(A204)>0,ERROR.TYPE(MATCH(H204,H$1:H203,0))=7,0),C204,\"\")","v":"Blaufelden"},"8Rot am See                                                  "]
["Ruppertshofen                                               ",406,"Schwäbisch Hall",21,1,406,{"$f":"IF(IF(LEN(A205)>0,ERROR.TYPE(MATCH(H205,H$1:H204,0))=7,0),C205,\"\")","v":"Schwäbisch Hall"},"21Ruppertshofen                                               "]
["Schmalfelden                                                ",353,"Blaufelden",8,0.5,353,{"$f":"IF(IF(LEN(A206)>0,ERROR.TYPE(MATCH(H206,H$1:H205,0))=7,0),C206,\"\")","v":"Blaufelden"},"8Schmalfelden                                                "]
["Schrozberg                                                  ",2016,"Blaufelden",8,1,2016,{"$f":"IF(IF(LEN(A207)>0,ERROR.TYPE(MATCH(H207,H$1:H206,0))=7,0),C207,\"\")","v":"Blaufelden"},"8Schrozberg                                                  "]
["Spielbach                                                   ",199,"Blaufelden",8,0.5,199,{"$f":"IF(IF(LEN(A208)>0,ERROR.TYPE(MATCH(H208,H$1:H207,0))=7,0),C208,\"\")","v":"Blaufelden"},"8Spielbach                                                   "]
["Heiligenbronn                                               ",283,"Blaufelden",8,0.5,283,{"$f":"IF(IF(LEN(A209)>0,ERROR.TYPE(MATCH(H209,H$1:H208,0))=7,0),C209,\"\")","v":"Blaufelden"},"8Heiligenbronn                                               "]
["Unterregenbach                                              ",171,"Blaufelden",8,0.5,171,{"$f":"IF(IF(LEN(A210)>0,ERROR.TYPE(MATCH(H210,H$1:H209,0))=7,0),C210,\"\")","v":"Blaufelden"},"8Unterregenbach                                              "]
["Wallhausen                                                  ",1277,"Blaufelden",8,1,1277,{"$f":"IF(IF(LEN(A211)>0,ERROR.TYPE(MATCH(H211,H$1:H210,0))=7,0),C211,\"\")","v":"Blaufelden"},"8Wallhausen                                                  "]
["Schainbach                                                  ",99,"Blaufelden",8,0.5,99,{"$f":"IF(IF(LEN(A212)>0,ERROR.TYPE(MATCH(H212,H$1:H211,0))=7,0),C212,\"\")","v":"Blaufelden"},"8Schainbach                                                  "]
["Wiesenbach                                                  ",705,"Blaufelden",8,1,705,{"$f":"IF(IF(LEN(A213)>0,ERROR.TYPE(MATCH(H213,H$1:H212,0))=7,0),C213,\"\")","v":"Blaufelden"},"8Wiesenbach                                                  "]
["Gammesfeld                                                  ",401,"Blaufelden",8,1,401,{"$f":"IF(IF(LEN(A214)>0,ERROR.TYPE(MATCH(H214,H$1:H213,0))=7,0),C214,\"\")","v":"Blaufelden"},"8Gammesfeld                                                  "]
["Böblingen Stadtkirchengemeinde                              ",2888,"Böblingen",9,1.5,2888,{"$f":"IF(IF(LEN(A215)>0,ERROR.TYPE(MATCH(H215,H$1:H214,0))=7,0),C215,\"\")","v":"Böblingen"},"9Böblingen Stadtkirchengemeinde                              "]
["Böblingen Martin-Luther-Kirchengemeinde                     ",3244,"Böblingen",9,1.5,3244,{"$f":"IF(IF(LEN(A216)>0,ERROR.TYPE(MATCH(H216,H$1:H215,0))=7,0),C216,\"\")","v":"Böblingen"},"9Böblingen Martin-Luther-Kirchengemeinde                     "]
["Böblingen Paul-Gerhardt-Kirchengemeinde                     ",2794,"Böblingen",9,1,2794,{"$f":"IF(IF(LEN(A217)>0,ERROR.TYPE(MATCH(H217,H$1:H216,0))=7,0),C217,\"\")","v":"Böblingen"},"9Böblingen Paul-Gerhardt-Kirchengemeinde                     "]
["Aidlingen                                                   ",2388,"Böblingen",9,1,2388,{"$f":"IF(IF(LEN(A218)>0,ERROR.TYPE(MATCH(H218,H$1:H217,0))=7,0),C218,\"\")","v":"Böblingen"},"9Aidlingen                                                   "]
["Altdorf                                                     ",1992,"Böblingen",9,1,1992,{"$f":"IF(IF(LEN(A219)>0,ERROR.TYPE(MATCH(H219,H$1:H218,0))=7,0),C219,\"\")","v":"Böblingen"},"9Altdorf                                                     "]
["Dagersheim                                                  ",1876,"Böblingen",9,1,1876,{"$f":"IF(IF(LEN(A220)>0,ERROR.TYPE(MATCH(H220,H$1:H219,0))=7,0),C220,\"\")","v":"Böblingen"},"9Dagersheim                                                  "]
["Darmsheim                                                   ",1576,"Böblingen",9,1,1576,{"$f":"IF(IF(LEN(A221)>0,ERROR.TYPE(MATCH(H221,H$1:H220,0))=7,0),C221,\"\")","v":"Böblingen"},"9Darmsheim                                                   "]
["Deufringen                                                  ",817,"Böblingen",9,1,817,{"$f":"IF(IF(LEN(A222)>0,ERROR.TYPE(MATCH(H222,H$1:H221,0))=7,0),C222,\"\")","v":"Böblingen"},"9Deufringen                                                  "]
["Dachtel                                                     ",666,"Böblingen",9,1,666,{"$f":"IF(IF(LEN(A223)>0,ERROR.TYPE(MATCH(H223,H$1:H222,0))=7,0),C223,\"\")","v":"Böblingen"},"9Dachtel                                                     "]
["Döffingen                                                   ",2238,"Böblingen",9,1,2238,{"$f":"IF(IF(LEN(A224)>0,ERROR.TYPE(MATCH(H224,H$1:H223,0))=7,0),C224,\"\")","v":"Böblingen"},"9Döffingen                                                   "]
["Ehningen                                                    ",3137,"Böblingen",9,1.5,3137,{"$f":"IF(IF(LEN(A225)>0,ERROR.TYPE(MATCH(H225,H$1:H224,0))=7,0),C225,\"\")","v":"Böblingen"},"9Ehningen                                                    "]
["Holzgerlingen                                               ",5036,"Böblingen",9,1.5,5036,{"$f":"IF(IF(LEN(A226)>0,ERROR.TYPE(MATCH(H226,H$1:H225,0))=7,0),C226,\"\")","v":"Böblingen"},"9Holzgerlingen                                               "]
["Magstadt                                                    ",2750,"Böblingen",9,1,2750,{"$f":"IF(IF(LEN(A227)>0,ERROR.TYPE(MATCH(H227,H$1:H226,0))=7,0),C227,\"\")","v":"Böblingen"},"9Magstadt                                                    "]
["Maichingen                                                  ",3804,"Böblingen",9,1.5,3804,{"$f":"IF(IF(LEN(A228)>0,ERROR.TYPE(MATCH(H228,H$1:H227,0))=7,0),C228,\"\")","v":"Böblingen"},"9Maichingen                                                  "]
["Schönaich                                                   ",4095,"Böblingen",9,1.5,4095,{"$f":"IF(IF(LEN(A229)>0,ERROR.TYPE(MATCH(H229,H$1:H228,0))=7,0),C229,\"\")","v":"Böblingen"},"9Schönaich                                                   "]
["Sindelfingen Martinskirchengemeinde                         ",3931,"Böblingen",9,1.5,3931,{"$f":"IF(IF(LEN(A230)>0,ERROR.TYPE(MATCH(H230,H$1:H229,0))=7,0),C230,\"\")","v":"Böblingen"},"9Sindelfingen Martinskirchengemeinde                         "]
["Sindelfingen Christuskirchengemeinde                        ",2788,"Böblingen",9,1,2788,{"$f":"IF(IF(LEN(A231)>0,ERROR.TYPE(MATCH(H231,H$1:H230,0))=7,0),C231,\"\")","v":"Böblingen"},"9Sindelfingen Christuskirchengemeinde                        "]
["Sindelfingen Goldbergkirchengemeinde                        ",1255,"Böblingen",9,1,1255,{"$f":"IF(IF(LEN(A232)>0,ERROR.TYPE(MATCH(H232,H$1:H231,0))=7,0),C232,\"\")","v":"Böblingen"},"9Sindelfingen Goldbergkirchengemeinde                        "]
["Sindelfingen Johanneskirchengemeinde                        ",2180,"Böblingen",9,1,2180,{"$f":"IF(IF(LEN(A233)>0,ERROR.TYPE(MATCH(H233,H$1:H232,0))=7,0),C233,\"\")","v":"Böblingen"},"9Sindelfingen Johanneskirchengemeinde                        "]
["Weil im Schönbuch                                           ",3083,"Böblingen",9,1.5,3083,{"$f":"IF(IF(LEN(A234)>0,ERROR.TYPE(MATCH(H234,H$1:H233,0))=7,0),C234,\"\")","v":"Böblingen"},"9Weil im Schönbuch                                           "]
["Breitenstein-Neuweiler                                      ",1062,"Böblingen",9,1,1062,{"$f":"IF(IF(LEN(A235)>0,ERROR.TYPE(MATCH(H235,H$1:H234,0))=7,0),C235,\"\")","v":"Böblingen"},"9Breitenstein-Neuweiler                                      "]
["Steinenbronn                                                ",2147,"Böblingen",9,1,2147,{"$f":"IF(IF(LEN(A236)>0,ERROR.TYPE(MATCH(H236,H$1:H235,0))=7,0),C236,\"\")","v":"Böblingen"},"9Steinenbronn                                                "]
["Waldenbuch                                                  ",3257,"Böblingen",9,1.5,3257,{"$f":"IF(IF(LEN(A237)>0,ERROR.TYPE(MATCH(H237,H$1:H236,0))=7,0),C237,\"\")","v":"Böblingen"},"9Waldenbuch                                                  "]
["Böblingen Christuskirchengemeinde                           ",2476,"Böblingen",9,1,2476,{"$f":"IF(IF(LEN(A238)>0,ERROR.TYPE(MATCH(H238,H$1:H237,0))=7,0),C238,\"\")","v":"Böblingen"},"9Böblingen Christuskirchengemeinde                           "]
["Brackenheim                                                 ",2833,"Brackenheim",10,1.5,2833,{"$f":"IF(IF(LEN(A239)>0,ERROR.TYPE(MATCH(H239,H$1:H238,0))=7,0),C239,\"\")","v":"Brackenheim"},"10Brackenheim                                                 "]
["Botenheim                                                   ",691,"Brackenheim",10,1,691,{"$f":"IF(IF(LEN(A240)>0,ERROR.TYPE(MATCH(H240,H$1:H239,0))=7,0),C240,\"\")","v":"Brackenheim"},"10Botenheim                                                   "]
["Cleebronn                                                   ",1443,"Brackenheim",10,1,1443,{"$f":"IF(IF(LEN(A241)>0,ERROR.TYPE(MATCH(H241,H$1:H240,0))=7,0),C241,\"\")","v":"Brackenheim"},"10Cleebronn                                                   "]
["Dürrenzimmern                                               ",637,"Brackenheim",10,1,637,{"$f":"IF(IF(LEN(A242)>0,ERROR.TYPE(MATCH(H242,H$1:H241,0))=7,0),C242,\"\")","v":"Brackenheim"},"10Dürrenzimmern                                               "]
["Eibensbach                                                  ",340,"Brackenheim",10,0.5,340,{"$f":"IF(IF(LEN(A243)>0,ERROR.TYPE(MATCH(H243,H$1:H242,0))=7,0),C243,\"\")","v":"Brackenheim"},"10Eibensbach                                                  "]
["Frauenzimmern                                               ",465,"Brackenheim",10,1,465,{"$f":"IF(IF(LEN(A244)>0,ERROR.TYPE(MATCH(H244,H$1:H243,0))=7,0),C244,\"\")","v":"Brackenheim"},"10Frauenzimmern                                               "]
["Güglingen                                                   ",1709,"Brackenheim",10,1,1709,{"$f":"IF(IF(LEN(A245)>0,ERROR.TYPE(MATCH(H245,H$1:H244,0))=7,0),C245,\"\")","v":"Brackenheim"},"10Güglingen                                                   "]
["Haberschlacht-Stockheim                                     ",628,"Brackenheim",10,1,628,{"$f":"IF(IF(LEN(A246)>0,ERROR.TYPE(MATCH(H246,H$1:H245,0))=7,0),C246,\"\")","v":"Brackenheim"},"10Haberschlacht-Stockheim                                     "]
["Hausen an der Zaber                                         ",1106,"Brackenheim",10,1,1106,{"$f":"IF(IF(LEN(A247)>0,ERROR.TYPE(MATCH(H247,H$1:H246,0))=7,0),C247,\"\")","v":"Brackenheim"},"10Hausen an der Zaber                                         "]
["Kleingartach                                                ",934,"Brackenheim",10,1,934,{"$f":"IF(IF(LEN(A248)>0,ERROR.TYPE(MATCH(H248,H$1:H247,0))=7,0),C248,\"\")","v":"Brackenheim"},"10Kleingartach                                                "]
["Leonbronn                                                   ",386,"Brackenheim",10,0.5,386,{"$f":"IF(IF(LEN(A249)>0,ERROR.TYPE(MATCH(H249,H$1:H248,0))=7,0),C249,\"\")","v":"Brackenheim"},"10Leonbronn                                                   "]
["Massenbach                                                  ",1828,"Brackenheim",10,1,1828,{"$f":"IF(IF(LEN(A250)>0,ERROR.TYPE(MATCH(H250,H$1:H249,0))=7,0),C250,\"\")","v":"Brackenheim"},"10Massenbach                                                  "]
["Meimsheim                                                   ",1375,"Brackenheim",10,1,1375,{"$f":"IF(IF(LEN(A251)>0,ERROR.TYPE(MATCH(H251,H$1:H250,0))=7,0),C251,\"\")","v":"Brackenheim"},"10Meimsheim                                                   "]
["Neipperg                                                    ",356,"Brackenheim",10,0.5,356,{"$f":"IF(IF(LEN(A252)>0,ERROR.TYPE(MATCH(H252,H$1:H251,0))=7,0),C252,\"\")","v":"Brackenheim"},"10Neipperg                                                    "]
["Niederhofen                                                 ",580,"Brackenheim",10,1,580,{"$f":"IF(IF(LEN(A253)>0,ERROR.TYPE(MATCH(H253,H$1:H252,0))=7,0),C253,\"\")","v":"Brackenheim"},"10Niederhofen                                                 "]
["Nordhausen                                                  ",800,"Brackenheim",10,1,800,{"$f":"IF(IF(LEN(A254)>0,ERROR.TYPE(MATCH(H254,H$1:H253,0))=7,0),C254,\"\")","v":"Brackenheim"},"10Nordhausen                                                  "]
["Nordheim                                                    ",3163,"Brackenheim",10,1.5,3163,{"$f":"IF(IF(LEN(A255)>0,ERROR.TYPE(MATCH(H255,H$1:H254,0))=7,0),C255,\"\")","v":"Brackenheim"},"10Nordheim                                                    "]
["Ochsenburg                                                  ",384,"Brackenheim",10,0.5,384,{"$f":"IF(IF(LEN(A256)>0,ERROR.TYPE(MATCH(H256,H$1:H255,0))=7,0),C256,\"\")","v":"Brackenheim"},"10Ochsenburg                                                  "]
["Pfaffenhofen                                                ",956,"Brackenheim",10,1,956,{"$f":"IF(IF(LEN(A257)>0,ERROR.TYPE(MATCH(H257,H$1:H256,0))=7,0),C257,\"\")","v":"Brackenheim"},"10Pfaffenhofen                                                "]
["Schwaigern                                                  ",2867,"Brackenheim",10,1.5,2867,{"$f":"IF(IF(LEN(A258)>0,ERROR.TYPE(MATCH(H258,H$1:H257,0))=7,0),C258,\"\")","v":"Brackenheim"},"10Schwaigern                                                  "]
["Stetten am Heuchelberg                                      ",1219,"Brackenheim",10,{"$f":"IF($G259<>\"\",IF($B259<400,0.5,IF($B259<2801,1,IF($B259<5601,1.5,IF($B259<8401,2,IF($B259<11201,2.5,1000))))),\"\")","v":1},1219,{"$f":"IF(IF(LEN(A259)>0,ERROR.TYPE(MATCH(H259,H$1:H258,0))=7,0),C259,\"\")","v":"Brackenheim"},"10Stetten am Heuchelberg                                      "]
["Weiler/Zaber                                                ",330,"Brackenheim",10,0.5,{"$f":"IF(E260<>\"#NV\",B260,\"\")","v":330},{"$f":"IF(IF(LEN(A260)>0,ERROR.TYPE(MATCH(H260,H$1:H259,0))=7,0),C260,\"\")","v":"Brackenheim"},{"$f":"D260&A260","v":"10Weiler/Zaber                                                "}]
["Zaberfeld                                                   ",969,"Brackenheim",10,1,969,{"$f":"IF(IF(LEN(A261)>0,ERROR.TYPE(MATCH(H261,H$1:H260,0))=7,0),C261,\"\")","v":"Brackenheim"},"10Zaberfeld                                                   "]
["Michelbach am Heuchelberg                                   ",383,"Brackenheim",10,0.5,383,{"$f":"IF(IF(LEN(A262)>0,ERROR.TYPE(MATCH(H262,H$1:H261,0))=7,0),C262,\"\")","v":"Brackenheim"},"10Michelbach am Heuchelberg                                   "]
["Calw Stadtkirchengemeinde                                   ",1450,"Calw",11,1,1450,{"$f":"IF(IF(LEN(A263)>0,ERROR.TYPE(MATCH(H263,H$1:H262,0))=7,0),C263,\"\")","v":"Calw"},"11Calw Stadtkirchengemeinde                                   "]
["Calw Bergkirchengemeinde                                    ",1356,"Calw",11,1,1356,{"$f":"IF(IF(LEN(A264)>0,ERROR.TYPE(MATCH(H264,H$1:H263,0))=7,0),C264,\"\")","v":"Calw"},"11Calw Bergkirchengemeinde                                    "]
["Calw-Heumaden Versöhnungskirchengemeinde                    ",1348,"Calw",11,1,1348,{"$f":"IF(IF(LEN(A265)>0,ERROR.TYPE(MATCH(H265,H$1:H264,0))=7,0),C265,\"\")","v":"Calw"},"11Calw-Heumaden Versöhnungskirchengemeinde                    "]
["Aichelberg                                                  ",256,"Neuenbürg",34,0.5,256,{"$f":"IF(IF(LEN(A266)>0,ERROR.TYPE(MATCH(H266,H$1:H265,0))=7,0),C266,\"\")","v":"Neuenbürg"},"34Aichelberg                                                  "]
["Altburg                                                     ",1986,"Calw",11,1,1986,{"$f":"IF(IF(LEN(A267)>0,ERROR.TYPE(MATCH(H267,H$1:H266,0))=7,0),C267,\"\")","v":"Calw"},"11Altburg                                                     "]
["Oberkollbach                                                ",487,"Calw",11,1,487,{"$f":"IF(IF(LEN(A268)>0,ERROR.TYPE(MATCH(H268,H$1:H267,0))=7,0),C268,\"\")","v":"Calw"},"11Oberkollbach                                                "]
["Althengstett                                                ",2127,"Calw",11,1,2127,{"$f":"IF(IF(LEN(A269)>0,ERROR.TYPE(MATCH(H269,H$1:H268,0))=7,0),C269,\"\")","v":"Calw"},"11Althengstett                                                "]
["Beinberg                                                    ",261,"Calw",11,0.5,261,{"$f":"IF(IF(LEN(A270)>0,ERROR.TYPE(MATCH(H270,H$1:H269,0))=7,0),C270,\"\")","v":"Calw"},"11Beinberg                                                    "]
["Maisenbach                                                  ",323,"Calw",11,0.5,323,{"$f":"IF(IF(LEN(A271)>0,ERROR.TYPE(MATCH(H271,H$1:H270,0))=7,0),C271,\"\")","v":"Calw"},"11Maisenbach                                                  "]
["Breitenberg-Oberkollwangen                                  ",696,"Calw",11,1,696,{"$f":"IF(IF(LEN(A272)>0,ERROR.TYPE(MATCH(H272,H$1:H271,0))=7,0),C272,\"\")","v":"Calw"},"11Breitenberg-Oberkollwangen                                  "]
["Gechingen                                                   ",1786,"Calw",11,1,1786,{"$f":"IF(IF(LEN(A273)>0,ERROR.TYPE(MATCH(H273,H$1:H272,0))=7,0),C273,\"\")","v":"Calw"},"11Gechingen                                                   "]
["Hirsau                                                      ",786,"Calw",11,1,786,{"$f":"IF(IF(LEN(A274)>0,ERROR.TYPE(MATCH(H274,H$1:H273,0))=7,0),C274,\"\")","v":"Calw"},"11Hirsau                                                      "]
["Holzbronn                                                   ",362,"Calw",11,0.5,362,{"$f":"IF(IF(LEN(A275)>0,ERROR.TYPE(MATCH(H275,H$1:H274,0))=7,0),C275,\"\")","v":"Calw"},"11Holzbronn                                                   "]
["Bad Liebenzell                                              ",1249,"Calw",11,1,1249,{"$f":"IF(IF(LEN(A276)>0,ERROR.TYPE(MATCH(H276,H$1:H275,0))=7,0),C276,\"\")","v":"Calw"},"11Bad Liebenzell                                              "]
["Unterlengenhardt                                            ",189,"Calw",11,0.5,189,{"$f":"IF(IF(LEN(A277)>0,ERROR.TYPE(MATCH(H277,H$1:H276,0))=7,0),C277,\"\")","v":"Calw"},"11Unterlengenhardt                                            "]
["Möttlingen                                                  ",647,"Calw",11,1,647,{"$f":"IF(IF(LEN(A278)>0,ERROR.TYPE(MATCH(H278,H$1:H277,0))=7,0),C278,\"\")","v":"Calw"},"11Möttlingen                                                  "]
["Monakam-Unterhaugstett                                      ",1253,"Calw",11,1,1253,{"$f":"IF(IF(LEN(A279)>0,ERROR.TYPE(MATCH(H279,H$1:H278,0))=7,0),C279,\"\")","v":"Calw"},"11Monakam-Unterhaugstett                                      "]
["Neubulach                                                   ",1014,"Calw",11,1,1014,{"$f":"IF(IF(LEN(A280)>0,ERROR.TYPE(MATCH(H280,H$1:H279,0))=7,0),C280,\"\")","v":"Calw"},"11Neubulach                                                   "]
["Altbulach                                                   ",593,"Calw",11,1,593,{"$f":"IF(IF(LEN(A281)>0,ERROR.TYPE(MATCH(H281,H$1:H280,0))=7,0),C281,\"\")","v":"Calw"},"11Altbulach                                                   "]
["Liebelsberg                                                 ",660,"Calw",11,1,660,{"$f":"IF(IF(LEN(A282)>0,ERROR.TYPE(MATCH(H282,H$1:H281,0))=7,0),C282,\"\")","v":"Calw"},"11Liebelsberg                                                 "]
["Oberhaugstett                                               ",599,"Calw",11,1,599,{"$f":"IF(IF(LEN(A283)>0,ERROR.TYPE(MATCH(H283,H$1:H282,0))=7,0),C283,\"\")","v":"Calw"},"11Oberhaugstett                                               "]
["Neuhengstett                                                ",827,"Calw",11,1,827,{"$f":"IF(IF(LEN(A284)>0,ERROR.TYPE(MATCH(H284,H$1:H283,0))=7,0),C284,\"\")","v":"Calw"},"11Neuhengstett                                                "]
["Ottenbronn                                                  ",677,"Calw",11,1,677,{"$f":"IF(IF(LEN(A285)>0,ERROR.TYPE(MATCH(H285,H$1:H284,0))=7,0),C285,\"\")","v":"Calw"},"11Ottenbronn                                                  "]
["Neuweiler                                                   ",912,"Calw",11,1,912,{"$f":"IF(IF(LEN(A286)>0,ERROR.TYPE(MATCH(H286,H$1:H285,0))=7,0),C286,\"\")","v":"Calw"},"11Neuweiler                                                   "]
["Ostelsheim                                                  ",1187,"Calw",11,1,1187,{"$f":"IF(IF(LEN(A287)>0,ERROR.TYPE(MATCH(H287,H$1:H286,0))=7,0),C287,\"\")","v":"Calw"},"11Ostelsheim                                                  "]
["Simmozheim                                                  ",1332,"Calw",11,1,1332,{"$f":"IF(IF(LEN(A288)>0,ERROR.TYPE(MATCH(H288,H$1:H287,0))=7,0),C288,\"\")","v":"Calw"},"11Simmozheim                                                  "]
["Stammheim                                                   ",2161,"Calw",11,1,2161,{"$f":"IF(IF(LEN(A289)>0,ERROR.TYPE(MATCH(H289,H$1:H288,0))=7,0),C289,\"\")","v":"Calw"},"11Stammheim                                                   "]
["Bad Teinach                                                 ",465,"Calw",11,1,465,{"$f":"IF(IF(LEN(A290)>0,ERROR.TYPE(MATCH(H290,H$1:H289,0))=7,0),C290,\"\")","v":"Calw"},"11Bad Teinach                                                 "]
["Unterreichenbach                                            ",591,"Calw",11,1,591,{"$f":"IF(IF(LEN(A291)>0,ERROR.TYPE(MATCH(H291,H$1:H290,0))=7,0),C291,\"\")","v":"Calw"},"11Unterreichenbach                                            "]
["Würzbach                                                    ",475,"Calw",11,1,475,{"$f":"IF(IF(LEN(A292)>0,ERROR.TYPE(MATCH(H292,H$1:H291,0))=7,0),C292,\"\")","v":"Calw"},"11Würzbach                                                    "]
["Zavelstein                                                  ",1219,"Calw",11,1,1219,{"$f":"IF(IF(LEN(A293)>0,ERROR.TYPE(MATCH(H293,H$1:H292,0))=7,0),C293,\"\")","v":"Calw"},"11Zavelstein                                                  "]
["Zwerenberg                                                  ",297,"Calw",11,0.5,297,{"$f":"IF(IF(LEN(A294)>0,ERROR.TYPE(MATCH(H294,H$1:H293,0))=7,0),C294,\"\")","v":"Calw"},"11Zwerenberg                                                  "]
["Aichhalden                                                  ",225,"Calw",11,0.5,225,{"$f":"IF(IF(LEN(A295)>0,ERROR.TYPE(MATCH(H295,H$1:H294,0))=7,0),C295,\"\")","v":"Calw"},"11Aichhalden                                                  "]
["Gaugenwald                                                  ",136,"Calw",11,0.5,136,{"$f":"IF(IF(LEN(A296)>0,ERROR.TYPE(MATCH(H296,H$1:H295,0))=7,0),C296,\"\")","v":"Calw"},"11Gaugenwald                                                  "]
["Hornberg                                                    ",139,"Calw",11,0.5,139,{"$f":"IF(IF(LEN(A297)>0,ERROR.TYPE(MATCH(H297,H$1:H296,0))=7,0),C297,\"\")","v":"Calw"},"11Hornberg                                                    "]
["Martinsmoos                                                 ",224,"Calw",11,0.5,224,{"$f":"IF(IF(LEN(A298)>0,ERROR.TYPE(MATCH(H298,H$1:H297,0))=7,0),C298,\"\")","v":"Calw"},"11Martinsmoos                                                 "]
["Igelsloch                                                   ",260,"Calw",11,0.5,260,{"$f":"IF(IF(LEN(A299)>0,ERROR.TYPE(MATCH(H299,H$1:H298,0))=7,0),C299,\"\")","v":"Calw"},"11Igelsloch                                                   "]
["Kapfenhardt                                                 ",326,"Calw",11,0.5,326,{"$f":"IF(IF(LEN(A300)>0,ERROR.TYPE(MATCH(H300,H$1:H299,0))=7,0),C300,\"\")","v":"Calw"},"11Kapfenhardt                                                 "]
["Bad Cannstatt Stadtkirchengemeinde                          ",1444,"Bad Cannstatt",12,1,1444,{"$f":"IF(IF(LEN(A301)>0,ERROR.TYPE(MATCH(H301,H$1:H300,0))=7,0),C301,\"\")","v":"Bad Cannstatt"},"12Bad Cannstatt Stadtkirchengemeinde                          "]
["Bad Cannstatt Andreäkirchengemeinde                         ",1738,"Bad Cannstatt",12,1,1738,{"$f":"IF(IF(LEN(A302)>0,ERROR.TYPE(MATCH(H302,H$1:H301,0))=7,0),C302,\"\")","v":"Bad Cannstatt"},"12Bad Cannstatt Andreäkirchengemeinde                         "]
["Bad Cannstatt Lutherkirchengemeinde                         ",3064,"Bad Cannstatt",12,1.5,3064,{"$f":"IF(IF(LEN(A303)>0,ERROR.TYPE(MATCH(H303,H$1:H302,0))=7,0),C303,\"\")","v":"Bad Cannstatt"},"12Bad Cannstatt Lutherkirchengemeinde                         "]
["Bad Cannstatt Steigkirchengemeinde                          ",2733,"Bad Cannstatt",12,1,2733,{"$f":"IF(IF(LEN(A304)>0,ERROR.TYPE(MATCH(H304,H$1:H303,0))=7,0),C304,\"\")","v":"Bad Cannstatt"},"12Bad Cannstatt Steigkirchengemeinde                          "]
["Bad Cannstatt Steinhaldenfeldkirchengemeinde                ",942,"Bad Cannstatt",12,1,942,{"$f":"IF(IF(LEN(A305)>0,ERROR.TYPE(MATCH(H305,H$1:H304,0))=7,0),C305,\"\")","v":"Bad Cannstatt"},"12Bad Cannstatt Steinhaldenfeldkirchengemeinde                "]
["Bad Cannstatt Stephanuskirchengemeinde                      ",1483,"Bad Cannstatt",12,1,1483,{"$f":"IF(IF(LEN(A306)>0,ERROR.TYPE(MATCH(H306,H$1:H305,0))=7,0),C306,\"\")","v":"Bad Cannstatt"},"12Bad Cannstatt Stephanuskirchengemeinde                      "]
["Bad Cannstatt Wichernkirchengemeinde                        ",1446,"Bad Cannstatt",12,1,1446,{"$f":"IF(IF(LEN(A307)>0,ERROR.TYPE(MATCH(H307,H$1:H306,0))=7,0),C307,\"\")","v":"Bad Cannstatt"},"12Bad Cannstatt Wichernkirchengemeinde                        "]
["Stuttgart-Hedelfingen                                       ",1345,"Bad Cannstatt",12,1,1345,{"$f":"IF(IF(LEN(A308)>0,ERROR.TYPE(MATCH(H308,H$1:H307,0))=7,0),C308,\"\")","v":"Bad Cannstatt"},"12Stuttgart-Hedelfingen                                       "]
["Stuttgart-Hofen                                             ",1055,"Bad Cannstatt",12,1,1055,{"$f":"IF(IF(LEN(A309)>0,ERROR.TYPE(MATCH(H309,H$1:H308,0))=7,0),C309,\"\")","v":"Bad Cannstatt"},"12Stuttgart-Hofen                                             "]
["Stuttgart-Mühlhausen                                        ",1056,"Bad Cannstatt",12,1,1056,{"$f":"IF(IF(LEN(A310)>0,ERROR.TYPE(MATCH(H310,H$1:H309,0))=7,0),C310,\"\")","v":"Bad Cannstatt"},"12Stuttgart-Mühlhausen                                        "]
["Stuttgart-Münster                                           ",1625,"Bad Cannstatt",12,1,1625,{"$f":"IF(IF(LEN(A311)>0,ERROR.TYPE(MATCH(H311,H$1:H310,0))=7,0),C311,\"\")","v":"Bad Cannstatt"},"12Stuttgart-Münster                                           "]
["Obertürkheim                                                ",1202,"Bad Cannstatt",12,1,1202,{"$f":"IF(IF(LEN(A312)>0,ERROR.TYPE(MATCH(H312,H$1:H311,0))=7,0),C312,\"\")","v":"Bad Cannstatt"},"12Obertürkheim                                                "]
["Stuttgart-Rohracker/Frauenkopf                              ",1188,"Bad Cannstatt",12,1,1188,{"$f":"IF(IF(LEN(A313)>0,ERROR.TYPE(MATCH(H313,H$1:H312,0))=7,0),C313,\"\")","v":"Bad Cannstatt"},"12Stuttgart-Rohracker/Frauenkopf                              "]
["Stuttgart-Rotenberg                                         ",393,"Bad Cannstatt",12,0.5,393,{"$f":"IF(IF(LEN(A314)>0,ERROR.TYPE(MATCH(H314,H$1:H313,0))=7,0),C314,\"\")","v":"Bad Cannstatt"},"12Stuttgart-Rotenberg                                         "]
["Stuttgart-Uhlbach                                           ",1245,"Bad Cannstatt",12,1,1245,{"$f":"IF(IF(LEN(A315)>0,ERROR.TYPE(MATCH(H315,H$1:H314,0))=7,0),C315,\"\")","v":"Bad Cannstatt"},"12Stuttgart-Uhlbach                                           "]
["Untertürkheim Gartenstadtkirchengemeinde                    ",1839,"Bad Cannstatt",12,1,1839,{"$f":"IF(IF(LEN(A316)>0,ERROR.TYPE(MATCH(H316,H$1:H315,0))=7,0),C316,\"\")","v":"Bad Cannstatt"},"12Untertürkheim Gartenstadtkirchengemeinde                    "]
["Stuttgart-Wangen                                            ",1877,"Bad Cannstatt",12,1,1877,{"$f":"IF(IF(LEN(A317)>0,ERROR.TYPE(MATCH(H317,H$1:H316,0))=7,0),C317,\"\")","v":"Bad Cannstatt"},"12Stuttgart-Wangen                                            "]
["Stuttgart-Neugereut                                         ",1567,"Bad Cannstatt",12,1,1567,{"$f":"IF(IF(LEN(A318)>0,ERROR.TYPE(MATCH(H318,H$1:H317,0))=7,0),C318,\"\")","v":"Bad Cannstatt"},"12Stuttgart-Neugereut                                         "]
["Bad Cannstatt Sommerrainkirchengemeinde                     ",1140,"Bad Cannstatt",12,1,1140,{"$f":"IF(IF(LEN(A319)>0,ERROR.TYPE(MATCH(H319,H$1:H318,0))=7,0),C319,\"\")","v":"Bad Cannstatt"},"12Bad Cannstatt Sommerrainkirchengemeinde                     "]
["Untertürkheim Stadt- und Wallmerkirchengemeinde             ",2010,"Bad Cannstatt",12,1,2010,{"$f":"IF(IF(LEN(A320)>0,ERROR.TYPE(MATCH(H320,H$1:H319,0))=7,0),C320,\"\")","v":"Bad Cannstatt"},"12Untertürkheim Stadt- und Wallmerkirchengemeinde             "]
["Crailsheim Johanneskirchengemeinde                          ",5175,"Crailsheim",13,1.5,5175,{"$f":"IF(IF(LEN(A321)>0,ERROR.TYPE(MATCH(H321,H$1:H320,0))=7,0),C321,\"\")","v":"Crailsheim"},"13Crailsheim Johanneskirchengemeinde                          "]
["Crailsheim Christuskirchengemeinde                          ",2177,"Crailsheim",13,1,2177,{"$f":"IF(IF(LEN(A322)>0,ERROR.TYPE(MATCH(H322,H$1:H321,0))=7,0),C322,\"\")","v":"Crailsheim"},"13Crailsheim Christuskirchengemeinde                          "]
["Ingersheim                                                  ",842,"Crailsheim",13,{"$f":"IF($G323<>\"\",IF($B323<400,0.5,IF($B323<2801,1,IF($B323<5601,1.5,IF($B323<8401,2,IF($B323<11201,2.5,1000))))),\"\")","v":1},842,{"$f":"IF(IF(LEN(A323)>0,ERROR.TYPE(MATCH(H323,H$1:H322,0))=7,0),C323,\"\")","v":"Crailsheim"},"13Ingersheim                                                  "]
["Altenmünster                                                ",2244,"Crailsheim",13,1,{"$f":"IF(E324<>\"#NV\",B324,\"\")","v":2244},{"$f":"IF(IF(LEN(A324)>0,ERROR.TYPE(MATCH(H324,H$1:H323,0))=7,0),C324,\"\")","v":"Crailsheim"},{"$f":"D324&A324","v":"13Altenmünster                                                "}]
["Ellrichshausen                                              ",746,"Crailsheim",13,1,746,{"$f":"IF(IF(LEN(A325)>0,ERROR.TYPE(MATCH(H325,H$1:H324,0))=7,0),C325,\"\")","v":"Crailsheim"},"13Ellrichshausen                                              "]
["Goldbach                                                    ",549,"Crailsheim",13,1,549,{"$f":"IF(IF(LEN(A326)>0,ERROR.TYPE(MATCH(H326,H$1:H325,0))=7,0),C326,\"\")","v":"Crailsheim"},"13Goldbach                                                    "]
["Gröningen                                                   ",767,"Crailsheim",13,1,767,{"$f":"IF(IF(LEN(A327)>0,ERROR.TYPE(MATCH(H327,H$1:H326,0))=7,0),C327,\"\")","v":"Crailsheim"},"13Gröningen                                                   "]
["Bronnholzheim                                               ",162,"Crailsheim",13,0.5,162,{"$f":"IF(IF(LEN(A328)>0,ERROR.TYPE(MATCH(H328,H$1:H327,0))=7,0),C328,\"\")","v":"Crailsheim"},"13Bronnholzheim                                               "]
["Gründelhardt                                                ",1071,"Crailsheim",13,1,1071,{"$f":"IF(IF(LEN(A329)>0,ERROR.TYPE(MATCH(H329,H$1:H328,0))=7,0),C329,\"\")","v":"Crailsheim"},"13Gründelhardt                                                "]
["Spaichbühl                                                  ",58,"Crailsheim",13,0.5,58,{"$f":"IF(IF(LEN(A330)>0,ERROR.TYPE(MATCH(H330,H$1:H329,0))=7,0),C330,\"\")","v":"Crailsheim"},"13Spaichbühl                                                  "]
["Honhardt                                                    ",1532,"Crailsheim",13,1,1532,{"$f":"IF(IF(LEN(A331)>0,ERROR.TYPE(MATCH(H331,H$1:H330,0))=7,0),C331,\"\")","v":"Crailsheim"},"13Honhardt                                                    "]
["Hummelsweiler                                               ",604,"Crailsheim",13,1,604,{"$f":"IF(IF(LEN(A332)>0,ERROR.TYPE(MATCH(H332,H$1:H331,0))=7,0),C332,\"\")","v":"Crailsheim"},"13Hummelsweiler                                               "]
["Jagstheim                                                   ",977,"Crailsheim",13,1,977,{"$f":"IF(IF(LEN(A333)>0,ERROR.TYPE(MATCH(H333,H$1:H332,0))=7,0),C333,\"\")","v":"Crailsheim"},"13Jagstheim                                                   "]
["Mariäkappel                                                 ",369,"Crailsheim",13,0.5,369,{"$f":"IF(IF(LEN(A334)>0,ERROR.TYPE(MATCH(H334,H$1:H333,0))=7,0),C334,\"\")","v":"Crailsheim"},"13Mariäkappel                                                 "]
["Leukershausen                                               ",615,"Crailsheim",13,1,615,{"$f":"IF(IF(LEN(A335)>0,ERROR.TYPE(MATCH(H335,H$1:H334,0))=7,0),C335,\"\")","v":"Crailsheim"},"13Leukershausen                                               "]
["Marktlustenau                                               ",667,"Crailsheim",13,1,667,{"$f":"IF(IF(LEN(A336)>0,ERROR.TYPE(MATCH(H336,H$1:H335,0))=7,0),C336,\"\")","v":"Crailsheim"},"13Marktlustenau                                               "]
["Oberspeltach                                                ",520,"Crailsheim",13,1,520,{"$f":"IF(IF(LEN(A337)>0,ERROR.TYPE(MATCH(H337,H$1:H336,0))=7,0),C337,\"\")","v":"Crailsheim"},"13Oberspeltach                                                "]
["Onolzheim                                                   ",1124,"Crailsheim",13,1,1124,{"$f":"IF(IF(LEN(A338)>0,ERROR.TYPE(MATCH(H338,H$1:H337,0))=7,0),C338,\"\")","v":"Crailsheim"},"13Onolzheim                                                   "]
["Rechenberg                                                  ",553,"Crailsheim",13,1,553,{"$f":"IF(IF(LEN(A339)>0,ERROR.TYPE(MATCH(H339,H$1:H338,0))=7,0),C339,\"\")","v":"Crailsheim"},"13Rechenberg                                                  "]
["Roßfeld                                                     ",1456,"Crailsheim",13,1,1456,{"$f":"IF(IF(LEN(A340)>0,ERROR.TYPE(MATCH(H340,H$1:H339,0))=7,0),C340,\"\")","v":"Crailsheim"},"13Roßfeld                                                     "]
["Satteldorf                                                  ",1717,"Crailsheim",13,1,1717,{"$f":"IF(IF(LEN(A341)>0,ERROR.TYPE(MATCH(H341,H$1:H340,0))=7,0),C341,\"\")","v":"Crailsheim"},"13Satteldorf                                                  "]
["Tiefenbach                                                  ",794,"Crailsheim",13,1,794,{"$f":"IF(IF(LEN(A342)>0,ERROR.TYPE(MATCH(H342,H$1:H341,0))=7,0),C342,\"\")","v":"Crailsheim"},"13Tiefenbach                                                  "]
["Triensbach                                                  ",338,"Crailsheim",13,0.5,338,{"$f":"IF(IF(LEN(A343)>0,ERROR.TYPE(MATCH(H343,H$1:H342,0))=7,0),C343,\"\")","v":"Crailsheim"},"13Triensbach                                                  "]
["Lobenhausen                                                 ",77,"Crailsheim",13,0.5,77,{"$f":"IF(IF(LEN(A344)>0,ERROR.TYPE(MATCH(H344,H$1:H343,0))=7,0),C344,\"\")","v":"Crailsheim"},"13Lobenhausen                                                 "]
["Unterdeufstetten                                            ",575,"Crailsheim",13,1,575,{"$f":"IF(IF(LEN(A345)>0,ERROR.TYPE(MATCH(H345,H$1:H344,0))=7,0),C345,\"\")","v":"Crailsheim"},"13Unterdeufstetten                                            "]
["Waldtann                                                    ",827,"Crailsheim",13,1,827,{"$f":"IF(IF(LEN(A346)>0,ERROR.TYPE(MATCH(H346,H$1:H345,0))=7,0),C346,\"\")","v":"Crailsheim"},"13Waldtann                                                    "]
["Weipertshofen                                               ",660,"Crailsheim",13,1,660,{"$f":"IF(IF(LEN(A347)>0,ERROR.TYPE(MATCH(H347,H$1:H346,0))=7,0),C347,\"\")","v":"Crailsheim"},"13Weipertshofen                                               "]
["Westgartshausen                                             ",738,"Crailsheim",13,1,738,{"$f":"IF(IF(LEN(A348)>0,ERROR.TYPE(MATCH(H348,H$1:H347,0))=7,0),C348,\"\")","v":"Crailsheim"},"13Westgartshausen                                             "]
["Wildenstein                                                 ",1084,"Crailsheim",13,1,1084,{"$f":"IF(IF(LEN(A349)>0,ERROR.TYPE(MATCH(H349,H$1:H348,0))=7,0),C349,\"\")","v":"Crailsheim"},"13Wildenstein                                                 "]
["Bernhardsweiler                                             ",105,"Crailsheim",13,0.5,105,{"$f":"IF(IF(LEN(A350)>0,ERROR.TYPE(MATCH(H350,H$1:H349,0))=7,0),C350,\"\")","v":"Crailsheim"},"13Bernhardsweiler                                             "]
["Degerloch Michaelskirchengemeinde                           ",2568,"Degerloch",14,1,2568,{"$f":"IF(IF(LEN(A351)>0,ERROR.TYPE(MATCH(H351,H$1:H350,0))=7,0),C351,\"\")","v":"Degerloch"},"14Degerloch Michaelskirchengemeinde                           "]
["Degerloch Hoffeldkirchengemeinde                            ",970,"Degerloch",14,1,970,{"$f":"IF(IF(LEN(A352)>0,ERROR.TYPE(MATCH(H352,H$1:H351,0))=7,0),C352,\"\")","v":"Degerloch"},"14Degerloch Hoffeldkirchengemeinde                            "]
["Degerloch Versöhnungskirchengemeinde                        ",1253,"Degerloch",14,1,1253,{"$f":"IF(IF(LEN(A353)>0,ERROR.TYPE(MATCH(H353,H$1:H352,0))=7,0),C353,\"\")","v":"Degerloch"},"14Degerloch Versöhnungskirchengemeinde                        "]
["Stuttgart",1625,"Degerloch",14,1,1625,{"$f":"IF(IF(LEN(A354)>0,ERROR.TYPE(MATCH(H354,H$1:H353,0))=7,0),C354,\"\")","v":"Degerloch"},"14Stuttgart"]
["Schönberg                                                   ",467,"Degerloch",14,1,467,{"$f":"IF(IF(LEN(A355)>0,ERROR.TYPE(MATCH(H355,H$1:H354,0))=7,0),C355,\"\")","v":"Degerloch"},"14Schönberg                                                   "]
["Vaihingen-Büsnau                                            ",665,"Degerloch",14,1,665,{"$f":"IF(IF(LEN(A356)>0,ERROR.TYPE(MATCH(H356,H$1:H355,0))=7,0),C356,\"\")","v":"Degerloch"},"14Vaihingen-Büsnau                                            "]
["Fasanenhof                                                  ",1665,"Degerloch",14,1,1665,{"$f":"IF(IF(LEN(A357)>0,ERROR.TYPE(MATCH(H357,H$1:H356,0))=7,0),C357,\"\")","v":"Degerloch"},"14Fasanenhof                                                  "]
["Alt-Heumaden                                                ",1547,"Degerloch",14,1,1547,{"$f":"IF(IF(LEN(A358)>0,ERROR.TYPE(MATCH(H358,H$1:H357,0))=7,0),C358,\"\")","v":"Degerloch"},"14Alt-Heumaden                                                "]
["Heumaden-Süd                                                ",1443,"Degerloch",14,1,1443,{"$f":"IF(IF(LEN(A359)>0,ERROR.TYPE(MATCH(H359,H$1:H358,0))=7,0),C359,\"\")","v":"Degerloch"},"14Heumaden-Süd                                                "]
["Stuttgart-Möhringen                                         ",5928,"Degerloch",14,2,5928,{"$f":"IF(IF(LEN(A360)>0,ERROR.TYPE(MATCH(H360,H$1:H359,0))=7,0),C360,\"\")","v":"Degerloch"},"14Stuttgart-Möhringen                                         "]
["Riedenberg                                                  ",2084,"Degerloch",14,1,2084,{"$f":"IF(IF(LEN(A361)>0,ERROR.TYPE(MATCH(H361,H$1:H360,0))=7,0),C361,\"\")","v":"Degerloch"},"14Riedenberg                                                  "]
["Rohr-Dürrlewang                                             ",3680,"Degerloch",14,1.5,3680,{"$f":"IF(IF(LEN(A362)>0,ERROR.TYPE(MATCH(H362,H$1:H361,0))=7,0),C362,\"\")","v":"Degerloch"},"14Rohr-Dürrlewang                                             "]
["Sillenbuch                                                  ",2653,"Degerloch",14,1,2653,{"$f":"IF(IF(LEN(A363)>0,ERROR.TYPE(MATCH(H363,H$1:H362,0))=7,0),C363,\"\")","v":"Degerloch"},"14Sillenbuch                                                  "]
["Stuttgart Sonnenberg                                        ",1949,"Degerloch",14,1,1949,{"$f":"IF(IF(LEN(A364)>0,ERROR.TYPE(MATCH(H364,H$1:H363,0))=7,0),C364,\"\")","v":"Degerloch"},"14Stuttgart Sonnenberg                                        "]
["Stuttgart-Vaihingen                                         ",7970,"Degerloch",14,2,7970,{"$f":"IF(IF(LEN(A365)>0,ERROR.TYPE(MATCH(H365,H$1:H364,0))=7,0),C365,\"\")","v":"Degerloch"},"14Stuttgart-Vaihingen                                         "]
["Asemwald                                                    ",491,"Degerloch",14,1,491,{"$f":"IF(IF(LEN(A366)>0,ERROR.TYPE(MATCH(H366,H$1:H365,0))=7,0),C366,\"\")","v":"Degerloch"},"14Asemwald                                                    "]
["Plieningen-Hohenheim                                        ",3554,"Degerloch",14,1.5,3554,{"$f":"IF(IF(LEN(A367)>0,ERROR.TYPE(MATCH(H367,H$1:H366,0))=7,0),C367,\"\")","v":"Degerloch"},"14Plieningen-Hohenheim                                        "]
["Esslingen Johanneskirchengemeinde                           ",1986,"Esslingen",15,1,1986,{"$f":"IF(IF(LEN(A368)>0,ERROR.TYPE(MATCH(H368,H$1:H367,0))=7,0),C368,\"\")","v":"Esslingen"},"15Esslingen Johanneskirchengemeinde                           "]
["Hegensberg-Liebersbronn                                     ",1924,"Esslingen",15,1,1924,{"$f":"IF(IF(LEN(A369)>0,ERROR.TYPE(MATCH(H369,H$1:H368,0))=7,0),C369,\"\")","v":"Esslingen"},"15Hegensberg-Liebersbronn                                     "]
["Mettingen                                                   ",1246,"Esslingen",15,1,1246,{"$f":"IF(IF(LEN(A370)>0,ERROR.TYPE(MATCH(H370,H$1:H369,0))=7,0),C370,\"\")","v":"Esslingen"},"15Mettingen                                                   "]
["Sulzgries                                                   ",3805,"Esslingen",15,1.5,3805,{"$f":"IF(IF(LEN(A371)>0,ERROR.TYPE(MATCH(H371,H$1:H370,0))=7,0),C371,\"\")","v":"Esslingen"},"15Sulzgries                                                   "]
["Esslingen Zollberg                                          ",1361,"Esslingen",15,1,1361,{"$f":"IF(IF(LEN(A372)>0,ERROR.TYPE(MATCH(H372,H$1:H371,0))=7,0),C372,\"\")","v":"Esslingen"},"15Esslingen Zollberg                                          "]
["Aichwald                                                    ",3286,"Esslingen",15,1.5,3286,{"$f":"IF(IF(LEN(A373)>0,ERROR.TYPE(MATCH(H373,H$1:H372,0))=7,0),C373,\"\")","v":"Esslingen"},"15Aichwald                                                    "]
["Altbach                                                     ",1835,"Esslingen",15,1,1835,{"$f":"IF(IF(LEN(A374)>0,ERROR.TYPE(MATCH(H374,H$1:H373,0))=7,0),C374,\"\")","v":"Esslingen"},"15Altbach                                                     "]
["Esslingen Berkheim                                          ",2832,"Esslingen",15,1.5,2832,{"$f":"IF(IF(LEN(A375)>0,ERROR.TYPE(MATCH(H375,H$1:H374,0))=7,0),C375,\"\")","v":"Esslingen"},"15Esslingen Berkheim                                          "]
["Deizisau                                                    ",2570,"Esslingen",15,1,2570,{"$f":"IF(IF(LEN(A376)>0,ERROR.TYPE(MATCH(H376,H$1:H375,0))=7,0),C376,\"\")","v":"Esslingen"},"15Deizisau                                                    "]
["Hochdorf                                                    ",2025,"Esslingen",15,1,2025,{"$f":"IF(IF(LEN(A377)>0,ERROR.TYPE(MATCH(H377,H$1:H376,0))=7,0),C377,\"\")","v":"Esslingen"},"15Hochdorf                                                    "]
["Köngen                                                      ",4121,"Esslingen",15,1.5,4121,{"$f":"IF(IF(LEN(A378)>0,ERROR.TYPE(MATCH(H378,H$1:H377,0))=7,0),C378,\"\")","v":"Esslingen"},"15Köngen                                                      "]
["Plochingen                                                  ",4207,"Esslingen",15,1.5,4207,{"$f":"IF(IF(LEN(A379)>0,ERROR.TYPE(MATCH(H379,H$1:H378,0))=7,0),C379,\"\")","v":"Esslingen"},"15Plochingen                                                  "]
["Wernau                                                      ",2732,"Esslingen",15,1,2732,{"$f":"IF(IF(LEN(A380)>0,ERROR.TYPE(MATCH(H380,H$1:H379,0))=7,0),C380,\"\")","v":"Esslingen"},"15Wernau                                                      "]
["Zell                                                        ",1404,"Esslingen",15,1,1404,{"$f":"IF(IF(LEN(A381)>0,ERROR.TYPE(MATCH(H381,H$1:H380,0))=7,0),C381,\"\")","v":"Esslingen"},"15Zell                                                        "]
["Lichtenwald                                                 ",1184,"Esslingen",15,1,1184,{"$f":"IF(IF(LEN(A382)>0,ERROR.TYPE(MATCH(H382,H$1:H381,0))=7,0),C382,\"\")","v":"Esslingen"},"15Lichtenwald                                                 "]
["Baltmannsweiler                                             ",1587,"Esslingen",15,1,1587,{"$f":"IF(IF(LEN(A383)>0,ERROR.TYPE(MATCH(H383,H$1:H382,0))=7,0),C383,\"\")","v":"Esslingen"},"15Baltmannsweiler                                             "]
["Hohengehren                                                 ",1009,"Esslingen",15,1,1009,{"$f":"IF(IF(LEN(A384)>0,ERROR.TYPE(MATCH(H384,H$1:H383,0))=7,0),C384,\"\")","v":"Esslingen"},"15Hohengehren                                                 "]
["Denkendorf                                                  ",4239,"Esslingen",15,1.5,4239,{"$f":"IF(IF(LEN(A385)>0,ERROR.TYPE(MATCH(H385,H$1:H384,0))=7,0),C385,\"\")","v":"Esslingen"},"15Denkendorf                                                  "]
["Oberesslingen                                               ",3790,"Esslingen",15,1.5,3790,{"$f":"IF(IF(LEN(A386)>0,ERROR.TYPE(MATCH(H386,H$1:H385,0))=7,0),C386,\"\")","v":"Esslingen"},"15Oberesslingen                                               "]
["Reichenbach/Fils                                            ",2857,"Esslingen",15,{"$f":"IF($G387<>\"\",IF($B387<400,0.5,IF($B387<2801,1,IF($B387<5601,1.5,IF($B387<8401,2,IF($B387<11201,2.5,1000))))),\"\")","v":1.5},2857,{"$f":"IF(IF(LEN(A387)>0,ERROR.TYPE(MATCH(H387,H$1:H386,0))=7,0),C387,\"\")","v":"Esslingen"},"15Reichenbach/Fils                                            "]
["Esslingen Stadtkirchengemeinde              ",3646,"Esslingen",15,1.5,{"$f":"IF(E388<>\"#NV\",B388,\"\")","v":3646},{"$f":"IF(IF(LEN(A388)>0,ERROR.TYPE(MATCH(H388,H$1:H387,0))=7,0),C388,\"\")","v":"Esslingen"},{"$f":"D388&A388","v":"15Esslingen Stadtkirchengemeinde              "}]
["Esslingen-Nord",4929,"Esslingen",15,1.5,4929,{"$f":"IF(IF(LEN(A389)>0,ERROR.TYPE(MATCH(H389,H$1:H388,0))=7,0),C389,\"\")","v":"Esslingen"},"15Esslingen-Nord"]
["Freudenstadt Stadtkirchengemeinde                           ",4471,"Freudenstadt",16,1.5,4471,{"$f":"IF(IF(LEN(A390)>0,ERROR.TYPE(MATCH(H390,H$1:H389,0))=7,0),C390,\"\")","v":"Freudenstadt"},"16Freudenstadt Stadtkirchengemeinde                           "]
["Kniebis                                                     ",393,"Freudenstadt",16,0.5,393,{"$f":"IF(IF(LEN(A391)>0,ERROR.TYPE(MATCH(H391,H$1:H390,0))=7,0),C391,\"\")","v":"Freudenstadt"},"16Kniebis                                                     "]
["Alpirsbach                                                  ",2265,"Freudenstadt",16,1,2265,{"$f":"IF(IF(LEN(A392)>0,ERROR.TYPE(MATCH(H392,H$1:H391,0))=7,0),C392,\"\")","v":"Freudenstadt"},"16Alpirsbach                                                  "]
["Baiersbronn                                                 ",3402,"Freudenstadt",16,1.5,3402,{"$f":"IF(IF(LEN(A393)>0,ERROR.TYPE(MATCH(H393,H$1:H392,0))=7,0),C393,\"\")","v":"Freudenstadt"},"16Baiersbronn                                                 "]
["Besenfeld                                                   ",676,"Freudenstadt",16,1,676,{"$f":"IF(IF(LEN(A394)>0,ERROR.TYPE(MATCH(H394,H$1:H393,0))=7,0),C394,\"\")","v":"Freudenstadt"},"16Besenfeld                                                   "]
["Igelsberg                                                   ",163,"Freudenstadt",16,0.5,163,{"$f":"IF(IF(LEN(A395)>0,ERROR.TYPE(MATCH(H395,H$1:H394,0))=7,0),C395,\"\")","v":"Freudenstadt"},"16Igelsberg                                                   "]
["Dietersweiler                                               ",1123,"Freudenstadt",16,1,1123,{"$f":"IF(IF(LEN(A396)>0,ERROR.TYPE(MATCH(H396,H$1:H395,0))=7,0),C396,\"\")","v":"Freudenstadt"},"16Dietersweiler                                               "]
["Dornstetten                                                 ",2325,"Freudenstadt",16,1,2325,{"$f":"IF(IF(LEN(A397)>0,ERROR.TYPE(MATCH(H397,H$1:H396,0))=7,0),C397,\"\")","v":"Freudenstadt"},"16Dornstetten                                                 "]
["Fürnsal                                                     ",372,"Freudenstadt",16,0.5,372,{"$f":"IF(IF(LEN(A398)>0,ERROR.TYPE(MATCH(H398,H$1:H397,0))=7,0),C398,\"\")","v":"Freudenstadt"},"16Fürnsal                                                     "]
["Oberbrändi                                                  ",218,"Freudenstadt",16,0.5,218,{"$f":"IF(IF(LEN(A399)>0,ERROR.TYPE(MATCH(H399,H$1:H398,0))=7,0),C399,\"\")","v":"Freudenstadt"},"16Oberbrändi                                                  "]
["Glatten                                                     ",1043,"Freudenstadt",16,1,1043,{"$f":"IF(IF(LEN(A400)>0,ERROR.TYPE(MATCH(H400,H$1:H399,0))=7,0),C400,\"\")","v":"Freudenstadt"},"16Glatten                                                     "]
["Seewald-Göttelfingen                                        ",665,"Freudenstadt",16,1,665,{"$f":"IF(IF(LEN(A401)>0,ERROR.TYPE(MATCH(H401,H$1:H400,0))=7,0),C401,\"\")","v":"Freudenstadt"},"16Seewald-Göttelfingen                                        "]
["Grüntal                                                     ",932,"Freudenstadt",16,1,932,{"$f":"IF(IF(LEN(A402)>0,ERROR.TYPE(MATCH(H402,H$1:H401,0))=7,0),C402,\"\")","v":"Freudenstadt"},"16Grüntal                                                     "]
["Hallwangen                                                  ",970,"Freudenstadt",16,1,970,{"$f":"IF(IF(LEN(A403)>0,ERROR.TYPE(MATCH(H403,H$1:H402,0))=7,0),C403,\"\")","v":"Freudenstadt"},"16Hallwangen                                                  "]
["Klosterreichenbach                                          ",1183,"Freudenstadt",16,1,1183,{"$f":"IF(IF(LEN(A404)>0,ERROR.TYPE(MATCH(H404,H$1:H403,0))=7,0),C404,\"\")","v":"Freudenstadt"},"16Klosterreichenbach                                          "]
["Röt                                                         ",420,"Freudenstadt",16,1,420,{"$f":"IF(IF(LEN(A405)>0,ERROR.TYPE(MATCH(H405,H$1:H404,0))=7,0),C405,\"\")","v":"Freudenstadt"},"16Röt                                                         "]
["Lombach                                                     ",369,"Freudenstadt",16,0.5,369,{"$f":"IF(IF(LEN(A406)>0,ERROR.TYPE(MATCH(H406,H$1:H405,0))=7,0),C406,\"\")","v":"Freudenstadt"},"16Lombach                                                     "]
["Loßburg                                                     ",1846,"Freudenstadt",16,1,1846,{"$f":"IF(IF(LEN(A407)>0,ERROR.TYPE(MATCH(H407,H$1:H406,0))=7,0),C407,\"\")","v":"Freudenstadt"},"16Loßburg                                                     "]
["Mitteltal                                                   ",1460,"Freudenstadt",16,1,1460,{"$f":"IF(IF(LEN(A408)>0,ERROR.TYPE(MATCH(H408,H$1:H407,0))=7,0),C408,\"\")","v":"Freudenstadt"},"16Mitteltal                                                   "]
["Neuneck                                                     ",149,"Freudenstadt",16,0.5,149,{"$f":"IF(IF(LEN(A409)>0,ERROR.TYPE(MATCH(H409,H$1:H408,0))=7,0),C409,\"\")","v":"Freudenstadt"},"16Neuneck                                                     "]
["Böffingen                                                   ",176,"Freudenstadt",16,0.5,176,{"$f":"IF(IF(LEN(A410)>0,ERROR.TYPE(MATCH(H410,H$1:H409,0))=7,0),C410,\"\")","v":"Freudenstadt"},"16Böffingen                                                   "]
["Unteriflingen                                               ",300,"Freudenstadt",16,0.5,300,{"$f":"IF(IF(LEN(A411)>0,ERROR.TYPE(MATCH(H411,H$1:H410,0))=7,0),C411,\"\")","v":"Freudenstadt"},"16Unteriflingen                                               "]
["Oberiflingen                                                ",518,"Freudenstadt",16,1,518,{"$f":"IF(IF(LEN(A412)>0,ERROR.TYPE(MATCH(H412,H$1:H411,0))=7,0),C412,\"\")","v":"Freudenstadt"},"16Oberiflingen                                                "]
["Schopfloch                                                  ",1143,"Freudenstadt",16,1,1143,{"$f":"IF(IF(LEN(A413)>0,ERROR.TYPE(MATCH(H413,H$1:H412,0))=7,0),C413,\"\")","v":"Freudenstadt"},"16Schopfloch                                                  "]
["Obertal                                                     ",865,"Freudenstadt",16,1,865,{"$f":"IF(IF(LEN(A414)>0,ERROR.TYPE(MATCH(H414,H$1:H413,0))=7,0),C414,\"\")","v":"Freudenstadt"},"16Obertal                                                     "]
["Pfalzgrafenweiler                                           ",3108,"Freudenstadt",16,1.5,3108,{"$f":"IF(IF(LEN(A415)>0,ERROR.TYPE(MATCH(H415,H$1:H414,0))=7,0),C415,\"\")","v":"Freudenstadt"},"16Pfalzgrafenweiler                                           "]
["Reinerzau                                                   ",219,"Freudenstadt",16,0.5,219,{"$f":"IF(IF(LEN(A416)>0,ERROR.TYPE(MATCH(H416,H$1:H415,0))=7,0),C416,\"\")","v":"Freudenstadt"},"16Reinerzau                                                   "]
["Schömberg                                                   ",295,"Freudenstadt",16,0.5,295,{"$f":"IF(IF(LEN(A417)>0,ERROR.TYPE(MATCH(H417,H$1:H416,0))=7,0),C417,\"\")","v":"Freudenstadt"},"16Schömberg                                                   "]
["Schwarzenberg                                               ",855,"Freudenstadt",16,1,855,{"$f":"IF(IF(LEN(A418)>0,ERROR.TYPE(MATCH(H418,H$1:H417,0))=7,0),C418,\"\")","v":"Freudenstadt"},"16Schwarzenberg                                               "]
["Tumlingen                                                   ",1163,"Freudenstadt",16,1,1163,{"$f":"IF(IF(LEN(A419)>0,ERROR.TYPE(MATCH(H419,H$1:H418,0))=7,0),C419,\"\")","v":"Freudenstadt"},"16Tumlingen                                                   "]
["Cresbach                                                    ",439,"Freudenstadt",16,1,439,{"$f":"IF(IF(LEN(A420)>0,ERROR.TYPE(MATCH(H420,H$1:H419,0))=7,0),C420,\"\")","v":"Freudenstadt"},"16Cresbach                                                    "]
["Hörschweiler                                                ",346,"Freudenstadt",16,0.5,346,{"$f":"IF(IF(LEN(A421)>0,ERROR.TYPE(MATCH(H421,H$1:H420,0))=7,0),C421,\"\")","v":"Freudenstadt"},"16Hörschweiler                                                "]
["Wittendorf                                                  ",698,"Freudenstadt",16,1,698,{"$f":"IF(IF(LEN(A422)>0,ERROR.TYPE(MATCH(H422,H$1:H421,0))=7,0),C422,\"\")","v":"Freudenstadt"},"16Wittendorf                                                  "]
["Wittlensweiler                                              ",922,"Freudenstadt",16,1,922,{"$f":"IF(IF(LEN(A423)>0,ERROR.TYPE(MATCH(H423,H$1:H422,0))=7,0),C423,\"\")","v":"Freudenstadt"},"16Wittlensweiler                                              "]
["Aach                                                        ",750,"Freudenstadt",16,1,750,{"$f":"IF(IF(LEN(A424)>0,ERROR.TYPE(MATCH(H424,H$1:H423,0))=7,0),C424,\"\")","v":"Freudenstadt"},"16Aach                                                        "]
["Freudenstadt Martinskirchengemeinde                         ",1913,"Freudenstadt",16,1,1913,{"$f":"IF(IF(LEN(A425)>0,ERROR.TYPE(MATCH(H425,H$1:H424,0))=7,0),C425,\"\")","v":"Freudenstadt"},"16Freudenstadt Martinskirchengemeinde                         "]
["Gaildorf                                                    ",2310,"Gaildorf",17,1,2310,{"$f":"IF(IF(LEN(A426)>0,ERROR.TYPE(MATCH(H426,H$1:H425,0))=7,0),C426,\"\")","v":"Gaildorf"},"17Gaildorf                                                    "]
["Eutendorf                                                   ",1103,"Gaildorf",17,1,1103,{"$f":"IF(IF(LEN(A427)>0,ERROR.TYPE(MATCH(H427,H$1:H426,0))=7,0),C427,\"\")","v":"Gaildorf"},"17Eutendorf                                                   "]
["Fichtenberg                                                 ",1486,"Gaildorf",17,1,1486,{"$f":"IF(IF(LEN(A428)>0,ERROR.TYPE(MATCH(H428,H$1:H427,0))=7,0),C428,\"\")","v":"Gaildorf"},"17Fichtenberg                                                 "]
["Frickenhofen                                                ",809,"Gaildorf",17,1,809,{"$f":"IF(IF(LEN(A429)>0,ERROR.TYPE(MATCH(H429,H$1:H428,0))=7,0),C429,\"\")","v":"Gaildorf"},"17Frickenhofen                                                "]
["Geifertshofen                                               ",780,"Gaildorf",17,1,780,{"$f":"IF(IF(LEN(A430)>0,ERROR.TYPE(MATCH(H430,H$1:H429,0))=7,0),C430,\"\")","v":"Gaildorf"},"17Geifertshofen                                               "]
["Gschwend                                                    ",1901,"Gaildorf",17,1,1901,{"$f":"IF(IF(LEN(A431)>0,ERROR.TYPE(MATCH(H431,H$1:H430,0))=7,0),C431,\"\")","v":"Gaildorf"},"17Gschwend                                                    "]
["Laufen a.K.                                                 ",616,"Gaildorf",17,1,616,{"$f":"IF(IF(LEN(A432)>0,ERROR.TYPE(MATCH(H432,H$1:H431,0))=7,0),C432,\"\")","v":"Gaildorf"},"17Laufen a.K.                                                 "]
["Michelbach/Bilz                                             ",1761,"Gaildorf",17,1,1761,{"$f":"IF(IF(LEN(A433)>0,ERROR.TYPE(MATCH(H433,H$1:H432,0))=7,0),C433,\"\")","v":"Gaildorf"},"17Michelbach/Bilz                                             "]
["Mittelfischach                                              ",547,"Gaildorf",17,1,547,{"$f":"IF(IF(LEN(A434)>0,ERROR.TYPE(MATCH(H434,H$1:H433,0))=7,0),C434,\"\")","v":"Gaildorf"},"17Mittelfischach                                              "]
["Münster a.K.                                                ",990,"Gaildorf",17,1,990,{"$f":"IF(IF(LEN(A435)>0,ERROR.TYPE(MATCH(H435,H$1:H434,0))=7,0),C435,\"\")","v":"Gaildorf"},"17Münster a.K.                                                "]
["Oberfischach                                                ",422,"Gaildorf",17,1,422,{"$f":"IF(IF(LEN(A436)>0,ERROR.TYPE(MATCH(H436,H$1:H435,0))=7,0),C436,\"\")","v":"Gaildorf"},"17Oberfischach                                                "]
["Obergröningen                                               ",863,"Gaildorf",17,1,863,{"$f":"IF(IF(LEN(A437)>0,ERROR.TYPE(MATCH(H437,H$1:H436,0))=7,0),C437,\"\")","v":"Gaildorf"},"17Obergröningen                                               "]
["Oberrot                                                     ",1660,"Gaildorf",17,1,1660,{"$f":"IF(IF(LEN(A438)>0,ERROR.TYPE(MATCH(H438,H$1:H437,0))=7,0),C438,\"\")","v":"Gaildorf"},"17Oberrot                                                     "]
["Obersontheim                                                ",2270,"Gaildorf",17,1,2270,{"$f":"IF(IF(LEN(A439)>0,ERROR.TYPE(MATCH(H439,H$1:H438,0))=7,0),C439,\"\")","v":"Gaildorf"},"17Obersontheim                                                "]
["Ottendorf                                                   ",635,"Gaildorf",17,1,635,{"$f":"IF(IF(LEN(A440)>0,ERROR.TYPE(MATCH(H440,H$1:H439,0))=7,0),C440,\"\")","v":"Gaildorf"},"17Ottendorf                                                   "]
["Sulzbach am Kocher                                          ",969,"Gaildorf",17,1,969,{"$f":"IF(IF(LEN(A441)>0,ERROR.TYPE(MATCH(H441,H$1:H440,0))=7,0),C441,\"\")","v":"Gaildorf"},"17Sulzbach am Kocher                                          "]
["Untergröningen                                              ",635,"Gaildorf",17,1,635,{"$f":"IF(IF(LEN(A442)>0,ERROR.TYPE(MATCH(H442,H$1:H441,0))=7,0),C442,\"\")","v":"Gaildorf"},"17Untergröningen                                              "]
["Untersontheim                                               ",639,"Gaildorf",17,1,639,{"$f":"IF(IF(LEN(A443)>0,ERROR.TYPE(MATCH(H443,H$1:H442,0))=7,0),C443,\"\")","v":"Gaildorf"},"17Untersontheim                                               "]
["Weiler o.H.                                                 ",374,"Geislingen a.d. Steige",18,0.5,374,{"$f":"IF(IF(LEN(A444)>0,ERROR.TYPE(MATCH(H444,H$1:H443,0))=7,0),C444,\"\")","v":"Geislingen a.d. Steige"},"18Weiler o.H.                                                 "]
["Amstetten                                                   ",963,"Geislingen a.d. Steige",18,1,963,{"$f":"IF(IF(LEN(A445)>0,ERROR.TYPE(MATCH(H445,H$1:H444,0))=7,0),C445,\"\")","v":"Geislingen a.d. Steige"},"18Amstetten                                                   "]
["Aufhausen                                                   ",501,"Geislingen a.d. Steige",18,1,501,{"$f":"IF(IF(LEN(A446)>0,ERROR.TYPE(MATCH(H446,H$1:H445,0))=7,0),C446,\"\")","v":"Geislingen a.d. Steige"},"18Aufhausen                                                   "]
["Bräunisheim                                                 ",161,"Geislingen a.d. Steige",18,0.5,161,{"$f":"IF(IF(LEN(A447)>0,ERROR.TYPE(MATCH(H447,H$1:H446,0))=7,0),C447,\"\")","v":"Geislingen a.d. Steige"},"18Bräunisheim                                                 "]
["Donzdorf                                                    ",2394,"Geislingen a.d. Steige",18,1,2394,{"$f":"IF(IF(LEN(A448)>0,ERROR.TYPE(MATCH(H448,H$1:H447,0))=7,0),C448,\"\")","v":"Geislingen a.d. Steige"},"18Donzdorf                                                    "]
["Eybach                                                      ",531,"Geislingen a.d. Steige",18,1,531,{"$f":"IF(IF(LEN(A449)>0,ERROR.TYPE(MATCH(H449,H$1:H448,0))=7,0),C449,\"\")","v":"Geislingen a.d. Steige"},"18Eybach                                                      "]
["Gingen/Fils                                                 ",1876,"Geislingen a.d. Steige",18,1,1876,{"$f":"IF(IF(LEN(A450)>0,ERROR.TYPE(MATCH(H450,H$1:H449,0))=7,0),C450,\"\")","v":"Geislingen a.d. Steige"},"18Gingen/Fils                                                 "]
["Kuchen                                                      ",1943,"Geislingen a.d. Steige",18,{"$f":"IF($G451<>\"\",IF($B451<400,0.5,IF($B451<2801,1,IF($B451<5601,1.5,IF($B451<8401,2,IF($B451<11201,2.5,1000))))),\"\")","v":1},1943,{"$f":"IF(IF(LEN(A451)>0,ERROR.TYPE(MATCH(H451,H$1:H450,0))=7,0),C451,\"\")","v":"Geislingen a.d. Steige"},"18Kuchen                                                      "]
["Schalkstetten                                               ",246,"Geislingen a.d. Steige",18,0.5,{"$f":"IF(E452<>\"#NV\",B452,\"\")","v":246},{"$f":"IF(IF(LEN(A452)>0,ERROR.TYPE(MATCH(H452,H$1:H451,0))=7,0),C452,\"\")","v":"Geislingen a.d. Steige"},{"$f":"D452&A452","v":"18Schalkstetten                                               "}]
["Waldhausen                                                  ",176,"Geislingen a.d. Steige",18,0.5,176,{"$f":"IF(IF(LEN(A453)>0,ERROR.TYPE(MATCH(H453,H$1:H452,0))=7,0),C453,\"\")","v":"Geislingen a.d. Steige"},"18Waldhausen                                                  "]
["Steinenkirch                                                ",979,"Geislingen a.d. Steige",18,1,979,{"$f":"IF(IF(LEN(A454)>0,ERROR.TYPE(MATCH(H454,H$1:H453,0))=7,0),C454,\"\")","v":"Geislingen a.d. Steige"},"18Steinenkirch                                                "]
["Stötten                                                     ",257,"Geislingen a.d. Steige",18,0.5,257,{"$f":"IF(IF(LEN(A455)>0,ERROR.TYPE(MATCH(H455,H$1:H454,0))=7,0),C455,\"\")","v":"Geislingen a.d. Steige"},"18Stötten                                                     "]
["Stubersheim                                                 ",267,"Geislingen a.d. Steige",18,0.5,267,{"$f":"IF(IF(LEN(A456)>0,ERROR.TYPE(MATCH(H456,H$1:H455,0))=7,0),C456,\"\")","v":"Geislingen a.d. Steige"},"18Stubersheim                                                 "]
["Hofstett-Emerbuch                                           ",191,"Geislingen a.d. Steige",18,0.5,191,{"$f":"IF(IF(LEN(A457)>0,ERROR.TYPE(MATCH(H457,H$1:H456,0))=7,0),C457,\"\")","v":"Geislingen a.d. Steige"},"18Hofstett-Emerbuch                                           "]
["Süßen                                                       ",3200,"Geislingen a.d. Steige",18,1.5,3200,{"$f":"IF(IF(LEN(A458)>0,ERROR.TYPE(MATCH(H458,H$1:H457,0))=7,0),C458,\"\")","v":"Geislingen a.d. Steige"},"18Süßen                                                       "]
["Türkheim                                                    ",495,"Geislingen a.d. Steige",18,1,495,{"$f":"IF(IF(LEN(A459)>0,ERROR.TYPE(MATCH(H459,H$1:H458,0))=7,0),C459,\"\")","v":"Geislingen a.d. Steige"},"18Türkheim                                                    "]
["Bad Überkingen                                              ",815,"Geislingen a.d. Steige",18,1,815,{"$f":"IF(IF(LEN(A460)>0,ERROR.TYPE(MATCH(H460,H$1:H459,0))=7,0),C460,\"\")","v":"Geislingen a.d. Steige"},"18Bad Überkingen                                              "]
["Unterböhringen                                              ",657,"Geislingen a.d. Steige",18,1,657,{"$f":"IF(IF(LEN(A461)>0,ERROR.TYPE(MATCH(H461,H$1:H460,0))=7,0),C461,\"\")","v":"Geislingen a.d. Steige"},"18Unterböhringen                                              "]
["Hausen a.d. Fils                                            ",399,"Geislingen a.d. Steige",18,0.5,399,{"$f":"IF(IF(LEN(A462)>0,ERROR.TYPE(MATCH(H462,H$1:H461,0))=7,0),C462,\"\")","v":"Geislingen a.d. Steige"},"18Hausen a.d. Fils                                            "]
["Wiesensteig                                                 ",1044,"Geislingen a.d. Steige",18,1,1044,{"$f":"IF(IF(LEN(A463)>0,ERROR.TYPE(MATCH(H463,H$1:H462,0))=7,0),C463,\"\")","v":"Geislingen a.d. Steige"},"18Wiesensteig                                                 "]
["Gruibingen                                                  ",1015,"Geislingen a.d. Steige",18,1,1015,{"$f":"IF(IF(LEN(A464)>0,ERROR.TYPE(MATCH(H464,H$1:H463,0))=7,0),C464,\"\")","v":"Geislingen a.d. Steige"},"18Gruibingen                                                  "]
["Geislingen-Altenstadt                                                                          ",3061,"Geislingen a.d. Steige",18,1.5,3061,{"$f":"IF(IF(LEN(A465)>0,ERROR.TYPE(MATCH(H465,H$1:H464,0))=7,0),C465,\"\")","v":"Geislingen a.d. Steige"},"18Geislingen-Altenstadt                                                                          "]
["Christuskirchengemeinde im Täle                             ",1992,"Geislingen a.d. Steige",18,1,1992,{"$f":"IF(IF(LEN(A466)>0,ERROR.TYPE(MATCH(H466,H$1:H465,0))=7,0),C466,\"\")","v":"Geislingen a.d. Steige"},"18Christuskirchengemeinde im Täle                             "]
["Geislingen",2353,"Geislingen a.d. Steige",18,1,2353,{"$f":"IF(IF(LEN(A467)>0,ERROR.TYPE(MATCH(H467,H$1:H466,0))=7,0),C467,\"\")","v":"Geislingen a.d. Steige"},"18Geislingen"]
["Schwäbisch Gmünd Augustinuskirchengemeinde                  ",3010,"Schwäbisch Gmünd",19,1.5,3010,{"$f":"IF(IF(LEN(A468)>0,ERROR.TYPE(MATCH(H468,H$1:H467,0))=7,0),C468,\"\")","v":"Schwäbisch Gmünd"},"19Schwäbisch Gmünd Augustinuskirchengemeinde                  "]
["Schwäbisch Gmünd Martin-Luther-Kirchengemeinde              ",1307,"Schwäbisch Gmünd",19,1,1307,{"$f":"IF(IF(LEN(A469)>0,ERROR.TYPE(MATCH(H469,H$1:H468,0))=7,0),C469,\"\")","v":"Schwäbisch Gmünd"},"19Schwäbisch Gmünd Martin-Luther-Kirchengemeinde              "]
["Schwäbisch Gmünd Weststadt-Kirchengemeinde                  ",1086,"Schwäbisch Gmünd",19,1,1086,{"$f":"IF(IF(LEN(A470)>0,ERROR.TYPE(MATCH(H470,H$1:H469,0))=7,0),C470,\"\")","v":"Schwäbisch Gmünd"},"19Schwäbisch Gmünd Weststadt-Kirchengemeinde                  "]
["Schwäbisch Gmünd Friedenskirchengemeinde                    ",1916,"Schwäbisch Gmünd",19,1,1916,{"$f":"IF(IF(LEN(A471)>0,ERROR.TYPE(MATCH(H471,H$1:H470,0))=7,0),C471,\"\")","v":"Schwäbisch Gmünd"},"19Schwäbisch Gmünd Friedenskirchengemeinde                    "]
["Bartholomä                                                  ",650,"Schwäbisch Gmünd",19,1,650,{"$f":"IF(IF(LEN(A472)>0,ERROR.TYPE(MATCH(H472,H$1:H471,0))=7,0),C472,\"\")","v":"Schwäbisch Gmünd"},"19Bartholomä                                                  "]
["Eschach                                                     ",870,"Schwäbisch Gmünd",19,1,870,{"$f":"IF(IF(LEN(A473)>0,ERROR.TYPE(MATCH(H473,H$1:H472,0))=7,0),C473,\"\")","v":"Schwäbisch Gmünd"},"19Eschach                                                     "]
["Göggingen-Leinzell                                          ",1181,"Schwäbisch Gmünd",19,1,1181,{"$f":"IF(IF(LEN(A474)>0,ERROR.TYPE(MATCH(H474,H$1:H473,0))=7,0),C474,\"\")","v":"Schwäbisch Gmünd"},"19Göggingen-Leinzell                                          "]
["Heubach                                                     ",3080,"Schwäbisch Gmünd",19,1.5,3080,{"$f":"IF(IF(LEN(A475)>0,ERROR.TYPE(MATCH(H475,H$1:H474,0))=7,0),C475,\"\")","v":"Schwäbisch Gmünd"},"19Heubach                                                     "]
["Lindach-Mutlangen                                           ",2539,"Schwäbisch Gmünd",19,1,2539,{"$f":"IF(IF(LEN(A476)>0,ERROR.TYPE(MATCH(H476,H$1:H475,0))=7,0),C476,\"\")","v":"Schwäbisch Gmünd"},"19Lindach-Mutlangen                                           "]
["Oberböbingen                                                ",2404,"Schwäbisch Gmünd",19,1,2404,{"$f":"IF(IF(LEN(A477)>0,ERROR.TYPE(MATCH(H477,H$1:H476,0))=7,0),C477,\"\")","v":"Schwäbisch Gmünd"},"19Oberböbingen                                                "]
["Ruppertshofen                                               ",757,"Schwäbisch Gmünd",19,1,757,{"$f":"IF(IF(LEN(A478)>0,ERROR.TYPE(MATCH(H478,H$1:H477,0))=7,0),C478,\"\")","v":"Schwäbisch Gmünd"},"19Ruppertshofen                                               "]
["Spraitbach                                                  ",1315,"Schwäbisch Gmünd",19,1,1315,{"$f":"IF(IF(LEN(A479)>0,ERROR.TYPE(MATCH(H479,H$1:H478,0))=7,0),C479,\"\")","v":"Schwäbisch Gmünd"},"19Spraitbach                                                  "]
["Täferrot                                                    ",1311,"Schwäbisch Gmünd",19,1,1311,{"$f":"IF(IF(LEN(A480)>0,ERROR.TYPE(MATCH(H480,H$1:H479,0))=7,0),C480,\"\")","v":"Schwäbisch Gmünd"},"19Täferrot                                                    "]
["Waldstetten                                                 ",1992,"Schwäbisch Gmünd",19,1,1992,{"$f":"IF(IF(LEN(A481)>0,ERROR.TYPE(MATCH(H481,H$1:H480,0))=7,0),C481,\"\")","v":"Schwäbisch Gmünd"},"19Waldstetten                                                 "]
["Hussenhofen Johanneskirchengemeinde                         ",1188,"Schwäbisch Gmünd",19,1,1188,{"$f":"IF(IF(LEN(A482)>0,ERROR.TYPE(MATCH(H482,H$1:H481,0))=7,0),C482,\"\")","v":"Schwäbisch Gmünd"},"19Hussenhofen Johanneskirchengemeinde                         "]
["Degenfeld-Unterbettringen                                   ",1094,"Schwäbisch Gmünd",19,1,1094,{"$f":"IF(IF(LEN(A483)>0,ERROR.TYPE(MATCH(H483,H$1:H482,0))=7,0),C483,\"\")","v":"Schwäbisch Gmünd"},"19Degenfeld-Unterbettringen                                   "]
["Großdeinbach                                                ",1144,"Schwäbisch Gmünd",19,1,1144,{"$f":"IF(IF(LEN(A484)>0,ERROR.TYPE(MATCH(H484,H$1:H483,0))=7,0),C484,\"\")","v":"Schwäbisch Gmünd"},"19Großdeinbach                                                "]
["Lorch und Weitmars",3154,"Schwäbisch Gmünd",19,1.5,3154,{"$f":"IF(IF(LEN(A485)>0,ERROR.TYPE(MATCH(H485,H$1:H484,0))=7,0),C485,\"\")","v":"Schwäbisch Gmünd"},"19Lorch und Weitmars"]
["Waldhausen                                                  ",1237,"Schwäbisch Gmünd",19,1,1237,{"$f":"IF(IF(LEN(A486)>0,ERROR.TYPE(MATCH(H486,H$1:H485,0))=7,0),C486,\"\")","v":"Schwäbisch Gmünd"},"19Waldhausen                                                  "]
["Göppingen Stadtkirchengemeinde Oberhofen                    ",4035,"Göppingen",20,1.5,4035,{"$f":"IF(IF(LEN(A487)>0,ERROR.TYPE(MATCH(H487,H$1:H486,0))=7,0),C487,\"\")","v":"Göppingen"},"20Göppingen Stadtkirchengemeinde Oberhofen                    "]
["Göppingen Martin-Luther-Kirchengemeinde                     ",658,"Göppingen",20,1,658,{"$f":"IF(IF(LEN(A488)>0,ERROR.TYPE(MATCH(H488,H$1:H487,0))=7,0),C488,\"\")","v":"Göppingen"},"20Göppingen Martin-Luther-Kirchengemeinde                     "]
["Göppingen Reuschkirchengemeinde                             ",1907,"Göppingen",20,1,1907,{"$f":"IF(IF(LEN(A489)>0,ERROR.TYPE(MATCH(H489,H$1:H488,0))=7,0),C489,\"\")","v":"Göppingen"},"20Göppingen Reuschkirchengemeinde                             "]
["Göppingen Waldeckkirchengemeinde                            ",928,"Göppingen",20,1,928,{"$f":"IF(IF(LEN(A490)>0,ERROR.TYPE(MATCH(H490,H$1:H489,0))=7,0),C490,\"\")","v":"Göppingen"},"20Göppingen Waldeckkirchengemeinde                            "]
["Bartenbach                                                  ",1517,"Göppingen",20,1,1517,{"$f":"IF(IF(LEN(A491)>0,ERROR.TYPE(MATCH(H491,H$1:H490,0))=7,0),C491,\"\")","v":"Göppingen"},"20Bartenbach                                                  "]
["Rechberghausen                                              ",2523,"Göppingen",20,1,2523,{"$f":"IF(IF(LEN(A492)>0,ERROR.TYPE(MATCH(H492,H$1:H491,0))=7,0),C492,\"\")","v":"Göppingen"},"20Rechberghausen                                              "]
["Bezgenriet                                                  ",626,"Göppingen",20,1,626,{"$f":"IF(IF(LEN(A493)>0,ERROR.TYPE(MATCH(H493,H$1:H492,0))=7,0),C493,\"\")","v":"Göppingen"},"20Bezgenriet                                                  "]
["Holzheim                                                    ",1122,"Göppingen",20,1,1122,{"$f":"IF(IF(LEN(A494)>0,ERROR.TYPE(MATCH(H494,H$1:H493,0))=7,0),C494,\"\")","v":"Göppingen"},"20Holzheim                                                    "]
["St.Gotthardt                                                ",211,"Göppingen",20,0.5,211,{"$f":"IF(IF(LEN(A495)>0,ERROR.TYPE(MATCH(H495,H$1:H494,0))=7,0),C495,\"\")","v":"Göppingen"},"20St.Gotthardt                                                "]
["Jebenhausen                                                 ",1377,"Göppingen",20,1,1377,{"$f":"IF(IF(LEN(A496)>0,ERROR.TYPE(MATCH(H496,H$1:H495,0))=7,0),C496,\"\")","v":"Göppingen"},"20Jebenhausen                                                 "]
["Manzen-Ursenwang                                            ",1191,"Göppingen",20,1,1191,{"$f":"IF(IF(LEN(A497)>0,ERROR.TYPE(MATCH(H497,H$1:H496,0))=7,0),C497,\"\")","v":"Göppingen"},"20Manzen-Ursenwang                                            "]
["Albershausen                                                ",1650,"Göppingen",20,1,1650,{"$f":"IF(IF(LEN(A498)>0,ERROR.TYPE(MATCH(H498,H$1:H497,0))=7,0),C498,\"\")","v":"Göppingen"},"20Albershausen                                                "]
["Börtlingen-Birenbach                                        ",1522,"Göppingen",20,1,1522,{"$f":"IF(IF(LEN(A499)>0,ERROR.TYPE(MATCH(H499,H$1:H498,0))=7,0),C499,\"\")","v":"Göppingen"},"20Börtlingen-Birenbach                                        "]
["Bad Boll                                                    ",2224,"Göppingen",20,1,2224,{"$f":"IF(IF(LEN(A500)>0,ERROR.TYPE(MATCH(H500,H$1:H499,0))=7,0),C500,\"\")","v":"Göppingen"},"20Bad Boll                                                    "]
["Ebersbach                                                   ",2721,"Göppingen",20,1,2721,{"$f":"IF(IF(LEN(A501)>0,ERROR.TYPE(MATCH(H501,H$1:H500,0))=7,0),C501,\"\")","v":"Göppingen"},"20Ebersbach                                                   "]
["Eislingen Lutherkirche                                      ",2215,"Göppingen",20,1,2215,{"$f":"IF(IF(LEN(A502)>0,ERROR.TYPE(MATCH(H502,H$1:H501,0))=7,0),C502,\"\")","v":"Göppingen"},"20Eislingen Lutherkirche                                      "]
["Eislingen-Ottenbach Christuskirche                                                             ",3905,"Göppingen",20,1.5,3905,{"$f":"IF(IF(LEN(A503)>0,ERROR.TYPE(MATCH(H503,H$1:H502,0))=7,0),C503,\"\")","v":"Göppingen"},"20Eislingen-Ottenbach Christuskirche                                                             "]
["Eschenbach                                                  ",1012,"Göppingen",20,1,1012,{"$f":"IF(IF(LEN(A504)>0,ERROR.TYPE(MATCH(H504,H$1:H503,0))=7,0),C504,\"\")","v":"Göppingen"},"20Eschenbach                                                  "]
["Faurndau                                                    ",2285,"Göppingen",20,1,2285,{"$f":"IF(IF(LEN(A505)>0,ERROR.TYPE(MATCH(H505,H$1:H504,0))=7,0),C505,\"\")","v":"Göppingen"},"20Faurndau                                                    "]
["Hattenhofen                                                 ",1422,"Göppingen",20,1,1422,{"$f":"IF(IF(LEN(A506)>0,ERROR.TYPE(MATCH(H506,H$1:H505,0))=7,0),C506,\"\")","v":"Göppingen"},"20Hattenhofen                                                 "]
["Heiningen                                                   ",2113,"Göppingen",20,1,2113,{"$f":"IF(IF(LEN(A507)>0,ERROR.TYPE(MATCH(H507,H$1:H506,0))=7,0),C507,\"\")","v":"Göppingen"},"20Heiningen                                                   "]
["Hohenstaufen-Maitis                                                ",1012,"Göppingen",20,1,1012,{"$f":"IF(IF(LEN(A508)>0,ERROR.TYPE(MATCH(H508,H$1:H507,0))=7,0),C508,\"\")","v":"Göppingen"},"20Hohenstaufen-Maitis                                                "]
["Roßwälden                                                   ",1472,"Göppingen",20,1,1472,{"$f":"IF(IF(LEN(A509)>0,ERROR.TYPE(MATCH(H509,H$1:H508,0))=7,0),C509,\"\")","v":"Göppingen"},"20Roßwälden                                                   "]
["Salach                                                      ",1877,"Göppingen",20,1,1877,{"$f":"IF(IF(LEN(A510)>0,ERROR.TYPE(MATCH(H510,H$1:H509,0))=7,0),C510,\"\")","v":"Göppingen"},"20Salach                                                      "]
["Schlat                                                      ",891,"Göppingen",20,1,891,{"$f":"IF(IF(LEN(A511)>0,ERROR.TYPE(MATCH(H511,H$1:H510,0))=7,0),C511,\"\")","v":"Göppingen"},"20Schlat                                                      "]
["Schlierbach                                                 ",1704,"Göppingen",20,1,1704,{"$f":"IF(IF(LEN(A512)>0,ERROR.TYPE(MATCH(H512,H$1:H511,0))=7,0),C512,\"\")","v":"Göppingen"},"20Schlierbach                                                 "]
["Uhingen                                                     ",5154,"Göppingen",20,1.5,5154,{"$f":"IF(IF(LEN(A513)>0,ERROR.TYPE(MATCH(H513,H$1:H512,0))=7,0),C513,\"\")","v":"Göppingen"},"20Uhingen                                                     "]
["Wangen                                                      ",1197,"Göppingen",20,1,1197,{"$f":"IF(IF(LEN(A514)>0,ERROR.TYPE(MATCH(H514,H$1:H513,0))=7,0),C514,\"\")","v":"Göppingen"},"20Wangen                                                      "]
["Oberwälden                                                  ",233,"Göppingen",20,{"$f":"IF($G515<>\"\",IF($B515<400,0.5,IF($B515<2801,1,IF($B515<5601,1.5,IF($B515<8401,2,IF($B515<11201,2.5,1000))))),\"\")","v":0.5},233,{"$f":"IF(IF(LEN(A515)>0,ERROR.TYPE(MATCH(H515,H$1:H514,0))=7,0),C515,\"\")","v":"Göppingen"},"20Oberwälden                                                  "]
["Zell u.A.                                                   ",1886,"Göppingen",20,1,{"$f":"IF(E516<>\"#NV\",B516,\"\")","v":1886},{"$f":"IF(IF(LEN(A516)>0,ERROR.TYPE(MATCH(H516,H$1:H515,0))=7,0),C516,\"\")","v":"Göppingen"},{"$f":"D516&A516","v":"20Zell u.A.                                                   "}]
["Adelberg                                                    ",904,"Göppingen",20,1,904,{"$f":"IF(IF(LEN(A517)>0,ERROR.TYPE(MATCH(H517,H$1:H516,0))=7,0),C517,\"\")","v":"Göppingen"},"20Adelberg                                                    "]
["Bünzwangen-Sulpach                                          ",1479,"Göppingen",20,1,1479,{"$f":"IF(IF(LEN(A518)>0,ERROR.TYPE(MATCH(H518,H$1:H517,0))=7,0),C518,\"\")","v":"Göppingen"},"20Bünzwangen-Sulpach                                          "]
["Dürnau-Gammelshausen                                        ",1549,"Göppingen",20,1,1549,{"$f":"IF(IF(LEN(A519)>0,ERROR.TYPE(MATCH(H519,H$1:H518,0))=7,0),C519,\"\")","v":"Göppingen"},"20Dürnau-Gammelshausen                                        "]
["Schwäbisch Hall St. Michael und St. Katharina               ",2269,"Schwäbisch Hall",21,1,2269,{"$f":"IF(IF(LEN(A520)>0,ERROR.TYPE(MATCH(H520,H$1:H519,0))=7,0),C520,\"\")","v":"Schwäbisch Hall"},"21Schwäbisch Hall St. Michael und St. Katharina               "]
["Schwäbisch Hall Joh.-Brenz-Kirchengemeinde                  ",1531,"Schwäbisch Hall",21,1,1531,{"$f":"IF(IF(LEN(A521)>0,ERROR.TYPE(MATCH(H521,H$1:H520,0))=7,0),C521,\"\")","v":"Schwäbisch Hall"},"21Schwäbisch Hall Joh.-Brenz-Kirchengemeinde                  "]
["Schwäbisch Hall Kreuzäckerkirchengemeinde                   ",1407,"Schwäbisch Hall",21,1,1407,{"$f":"IF(IF(LEN(A522)>0,ERROR.TYPE(MATCH(H522,H$1:H521,0))=7,0),C522,\"\")","v":"Schwäbisch Hall"},"21Schwäbisch Hall Kreuzäckerkirchengemeinde                   "]
["Hessental Matthäuskirchengemeinde                           ",2835,"Schwäbisch Hall",21,1.5,2835,{"$f":"IF(IF(LEN(A523)>0,ERROR.TYPE(MATCH(H523,H$1:H522,0))=7,0),C523,\"\")","v":"Schwäbisch Hall"},"21Hessental Matthäuskirchengemeinde                           "]
["Steinbach-Tullau                                                                               ",527,"Schwäbisch Hall",21,1,527,{"$f":"IF(IF(LEN(A524)>0,ERROR.TYPE(MATCH(H524,H$1:H523,0))=7,0),C524,\"\")","v":"Schwäbisch Hall"},"21Steinbach-Tullau                                                                               "]
["Bibersfeld                                                  ",1092,"Schwäbisch Hall",21,1,1092,{"$f":"IF(IF(LEN(A525)>0,ERROR.TYPE(MATCH(H525,H$1:H524,0))=7,0),C525,\"\")","v":"Schwäbisch Hall"},"21Bibersfeld                                                  "]
["Braunsbach                                                  ",476,"Schwäbisch Hall",21,1,476,{"$f":"IF(IF(LEN(A526)>0,ERROR.TYPE(MATCH(H526,H$1:H525,0))=7,0),C526,\"\")","v":"Schwäbisch Hall"},"21Braunsbach                                                  "]
["Bubenorbis                                                  ",482,"Schwäbisch Hall",21,1,482,{"$f":"IF(IF(LEN(A527)>0,ERROR.TYPE(MATCH(H527,H$1:H526,0))=7,0),C527,\"\")","v":"Schwäbisch Hall"},"21Bubenorbis                                                  "]
["Gailenkirchen                                               ",760,"Schwäbisch Hall",21,1,760,{"$f":"IF(IF(LEN(A528)>0,ERROR.TYPE(MATCH(H528,H$1:H527,0))=7,0),C528,\"\")","v":"Schwäbisch Hall"},"21Gailenkirchen                                               "]
["Gottwollshausen                                             ",713,"Schwäbisch Hall",21,1,713,{"$f":"IF(IF(LEN(A529)>0,ERROR.TYPE(MATCH(H529,H$1:H528,0))=7,0),C529,\"\")","v":"Schwäbisch Hall"},"21Gottwollshausen                                             "]
["Geislingen a.K.                                             ",281,"Schwäbisch Hall",21,0.5,281,{"$f":"IF(IF(LEN(A530)>0,ERROR.TYPE(MATCH(H530,H$1:H529,0))=7,0),C530,\"\")","v":"Schwäbisch Hall"},"21Geislingen a.K.                                             "]
["Gelbingen                                                   ",623,"Schwäbisch Hall",21,1,623,{"$f":"IF(IF(LEN(A531)>0,ERROR.TYPE(MATCH(H531,H$1:H530,0))=7,0),C531,\"\")","v":"Schwäbisch Hall"},"21Gelbingen                                                   "]
["Eltershofen                                                 ",443,"Schwäbisch Hall",21,1,443,{"$f":"IF(IF(LEN(A532)>0,ERROR.TYPE(MATCH(H532,H$1:H531,0))=7,0),C532,\"\")","v":"Schwäbisch Hall"},"21Eltershofen                                                 "]
["Gnadental                                                   ",568,"Schwäbisch Hall",21,1,568,{"$f":"IF(IF(LEN(A533)>0,ERROR.TYPE(MATCH(H533,H$1:H532,0))=7,0),C533,\"\")","v":"Schwäbisch Hall"},"21Gnadental                                                   "]
["Neunkirchen                                                 ",209,"Schwäbisch Hall",21,0.5,209,{"$f":"IF(IF(LEN(A534)>0,ERROR.TYPE(MATCH(H534,H$1:H533,0))=7,0),C534,\"\")","v":"Schwäbisch Hall"},"21Neunkirchen                                                 "]
["Großaltdorf                                                 ",638,"Schwäbisch Hall",21,1,638,{"$f":"IF(IF(LEN(A535)>0,ERROR.TYPE(MATCH(H535,H$1:H534,0))=7,0),C535,\"\")","v":"Schwäbisch Hall"},"21Großaltdorf                                                 "]
["Lorenzenzimmern                                             ",148,"Schwäbisch Hall",21,0.5,148,{"$f":"IF(IF(LEN(A536)>0,ERROR.TYPE(MATCH(H536,H$1:H535,0))=7,0),C536,\"\")","v":"Schwäbisch Hall"},"21Lorenzenzimmern                                             "]
["Ilshofen                                                    ",1948,"Schwäbisch Hall",21,1,1948,{"$f":"IF(IF(LEN(A537)>0,ERROR.TYPE(MATCH(H537,H$1:H536,0))=7,0),C537,\"\")","v":"Schwäbisch Hall"},"21Ilshofen                                                    "]
["Mainhardt                                                   ",2266,"Schwäbisch Hall",21,1,2266,{"$f":"IF(IF(LEN(A538)>0,ERROR.TYPE(MATCH(H538,H$1:H537,0))=7,0),C538,\"\")","v":"Schwäbisch Hall"},"21Mainhardt                                                   "]
["Michelfeld                                                  ",1353,"Schwäbisch Hall",21,1,1353,{"$f":"IF(IF(LEN(A539)>0,ERROR.TYPE(MATCH(H539,H$1:H538,0))=7,0),C539,\"\")","v":"Schwäbisch Hall"},"21Michelfeld                                                  "]
["Oberaspach                                                  ",1022,"Schwäbisch Hall",21,1,1022,{"$f":"IF(IF(LEN(A540)>0,ERROR.TYPE(MATCH(H540,H$1:H539,0))=7,0),C540,\"\")","v":"Schwäbisch Hall"},"21Oberaspach                                                  "]
["Orlach-Jungholzhausen                                       ",358,"Schwäbisch Hall",21,0.5,358,{"$f":"IF(IF(LEN(A541)>0,ERROR.TYPE(MATCH(H541,H$1:H540,0))=7,0),C541,\"\")","v":"Schwäbisch Hall"},"21Orlach-Jungholzhausen                                       "]
["Reinsberg                                                   ",1040,"Schwäbisch Hall",21,1,1040,{"$f":"IF(IF(LEN(A542)>0,ERROR.TYPE(MATCH(H542,H$1:H541,0))=7,0),C542,\"\")","v":"Schwäbisch Hall"},"21Reinsberg                                                   "]
["Rieden                                                      ",698,"Schwäbisch Hall",21,1,698,{"$f":"IF(IF(LEN(A543)>0,ERROR.TYPE(MATCH(H543,H$1:H542,0))=7,0),C543,\"\")","v":"Schwäbisch Hall"},"21Rieden                                                      "]
["Stöckenburg                                                 ",1696,"Schwäbisch Hall",21,1,1696,{"$f":"IF(IF(LEN(A544)>0,ERROR.TYPE(MATCH(H544,H$1:H543,0))=7,0),C544,\"\")","v":"Schwäbisch Hall"},"21Stöckenburg                                                 "]
["Sulzdorf                                                    ",1718,"Schwäbisch Hall",21,1,1718,{"$f":"IF(IF(LEN(A545)>0,ERROR.TYPE(MATCH(H545,H$1:H544,0))=7,0),C545,\"\")","v":"Schwäbisch Hall"},"21Sulzdorf                                                    "]
["Tüngental                                                   ",894,"Schwäbisch Hall",21,1,894,{"$f":"IF(IF(LEN(A546)>0,ERROR.TYPE(MATCH(H546,H$1:H545,0))=7,0),C546,\"\")","v":"Schwäbisch Hall"},"21Tüngental                                                   "]
["Westheim                                                    ",1883,"Schwäbisch Hall",21,1,1883,{"$f":"IF(IF(LEN(A547)>0,ERROR.TYPE(MATCH(H547,H$1:H546,0))=7,0),C547,\"\")","v":"Schwäbisch Hall"},"21Westheim                                                    "]
["Schwäbisch Hall Lukaskirchengemeinde                        ",1454,"Schwäbisch Hall",21,1,1454,{"$f":"IF(IF(LEN(A548)>0,ERROR.TYPE(MATCH(H548,H$1:H547,0))=7,0),C548,\"\")","v":"Schwäbisch Hall"},"21Schwäbisch Hall Lukaskirchengemeinde                        "]
["Haßfelden                                                   ",75,"Schwäbisch Hall",21,0.5,75,{"$f":"IF(IF(LEN(A549)>0,ERROR.TYPE(MATCH(H549,H$1:H548,0))=7,0),C549,\"\")","v":"Schwäbisch Hall"},"21Haßfelden                                                   "]
["Obersteinach                                                ",377,"Schwäbisch Hall",21,0.5,377,{"$f":"IF(IF(LEN(A550)>0,ERROR.TYPE(MATCH(H550,H$1:H549,0))=7,0),C550,\"\")","v":"Schwäbisch Hall"},"21Obersteinach                                                "]
["Altenberg                                                   ",37,"Schwäbisch Hall",21,0.5,37,{"$f":"IF(IF(LEN(A551)>0,ERROR.TYPE(MATCH(H551,H$1:H550,0))=7,0),C551,\"\")","v":"Schwäbisch Hall"},"21Altenberg                                                   "]
["Schwäb. Hall Sophie-Scholl-Kirchengemeinde                  ",2049,"Schwäbisch Hall",21,1,2049,{"$f":"IF(IF(LEN(A552)>0,ERROR.TYPE(MATCH(H552,H$1:H551,0))=7,0),C552,\"\")","v":"Schwäbisch Hall"},"21Schwäb. Hall Sophie-Scholl-Kirchengemeinde                  "]
["Geißelhardt                                                 ",588,"Schwäbisch Hall",21,1,588,{"$f":"IF(IF(LEN(A553)>0,ERROR.TYPE(MATCH(H553,H$1:H552,0))=7,0),C553,\"\")","v":"Schwäbisch Hall"},"21Geißelhardt                                                 "]
["Untermünkheim                                               ",1821,"Schwäbisch Hall",21,1,1821,{"$f":"IF(IF(LEN(A554)>0,ERROR.TYPE(MATCH(H554,H$1:H553,0))=7,0),C554,\"\")","v":"Schwäbisch Hall"},"21Untermünkheim                                               "]
["Döttingen-Steinkirchen                                      ",343,"Schwäbisch Hall",21,0.5,343,{"$f":"IF(IF(LEN(A555)>0,ERROR.TYPE(MATCH(H555,H$1:H554,0))=7,0),C555,\"\")","v":"Schwäbisch Hall"},"21Döttingen-Steinkirchen                                      "]
["Heidenheim Versöhnungskirchengemeinde                       ",1150,"Heidenheim",22,1,1150,{"$f":"IF(IF(LEN(A556)>0,ERROR.TYPE(MATCH(H556,H$1:H555,0))=7,0),C556,\"\")","v":"Heidenheim"},"22Heidenheim Versöhnungskirchengemeinde                       "]
["Mergelstetten                                               ",2212,"Heidenheim",22,1,2212,{"$f":"IF(IF(LEN(A557)>0,ERROR.TYPE(MATCH(H557,H$1:H556,0))=7,0),C557,\"\")","v":"Heidenheim"},"22Mergelstetten                                               "]
["Schnaitheim                                                 ",3413,"Heidenheim",22,1.5,3413,{"$f":"IF(IF(LEN(A558)>0,ERROR.TYPE(MATCH(H558,H$1:H557,0))=7,0),C558,\"\")","v":"Heidenheim"},"22Schnaitheim                                                 "]
["Bolheim                                                     ",1371,"Heidenheim",22,1,1371,{"$f":"IF(IF(LEN(A559)>0,ERROR.TYPE(MATCH(H559,H$1:H558,0))=7,0),C559,\"\")","v":"Heidenheim"},"22Bolheim                                                     "]
["Brenz-Bergenweiler                                          ",854,"Heidenheim",22,1,854,{"$f":"IF(IF(LEN(A560)>0,ERROR.TYPE(MATCH(H560,H$1:H559,0))=7,0),C560,\"\")","v":"Heidenheim"},"22Brenz-Bergenweiler                                          "]
["Dettingen am Albuch                                         ",1148,"Heidenheim",22,1,1148,{"$f":"IF(IF(LEN(A561)>0,ERROR.TYPE(MATCH(H561,H$1:H560,0))=7,0),C561,\"\")","v":"Heidenheim"},"22Dettingen am Albuch                                         "]
["Fleinheim-Dischingen                                        ",782,"Heidenheim",22,1,782,{"$f":"IF(IF(LEN(A562)>0,ERROR.TYPE(MATCH(H562,H$1:H561,0))=7,0),C562,\"\")","v":"Heidenheim"},"22Fleinheim-Dischingen                                        "]
["Gerstetten                                                  ",3147,"Heidenheim",22,1.5,3147,{"$f":"IF(IF(LEN(A563)>0,ERROR.TYPE(MATCH(H563,H$1:H562,0))=7,0),C563,\"\")","v":"Heidenheim"},"22Gerstetten                                                  "]
["Giengen a.d. Brenz                                          ",4263,"Heidenheim",22,1.5,4263,{"$f":"IF(IF(LEN(A564)>0,ERROR.TYPE(MATCH(H564,H$1:H563,0))=7,0),C564,\"\")","v":"Heidenheim"},"22Giengen a.d. Brenz                                          "]
["Gussenstadt                                                 ",890,"Heidenheim",22,1,890,{"$f":"IF(IF(LEN(A565)>0,ERROR.TYPE(MATCH(H565,H$1:H564,0))=7,0),C565,\"\")","v":"Heidenheim"},"22Gussenstadt                                                 "]
["Herbrechtingen                                              ",3204,"Heidenheim",22,1.5,3204,{"$f":"IF(IF(LEN(A566)>0,ERROR.TYPE(MATCH(H566,H$1:H565,0))=7,0),C566,\"\")","v":"Heidenheim"},"22Herbrechtingen                                              "]
["Hermaringen                                                 ",991,"Heidenheim",22,1,991,{"$f":"IF(IF(LEN(A567)>0,ERROR.TYPE(MATCH(H567,H$1:H566,0))=7,0),C567,\"\")","v":"Heidenheim"},"22Hermaringen                                                 "]
["Heuchlingen-Heldenfingen                                    ",1144,"Heidenheim",22,1,1144,{"$f":"IF(IF(LEN(A568)>0,ERROR.TYPE(MATCH(H568,H$1:H567,0))=7,0),C568,\"\")","v":"Heidenheim"},"22Heuchlingen-Heldenfingen                                    "]
["Hohenmemmingen                                              ",634,"Heidenheim",22,1,634,{"$f":"IF(IF(LEN(A569)>0,ERROR.TYPE(MATCH(H569,H$1:H568,0))=7,0),C569,\"\")","v":"Heidenheim"},"22Hohenmemmingen                                              "]
["Sachsenhausen                                               ",144,"Heidenheim",22,0.5,144,{"$f":"IF(IF(LEN(A570)>0,ERROR.TYPE(MATCH(H570,H$1:H569,0))=7,0),C570,\"\")","v":"Heidenheim"},"22Sachsenhausen                                               "]
["Hürben                                                      ",839,"Heidenheim",22,1,839,{"$f":"IF(IF(LEN(A571)>0,ERROR.TYPE(MATCH(H571,H$1:H570,0))=7,0),C571,\"\")","v":"Heidenheim"},"22Hürben                                                      "]
["Königsbronn                                                 ",2270,"Heidenheim",22,1,2270,{"$f":"IF(IF(LEN(A572)>0,ERROR.TYPE(MATCH(H572,H$1:H571,0))=7,0),C572,\"\")","v":"Heidenheim"},"22Königsbronn                                                 "]
["Nattheim                                                    ",2110,"Heidenheim",22,1,2110,{"$f":"IF(IF(LEN(A573)>0,ERROR.TYPE(MATCH(H573,H$1:H572,0))=7,0),C573,\"\")","v":"Heidenheim"},"22Nattheim                                                    "]
["Niederstotzingen                                            ",1504,"Heidenheim",22,1,1504,{"$f":"IF(IF(LEN(A574)>0,ERROR.TYPE(MATCH(H574,H$1:H573,0))=7,0),C574,\"\")","v":"Heidenheim"},"22Niederstotzingen                                            "]
["Oggenhausen                                                 ",669,"Heidenheim",22,1,669,{"$f":"IF(IF(LEN(A575)>0,ERROR.TYPE(MATCH(H575,H$1:H574,0))=7,0),C575,\"\")","v":"Heidenheim"},"22Oggenhausen                                                 "]
["Söhnstetten                                                 ",950,"Heidenheim",22,1,950,{"$f":"IF(IF(LEN(A576)>0,ERROR.TYPE(MATCH(H576,H$1:H575,0))=7,0),C576,\"\")","v":"Heidenheim"},"22Söhnstetten                                                 "]
["Sontheim an der Brenz                                       ",1891,"Heidenheim",22,1,1891,{"$f":"IF(IF(LEN(A577)>0,ERROR.TYPE(MATCH(H577,H$1:H576,0))=7,0),C577,\"\")","v":"Heidenheim"},"22Sontheim an der Brenz                                       "]
["Steinheim am Albuch                                         ",3034,"Heidenheim",22,1.5,3034,{"$f":"IF(IF(LEN(A578)>0,ERROR.TYPE(MATCH(H578,H$1:H577,0))=7,0),C578,\"\")","v":"Heidenheim"},"22Steinheim am Albuch                                         "]
["Zang                                                        ",647,"Heidenheim",22,{"$f":"IF($G579<>\"\",IF($B579<400,0.5,IF($B579<2801,1,IF($B579<5601,1.5,IF($B579<8401,2,IF($B579<11201,2.5,1000))))),\"\")","v":1},647,{"$f":"IF(IF(LEN(A579)>0,ERROR.TYPE(MATCH(H579,H$1:H578,0))=7,0),C579,\"\")","v":"Heidenheim"},"22Zang                                                        "]
["Heidenheim Zinzendorfkirchengemeinde                        ",1849,"Heidenheim",22,1,{"$f":"IF(E580<>\"#NV\",B580,\"\")","v":1849},{"$f":"IF(IF(LEN(A580)>0,ERROR.TYPE(MATCH(H580,H$1:H579,0))=7,0),C580,\"\")","v":"Heidenheim"},{"$f":"D580&A580","v":"22Heidenheim Zinzendorfkirchengemeinde                        "}]
["Bissingen-Hausen                                            ",341,"Heidenheim",22,0.5,341,{"$f":"IF(IF(LEN(A581)>0,ERROR.TYPE(MATCH(H581,H$1:H580,0))=7,0),C581,\"\")","v":"Heidenheim"},"22Bissingen-Hausen                                            "]
["Heidenheim Auferstehungskirchengemeinde                     ",3221,"Heidenheim",22,1.5,3221,{"$f":"IF(IF(LEN(A582)>0,ERROR.TYPE(MATCH(H582,H$1:H581,0))=7,0),C582,\"\")","v":"Heidenheim"},"22Heidenheim Auferstehungskirchengemeinde                     "]
["Heidenheim Paulus-Wald-Kirchengemeinde                      ",2950,"Heidenheim",22,1.5,2950,{"$f":"IF(IF(LEN(A583)>0,ERROR.TYPE(MATCH(H583,H$1:H582,0))=7,0),C583,\"\")","v":"Heidenheim"},"22Heidenheim Paulus-Wald-Kirchengemeinde                      "]
["Heilbronn Kilianskirchengemeinde                            ",2053,"Heilbronn",23,1,2053,{"$f":"IF(IF(LEN(A584)>0,ERROR.TYPE(MATCH(H584,H$1:H583,0))=7,0),C584,\"\")","v":"Heilbronn"},"23Heilbronn Kilianskirchengemeinde                            "]
["Heilbronn Friedenskirchengemeinde                           ",4276,"Heilbronn",23,1.5,4276,{"$f":"IF(IF(LEN(A585)>0,ERROR.TYPE(MATCH(H585,H$1:H584,0))=7,0),C585,\"\")","v":"Heilbronn"},"23Heilbronn Friedenskirchengemeinde                           "]
["Heilbronn Emmaus-Kirchengemeinde                            ",3225,"Heilbronn",23,1.5,3225,{"$f":"IF(IF(LEN(A586)>0,ERROR.TYPE(MATCH(H586,H$1:H585,0))=7,0),C586,\"\")","v":"Heilbronn"},"23Heilbronn Emmaus-Kirchengemeinde                            "]
["Heilbronn Südkirchengemeinde                                ",2464,"Heilbronn",23,1,2464,{"$f":"IF(IF(LEN(A587)>0,ERROR.TYPE(MATCH(H587,H$1:H586,0))=7,0),C587,\"\")","v":"Heilbronn"},"23Heilbronn Südkirchengemeinde                                "]
["Heilbronn Nikolaikirchengemeinde                                ",3577,"Heilbronn",23,1.5,3577,{"$f":"IF(IF(LEN(A588)>0,ERROR.TYPE(MATCH(H588,H$1:H587,0))=7,0),C588,\"\")","v":"Heilbronn"},"23Heilbronn Nikolaikirchengemeinde                                "]
["Böckingen                                                   ",7338,"Heilbronn",23,2,7338,{"$f":"IF(IF(LEN(A589)>0,ERROR.TYPE(MATCH(H589,H$1:H588,0))=7,0),C589,\"\")","v":"Heilbronn"},"23Böckingen                                                   "]
["Neckargartach                                               ",3138,"Heilbronn",23,1.5,3138,{"$f":"IF(IF(LEN(A590)>0,ERROR.TYPE(MATCH(H590,H$1:H589,0))=7,0),C590,\"\")","v":"Heilbronn"},"23Neckargartach                                               "]
["Heilbronn-Sontheim Matthäuskirchengemeinde                  ",2167,"Heilbronn",23,1,2167,{"$f":"IF(IF(LEN(A591)>0,ERROR.TYPE(MATCH(H591,H$1:H590,0))=7,0),C591,\"\")","v":"Heilbronn"},"23Heilbronn-Sontheim Matthäuskirchengemeinde                  "]
["Biberach-Kirchhausen                                        ",3161,"Heilbronn",23,1.5,3161,{"$f":"IF(IF(LEN(A592)>0,ERROR.TYPE(MATCH(H592,H$1:H591,0))=7,0),C592,\"\")","v":"Heilbronn"},"23Biberach-Kirchhausen                                        "]
["Bonfeld                                                     ",914,"Heilbronn",23,1,914,{"$f":"IF(IF(LEN(A593)>0,ERROR.TYPE(MATCH(H593,H$1:H592,0))=7,0),C593,\"\")","v":"Heilbronn"},"23Bonfeld                                                     "]
["Flein                                                       ",3153,"Heilbronn",23,1.5,3153,{"$f":"IF(IF(LEN(A594)>0,ERROR.TYPE(MATCH(H594,H$1:H593,0))=7,0),C594,\"\")","v":"Heilbronn"},"23Flein                                                       "]
["Frankenbach                                                 ",2302,"Heilbronn",23,1,2302,{"$f":"IF(IF(LEN(A595)>0,ERROR.TYPE(MATCH(H595,H$1:H594,0))=7,0),C595,\"\")","v":"Heilbronn"},"23Frankenbach                                                 "]
["Fürfeld                                                     ",800,"Heilbronn",23,1,800,{"$f":"IF(IF(LEN(A596)>0,ERROR.TYPE(MATCH(H596,H$1:H595,0))=7,0),C596,\"\")","v":"Heilbronn"},"23Fürfeld                                                     "]
["Großgartach                                                 ",3120,"Heilbronn",23,1.5,3120,{"$f":"IF(IF(LEN(A597)>0,ERROR.TYPE(MATCH(H597,H$1:H596,0))=7,0),C597,\"\")","v":"Heilbronn"},"23Großgartach                                                 "]
["Horkheim                                                    ",1775,"Heilbronn",23,1,1775,{"$f":"IF(IF(LEN(A598)>0,ERROR.TYPE(MATCH(H598,H$1:H597,0))=7,0),C598,\"\")","v":"Heilbronn"},"23Horkheim                                                    "]
["Ilsfeld                                                     ",2848,"Heilbronn",23,1.5,2848,{"$f":"IF(IF(LEN(A599)>0,ERROR.TYPE(MATCH(H599,H$1:H598,0))=7,0),C599,\"\")","v":"Heilbronn"},"23Ilsfeld                                                     "]
["Klingenberg                                                 ",919,"Heilbronn",23,1,919,{"$f":"IF(IF(LEN(A600)>0,ERROR.TYPE(MATCH(H600,H$1:H599,0))=7,0),C600,\"\")","v":"Heilbronn"},"23Klingenberg                                                 "]
["Obereisesheim                                               ",1579,"Heilbronn",23,1,1579,{"$f":"IF(IF(LEN(A601)>0,ERROR.TYPE(MATCH(H601,H$1:H600,0))=7,0),C601,\"\")","v":"Heilbronn"},"23Obereisesheim                                               "]
["Talheim                                                     ",1878,"Heilbronn",23,1,1878,{"$f":"IF(IF(LEN(A602)>0,ERROR.TYPE(MATCH(H602,H$1:H601,0))=7,0),C602,\"\")","v":"Heilbronn"},"23Talheim                                                     "]
["Untereisesheim                                              ",1551,"Heilbronn",23,1,1551,{"$f":"IF(IF(LEN(A603)>0,ERROR.TYPE(MATCH(H603,H$1:H602,0))=7,0),C603,\"\")","v":"Heilbronn"},"23Untereisesheim                                              "]
["Untergruppenbach                                            ",3034,"Heilbronn",23,1.5,3034,{"$f":"IF(IF(LEN(A604)>0,ERROR.TYPE(MATCH(H604,H$1:H603,0))=7,0),C604,\"\")","v":"Heilbronn"},"23Untergruppenbach                                            "]
["Bad Wimpfen                                                 ",2602,"Heilbronn",23,1,2602,{"$f":"IF(IF(LEN(A605)>0,ERROR.TYPE(MATCH(H605,H$1:H604,0))=7,0),C605,\"\")","v":"Heilbronn"},"23Bad Wimpfen                                                 "]
["Hohenstadt                                                  ",167,"Heilbronn",23,0.5,167,{"$f":"IF(IF(LEN(A606)>0,ERROR.TYPE(MATCH(H606,H$1:H605,0))=7,0),C606,\"\")","v":"Heilbronn"},"23Hohenstadt                                                  "]
["Schluchtern                                                 ",1895,"Heilbronn",23,1,1895,{"$f":"IF(IF(LEN(A607)>0,ERROR.TYPE(MATCH(H607,H$1:H606,0))=7,0),C607,\"\")","v":"Heilbronn"},"23Schluchtern                                                 "]
["Heilbronn-Sontheim Diet.-Bonh.-Kirchengemeinde              ",1591,"Heilbronn",23,1,1591,{"$f":"IF(IF(LEN(A608)>0,ERROR.TYPE(MATCH(H608,H$1:H607,0))=7,0),C608,\"\")","v":"Heilbronn"},"23Heilbronn-Sontheim Diet.-Bonh.-Kirchengemeinde              "]
["Herrenberg                                                  ",5200,"Herrenberg",24,1.5,5200,{"$f":"IF(IF(LEN(A609)>0,ERROR.TYPE(MATCH(H609,H$1:H608,0))=7,0),C609,\"\")","v":"Herrenberg"},"24Herrenberg                                                  "]
["Haslach                                                     ",730,"Herrenberg",24,1,730,{"$f":"IF(IF(LEN(A610)>0,ERROR.TYPE(MATCH(H610,H$1:H609,0))=7,0),C610,\"\")","v":"Herrenberg"},"24Haslach                                                     "]
["Bondorf                                                     ",2790,"Herrenberg",24,1,2790,{"$f":"IF(IF(LEN(A611)>0,ERROR.TYPE(MATCH(H611,H$1:H610,0))=7,0),C611,\"\")","v":"Herrenberg"},"24Bondorf                                                     "]
["Breitenholz                                                 ",439,"Herrenberg",24,1,439,{"$f":"IF(IF(LEN(A612)>0,ERROR.TYPE(MATCH(H612,H$1:H611,0))=7,0),C612,\"\")","v":"Herrenberg"},"24Breitenholz                                                 "]
["Entringen                                                   ",1642,"Herrenberg",24,1,1642,{"$f":"IF(IF(LEN(A613)>0,ERROR.TYPE(MATCH(H613,H$1:H612,0))=7,0),C613,\"\")","v":"Herrenberg"},"24Entringen                                                   "]
["Gärtringen                                                  ",3780,"Herrenberg",24,1.5,3780,{"$f":"IF(IF(LEN(A614)>0,ERROR.TYPE(MATCH(H614,H$1:H613,0))=7,0),C614,\"\")","v":"Herrenberg"},"24Gärtringen                                                  "]
["Gültstein                                                   ",1486,"Herrenberg",24,1,1486,{"$f":"IF(IF(LEN(A615)>0,ERROR.TYPE(MATCH(H615,H$1:H614,0))=7,0),C615,\"\")","v":"Herrenberg"},"24Gültstein                                                   "]
["Hildrizhausen                                               ",1558,"Herrenberg",24,1,1558,{"$f":"IF(IF(LEN(A616)>0,ERROR.TYPE(MATCH(H616,H$1:H615,0))=7,0),C616,\"\")","v":"Herrenberg"},"24Hildrizhausen                                               "]
["Kayh                                                        ",860,"Herrenberg",24,1,860,{"$f":"IF(IF(LEN(A617)>0,ERROR.TYPE(MATCH(H617,H$1:H616,0))=7,0),C617,\"\")","v":"Herrenberg"},"24Kayh                                                        "]
["Mönchberg                                                   ",617,"Herrenberg",24,1,617,{"$f":"IF(IF(LEN(A618)>0,ERROR.TYPE(MATCH(H618,H$1:H617,0))=7,0),C618,\"\")","v":"Herrenberg"},"24Mönchberg                                                   "]
["Kuppingen                                                   ",1831,"Herrenberg",24,1,1831,{"$f":"IF(IF(LEN(A619)>0,ERROR.TYPE(MATCH(H619,H$1:H618,0))=7,0),C619,\"\")","v":"Herrenberg"},"24Kuppingen                                                   "]
["Affstätt                                                    ",811,"Herrenberg",24,1,811,{"$f":"IF(IF(LEN(A620)>0,ERROR.TYPE(MATCH(H620,H$1:H619,0))=7,0),C620,\"\")","v":"Herrenberg"},"24Affstätt                                                    "]
["Mötzingen                                                   ",1916,"Herrenberg",24,1,1916,{"$f":"IF(IF(LEN(A621)>0,ERROR.TYPE(MATCH(H621,H$1:H620,0))=7,0),C621,\"\")","v":"Herrenberg"},"24Mötzingen                                                   "]
["Nufringen                                                   ",2402,"Herrenberg",24,1,2402,{"$f":"IF(IF(LEN(A622)>0,ERROR.TYPE(MATCH(H622,H$1:H621,0))=7,0),C622,\"\")","v":"Herrenberg"},"24Nufringen                                                   "]
["Rohrau                                                      ",787,"Herrenberg",24,1,787,{"$f":"IF(IF(LEN(A623)>0,ERROR.TYPE(MATCH(H623,H$1:H622,0))=7,0),C623,\"\")","v":"Herrenberg"},"24Rohrau                                                      "]
["Oberjesingen                                                ",1283,"Herrenberg",24,1,1283,{"$f":"IF(IF(LEN(A624)>0,ERROR.TYPE(MATCH(H624,H$1:H623,0))=7,0),C624,\"\")","v":"Herrenberg"},"24Oberjesingen                                                "]
["Oberjettingen                                               ",1547,"Herrenberg",24,1,1547,{"$f":"IF(IF(LEN(A625)>0,ERROR.TYPE(MATCH(H625,H$1:H624,0))=7,0),C625,\"\")","v":"Herrenberg"},"24Oberjettingen                                               "]
["Öschelbronn                                                 ",1593,"Herrenberg",24,1,1593,{"$f":"IF(IF(LEN(A626)>0,ERROR.TYPE(MATCH(H626,H$1:H625,0))=7,0),C626,\"\")","v":"Herrenberg"},"24Öschelbronn                                                 "]
["Reusten                                                     ",465,"Herrenberg",24,1,465,{"$f":"IF(IF(LEN(A627)>0,ERROR.TYPE(MATCH(H627,H$1:H626,0))=7,0),C627,\"\")","v":"Herrenberg"},"24Reusten                                                     "]
["Altingen                                                    ",871,"Herrenberg",24,1,871,{"$f":"IF(IF(LEN(A628)>0,ERROR.TYPE(MATCH(H628,H$1:H627,0))=7,0),C628,\"\")","v":"Herrenberg"},"24Altingen                                                    "]
["Tailfingen                                                  ",705,"Herrenberg",24,1,705,{"$f":"IF(IF(LEN(A629)>0,ERROR.TYPE(MATCH(H629,H$1:H628,0))=7,0),C629,\"\")","v":"Herrenberg"},"24Tailfingen                                                  "]
["Nebringen                                                   ",1544,"Herrenberg",24,1,1544,{"$f":"IF(IF(LEN(A630)>0,ERROR.TYPE(MATCH(H630,H$1:H629,0))=7,0),C630,\"\")","v":"Herrenberg"},"24Nebringen                                                   "]
["Unterjettingen                                              ",1849,"Herrenberg",24,1,1849,{"$f":"IF(IF(LEN(A631)>0,ERROR.TYPE(MATCH(H631,H$1:H630,0))=7,0),C631,\"\")","v":"Herrenberg"},"24Unterjettingen                                              "]
["Deckenpfronn                                                ",1792,"Herrenberg",24,1,1792,{"$f":"IF(IF(LEN(A632)>0,ERROR.TYPE(MATCH(H632,H$1:H631,0))=7,0),C632,\"\")","v":"Herrenberg"},"24Deckenpfronn                                                "]
["Kirchheim/Teck Christuskirchengemeinde                      ",1687,"Kirchheim unter Teck",25,1,1687,{"$f":"IF(IF(LEN(A633)>0,ERROR.TYPE(MATCH(H633,H$1:H632,0))=7,0),C633,\"\")","v":"Kirchheim unter Teck"},"25Kirchheim/Teck Christuskirchengemeinde                      "]
["Bissingen/Teck                                              ",1539,"Kirchheim unter Teck",25,1,1539,{"$f":"IF(IF(LEN(A634)>0,ERROR.TYPE(MATCH(H634,H$1:H633,0))=7,0),C634,\"\")","v":"Kirchheim unter Teck"},"25Bissingen/Teck                                              "]
["Dettingen/Teck                                              ",2664,"Kirchheim unter Teck",25,1,2664,{"$f":"IF(IF(LEN(A635)>0,ERROR.TYPE(MATCH(H635,H$1:H634,0))=7,0),C635,\"\")","v":"Kirchheim unter Teck"},"25Dettingen/Teck                                              "]
["Erkenbrechtsweiler-Hochwang                                 ",1425,"Kirchheim unter Teck",25,1,1425,{"$f":"IF(IF(LEN(A636)>0,ERROR.TYPE(MATCH(H636,H$1:H635,0))=7,0),C636,\"\")","v":"Kirchheim unter Teck"},"25Erkenbrechtsweiler-Hochwang                                 "]
["Gutenberg                                                   ",509,"Kirchheim unter Teck",25,1,509,{"$f":"IF(IF(LEN(A637)>0,ERROR.TYPE(MATCH(H637,H$1:H636,0))=7,0),C637,\"\")","v":"Kirchheim unter Teck"},"25Gutenberg                                                   "]
["Hepsisau                                                    ",450,"Kirchheim unter Teck",25,1,450,{"$f":"IF(IF(LEN(A638)>0,ERROR.TYPE(MATCH(H638,H$1:H637,0))=7,0),C638,\"\")","v":"Kirchheim unter Teck"},"25Hepsisau                                                    "]
["Holzmaden                                                   ",1119,"Kirchheim unter Teck",25,1,1119,{"$f":"IF(IF(LEN(A639)>0,ERROR.TYPE(MATCH(H639,H$1:H638,0))=7,0),C639,\"\")","v":"Kirchheim unter Teck"},"25Holzmaden                                                   "]
["Jesingen                                                    ",1641,"Kirchheim unter Teck",25,1,1641,{"$f":"IF(IF(LEN(A640)>0,ERROR.TYPE(MATCH(H640,H$1:H639,0))=7,0),C640,\"\")","v":"Kirchheim unter Teck"},"25Jesingen                                                    "]
["Nabern                                                      ",927,"Kirchheim unter Teck",25,1,927,{"$f":"IF(IF(LEN(A641)>0,ERROR.TYPE(MATCH(H641,H$1:H640,0))=7,0),C641,\"\")","v":"Kirchheim unter Teck"},"25Nabern                                                      "]
["Neidlingen                                                  ",1044,"Kirchheim unter Teck",25,1,1044,{"$f":"IF(IF(LEN(A642)>0,ERROR.TYPE(MATCH(H642,H$1:H641,0))=7,0),C642,\"\")","v":"Kirchheim unter Teck"},"25Neidlingen                                                  "]
["Notzingen                                                   ",1653,"Kirchheim unter Teck",25,{"$f":"IF($G643<>\"\",IF($B643<400,0.5,IF($B643<2801,1,IF($B643<5601,1.5,IF($B643<8401,2,IF($B643<11201,2.5,1000))))),\"\")","v":1},1653,{"$f":"IF(IF(LEN(A643)>0,ERROR.TYPE(MATCH(H643,H$1:H642,0))=7,0),C643,\"\")","v":"Kirchheim unter Teck"},"25Notzingen                                                   "]
["Oberlenningen                                               ",1187,"Kirchheim unter Teck",25,1,{"$f":"IF(E644<>\"#NV\",B644,\"\")","v":1187},{"$f":"IF(IF(LEN(A644)>0,ERROR.TYPE(MATCH(H644,H$1:H643,0))=7,0),C644,\"\")","v":"Kirchheim unter Teck"},{"$f":"D644&A644","v":"25Oberlenningen                                               "}]
["Ochsenwang                                                  ",222,"Kirchheim unter Teck",25,0.5,222,{"$f":"IF(IF(LEN(A645)>0,ERROR.TYPE(MATCH(H645,H$1:H644,0))=7,0),C645,\"\")","v":"Kirchheim unter Teck"},"25Ochsenwang                                                  "]
["Ohmden                                                      ",888,"Kirchheim unter Teck",25,1,888,{"$f":"IF(IF(LEN(A646)>0,ERROR.TYPE(MATCH(H646,H$1:H645,0))=7,0),C646,\"\")","v":"Kirchheim unter Teck"},"25Ohmden                                                      "]
["Owen                                                        ",1825,"Kirchheim unter Teck",25,1,1825,{"$f":"IF(IF(LEN(A647)>0,ERROR.TYPE(MATCH(H647,H$1:H646,0))=7,0),C647,\"\")","v":"Kirchheim unter Teck"},"25Owen                                                        "]
["Schopfloch                                                  ",390,"Kirchheim unter Teck",25,0.5,390,{"$f":"IF(IF(LEN(A648)>0,ERROR.TYPE(MATCH(H648,H$1:H647,0))=7,0),C648,\"\")","v":"Kirchheim unter Teck"},"25Schopfloch                                                  "]
["Unterlenningen                                              ",1062,"Kirchheim unter Teck",25,1,1062,{"$f":"IF(IF(LEN(A649)>0,ERROR.TYPE(MATCH(H649,H$1:H648,0))=7,0),C649,\"\")","v":"Kirchheim unter Teck"},"25Unterlenningen                                              "]
["Brucken                                                     ",542,"Kirchheim unter Teck",25,1,542,{"$f":"IF(IF(LEN(A650)>0,ERROR.TYPE(MATCH(H650,H$1:H649,0))=7,0),C650,\"\")","v":"Kirchheim unter Teck"},"25Brucken                                                     "]
["Weilheim/Teck                                               ",3965,"Kirchheim unter Teck",25,1.5,3965,{"$f":"IF(IF(LEN(A651)>0,ERROR.TYPE(MATCH(H651,H$1:H650,0))=7,0),C651,\"\")","v":"Kirchheim unter Teck"},"25Weilheim/Teck                                               "]
["Kirchheim unter Teck Stadtkirchengemeinde",6963,"Kirchheim unter Teck",25,2,6963,{"$f":"IF(IF(LEN(A652)>0,ERROR.TYPE(MATCH(H652,H$1:H651,0))=7,0),C652,\"\")","v":"Kirchheim unter Teck"},"25Kirchheim unter Teck Stadtkirchengemeinde"]
["Lindorf und Ötlingen",2939,"Kirchheim unter Teck",25,1.5,2939,{"$f":"IF(IF(LEN(A653)>0,ERROR.TYPE(MATCH(H653,H$1:H652,0))=7,0),C653,\"\")","v":"Kirchheim unter Teck"},"25Lindorf und Ötlingen"]
["Künzelsau                                                   ",4811,"Künzelsau",26,1.5,4811,{"$f":"IF(IF(LEN(A654)>0,ERROR.TYPE(MATCH(H654,H$1:H653,0))=7,0),C654,\"\")","v":"Künzelsau"},"26Künzelsau                                                   "]
["Morsbach                                                    ",273,"Künzelsau",26,0.5,273,{"$f":"IF(IF(LEN(A655)>0,ERROR.TYPE(MATCH(H655,H$1:H654,0))=7,0),C655,\"\")","v":"Künzelsau"},"26Morsbach                                                    "]
["Belsenberg                                                  ",261,"Künzelsau",26,0.5,261,{"$f":"IF(IF(LEN(A656)>0,ERROR.TYPE(MATCH(H656,H$1:H655,0))=7,0),C656,\"\")","v":"Künzelsau"},"26Belsenberg                                                  "]
["Buchenbach-Eberbach                                         ",730,"Künzelsau",26,1,730,{"$f":"IF(IF(LEN(A657)>0,ERROR.TYPE(MATCH(H657,H$1:H656,0))=7,0),C657,\"\")","v":"Künzelsau"},"26Buchenbach-Eberbach                                         "]
["Crispenhofen                                                ",289,"Künzelsau",26,0.5,289,{"$f":"IF(IF(LEN(A658)>0,ERROR.TYPE(MATCH(H658,H$1:H657,0))=7,0),C658,\"\")","v":"Künzelsau"},"26Crispenhofen                                                "]
["Weißbach                                                    ",606,"Künzelsau",26,1,606,{"$f":"IF(IF(LEN(A659)>0,ERROR.TYPE(MATCH(H659,H$1:H658,0))=7,0),C659,\"\")","v":"Künzelsau"},"26Weißbach                                                    "]
["Dörrenzimmern                                               ",665,"Künzelsau",26,1,665,{"$f":"IF(IF(LEN(A660)>0,ERROR.TYPE(MATCH(H660,H$1:H659,0))=7,0),C660,\"\")","v":"Künzelsau"},"26Dörrenzimmern                                               "]
["Hermuthausen                                                ",428,"Künzelsau",26,1,428,{"$f":"IF(IF(LEN(A661)>0,ERROR.TYPE(MATCH(H661,H$1:H660,0))=7,0),C661,\"\")","v":"Künzelsau"},"26Hermuthausen                                                "]
["Dörzbach                                                    ",942,"Künzelsau",26,1,942,{"$f":"IF(IF(LEN(A662)>0,ERROR.TYPE(MATCH(H662,H$1:H661,0))=7,0),C662,\"\")","v":"Künzelsau"},"26Dörzbach                                                    "]
["Hohebach                                                    ",496,"Künzelsau",26,1,496,{"$f":"IF(IF(LEN(A663)>0,ERROR.TYPE(MATCH(H663,H$1:H662,0))=7,0),C663,\"\")","v":"Künzelsau"},"26Hohebach                                                    "]
["Hollenbach                                                  ",498,"Künzelsau",26,1,498,{"$f":"IF(IF(LEN(A664)>0,ERROR.TYPE(MATCH(H664,H$1:H663,0))=7,0),C664,\"\")","v":"Künzelsau"},"26Hollenbach                                                  "]
["Ingelfingen                                                 ",1606,"Künzelsau",26,1,1606,{"$f":"IF(IF(LEN(A665)>0,ERROR.TYPE(MATCH(H665,H$1:H664,0))=7,0),C665,\"\")","v":"Künzelsau"},"26Ingelfingen                                                 "]
["Kocherstetten                                               ",674,"Künzelsau",26,1,674,{"$f":"IF(IF(LEN(A666)>0,ERROR.TYPE(MATCH(H666,H$1:H665,0))=7,0),C666,\"\")","v":"Künzelsau"},"26Kocherstetten                                               "]
["Niedernhall                                                 ",1707,"Künzelsau",26,1,1707,{"$f":"IF(IF(LEN(A667)>0,ERROR.TYPE(MATCH(H667,H$1:H666,0))=7,0),C667,\"\")","v":"Künzelsau"},"26Niedernhall                                                 "]
["Schöntal                                                    ",700,"Künzelsau",26,1,700,{"$f":"IF(IF(LEN(A668)>0,ERROR.TYPE(MATCH(H668,H$1:H667,0))=7,0),C668,\"\")","v":"Künzelsau"},"26Schöntal                                                    "]
["Leonberg-Eltingen                                           ",3951,"Leonberg",28,1.5,3951,{"$f":"IF(IF(LEN(A669)>0,ERROR.TYPE(MATCH(H669,H$1:H668,0))=7,0),C669,\"\")","v":"Leonberg"},"28Leonberg-Eltingen                                           "]
["Flacht                                                      ",1477,"Leonberg",28,1,1477,{"$f":"IF(IF(LEN(A670)>0,ERROR.TYPE(MATCH(H670,H$1:H669,0))=7,0),C670,\"\")","v":"Leonberg"},"28Flacht                                                      "]
["Friolzheim                                                  ",1403,"Leonberg",28,1,1403,{"$f":"IF(IF(LEN(A671)>0,ERROR.TYPE(MATCH(H671,H$1:H670,0))=7,0),C671,\"\")","v":"Leonberg"},"28Friolzheim                                                  "]
["Gebersheim                                                  ",1046,"Leonberg",28,1,1046,{"$f":"IF(IF(LEN(A672)>0,ERROR.TYPE(MATCH(H672,H$1:H671,0))=7,0),C672,\"\")","v":"Leonberg"},"28Gebersheim                                                  "]
["Heimsheim                                                   ",1987,"Leonberg",28,1,1987,{"$f":"IF(IF(LEN(A673)>0,ERROR.TYPE(MATCH(H673,H$1:H672,0))=7,0),C673,\"\")","v":"Leonberg"},"28Heimsheim                                                   "]
["Höfingen                                                    ",2361,"Leonberg",28,1,2361,{"$f":"IF(IF(LEN(A674)>0,ERROR.TYPE(MATCH(H674,H$1:H673,0))=7,0),C674,\"\")","v":"Leonberg"},"28Höfingen                                                    "]
["Malmsheim                                                   ",2555,"Leonberg",28,1,2555,{"$f":"IF(IF(LEN(A675)>0,ERROR.TYPE(MATCH(H675,H$1:H674,0))=7,0),C675,\"\")","v":"Leonberg"},"28Malmsheim                                                   "]
["Merklingen                                                  ",2183,"Leonberg",28,1,2183,{"$f":"IF(IF(LEN(A676)>0,ERROR.TYPE(MATCH(H676,H$1:H675,0))=7,0),C676,\"\")","v":"Leonberg"},"28Merklingen                                                  "]
["Mönsheim                                                    ",1222,"Leonberg",28,1,1222,{"$f":"IF(IF(LEN(A677)>0,ERROR.TYPE(MATCH(H677,H$1:H676,0))=7,0),C677,\"\")","v":"Leonberg"},"28Mönsheim                                                    "]
["Perouse                                                     ",577,"Leonberg",28,1,577,{"$f":"IF(IF(LEN(A678)>0,ERROR.TYPE(MATCH(H678,H$1:H677,0))=7,0),C678,\"\")","v":"Leonberg"},"28Perouse                                                     "]
["Renningen                                                   ",3987,"Leonberg",28,1.5,3987,{"$f":"IF(IF(LEN(A679)>0,ERROR.TYPE(MATCH(H679,H$1:H678,0))=7,0),C679,\"\")","v":"Leonberg"},"28Renningen                                                   "]
["Rutesheim Johanneskirche                                    ",2989,"Leonberg",28,1.5,2989,{"$f":"IF(IF(LEN(A680)>0,ERROR.TYPE(MATCH(H680,H$1:H679,0))=7,0),C680,\"\")","v":"Leonberg"},"28Rutesheim Johanneskirche                                    "]
["Rutesheim/Silberberg Thomaskirche                           ",1056,"Leonberg",28,1,1056,{"$f":"IF(IF(LEN(A681)>0,ERROR.TYPE(MATCH(H681,H$1:H680,0))=7,0),C681,\"\")","v":"Leonberg"},"28Rutesheim/Silberberg Thomaskirche                           "]
["Schafhausen                                                 ",1025,"Leonberg",28,1,1025,{"$f":"IF(IF(LEN(A682)>0,ERROR.TYPE(MATCH(H682,H$1:H681,0))=7,0),C682,\"\")","v":"Leonberg"},"28Schafhausen                                                 "]
["Warmbronn                                                   ",1589,"Leonberg",28,1,1589,{"$f":"IF(IF(LEN(A683)>0,ERROR.TYPE(MATCH(H683,H$1:H682,0))=7,0),C683,\"\")","v":"Leonberg"},"28Warmbronn                                                   "]
["Weil der Stadt                                              ",2480,"Leonberg",28,1,2480,{"$f":"IF(IF(LEN(A684)>0,ERROR.TYPE(MATCH(H684,H$1:H683,0))=7,0),C684,\"\")","v":"Leonberg"},"28Weil der Stadt                                              "]
["Weissach                                                    ",1869,"Leonberg",28,1,1869,{"$f":"IF(IF(LEN(A685)>0,ERROR.TYPE(MATCH(H685,H$1:H684,0))=7,0),C685,\"\")","v":"Leonberg"},"28Weissach                                                    "]
["Wimsheim                                                    ",1288,"Leonberg",28,1,1288,{"$f":"IF(IF(LEN(A686)>0,ERROR.TYPE(MATCH(H686,H$1:H685,0))=7,0),C686,\"\")","v":"Leonberg"},"28Wimsheim                                                    "]
["Münklingen-Hausen                                           ",1098,"Leonberg",28,1,1098,{"$f":"IF(IF(LEN(A687)>0,ERROR.TYPE(MATCH(H687,H$1:H686,0))=7,0),C687,\"\")","v":"Leonberg"},"28Münklingen-Hausen                                           "]
["Leonberg-Nord",5725,"Leonberg",28,2,5725,{"$f":"IF(IF(LEN(A688)>0,ERROR.TYPE(MATCH(H688,H$1:H687,0))=7,0),C688,\"\")","v":"Leonberg"},"28Leonberg-Nord"]
["Ludwigsburg Stadtkirchengemeinde                            ",2303,"Ludwigsburg",29,1,2303,{"$f":"IF(IF(LEN(A689)>0,ERROR.TYPE(MATCH(H689,H$1:H688,0))=7,0),C689,\"\")","v":"Ludwigsburg"},"29Ludwigsburg Stadtkirchengemeinde                            "]
["Ludwigsburg Auferstehungskirchengemeinde                    ",1794,"Ludwigsburg",29,1,1794,{"$f":"IF(IF(LEN(A690)>0,ERROR.TYPE(MATCH(H690,H$1:H689,0))=7,0),C690,\"\")","v":"Ludwigsburg"},"29Ludwigsburg Auferstehungskirchengemeinde                    "]
["Ludwigsburg Friedenskirchengemeinde                         ",3383,"Ludwigsburg",29,1.5,3383,{"$f":"IF(IF(LEN(A691)>0,ERROR.TYPE(MATCH(H691,H$1:H690,0))=7,0),C691,\"\")","v":"Ludwigsburg"},"29Ludwigsburg Friedenskirchengemeinde                         "]
["Ludwigsburg Kreuzkirchengemeinde                            ",1923,"Ludwigsburg",29,1,1923,{"$f":"IF(IF(LEN(A692)>0,ERROR.TYPE(MATCH(H692,H$1:H691,0))=7,0),C692,\"\")","v":"Ludwigsburg"},"29Ludwigsburg Kreuzkirchengemeinde                            "]
["Ludwigsburg Martinskirchengemeinde                          ",784,"Ludwigsburg",29,1,784,{"$f":"IF(IF(LEN(A693)>0,ERROR.TYPE(MATCH(H693,H$1:H692,0))=7,0),C693,\"\")","v":"Ludwigsburg"},"29Ludwigsburg Martinskirchengemeinde                          "]
["Eglosheim                                                   ",3058,"Ludwigsburg",29,1.5,3058,{"$f":"IF(IF(LEN(A694)>0,ERROR.TYPE(MATCH(H694,H$1:H693,0))=7,0),C694,\"\")","v":"Ludwigsburg"},"29Eglosheim                                                   "]
["Pflugfelden                                                 ",1587,"Ludwigsburg",29,1,1587,{"$f":"IF(IF(LEN(A695)>0,ERROR.TYPE(MATCH(H695,H$1:H694,0))=7,0),C695,\"\")","v":"Ludwigsburg"},"29Pflugfelden                                                 "]
["Hoheneck                                                    ",1839,"Ludwigsburg",29,1,1839,{"$f":"IF(IF(LEN(A696)>0,ERROR.TYPE(MATCH(H696,H$1:H695,0))=7,0),C696,\"\")","v":"Ludwigsburg"},"29Hoheneck                                                    "]
["Oßweil                                                      ",4080,"Ludwigsburg",29,1.5,4080,{"$f":"IF(IF(LEN(A697)>0,ERROR.TYPE(MATCH(H697,H$1:H696,0))=7,0),C697,\"\")","v":"Ludwigsburg"},"29Oßweil                                                      "]
["Aldingen/Neckar                                             ",2715,"Ludwigsburg",29,1,2715,{"$f":"IF(IF(LEN(A698)>0,ERROR.TYPE(MATCH(H698,H$1:H697,0))=7,0),C698,\"\")","v":"Ludwigsburg"},"29Aldingen/Neckar                                             "]
["Asperg                                                      ",4397,"Ludwigsburg",29,1.5,4397,{"$f":"IF(IF(LEN(A699)>0,ERROR.TYPE(MATCH(H699,H$1:H698,0))=7,0),C699,\"\")","v":"Ludwigsburg"},"29Asperg                                                      "]
["Beihingen am Neckar                                         ",1837,"Ludwigsburg",29,1,1837,{"$f":"IF(IF(LEN(A700)>0,ERROR.TYPE(MATCH(H700,H$1:H699,0))=7,0),C700,\"\")","v":"Ludwigsburg"},"29Beihingen am Neckar                                         "]
["Geisingen                                                   ",2019,"Ludwigsburg",29,1,2019,{"$f":"IF(IF(LEN(A701)>0,ERROR.TYPE(MATCH(H701,H$1:H700,0))=7,0),C701,\"\")","v":"Ludwigsburg"},"29Geisingen                                                   "]
["Heutingsheim                                                ",2139,"Ludwigsburg",29,1,2139,{"$f":"IF(IF(LEN(A702)>0,ERROR.TYPE(MATCH(H702,H$1:H701,0))=7,0),C702,\"\")","v":"Ludwigsburg"},"29Heutingsheim                                                "]
["Kornwestheim                                                ",9440,"Ludwigsburg",29,2.5,9440,{"$f":"IF(IF(LEN(A703)>0,ERROR.TYPE(MATCH(H703,H$1:H702,0))=7,0),C703,\"\")","v":"Ludwigsburg"},"29Kornwestheim                                                "]
["Möglingen                                                   ",3764,"Ludwigsburg",29,1.5,3764,{"$f":"IF(IF(LEN(A704)>0,ERROR.TYPE(MATCH(H704,H$1:H703,0))=7,0),C704,\"\")","v":"Ludwigsburg"},"29Möglingen                                                   "]
["Neckargröningen                                             ",897,"Ludwigsburg",29,1,897,{"$f":"IF(IF(LEN(A705)>0,ERROR.TYPE(MATCH(H705,H$1:H704,0))=7,0),C705,\"\")","v":"Ludwigsburg"},"29Neckargröningen                                             "]
["Neckarrems                                                  ",1515,"Ludwigsburg",29,1,1515,{"$f":"IF(IF(LEN(A706)>0,ERROR.TYPE(MATCH(H706,H$1:H705,0))=7,0),C706,\"\")","v":"Ludwigsburg"},"29Neckarrems                                                  "]
["Neckarweihingen                                             ",2446,"Ludwigsburg",29,{"$f":"IF($G707<>\"\",IF($B707<400,0.5,IF($B707<2801,1,IF($B707<5601,1.5,IF($B707<8401,2,IF($B707<11201,2.5,1000))))),\"\")","v":1},2446,{"$f":"IF(IF(LEN(A707)>0,ERROR.TYPE(MATCH(H707,H$1:H706,0))=7,0),C707,\"\")","v":"Ludwigsburg"},"29Neckarweihingen                                             "]
["Poppenweiler                                                ",1947,"Ludwigsburg",29,1,{"$f":"IF(E708<>\"#NV\",B708,\"\")","v":1947},{"$f":"IF(IF(LEN(A708)>0,ERROR.TYPE(MATCH(H708,H$1:H707,0))=7,0),C708,\"\")","v":"Ludwigsburg"},{"$f":"D708&A708","v":"29Poppenweiler                                                "}]
["Tamm                                                        ",4402,"Ludwigsburg",29,1.5,4402,{"$f":"IF(IF(LEN(A709)>0,ERROR.TYPE(MATCH(H709,H$1:H708,0))=7,0),C709,\"\")","v":"Ludwigsburg"},"29Tamm                                                        "]
["Ludwigsburg West                                            ",3166,"Ludwigsburg",29,1.5,3166,{"$f":"IF(IF(LEN(A710)>0,ERROR.TYPE(MATCH(H710,H$1:H709,0))=7,0),C710,\"\")","v":"Ludwigsburg"},"29Ludwigsburg West                                            "]
["Remseck Christuskirchengemeinde                             ",2108,"Ludwigsburg",29,1,2108,{"$f":"IF(IF(LEN(A711)>0,ERROR.TYPE(MATCH(H711,H$1:H710,0))=7,0),C711,\"\")","v":"Ludwigsburg"},"29Remseck Christuskirchengemeinde                             "]
["Marbach                                                     ",4479,"Marbach a.N.",30,1.5,4479,{"$f":"IF(IF(LEN(A712)>0,ERROR.TYPE(MATCH(H712,H$1:H711,0))=7,0),C712,\"\")","v":"Marbach a.N."},"30Marbach                                                     "]
["Affalterbach                                                ",1883,"Marbach a.N.",30,1,1883,{"$f":"IF(IF(LEN(A713)>0,ERROR.TYPE(MATCH(H713,H$1:H712,0))=7,0),C713,\"\")","v":"Marbach a.N."},"30Affalterbach                                                "]
["Auenstein                                                   ",1258,"Marbach a.N.",30,1,1258,{"$f":"IF(IF(LEN(A714)>0,ERROR.TYPE(MATCH(H714,H$1:H713,0))=7,0),C714,\"\")","v":"Marbach a.N."},"30Auenstein                                                   "]
["Abstatt                                                     ",1638,"Marbach a.N.",30,1,1638,{"$f":"IF(IF(LEN(A715)>0,ERROR.TYPE(MATCH(H715,H$1:H714,0))=7,0),C715,\"\")","v":"Marbach a.N."},"30Abstatt                                                     "]
["Erdmannhausen                                               ",2104,"Marbach a.N.",30,1,2104,{"$f":"IF(IF(LEN(A716)>0,ERROR.TYPE(MATCH(H716,H$1:H715,0))=7,0),C716,\"\")","v":"Marbach a.N."},"30Erdmannhausen                                               "]
["Gronau                                                      ",812,"Marbach a.N.",30,1,812,{"$f":"IF(IF(LEN(A717)>0,ERROR.TYPE(MATCH(H717,H$1:H716,0))=7,0),C717,\"\")","v":"Marbach a.N."},"30Gronau                                                      "]
["Großbottwar                                                 ",3296,"Marbach a.N.",30,1.5,3296,{"$f":"IF(IF(LEN(A718)>0,ERROR.TYPE(MATCH(H718,H$1:H717,0))=7,0),C718,\"\")","v":"Marbach a.N."},"30Großbottwar                                                 "]
["Höpfigheim                                                  ",1017,"Marbach a.N.",30,1,1017,{"$f":"IF(IF(LEN(A719)>0,ERROR.TYPE(MATCH(H719,H$1:H718,0))=7,0),C719,\"\")","v":"Marbach a.N."},"30Höpfigheim                                                  "]
["Kirchberg/Murr                                              ",1882,"Marbach a.N.",30,1,1882,{"$f":"IF(IF(LEN(A720)>0,ERROR.TYPE(MATCH(H720,H$1:H719,0))=7,0),C720,\"\")","v":"Marbach a.N."},"30Kirchberg/Murr                                              "]
["Kleinbottwar                                                ",810,"Marbach a.N.",30,1,810,{"$f":"IF(IF(LEN(A721)>0,ERROR.TYPE(MATCH(H721,H$1:H720,0))=7,0),C721,\"\")","v":"Marbach a.N."},"30Kleinbottwar                                                "]
["Mundelsheim                                                 ",1693,"Marbach a.N.",30,1,1693,{"$f":"IF(IF(LEN(A722)>0,ERROR.TYPE(MATCH(H722,H$1:H721,0))=7,0),C722,\"\")","v":"Marbach a.N."},"30Mundelsheim                                                 "]
["Murr an der Murr                                            ",2485,"Marbach a.N.",30,1,2485,{"$f":"IF(IF(LEN(A723)>0,ERROR.TYPE(MATCH(H723,H$1:H722,0))=7,0),C723,\"\")","v":"Marbach a.N."},"30Murr an der Murr                                            "]
["Oberstenfeld                                                ",2400,"Marbach a.N.",30,1,2400,{"$f":"IF(IF(LEN(A724)>0,ERROR.TYPE(MATCH(H724,H$1:H723,0))=7,0),C724,\"\")","v":"Marbach a.N."},"30Oberstenfeld                                                "]
["Pleidelsheim                                                ",2122,"Marbach a.N.",30,1,2122,{"$f":"IF(IF(LEN(A725)>0,ERROR.TYPE(MATCH(H725,H$1:H724,0))=7,0),C725,\"\")","v":"Marbach a.N."},"30Pleidelsheim                                                "]
["Prevorst                                                    ",284,"Marbach a.N.",30,0.5,284,{"$f":"IF(IF(LEN(A726)>0,ERROR.TYPE(MATCH(H726,H$1:H725,0))=7,0),C726,\"\")","v":"Marbach a.N."},"30Prevorst                                                    "]
["Rielingshausen                                              ",1107,"Marbach a.N.",30,1,1107,{"$f":"IF(IF(LEN(A727)>0,ERROR.TYPE(MATCH(H727,H$1:H726,0))=7,0),C727,\"\")","v":"Marbach a.N."},"30Rielingshausen                                              "]
["Steinheim an der Murr                                       ",3375,"Marbach a.N.",30,1.5,3375,{"$f":"IF(IF(LEN(A728)>0,ERROR.TYPE(MATCH(H728,H$1:H727,0))=7,0),C728,\"\")","v":"Marbach a.N."},"30Steinheim an der Murr                                       "]
["Winzerhausen                                                ",696,"Marbach a.N.",30,1,696,{"$f":"IF(IF(LEN(A729)>0,ERROR.TYPE(MATCH(H729,H$1:H728,0))=7,0),C729,\"\")","v":"Marbach a.N."},"30Winzerhausen                                                "]
["Benningen/Neckar                                            ",2391,"Marbach a.N.",30,1,2391,{"$f":"IF(IF(LEN(A730)>0,ERROR.TYPE(MATCH(H730,H$1:H729,0))=7,0),C730,\"\")","v":"Marbach a.N."},"30Benningen/Neckar                                            "]
["Beilstein-Billensbach                                       ",2560,"Marbach a.N.",30,1,2560,{"$f":"IF(IF(LEN(A731)>0,ERROR.TYPE(MATCH(H731,H$1:H730,0))=7,0),C731,\"\")","v":"Marbach a.N."},"30Beilstein-Billensbach                                       "]
["Mühlacker Paulus-Kirchengemeinde                                                               ",1933,"Mühlacker",31,1,1933,{"$f":"IF(IF(LEN(A732)>0,ERROR.TYPE(MATCH(H732,H$1:H731,0))=7,0),C732,\"\")","v":"Mühlacker"},"31Mühlacker Paulus-Kirchengemeinde                                                               "]
["Diefenbach                                                  ",517,"Mühlacker",31,1,517,{"$f":"IF(IF(LEN(A733)>0,ERROR.TYPE(MATCH(H733,H$1:H732,0))=7,0),C733,\"\")","v":"Mühlacker"},"31Diefenbach                                                  "]
["Enzberg                                                     ",1648,"Mühlacker",31,1,1648,{"$f":"IF(IF(LEN(A734)>0,ERROR.TYPE(MATCH(H734,H$1:H733,0))=7,0),C734,\"\")","v":"Mühlacker"},"31Enzberg                                                     "]
["Freudenstein                                                ",789,"Mühlacker",31,1,789,{"$f":"IF(IF(LEN(A735)>0,ERROR.TYPE(MATCH(H735,H$1:H734,0))=7,0),C735,\"\")","v":"Mühlacker"},"31Freudenstein                                                "]
["Großvillars                                                 ",535,"Mühlacker",31,1,535,{"$f":"IF(IF(LEN(A736)>0,ERROR.TYPE(MATCH(H736,H$1:H735,0))=7,0),C736,\"\")","v":"Mühlacker"},"31Großvillars                                                 "]
["Illingen                                                    ",2897,"Mühlacker",31,1.5,2897,{"$f":"IF(IF(LEN(A737)>0,ERROR.TYPE(MATCH(H737,H$1:H736,0))=7,0),C737,\"\")","v":"Mühlacker"},"31Illingen                                                    "]
["Knittlingen                                                 ",2536,"Mühlacker",31,1,2536,{"$f":"IF(IF(LEN(A738)>0,ERROR.TYPE(MATCH(H738,H$1:H737,0))=7,0),C738,\"\")","v":"Mühlacker"},"31Knittlingen                                                 "]
["Lienzingen                                                  ",916,"Mühlacker",31,1,916,{"$f":"IF(IF(LEN(A739)>0,ERROR.TYPE(MATCH(H739,H$1:H738,0))=7,0),C739,\"\")","v":"Mühlacker"},"31Lienzingen                                                  "]
["Lomersheim                                                  ",1121,"Mühlacker",31,1,1121,{"$f":"IF(IF(LEN(A740)>0,ERROR.TYPE(MATCH(H740,H$1:H739,0))=7,0),C740,\"\")","v":"Mühlacker"},"31Lomersheim                                                  "]
["Maulbronn                                                   ",1714,"Mühlacker",31,1,1714,{"$f":"IF(IF(LEN(A741)>0,ERROR.TYPE(MATCH(H741,H$1:H740,0))=7,0),C741,\"\")","v":"Mühlacker"},"31Maulbronn                                                   "]
["Oberderdingen                                               ",2316,"Mühlacker",31,1,2316,{"$f":"IF(IF(LEN(A742)>0,ERROR.TYPE(MATCH(H742,H$1:H741,0))=7,0),C742,\"\")","v":"Mühlacker"},"31Oberderdingen                                               "]
["Ölbronn                                                     ",883,"Mühlacker",31,1,883,{"$f":"IF(IF(LEN(A743)>0,ERROR.TYPE(MATCH(H743,H$1:H742,0))=7,0),C743,\"\")","v":"Mühlacker"},"31Ölbronn                                                     "]
["Kleinvillars                                                ",261,"Mühlacker",31,0.5,261,{"$f":"IF(IF(LEN(A744)>0,ERROR.TYPE(MATCH(H744,H$1:H743,0))=7,0),C744,\"\")","v":"Mühlacker"},"31Kleinvillars                                                "]
["Ötisheim                                                    ",2375,"Mühlacker",31,1,2375,{"$f":"IF(IF(LEN(A745)>0,ERROR.TYPE(MATCH(H745,H$1:H744,0))=7,0),C745,\"\")","v":"Mühlacker"},"31Ötisheim                                                    "]
[" Pinache-Serres                                                     ",887,"Mühlacker",31,1,887,{"$f":"IF(IF(LEN(A746)>0,ERROR.TYPE(MATCH(H746,H$1:H745,0))=7,0),C746,\"\")","v":"Mühlacker"},"31 Pinache-Serres                                                     "]
["Schmie                                                      ",401,"Mühlacker",31,1,401,{"$f":"IF(IF(LEN(A747)>0,ERROR.TYPE(MATCH(H747,H$1:H746,0))=7,0),C747,\"\")","v":"Mühlacker"},"31Schmie                                                      "]
["Schützingen                                                 ",512,"Mühlacker",31,1,512,{"$f":"IF(IF(LEN(A748)>0,ERROR.TYPE(MATCH(H748,H$1:H747,0))=7,0),C748,\"\")","v":"Mühlacker"},"31Schützingen                                                 "]
["Sternenfels                                                 ",926,"Mühlacker",31,1,926,{"$f":"IF(IF(LEN(A749)>0,ERROR.TYPE(MATCH(H749,H$1:H748,0))=7,0),C749,\"\")","v":"Mühlacker"},"31Sternenfels                                                 "]
["Wiernsheim                                                  ",1570,"Mühlacker",31,1,1570,{"$f":"IF(IF(LEN(A750)>0,ERROR.TYPE(MATCH(H750,H$1:H749,0))=7,0),C750,\"\")","v":"Mühlacker"},"31Wiernsheim                                                  "]
["Wurmberg                                                    ",1423,"Mühlacker",31,1,1423,{"$f":"IF(IF(LEN(A751)>0,ERROR.TYPE(MATCH(H751,H$1:H750,0))=7,0),C751,\"\")","v":"Mühlacker"},"31Wurmberg                                                    "]
["Zaisersweiher                                               ",836,"Mühlacker",31,1,836,{"$f":"IF(IF(LEN(A752)>0,ERROR.TYPE(MATCH(H752,H$1:H751,0))=7,0),C752,\"\")","v":"Mühlacker"},"31Zaisersweiher                                               "]
["Mühlhausen/Enz                                              ",597,"Mühlacker",31,1,597,{"$f":"IF(IF(LEN(A753)>0,ERROR.TYPE(MATCH(H753,H$1:H752,0))=7,0),C753,\"\")","v":"Mühlacker"},"31Mühlhausen/Enz                                              "]
["Großglattbach                                               ",742,"Mühlacker",31,1,742,{"$f":"IF(IF(LEN(A754)>0,ERROR.TYPE(MATCH(H754,H$1:H753,0))=7,0),C754,\"\")","v":"Mühlacker"},"31Großglattbach                                               "]
["Mühlacker Andreas-Kirchengemeinde                                                              ",1847,"Mühlacker",31,1,1847,{"$f":"IF(IF(LEN(A755)>0,ERROR.TYPE(MATCH(H755,H$1:H754,0))=7,0),C755,\"\")","v":"Mühlacker"},"31Mühlacker Andreas-Kirchengemeinde                                                              "]
["Mühlacker Paul-Gerhardt-Kirchengemeinde                     ",957,"Mühlacker",31,1,957,{"$f":"IF(IF(LEN(A756)>0,ERROR.TYPE(MATCH(H756,H$1:H755,0))=7,0),C756,\"\")","v":"Mühlacker"},"31Mühlacker Paul-Gerhardt-Kirchengemeinde                     "]
["Iptingen                                                    ",569,"Mühlacker",31,1,569,{"$f":"IF(IF(LEN(A757)>0,ERROR.TYPE(MATCH(H757,H$1:H756,0))=7,0),C757,\"\")","v":"Mühlacker"},"31Iptingen                                                    "]
["Münsingen                                                   ",3162,"Bad Urach-Münsingen",32,1.5,3162,{"$f":"IF(IF(LEN(A758)>0,ERROR.TYPE(MATCH(H758,H$1:H757,0))=7,0),C758,\"\")","v":"Bad Urach-Münsingen"},"32Münsingen                                                   "]
["Trailfingen                                                 ",351,"Bad Urach-Münsingen",32,0.5,351,{"$f":"IF(IF(LEN(A759)>0,ERROR.TYPE(MATCH(H759,H$1:H758,0))=7,0),C759,\"\")","v":"Bad Urach-Münsingen"},"32Trailfingen                                                 "]
["Auingen                                                     ",1122,"Bad Urach-Münsingen",32,1,1122,{"$f":"IF(IF(LEN(A760)>0,ERROR.TYPE(MATCH(H760,H$1:H759,0))=7,0),C760,\"\")","v":"Bad Urach-Münsingen"},"32Auingen                                                     "]
["Bernloch                                                    ",531,"Bad Urach-Münsingen",32,1,531,{"$f":"IF(IF(LEN(A761)>0,ERROR.TYPE(MATCH(H761,H$1:H760,0))=7,0),C761,\"\")","v":"Bad Urach-Münsingen"},"32Bernloch                                                    "]
["Meidelstetten                                               ",605,"Bad Urach-Münsingen",32,1,605,{"$f":"IF(IF(LEN(A762)>0,ERROR.TYPE(MATCH(H762,H$1:H761,0))=7,0),C762,\"\")","v":"Bad Urach-Münsingen"},"32Meidelstetten                                               "]
["Böttingen                                                   ",383,"Bad Urach-Münsingen",32,0.5,383,{"$f":"IF(IF(LEN(A763)>0,ERROR.TYPE(MATCH(H763,H$1:H762,0))=7,0),C763,\"\")","v":"Bad Urach-Münsingen"},"32Böttingen                                                   "]
["Magolsheim                                                  ",203,"Bad Urach-Münsingen",32,0.5,203,{"$f":"IF(IF(LEN(A764)>0,ERROR.TYPE(MATCH(H764,H$1:H763,0))=7,0),C764,\"\")","v":"Bad Urach-Münsingen"},"32Magolsheim                                                  "]
["Dapfen                                                      ",420,"Bad Urach-Münsingen",32,1,420,{"$f":"IF(IF(LEN(A765)>0,ERROR.TYPE(MATCH(H765,H$1:H764,0))=7,0),C765,\"\")","v":"Bad Urach-Münsingen"},"32Dapfen                                                      "]
["Ennabeuren                                                  ",649,"Bad Urach-Münsingen",32,1,649,{"$f":"IF(IF(LEN(A766)>0,ERROR.TYPE(MATCH(H766,H$1:H765,0))=7,0),C766,\"\")","v":"Bad Urach-Münsingen"},"32Ennabeuren                                                  "]
["Feldstetten                                                 ",730,"Bad Urach-Münsingen",32,1,730,{"$f":"IF(IF(LEN(A767)>0,ERROR.TYPE(MATCH(H767,H$1:H766,0))=7,0),C767,\"\")","v":"Bad Urach-Münsingen"},"32Feldstetten                                                 "]
["Gomadingen                                                  ",740,"Bad Urach-Münsingen",32,1,740,{"$f":"IF(IF(LEN(A768)>0,ERROR.TYPE(MATCH(H768,H$1:H767,0))=7,0),C768,\"\")","v":"Bad Urach-Münsingen"},"32Gomadingen                                                  "]
["Steingebronn                                                ",177,"Bad Urach-Münsingen",32,0.5,177,{"$f":"IF(IF(LEN(A769)>0,ERROR.TYPE(MATCH(H769,H$1:H768,0))=7,0),C769,\"\")","v":"Bad Urach-Münsingen"},"32Steingebronn                                                "]
["Hundersingen                                                ",367,"Bad Urach-Münsingen",32,0.5,367,{"$f":"IF(IF(LEN(A770)>0,ERROR.TYPE(MATCH(H770,H$1:H769,0))=7,0),C770,\"\")","v":"Bad Urach-Münsingen"},"32Hundersingen                                                "]
["Kohlstetten                                                 ",473,"Bad Urach-Münsingen",32,{"$f":"IF($G771<>\"\",IF($B771<400,0.5,IF($B771<2801,1,IF($B771<5601,1.5,IF($B771<8401,2,IF($B771<11201,2.5,1000))))),\"\")","v":1},473,{"$f":"IF(IF(LEN(A771)>0,ERROR.TYPE(MATCH(H771,H$1:H770,0))=7,0),C771,\"\")","v":"Bad Urach-Münsingen"},"32Kohlstetten                                                 "]
["Kleinengstingen                                             ",1739,"Bad Urach-Münsingen",32,1,{"$f":"IF(E772<>\"#NV\",B772,\"\")","v":1739},{"$f":"IF(IF(LEN(A772)>0,ERROR.TYPE(MATCH(H772,H$1:H771,0))=7,0),C772,\"\")","v":"Bad Urach-Münsingen"},{"$f":"D772&A772","v":"32Kleinengstingen                                             "}]
["Laichingen                                                  ",3578,"Bad Urach-Münsingen",32,1.5,3578,{"$f":"IF(IF(LEN(A773)>0,ERROR.TYPE(MATCH(H773,H$1:H772,0))=7,0),C773,\"\")","v":"Bad Urach-Münsingen"},"32Laichingen                                                  "]
["Mehrstetten-Sondernach                                      ",1095,"Bad Urach-Münsingen",32,1,1095,{"$f":"IF(IF(LEN(A774)>0,ERROR.TYPE(MATCH(H774,H$1:H773,0))=7,0),C774,\"\")","v":"Bad Urach-Münsingen"},"32Mehrstetten-Sondernach                                      "]
["Mundingen                                                   ",471,"Bad Urach-Münsingen",32,1,471,{"$f":"IF(IF(LEN(A775)>0,ERROR.TYPE(MATCH(H775,H$1:H774,0))=7,0),C775,\"\")","v":"Bad Urach-Münsingen"},"32Mundingen                                                   "]
["Ödenwaldstetten-Pfronstetten                                ",614,"Bad Urach-Münsingen",32,1,614,{"$f":"IF(IF(LEN(A776)>0,ERROR.TYPE(MATCH(H776,H$1:H775,0))=7,0),C776,\"\")","v":"Bad Urach-Münsingen"},"32Ödenwaldstetten-Pfronstetten                                "]
["Sontheim                                                    ",892,"Bad Urach-Münsingen",32,1,892,{"$f":"IF(IF(LEN(A777)>0,ERROR.TYPE(MATCH(H777,H$1:H776,0))=7,0),C777,\"\")","v":"Bad Urach-Münsingen"},"32Sontheim                                                    "]
["Zwiefalten                                                  ",506,"Bad Urach-Münsingen",32,1,506,{"$f":"IF(IF(LEN(A778)>0,ERROR.TYPE(MATCH(H778,H$1:H777,0))=7,0),C778,\"\")","v":"Bad Urach-Münsingen"},"32Zwiefalten                                                  "]
["Hayingen                                                    ",417,"Bad Urach-Münsingen",32,1,417,{"$f":"IF(IF(LEN(A779)>0,ERROR.TYPE(MATCH(H779,H$1:H778,0))=7,0),C779,\"\")","v":"Bad Urach-Münsingen"},"32Hayingen                                                    "]
["Apfelstetten-Buttenhausen                                   ",641,"Bad Urach-Münsingen",32,1,641,{"$f":"IF(IF(LEN(A780)>0,ERROR.TYPE(MATCH(H780,H$1:H779,0))=7,0),C780,\"\")","v":"Bad Urach-Münsingen"},"32Apfelstetten-Buttenhausen                                   "]
["Dottingen-Rietheim                                          ",1086,"Bad Urach-Münsingen",32,1,1086,{"$f":"IF(IF(LEN(A781)>0,ERROR.TYPE(MATCH(H781,H$1:H780,0))=7,0),C781,\"\")","v":"Bad Urach-Münsingen"},"32Dottingen-Rietheim                                          "]
["Nagold Stadtkirchengemeinde                                 ",5229,"Nagold",33,1.5,5229,{"$f":"IF(IF(LEN(A782)>0,ERROR.TYPE(MATCH(H782,H$1:H781,0))=7,0),C782,\"\")","v":"Nagold"},"33Nagold Stadtkirchengemeinde                                 "]
["Altensteig                                                  ",2031,"Nagold",33,1,2031,{"$f":"IF(IF(LEN(A783)>0,ERROR.TYPE(MATCH(H783,H$1:H782,0))=7,0),C783,\"\")","v":"Nagold"},"33Altensteig                                                  "]
["Altensteigdorf                                              ",519,"Nagold",33,1,519,{"$f":"IF(IF(LEN(A784)>0,ERROR.TYPE(MATCH(H784,H$1:H783,0))=7,0),C784,\"\")","v":"Nagold"},"33Altensteigdorf                                              "]
["Berneck                                                     ",220,"Nagold",33,0.5,220,{"$f":"IF(IF(LEN(A785)>0,ERROR.TYPE(MATCH(H785,H$1:H784,0))=7,0),C785,\"\")","v":"Nagold"},"33Berneck                                                     "]
["Bösingen                                                    ",566,"Nagold",33,1,566,{"$f":"IF(IF(LEN(A786)>0,ERROR.TYPE(MATCH(H786,H$1:H785,0))=7,0),C786,\"\")","v":"Nagold"},"33Bösingen                                                    "]
["Beihingen                                                   ",499,"Nagold",33,1,499,{"$f":"IF(IF(LEN(A787)>0,ERROR.TYPE(MATCH(H787,H$1:H786,0))=7,0),C787,\"\")","v":"Nagold"},"33Beihingen                                                   "]
["Ebhausen                                                    ",1323,"Nagold",33,1,1323,{"$f":"IF(IF(LEN(A788)>0,ERROR.TYPE(MATCH(H788,H$1:H787,0))=7,0),C788,\"\")","v":"Nagold"},"33Ebhausen                                                    "]
["Effringen                                                   ",1216,"Nagold",33,1,1216,{"$f":"IF(IF(LEN(A789)>0,ERROR.TYPE(MATCH(H789,H$1:H788,0))=7,0),C789,\"\")","v":"Nagold"},"33Effringen                                                   "]
["Schönbronn                                                  ",359,"Nagold",33,0.5,359,{"$f":"IF(IF(LEN(A790)>0,ERROR.TYPE(MATCH(H790,H$1:H789,0))=7,0),C790,\"\")","v":"Nagold"},"33Schönbronn                                                  "]
["Emmingen-Pfrondorf                                          ",1255,"Nagold",33,1,1255,{"$f":"IF(IF(LEN(A791)>0,ERROR.TYPE(MATCH(H791,H$1:H790,0))=7,0),C791,\"\")","v":"Nagold"},"33Emmingen-Pfrondorf                                          "]
["Gültlingen                                                  ",1006,"Nagold",33,1,1006,{"$f":"IF(IF(LEN(A792)>0,ERROR.TYPE(MATCH(H792,H$1:H791,0))=7,0),C792,\"\")","v":"Nagold"},"33Gültlingen                                                  "]
["Haiterbach                                                  ",1687,"Nagold",33,1,1687,{"$f":"IF(IF(LEN(A793)>0,ERROR.TYPE(MATCH(H793,H$1:H792,0))=7,0),C793,\"\")","v":"Nagold"},"33Haiterbach                                                  "]
["Hochdorf                                                    ",1248,"Nagold",33,1,1248,{"$f":"IF(IF(LEN(A794)>0,ERROR.TYPE(MATCH(H794,H$1:H793,0))=7,0),C794,\"\")","v":"Nagold"},"33Hochdorf                                                    "]
["Schietingen                                                 ",395,"Nagold",33,0.5,395,{"$f":"IF(IF(LEN(A795)>0,ERROR.TYPE(MATCH(H795,H$1:H794,0))=7,0),C795,\"\")","v":"Nagold"},"33Schietingen                                                 "]
["Rohrdorf                                                    ",895,"Nagold",33,1,895,{"$f":"IF(IF(LEN(A796)>0,ERROR.TYPE(MATCH(H796,H$1:H795,0))=7,0),C796,\"\")","v":"Nagold"},"33Rohrdorf                                                    "]
["Mindersbach                                                 ",292,"Nagold",33,0.5,292,{"$f":"IF(IF(LEN(A797)>0,ERROR.TYPE(MATCH(H797,H$1:H796,0))=7,0),C797,\"\")","v":"Nagold"},"33Mindersbach                                                 "]
["Rotfelden-Wenden                                            ",822,"Nagold",33,1,822,{"$f":"IF(IF(LEN(A798)>0,ERROR.TYPE(MATCH(H798,H$1:H797,0))=7,0),C798,\"\")","v":"Nagold"},"33Rotfelden-Wenden                                            "]
["Simmersfeld                                                 ",1262,"Nagold",33,1,1262,{"$f":"IF(IF(LEN(A799)>0,ERROR.TYPE(MATCH(H799,H$1:H798,0))=7,0),C799,\"\")","v":"Nagold"},"33Simmersfeld                                                 "]
["Spielberg                                                   ",753,"Nagold",33,1,753,{"$f":"IF(IF(LEN(A800)>0,ERROR.TYPE(MATCH(H800,H$1:H799,0))=7,0),C800,\"\")","v":"Nagold"},"33Spielberg                                                   "]
["Egenhausen                                                  ",1182,"Nagold",33,1,1182,{"$f":"IF(IF(LEN(A801)>0,ERROR.TYPE(MATCH(H801,H$1:H800,0))=7,0),C801,\"\")","v":"Nagold"},"33Egenhausen                                                  "]
["Sulz am Eck                                                 ",1020,"Nagold",33,1,1020,{"$f":"IF(IF(LEN(A802)>0,ERROR.TYPE(MATCH(H802,H$1:H801,0))=7,0),C802,\"\")","v":"Nagold"},"33Sulz am Eck                                                 "]
["Walddorf                                                    ",953,"Nagold",33,1,953,{"$f":"IF(IF(LEN(A803)>0,ERROR.TYPE(MATCH(H803,H$1:H802,0))=7,0),C803,\"\")","v":"Nagold"},"33Walddorf                                                    "]
["Oberschwandorf                                              ",661,"Nagold",33,1,661,{"$f":"IF(IF(LEN(A804)>0,ERROR.TYPE(MATCH(H804,H$1:H803,0))=7,0),C804,\"\")","v":"Nagold"},"33Oberschwandorf                                              "]
["Wart                                                        ",568,"Nagold",33,1,568,{"$f":"IF(IF(LEN(A805)>0,ERROR.TYPE(MATCH(H805,H$1:H804,0))=7,0),C805,\"\")","v":"Nagold"},"33Wart                                                        "]
["Ebershardt                                                  ",423,"Nagold",33,1,423,{"$f":"IF(IF(LEN(A806)>0,ERROR.TYPE(MATCH(H806,H$1:H805,0))=7,0),C806,\"\")","v":"Nagold"},"33Ebershardt                                                  "]
["Wildberg                                                    ",1564,"Nagold",33,1,1564,{"$f":"IF(IF(LEN(A807)>0,ERROR.TYPE(MATCH(H807,H$1:H806,0))=7,0),C807,\"\")","v":"Nagold"},"33Wildberg                                                    "]
["Grömbach-Wörnersberg                                        ",703,"Nagold",33,1,703,{"$f":"IF(IF(LEN(A808)>0,ERROR.TYPE(MATCH(H808,H$1:H807,0))=7,0),C808,\"\")","v":"Nagold"},"33Grömbach-Wörnersberg                                        "]
["Talheim                                                     ",465,"Nagold",33,1,465,{"$f":"IF(IF(LEN(A809)>0,ERROR.TYPE(MATCH(H809,H$1:H808,0))=7,0),C809,\"\")","v":"Nagold"},"33Talheim                                                     "]
["Vollmaringen                                                ",409,"Nagold",33,1,409,{"$f":"IF(IF(LEN(A810)>0,ERROR.TYPE(MATCH(H810,H$1:H809,0))=7,0),C810,\"\")","v":"Nagold"},"33Vollmaringen                                                "]
["Neuenbürg                                                   ",1819,"Neuenbürg",34,1,1819,{"$f":"IF(IF(LEN(A811)>0,ERROR.TYPE(MATCH(H811,H$1:H810,0))=7,0),C811,\"\")","v":"Neuenbürg"},"34Neuenbürg                                                   "]
["Waldrennach                                                 ",374,"Neuenbürg",34,0.5,374,{"$f":"IF(IF(LEN(A812)>0,ERROR.TYPE(MATCH(H812,H$1:H811,0))=7,0),C812,\"\")","v":"Neuenbürg"},"34Waldrennach                                                 "]
["Arnbach                                                     ",884,"Neuenbürg",34,1,884,{"$f":"IF(IF(LEN(A813)>0,ERROR.TYPE(MATCH(H813,H$1:H812,0))=7,0),C813,\"\")","v":"Neuenbürg"},"34Arnbach                                                     "]
["Niebelsbach                                                 ",487,"Neuenbürg",34,1,487,{"$f":"IF(IF(LEN(A814)>0,ERROR.TYPE(MATCH(H814,H$1:H813,0))=7,0),C814,\"\")","v":"Neuenbürg"},"34Niebelsbach                                                 "]
["Birkenfeld                                                  ",3180,"Neuenbürg",34,1.5,3180,{"$f":"IF(IF(LEN(A815)>0,ERROR.TYPE(MATCH(H815,H$1:H814,0))=7,0),C815,\"\")","v":"Neuenbürg"},"34Birkenfeld                                                  "]
["Calmbach                                                    ",2020,"Neuenbürg",34,1,2020,{"$f":"IF(IF(LEN(A816)>0,ERROR.TYPE(MATCH(H816,H$1:H815,0))=7,0),C816,\"\")","v":"Neuenbürg"},"34Calmbach                                                    "]
["Conweiler                                                   ",1299,"Neuenbürg",34,1,1299,{"$f":"IF(IF(LEN(A817)>0,ERROR.TYPE(MATCH(H817,H$1:H816,0))=7,0),C817,\"\")","v":"Neuenbürg"},"34Conweiler                                                   "]
["Dobel                                                       ",968,"Neuenbürg",34,1,968,{"$f":"IF(IF(LEN(A818)>0,ERROR.TYPE(MATCH(H818,H$1:H817,0))=7,0),C818,\"\")","v":"Neuenbürg"},"34Dobel                                                       "]
["Neusatz-Rotensol                                            ",871,"Neuenbürg",34,1,871,{"$f":"IF(IF(LEN(A819)>0,ERROR.TYPE(MATCH(H819,H$1:H818,0))=7,0),C819,\"\")","v":"Neuenbürg"},"34Neusatz-Rotensol                                            "]
["Engelsbrand                                                 ",877,"Neuenbürg",34,1,877,{"$f":"IF(IF(LEN(A820)>0,ERROR.TYPE(MATCH(H820,H$1:H819,0))=7,0),C820,\"\")","v":"Neuenbürg"},"34Engelsbrand                                                 "]
["Grunbach                                                    ",814,"Neuenbürg",34,1,814,{"$f":"IF(IF(LEN(A821)>0,ERROR.TYPE(MATCH(H821,H$1:H820,0))=7,0),C821,\"\")","v":"Neuenbürg"},"34Grunbach                                                    "]
["Enzklösterle                                                ",732,"Neuenbürg",34,1,732,{"$f":"IF(IF(LEN(A822)>0,ERROR.TYPE(MATCH(H822,H$1:H821,0))=7,0),C822,\"\")","v":"Neuenbürg"},"34Enzklösterle                                                "]
["Feldrennach                                                 ",1444,"Neuenbürg",34,1,1444,{"$f":"IF(IF(LEN(A823)>0,ERROR.TYPE(MATCH(H823,H$1:H822,0))=7,0),C823,\"\")","v":"Neuenbürg"},"34Feldrennach                                                 "]
["Gräfenhausen                                                ",1306,"Neuenbürg",34,1,1306,{"$f":"IF(IF(LEN(A824)>0,ERROR.TYPE(MATCH(H824,H$1:H823,0))=7,0),C824,\"\")","v":"Neuenbürg"},"34Gräfenhausen                                                "]
["Bad Herrenalb                                               ",1528,"Neuenbürg",34,1,1528,{"$f":"IF(IF(LEN(A825)>0,ERROR.TYPE(MATCH(H825,H$1:H824,0))=7,0),C825,\"\")","v":"Neuenbürg"},"34Bad Herrenalb                                               "]
["Bernbach                                                    ",458,"Neuenbürg",34,1,458,{"$f":"IF(IF(LEN(A826)>0,ERROR.TYPE(MATCH(H826,H$1:H825,0))=7,0),C826,\"\")","v":"Neuenbürg"},"34Bernbach                                                    "]
["Höfen a.d. Enz                                              ",825,"Neuenbürg",34,1,825,{"$f":"IF(IF(LEN(A827)>0,ERROR.TYPE(MATCH(H827,H$1:H826,0))=7,0),C827,\"\")","v":"Neuenbürg"},"34Höfen a.d. Enz                                              "]
["Langenbrand                                                 ",614,"Neuenbürg",34,1,614,{"$f":"IF(IF(LEN(A828)>0,ERROR.TYPE(MATCH(H828,H$1:H827,0))=7,0),C828,\"\")","v":"Neuenbürg"},"34Langenbrand                                                 "]
["Salmbach                                                    ",421,"Neuenbürg",34,1,421,{"$f":"IF(IF(LEN(A829)>0,ERROR.TYPE(MATCH(H829,H$1:H828,0))=7,0),C829,\"\")","v":"Neuenbürg"},"34Salmbach                                                    "]
["Loffenau                                                    ",1034,"Neuenbürg",34,1,1034,{"$f":"IF(IF(LEN(A830)>0,ERROR.TYPE(MATCH(H830,H$1:H829,0))=7,0),C830,\"\")","v":"Neuenbürg"},"34Loffenau                                                    "]
["Ottenhausen                                                 ",913,"Neuenbürg",34,1,913,{"$f":"IF(IF(LEN(A831)>0,ERROR.TYPE(MATCH(H831,H$1:H830,0))=7,0),C831,\"\")","v":"Neuenbürg"},"34Ottenhausen                                                 "]
["Schömberg                                                   ",1617,"Neuenbürg",34,1,1617,{"$f":"IF(IF(LEN(A832)>0,ERROR.TYPE(MATCH(H832,H$1:H831,0))=7,0),C832,\"\")","v":"Neuenbürg"},"34Schömberg                                                   "]
["Bieselsberg                                                 ",427,"Neuenbürg",34,1,427,{"$f":"IF(IF(LEN(A833)>0,ERROR.TYPE(MATCH(H833,H$1:H832,0))=7,0),C833,\"\")","v":"Neuenbürg"},"34Bieselsberg                                                 "]
["Oberlengenhardt                                             ",272,"Neuenbürg",34,0.5,272,{"$f":"IF(IF(LEN(A834)>0,ERROR.TYPE(MATCH(H834,H$1:H833,0))=7,0),C834,\"\")","v":"Neuenbürg"},"34Oberlengenhardt                                             "]
["Schwarzenberg                                               ",418,"Neuenbürg",34,{"$f":"IF($G835<>\"\",IF($B835<400,0.5,IF($B835<2801,1,IF($B835<5601,1.5,IF($B835<8401,2,IF($B835<11201,2.5,1000))))),\"\")","v":1},418,{"$f":"IF(IF(LEN(A835)>0,ERROR.TYPE(MATCH(H835,H$1:H834,0))=7,0),C835,\"\")","v":"Neuenbürg"},"34Schwarzenberg                                               "]
["Schwann                                                     ",1302,"Neuenbürg",34,1,{"$f":"IF(E836<>\"#NV\",B836,\"\")","v":1302},{"$f":"IF(IF(LEN(A836)>0,ERROR.TYPE(MATCH(H836,H$1:H835,0))=7,0),C836,\"\")","v":"Neuenbürg"},{"$f":"D836&A836","v":"34Schwann                                                     "}]
["Dennach                                                     ",357,"Neuenbürg",34,0.5,357,{"$f":"IF(IF(LEN(A837)>0,ERROR.TYPE(MATCH(H837,H$1:H836,0))=7,0),C837,\"\")","v":"Neuenbürg"},"34Dennach                                                     "]
["Bad Wildbad                                                 ",2401,"Neuenbürg",34,1,2401,{"$f":"IF(IF(LEN(A838)>0,ERROR.TYPE(MATCH(H838,H$1:H837,0))=7,0),C838,\"\")","v":"Neuenbürg"},"34Bad Wildbad                                                 "]
["Neuenstadt a.K.                                             ",2716,"Neuenstadt a.K.",35,1,2716,{"$f":"IF(IF(LEN(A839)>0,ERROR.TYPE(MATCH(H839,H$1:H838,0))=7,0),C839,\"\")","v":"Neuenstadt a.K."},"35Neuenstadt a.K.                                             "]
["Bürg                                                        ",305,"Neuenstadt a.K.",35,0.5,305,{"$f":"IF(IF(LEN(A840)>0,ERROR.TYPE(MATCH(H840,H$1:H839,0))=7,0),C840,\"\")","v":"Neuenstadt a.K."},"35Bürg                                                        "]
["Brettach                                                    ",1273,"Neuenstadt a.K.",35,1,1273,{"$f":"IF(IF(LEN(A841)>0,ERROR.TYPE(MATCH(H841,H$1:H840,0))=7,0),C841,\"\")","v":"Neuenstadt a.K."},"35Brettach                                                    "]
["Cleversulzbach                                              ",422,"Neuenstadt a.K.",35,1,422,{"$f":"IF(IF(LEN(A842)>0,ERROR.TYPE(MATCH(H842,H$1:H841,0))=7,0),C842,\"\")","v":"Neuenstadt a.K."},"35Cleversulzbach                                              "]
["Bad Friedrichshall-Jagstfeld                                ",2255,"Neuenstadt a.K.",35,1,2255,{"$f":"IF(IF(LEN(A843)>0,ERROR.TYPE(MATCH(H843,H$1:H842,0))=7,0),C843,\"\")","v":"Neuenstadt a.K."},"35Bad Friedrichshall-Jagstfeld                                "]
["Bad Friedrichshall-Kochendorf                               ",5412,"Neuenstadt a.K.",35,1.5,5412,{"$f":"IF(IF(LEN(A844)>0,ERROR.TYPE(MATCH(H844,H$1:H843,0))=7,0),C844,\"\")","v":"Neuenstadt a.K."},"35Bad Friedrichshall-Kochendorf                               "]
["Gochsen                                                     ",883,"Neuenstadt a.K.",35,1,883,{"$f":"IF(IF(LEN(A845)>0,ERROR.TYPE(MATCH(H845,H$1:H844,0))=7,0),C845,\"\")","v":"Neuenstadt a.K."},"35Gochsen                                                     "]
["Gundelsheim                                                 ",1464,"Neuenstadt a.K.",35,1,1464,{"$f":"IF(IF(LEN(A846)>0,ERROR.TYPE(MATCH(H846,H$1:H845,0))=7,0),C846,\"\")","v":"Neuenstadt a.K."},"35Gundelsheim                                                 "]
["Jagsthausen                                                 ",580,"Neuenstadt a.K.",35,1,580,{"$f":"IF(IF(LEN(A847)>0,ERROR.TYPE(MATCH(H847,H$1:H846,0))=7,0),C847,\"\")","v":"Neuenstadt a.K."},"35Jagsthausen                                                 "]
["Olnhausen                                                   ",151,"Neuenstadt a.K.",35,0.5,151,{"$f":"IF(IF(LEN(A848)>0,ERROR.TYPE(MATCH(H848,H$1:H847,0))=7,0),C848,\"\")","v":"Neuenstadt a.K."},"35Olnhausen                                                   "]
["Kochersteinsfeld                                            ",744,"Neuenstadt a.K.",35,1,744,{"$f":"IF(IF(LEN(A849)>0,ERROR.TYPE(MATCH(H849,H$1:H848,0))=7,0),C849,\"\")","v":"Neuenstadt a.K."},"35Kochersteinsfeld                                            "]
["Lampoldshausen                                              ",566,"Neuenstadt a.K.",35,1,566,{"$f":"IF(IF(LEN(A850)>0,ERROR.TYPE(MATCH(H850,H$1:H849,0))=7,0),C850,\"\")","v":"Neuenstadt a.K."},"35Lampoldshausen                                              "]
["Möckmühl                                                    ",2412,"Neuenstadt a.K.",35,1,2412,{"$f":"IF(IF(LEN(A851)>0,ERROR.TYPE(MATCH(H851,H$1:H850,0))=7,0),C851,\"\")","v":"Neuenstadt a.K."},"35Möckmühl                                                    "]
["Bittelbronn                                                 ",112,"Neuenstadt a.K.",35,0.5,112,{"$f":"IF(IF(LEN(A852)>0,ERROR.TYPE(MATCH(H852,H$1:H851,0))=7,0),C852,\"\")","v":"Neuenstadt a.K."},"35Bittelbronn                                                 "]
["Roigheim                                                    ",722,"Neuenstadt a.K.",35,1,722,{"$f":"IF(IF(LEN(A853)>0,ERROR.TYPE(MATCH(H853,H$1:H852,0))=7,0),C853,\"\")","v":"Neuenstadt a.K."},"35Roigheim                                                    "]
["Siglingen                                                   ",1336,"Neuenstadt a.K.",35,1,1336,{"$f":"IF(IF(LEN(A854)>0,ERROR.TYPE(MATCH(H854,H$1:H853,0))=7,0),C854,\"\")","v":"Neuenstadt a.K."},"35Siglingen                                                   "]
["Widdern                                                     ",717,"Neuenstadt a.K.",35,1,717,{"$f":"IF(IF(LEN(A855)>0,ERROR.TYPE(MATCH(H855,H$1:H854,0))=7,0),C855,\"\")","v":"Neuenstadt a.K."},"35Widdern                                                     "]
["Züttlingen                                                  ",555,"Neuenstadt a.K.",35,1,555,{"$f":"IF(IF(LEN(A856)>0,ERROR.TYPE(MATCH(H856,H$1:H855,0))=7,0),C856,\"\")","v":"Neuenstadt a.K."},"35Züttlingen                                                  "]
["Ruchsen                                                     ",283,"Neuenstadt a.K.",35,0.5,283,{"$f":"IF(IF(LEN(A857)>0,ERROR.TYPE(MATCH(H857,H$1:H856,0))=7,0),C857,\"\")","v":"Neuenstadt a.K."},"35Ruchsen                                                     "]
["Neckarsulm Stadtkirchengemeinde                             ",1381,"Neuenstadt a.K.",35,1,1381,{"$f":"IF(IF(LEN(A858)>0,ERROR.TYPE(MATCH(H858,H$1:H857,0))=7,0),C858,\"\")","v":"Neuenstadt a.K."},"35Neckarsulm Stadtkirchengemeinde                             "]
["Neckarsulm Heilig-Geist-Kirchengemeinde                     ",1852,"Neuenstadt a.K.",35,1,1852,{"$f":"IF(IF(LEN(A859)>0,ERROR.TYPE(MATCH(H859,H$1:H858,0))=7,0),C859,\"\")","v":"Neuenstadt a.K."},"35Neckarsulm Heilig-Geist-Kirchengemeinde                     "]
["Neckarsulm Martin-Luther-Kirchengemeinde                    ",2063,"Neuenstadt a.K.",35,1,2063,{"$f":"IF(IF(LEN(A860)>0,ERROR.TYPE(MATCH(H860,H$1:H859,0))=7,0),C860,\"\")","v":"Neuenstadt a.K."},"35Neckarsulm Martin-Luther-Kirchengemeinde                    "]
["Erlenbach Christuskirchengemeinde                           ",1286,"Neuenstadt a.K.",35,1,1286,{"$f":"IF(IF(LEN(A861)>0,ERROR.TYPE(MATCH(H861,H$1:H860,0))=7,0),C861,\"\")","v":"Neuenstadt a.K."},"35Erlenbach Christuskirchengemeinde                           "]
["Unterkessach                                                ",197,"Neuenstadt a.K.",35,0.5,197,{"$f":"IF(IF(LEN(A862)>0,ERROR.TYPE(MATCH(H862,H$1:H861,0))=7,0),C862,\"\")","v":"Neuenstadt a.K."},"35Unterkessach                                                "]
["Nürtingen Stadtkirchengemeinde                              ",3023,"Nürtingen",36,1.5,3023,{"$f":"IF(IF(LEN(A863)>0,ERROR.TYPE(MATCH(H863,H$1:H862,0))=7,0),C863,\"\")","v":"Nürtingen"},"36Nürtingen Stadtkirchengemeinde                              "]
["Oberensingen-Hardt                                          ",1896,"Nürtingen",36,1,1896,{"$f":"IF(IF(LEN(A864)>0,ERROR.TYPE(MATCH(H864,H$1:H863,0))=7,0),C864,\"\")","v":"Nürtingen"},"36Oberensingen-Hardt                                          "]
["Beuren                                                      ",1909,"Nürtingen",36,1,1909,{"$f":"IF(IF(LEN(A865)>0,ERROR.TYPE(MATCH(H865,H$1:H864,0))=7,0),C865,\"\")","v":"Nürtingen"},"36Beuren                                                      "]
["Frickenhausen                                               ",2011,"Nürtingen",36,1,2011,{"$f":"IF(IF(LEN(A866)>0,ERROR.TYPE(MATCH(H866,H$1:H865,0))=7,0),C866,\"\")","v":"Nürtingen"},"36Frickenhausen                                               "]
["Tischardt                                                   ",533,"Nürtingen",36,1,533,{"$f":"IF(IF(LEN(A867)>0,ERROR.TYPE(MATCH(H867,H$1:H866,0))=7,0),C867,\"\")","v":"Nürtingen"},"36Tischardt                                                   "]
["Grötzingen                                                  ",1863,"Nürtingen",36,1,1863,{"$f":"IF(IF(LEN(A868)>0,ERROR.TYPE(MATCH(H868,H$1:H867,0))=7,0),C868,\"\")","v":"Nürtingen"},"36Grötzingen                                                  "]
["Großbettlingen                                              ",1833,"Nürtingen",36,1,1833,{"$f":"IF(IF(LEN(A869)>0,ERROR.TYPE(MATCH(H869,H$1:H868,0))=7,0),C869,\"\")","v":"Nürtingen"},"36Großbettlingen                                              "]
["Raidwangen                                                  ",1003,"Nürtingen",36,1,1003,{"$f":"IF(IF(LEN(A870)>0,ERROR.TYPE(MATCH(H870,H$1:H869,0))=7,0),C870,\"\")","v":"Nürtingen"},"36Raidwangen                                                  "]
["Kohlberg                                                    ",1382,"Nürtingen",36,1,1382,{"$f":"IF(IF(LEN(A871)>0,ERROR.TYPE(MATCH(H871,H$1:H870,0))=7,0),C871,\"\")","v":"Nürtingen"},"36Kohlberg                                                    "]
["Linsenhofen                                                 ",1247,"Nürtingen",36,1,1247,{"$f":"IF(IF(LEN(A872)>0,ERROR.TYPE(MATCH(H872,H$1:H871,0))=7,0),C872,\"\")","v":"Nürtingen"},"36Linsenhofen                                                 "]
["Neckarhausen                                                ",1685,"Nürtingen",36,1,1685,{"$f":"IF(IF(LEN(A873)>0,ERROR.TYPE(MATCH(H873,H$1:H872,0))=7,0),C873,\"\")","v":"Nürtingen"},"36Neckarhausen                                                "]
["Neckartailfingen                                            ",1837,"Nürtingen",36,1,1837,{"$f":"IF(IF(LEN(A874)>0,ERROR.TYPE(MATCH(H874,H$1:H873,0))=7,0),C874,\"\")","v":"Nürtingen"},"36Neckartailfingen                                            "]
["Altdorf                                                     ",840,"Nürtingen",36,1,840,{"$f":"IF(IF(LEN(A875)>0,ERROR.TYPE(MATCH(H875,H$1:H874,0))=7,0),C875,\"\")","v":"Nürtingen"},"36Altdorf                                                     "]
["Neckartenzlingen                                            ",2271,"Nürtingen",36,1,2271,{"$f":"IF(IF(LEN(A876)>0,ERROR.TYPE(MATCH(H876,H$1:H875,0))=7,0),C876,\"\")","v":"Nürtingen"},"36Neckartenzlingen                                            "]
["Neuffen                                                     ",2838,"Nürtingen",36,1.5,2838,{"$f":"IF(IF(LEN(A877)>0,ERROR.TYPE(MATCH(H877,H$1:H876,0))=7,0),C877,\"\")","v":"Nürtingen"},"36Neuffen                                                     "]
["Oberboihingen                                               ",2324,"Nürtingen",36,1,2324,{"$f":"IF(IF(LEN(A878)>0,ERROR.TYPE(MATCH(H878,H$1:H877,0))=7,0),C878,\"\")","v":"Nürtingen"},"36Oberboihingen                                               "]
["Reudern                                                     ",1262,"Nürtingen",36,1,1262,{"$f":"IF(IF(LEN(A879)>0,ERROR.TYPE(MATCH(H879,H$1:H878,0))=7,0),C879,\"\")","v":"Nürtingen"},"36Reudern                                                     "]
["Schlaitdorf                                                 ",868,"Nürtingen",36,1,868,{"$f":"IF(IF(LEN(A880)>0,ERROR.TYPE(MATCH(H880,H$1:H879,0))=7,0),C880,\"\")","v":"Nürtingen"},"36Schlaitdorf                                                 "]
["Altenriet                                                   ",941,"Nürtingen",36,1,941,{"$f":"IF(IF(LEN(A881)>0,ERROR.TYPE(MATCH(H881,H$1:H880,0))=7,0),C881,\"\")","v":"Nürtingen"},"36Altenriet                                                   "]
["Unterensingen                                               ",2045,"Nürtingen",36,1,2045,{"$f":"IF(IF(LEN(A882)>0,ERROR.TYPE(MATCH(H882,H$1:H881,0))=7,0),C882,\"\")","v":"Nürtingen"},"36Unterensingen                                               "]
["Bodelshofen                                                 ",75,"Nürtingen",36,0.5,75,{"$f":"IF(IF(LEN(A883)>0,ERROR.TYPE(MATCH(H883,H$1:H882,0))=7,0),C883,\"\")","v":"Nürtingen"},"36Bodelshofen                                                 "]
["Wolfschlugen                                                ",2891,"Nürtingen",36,1.5,2891,{"$f":"IF(IF(LEN(A884)>0,ERROR.TYPE(MATCH(H884,H$1:H883,0))=7,0),C884,\"\")","v":"Nürtingen"},"36Wolfschlugen                                                "]
["Zizishausen                                                 ",1116,"Nürtingen",36,1,1116,{"$f":"IF(IF(LEN(A885)>0,ERROR.TYPE(MATCH(H885,H$1:H884,0))=7,0),C885,\"\")","v":"Nürtingen"},"36Zizishausen                                                 "]
["Nürtingen Lutherkirchengemeinde                             ",1563,"Nürtingen",36,1,1563,{"$f":"IF(IF(LEN(A886)>0,ERROR.TYPE(MATCH(H886,H$1:H885,0))=7,0),C886,\"\")","v":"Nürtingen"},"36Nürtingen Lutherkirchengemeinde                             "]
["Nürtingen Versöhnungskirchengemeinde                        ",1481,"Nürtingen",36,1,1481,{"$f":"IF(IF(LEN(A887)>0,ERROR.TYPE(MATCH(H887,H$1:H886,0))=7,0),C887,\"\")","v":"Nürtingen"},"36Nürtingen Versöhnungskirchengemeinde                        "]
["Nürtingen Stephanuskirchengemeinde                          ",1266,"Nürtingen",36,1,1266,{"$f":"IF(IF(LEN(A888)>0,ERROR.TYPE(MATCH(H888,H$1:H887,0))=7,0),C888,\"\")","v":"Nürtingen"},"36Nürtingen Stephanuskirchengemeinde                          "]
["Wendlingen am Neckar                                        ",5091,"Nürtingen",36,1.5,5091,{"$f":"IF(IF(LEN(A889)>0,ERROR.TYPE(MATCH(H889,H$1:H888,0))=7,0),C889,\"\")","v":"Nürtingen"},"36Wendlingen am Neckar                                        "]
["Aich-Neuenhaus",2437,"Nürtingen",36,1,2437,{"$f":"IF(IF(LEN(A890)>0,ERROR.TYPE(MATCH(H890,H$1:H889,0))=7,0),C890,\"\")","v":"Nürtingen"},"36Aich-Neuenhaus"]
["Öhringen                                                    ",9338,"Öhringen",37,2.5,9338,{"$f":"IF(IF(LEN(A891)>0,ERROR.TYPE(MATCH(H891,H$1:H890,0))=7,0),C891,\"\")","v":"Öhringen"},"37Öhringen                                                    "]
["Adolzfurt-Scheppach                                         ",1086,"Öhringen",37,1,1086,{"$f":"IF(IF(LEN(A892)>0,ERROR.TYPE(MATCH(H892,H$1:H891,0))=7,0),C892,\"\")","v":"Öhringen"},"37Adolzfurt-Scheppach                                         "]
["Baumerlenbach-Möglingen                                     ",445,"Öhringen",37,1,445,{"$f":"IF(IF(LEN(A893)>0,ERROR.TYPE(MATCH(H893,H$1:H892,0))=7,0),C893,\"\")","v":"Öhringen"},"37Baumerlenbach-Möglingen                                     "]
["Ernsbach                                                    ",429,"Öhringen",37,1,429,{"$f":"IF(IF(LEN(A894)>0,ERROR.TYPE(MATCH(H894,H$1:H893,0))=7,0),C894,\"\")","v":"Öhringen"},"37Ernsbach                                                    "]
["Eschental                                                   ",685,"Öhringen",37,1,685,{"$f":"IF(IF(LEN(A895)>0,ERROR.TYPE(MATCH(H895,H$1:H894,0))=7,0),C895,\"\")","v":"Öhringen"},"37Eschental                                                   "]
["Forchtenberg                                                ",1223,"Öhringen",37,1,1223,{"$f":"IF(IF(LEN(A896)>0,ERROR.TYPE(MATCH(H896,H$1:H895,0))=7,0),C896,\"\")","v":"Öhringen"},"37Forchtenberg                                                "]
["Kirchensall                                                 ",710,"Öhringen",37,1,710,{"$f":"IF(IF(LEN(A897)>0,ERROR.TYPE(MATCH(H897,H$1:H896,0))=7,0),C897,\"\")","v":"Öhringen"},"37Kirchensall                                                 "]
["Kupferzell                                                  ",1814,"Öhringen",37,1,1814,{"$f":"IF(IF(LEN(A898)>0,ERROR.TYPE(MATCH(H898,H$1:H897,0))=7,0),C898,\"\")","v":"Öhringen"},"37Kupferzell                                                  "]
["Langenbeutingen                                             ",867,"Öhringen",37,{"$f":"IF($G899<>\"\",IF($B899<400,0.5,IF($B899<2801,1,IF($B899<5601,1.5,IF($B899<8401,2,IF($B899<11201,2.5,1000))))),\"\")","v":1},867,{"$f":"IF(IF(LEN(A899)>0,ERROR.TYPE(MATCH(H899,H$1:H898,0))=7,0),C899,\"\")","v":"Öhringen"},"37Langenbeutingen                                             "]
["Neuenstein                                                  ",3036,"Öhringen",37,1.5,{"$f":"IF(E900<>\"#NV\",B900,\"\")","v":3036},{"$f":"IF(IF(LEN(A900)>0,ERROR.TYPE(MATCH(H900,H$1:H899,0))=7,0),C900,\"\")","v":"Öhringen"},{"$f":"D900&A900","v":"37Neuenstein                                                  "}]
["Ohrnberg                                                    ",576,"Öhringen",37,1,576,{"$f":"IF(IF(LEN(A901)>0,ERROR.TYPE(MATCH(H901,H$1:H900,0))=7,0),C901,\"\")","v":"Öhringen"},"37Ohrnberg                                                    "]
["Orendelsall                                                 ",415,"Öhringen",37,1,415,{"$f":"IF(IF(LEN(A902)>0,ERROR.TYPE(MATCH(H902,H$1:H901,0))=7,0),C902,\"\")","v":"Öhringen"},"37Orendelsall                                                 "]
["Tiefensall                                                  ",132,"Öhringen",37,0.5,132,{"$f":"IF(IF(LEN(A903)>0,ERROR.TYPE(MATCH(H903,H$1:H902,0))=7,0),C903,\"\")","v":"Öhringen"},"37Tiefensall                                                  "]
["Zweiflingen                                                 ",435,"Öhringen",37,1,435,{"$f":"IF(IF(LEN(A904)>0,ERROR.TYPE(MATCH(H904,H$1:H903,0))=7,0),C904,\"\")","v":"Öhringen"},"37Zweiflingen                                                 "]
["Pfedelbach                                                  ",3471,"Öhringen",37,1.5,3471,{"$f":"IF(IF(LEN(A905)>0,ERROR.TYPE(MATCH(H905,H$1:H904,0))=7,0),C905,\"\")","v":"Öhringen"},"37Pfedelbach                                                  "]
["Sindringen                                                  ",459,"Öhringen",37,1,459,{"$f":"IF(IF(LEN(A906)>0,ERROR.TYPE(MATCH(H906,H$1:H905,0))=7,0),C906,\"\")","v":"Öhringen"},"37Sindringen                                                  "]
["Untersteinbach                                              ",1382,"Öhringen",37,1,1382,{"$f":"IF(IF(LEN(A907)>0,ERROR.TYPE(MATCH(H907,H$1:H906,0))=7,0),C907,\"\")","v":"Öhringen"},"37Untersteinbach                                              "]
["Waldenburg                                                  ",1710,"Öhringen",37,1,1710,{"$f":"IF(IF(LEN(A908)>0,ERROR.TYPE(MATCH(H908,H$1:H907,0))=7,0),C908,\"\")","v":"Öhringen"},"37Waldenburg                                                  "]
["Ravensburg Stadtkirchengemeinde                             ",4214,"Ravensburg",38,1.5,4214,{"$f":"IF(IF(LEN(A909)>0,ERROR.TYPE(MATCH(H909,H$1:H908,0))=7,0),C909,\"\")","v":"Ravensburg"},"38Ravensburg Stadtkirchengemeinde                             "]
["Mochenwangen                                                ",1182,"Ravensburg",38,1,1182,{"$f":"IF(IF(LEN(A910)>0,ERROR.TYPE(MATCH(H910,H$1:H909,0))=7,0),C910,\"\")","v":"Ravensburg"},"38Mochenwangen                                                "]
["Atzenweiler                                                 ",1321,"Ravensburg",38,1,1321,{"$f":"IF(IF(LEN(A911)>0,ERROR.TYPE(MATCH(H911,H$1:H910,0))=7,0),C911,\"\")","v":"Ravensburg"},"38Atzenweiler                                                 "]
["Vogt                                                        ",740,"Ravensburg",38,1,740,{"$f":"IF(IF(LEN(A912)>0,ERROR.TYPE(MATCH(H912,H$1:H911,0))=7,0),C912,\"\")","v":"Ravensburg"},"38Vogt                                                        "]
["Bavendorf                                                   ",948,"Ravensburg",38,1,948,{"$f":"IF(IF(LEN(A913)>0,ERROR.TYPE(MATCH(H913,H$1:H912,0))=7,0),C913,\"\")","v":"Ravensburg"},"38Bavendorf                                                   "]
["Ailingen                                                    ",1612,"Ravensburg",38,1,1612,{"$f":"IF(IF(LEN(A914)>0,ERROR.TYPE(MATCH(H914,H$1:H913,0))=7,0),C914,\"\")","v":"Ravensburg"},"38Ailingen                                                    "]
["Oberteuringen-Neuhaus                                       ",850,"Ravensburg",38,1,850,{"$f":"IF(IF(LEN(A915)>0,ERROR.TYPE(MATCH(H915,H$1:H914,0))=7,0),C915,\"\")","v":"Ravensburg"},"38Oberteuringen-Neuhaus                                       "]
["Manzell                                                     ",1865,"Ravensburg",38,1,1865,{"$f":"IF(IF(LEN(A916)>0,ERROR.TYPE(MATCH(H916,H$1:H915,0))=7,0),C916,\"\")","v":"Ravensburg"},"38Manzell                                                     "]
["Isny                                                        ",2653,"Ravensburg",38,1,2653,{"$f":"IF(IF(LEN(A917)>0,ERROR.TYPE(MATCH(H917,H$1:H916,0))=7,0),C917,\"\")","v":"Ravensburg"},"38Isny                                                        "]
["Kressbronn                                                  ",1771,"Ravensburg",38,1,1771,{"$f":"IF(IF(LEN(A918)>0,ERROR.TYPE(MATCH(H918,H$1:H917,0))=7,0),C918,\"\")","v":"Ravensburg"},"38Kressbronn                                                  "]
["Langenargen-Eriskirch                                       ",2512,"Ravensburg",38,1,2512,{"$f":"IF(IF(LEN(A919)>0,ERROR.TYPE(MATCH(H919,H$1:H918,0))=7,0),C919,\"\")","v":"Ravensburg"},"38Langenargen-Eriskirch                                       "]
["Leutkirch                                                   ",2973,"Ravensburg",38,1.5,2973,{"$f":"IF(IF(LEN(A920)>0,ERROR.TYPE(MATCH(H920,H$1:H919,0))=7,0),C920,\"\")","v":"Ravensburg"},"38Leutkirch                                                   "]
["Aitrach                                                     ",1090,"Ravensburg",38,1,1090,{"$f":"IF(IF(LEN(A921)>0,ERROR.TYPE(MATCH(H921,H$1:H920,0))=7,0),C921,\"\")","v":"Ravensburg"},"38Aitrach                                                     "]
["Meckenbeuren                                                ",2209,"Ravensburg",38,1,2209,{"$f":"IF(IF(LEN(A922)>0,ERROR.TYPE(MATCH(H922,H$1:H921,0))=7,0),C922,\"\")","v":"Ravensburg"},"38Meckenbeuren                                                "]
["Tettnang Martin-Luther-Kirche                               ",2996,"Ravensburg",38,1.5,2996,{"$f":"IF(IF(LEN(A923)>0,ERROR.TYPE(MATCH(H923,H$1:H922,0))=7,0),C923,\"\")","v":"Ravensburg"},"38Tettnang Martin-Luther-Kirche                               "]
["Wälde-Winterbach                                            ",914,"Ravensburg",38,1,914,{"$f":"IF(IF(LEN(A924)>0,ERROR.TYPE(MATCH(H924,H$1:H923,0))=7,0),C924,\"\")","v":"Ravensburg"},"38Wälde-Winterbach                                            "]
["Bad Waldsee                                                 ",3044,"Ravensburg",38,1.5,3044,{"$f":"IF(IF(LEN(A925)>0,ERROR.TYPE(MATCH(H925,H$1:H924,0))=7,0),C925,\"\")","v":"Ravensburg"},"38Bad Waldsee                                                 "]
["Alttann                                                     ",944,"Ravensburg",38,1,944,{"$f":"IF(IF(LEN(A926)>0,ERROR.TYPE(MATCH(H926,H$1:H925,0))=7,0),C926,\"\")","v":"Ravensburg"},"38Alttann                                                     "]
["Wangen                                                      ",4650,"Ravensburg",38,1.5,4650,{"$f":"IF(IF(LEN(A927)>0,ERROR.TYPE(MATCH(H927,H$1:H926,0))=7,0),C927,\"\")","v":"Ravensburg"},"38Wangen                                                      "]
["Kißlegg                                                     ",1004,"Ravensburg",38,1,1004,{"$f":"IF(IF(LEN(A928)>0,ERROR.TYPE(MATCH(H928,H$1:H927,0))=7,0),C928,\"\")","v":"Ravensburg"},"38Kißlegg                                                     "]
["Weingarten                                                  ",6193,"Ravensburg",38,2,6193,{"$f":"IF(IF(LEN(A929)>0,ERROR.TYPE(MATCH(H929,H$1:H928,0))=7,0),C929,\"\")","v":"Ravensburg"},"38Weingarten                                                  "]
["Baienfurt-Baindt                                            ",2030,"Ravensburg",38,1,2030,{"$f":"IF(IF(LEN(A930)>0,ERROR.TYPE(MATCH(H930,H$1:H929,0))=7,0),C930,\"\")","v":"Ravensburg"},"38Baienfurt-Baindt                                            "]
["Bad Wurzach                                                 ",1187,"Ravensburg",38,1,1187,{"$f":"IF(IF(LEN(A931)>0,ERROR.TYPE(MATCH(H931,H$1:H930,0))=7,0),C931,\"\")","v":"Ravensburg"},"38Bad Wurzach                                                 "]
["Ravensburg Johanneskirchengemeinde                          ",2236,"Ravensburg",38,1,2236,{"$f":"IF(IF(LEN(A932)>0,ERROR.TYPE(MATCH(H932,H$1:H931,0))=7,0),C932,\"\")","v":"Ravensburg"},"38Ravensburg Johanneskirchengemeinde                          "]
["Eschach                                                     ",1580,"Ravensburg",38,1,1580,{"$f":"IF(IF(LEN(A933)>0,ERROR.TYPE(MATCH(H933,H$1:H932,0))=7,0),C933,\"\")","v":"Ravensburg"},"38Eschach                                                     "]
["Friedrichshafen Schloßkirchengemeinde                       ",2850,"Ravensburg",38,1.5,2850,{"$f":"IF(IF(LEN(A934)>0,ERROR.TYPE(MATCH(H934,H$1:H933,0))=7,0),C934,\"\")","v":"Ravensburg"},"38Friedrichshafen Schloßkirchengemeinde                       "]
["Friedrichshafen Erlöserkirchengemeinde                      ",1546,"Ravensburg",38,1,1546,{"$f":"IF(IF(LEN(A935)>0,ERROR.TYPE(MATCH(H935,H$1:H934,0))=7,0),C935,\"\")","v":"Ravensburg"},"38Friedrichshafen Erlöserkirchengemeinde                      "]
["Friedrichshafen Bonhoefferkirchengemeinde                   ",1382,"Ravensburg",38,1,1382,{"$f":"IF(IF(LEN(A936)>0,ERROR.TYPE(MATCH(H936,H$1:H935,0))=7,0),C936,\"\")","v":"Ravensburg"},"38Friedrichshafen Bonhoefferkirchengemeinde                   "]
["Friedrichshafen Paul-Gerhardt-Kirchengemeinde               ",1145,"Ravensburg",38,1,{"$f":"IF(E937<>\"#NV\",B937,\"\")","v":1145},{"$f":"IF(IF(LEN(A937)>0,ERROR.TYPE(MATCH(H937,H$1:H936,0))=7,0),C937,\"\")","v":"Ravensburg"},{"$f":"D937&A937","v":"38Friedrichshafen Paul-Gerhardt-Kirchengemeinde               "}]
[null,null,null,null,"",0,{"$f":"IF(IF(LEN(A938)>0,ERROR.TYPE(MATCH(H938,H$1:H937,0))=7,0),C938,\"\")","v":""},"","Brüdergemeinde Wilhelmsdorf",1331,"Ravensburg",38]
["Reutlingen Neue Marienkirchengemeinde                       ",5025,"Reutlingen",39,1.5,5025,{"$f":"IF(IF(LEN(A939)>0,ERROR.TYPE(MATCH(H939,H$1:H938,0))=7,0),C939,\"\")","v":"Reutlingen"},"39Reutlingen Neue Marienkirchengemeinde                       "]
["Reutlingen Auferstehungskirchengemeinde                     ",2520,"Reutlingen",39,1,2520,{"$f":"IF(IF(LEN(A940)>0,ERROR.TYPE(MATCH(H940,H$1:H939,0))=7,0),C940,\"\")","v":"Reutlingen"},"39Reutlingen Auferstehungskirchengemeinde                     "]
["Reutlingen Katharinenkirchengemeinde                        ",1114,"Reutlingen",39,1,1114,{"$f":"IF(IF(LEN(A941)>0,ERROR.TYPE(MATCH(H941,H$1:H940,0))=7,0),C941,\"\")","v":"Reutlingen"},"39Reutlingen Katharinenkirchengemeinde                        "]
["Reutlingen Kreuzkirchengemeinde                             ",5693,"Reutlingen",39,2,5693,{"$f":"IF(IF(LEN(A942)>0,ERROR.TYPE(MATCH(H942,H$1:H941,0))=7,0),C942,\"\")","v":"Reutlingen"},"39Reutlingen Kreuzkirchengemeinde                             "]
["Reutlingen Jubilatekirchengemeinde                          ",2178,"Reutlingen",39,1,2178,{"$f":"IF(IF(LEN(A943)>0,ERROR.TYPE(MATCH(H943,H$1:H942,0))=7,0),C943,\"\")","v":"Reutlingen"},"39Reutlingen Jubilatekirchengemeinde                          "]
["Ohmenhausen                                                 ",2200,"Reutlingen",39,1,2200,{"$f":"IF(IF(LEN(A944)>0,ERROR.TYPE(MATCH(H944,H$1:H943,0))=7,0),C944,\"\")","v":"Reutlingen"},"39Ohmenhausen                                                 "]
["Sondelfingen                                                ",2982,"Reutlingen",39,1.5,2982,{"$f":"IF(IF(LEN(A945)>0,ERROR.TYPE(MATCH(H945,H$1:H944,0))=7,0),C945,\"\")","v":"Reutlingen"},"39Sondelfingen                                                "]
["Bronnweiler                                                 ",563,"Reutlingen",39,1,563,{"$f":"IF(IF(LEN(A946)>0,ERROR.TYPE(MATCH(H946,H$1:H945,0))=7,0),C946,\"\")","v":"Reutlingen"},"39Bronnweiler                                                 "]
["Degerschlacht                                               ",1043,"Reutlingen",39,1,1043,{"$f":"IF(IF(LEN(A947)>0,ERROR.TYPE(MATCH(H947,H$1:H946,0))=7,0),C947,\"\")","v":"Reutlingen"},"39Degerschlacht                                               "]
["Sickenhausen                                                ",952,"Reutlingen",39,1,952,{"$f":"IF(IF(LEN(A948)>0,ERROR.TYPE(MATCH(H948,H$1:H947,0))=7,0),C948,\"\")","v":"Reutlingen"},"39Sickenhausen                                                "]
["Eningen unter Achalm                                        ",4531,"Reutlingen",39,1.5,4531,{"$f":"IF(IF(LEN(A949)>0,ERROR.TYPE(MATCH(H949,H$1:H948,0))=7,0),C949,\"\")","v":"Reutlingen"},"39Eningen unter Achalm                                        "]
["Erpfingen                                                   ",897,"Reutlingen",39,1,897,{"$f":"IF(IF(LEN(A950)>0,ERROR.TYPE(MATCH(H950,H$1:H949,0))=7,0),C950,\"\")","v":"Reutlingen"},"39Erpfingen                                                   "]
["Gammertingen                                                ",2127,"Reutlingen",39,1,2127,{"$f":"IF(IF(LEN(A951)>0,ERROR.TYPE(MATCH(H951,H$1:H950,0))=7,0),C951,\"\")","v":"Reutlingen"},"39Gammertingen                                                "]
["Genkingen                                                   ",1506,"Reutlingen",39,1,1506,{"$f":"IF(IF(LEN(A952)>0,ERROR.TYPE(MATCH(H952,H$1:H951,0))=7,0),C952,\"\")","v":"Reutlingen"},"39Genkingen                                                   "]
["Gönningen                                                   ",1865,"Reutlingen",39,1,1865,{"$f":"IF(IF(LEN(A953)>0,ERROR.TYPE(MATCH(H953,H$1:H952,0))=7,0),C953,\"\")","v":"Reutlingen"},"39Gönningen                                                   "]
["Hausen an der Lauchert                                      ",167,"Reutlingen",39,0.5,167,{"$f":"IF(IF(LEN(A954)>0,ERROR.TYPE(MATCH(H954,H$1:H953,0))=7,0),C954,\"\")","v":"Reutlingen"},"39Hausen an der Lauchert                                      "]
["Holzelfingen                                                ",773,"Reutlingen",39,1,773,{"$f":"IF(IF(LEN(A955)>0,ERROR.TYPE(MATCH(H955,H$1:H954,0))=7,0),C955,\"\")","v":"Reutlingen"},"39Holzelfingen                                                "]
["Honau                                                       ",529,"Reutlingen",39,1,529,{"$f":"IF(IF(LEN(A956)>0,ERROR.TYPE(MATCH(H956,H$1:H955,0))=7,0),C956,\"\")","v":"Reutlingen"},"39Honau                                                       "]
["Mägerkingen                                                 ",833,"Reutlingen",39,1,833,{"$f":"IF(IF(LEN(A957)>0,ERROR.TYPE(MATCH(H957,H$1:H956,0))=7,0),C957,\"\")","v":"Reutlingen"},"39Mägerkingen                                                 "]
["Oferdingen                                                  ",1252,"Reutlingen",39,1,1252,{"$f":"IF(IF(LEN(A958)>0,ERROR.TYPE(MATCH(H958,H$1:H957,0))=7,0),C958,\"\")","v":"Reutlingen"},"39Oferdingen                                                  "]
["Altenburg                                                   ",845,"Reutlingen",39,1,845,{"$f":"IF(IF(LEN(A959)>0,ERROR.TYPE(MATCH(H959,H$1:H958,0))=7,0),C959,\"\")","v":"Reutlingen"},"39Altenburg                                                   "]
["Ohnastetten                                                 ",262,"Reutlingen",39,0.5,262,{"$f":"IF(IF(LEN(A960)>0,ERROR.TYPE(MATCH(H960,H$1:H959,0))=7,0),C960,\"\")","v":"Reutlingen"},"39Ohnastetten                                                 "]
["Rommelsbach                                                 ",2344,"Reutlingen",39,1,2344,{"$f":"IF(IF(LEN(A961)>0,ERROR.TYPE(MATCH(H961,H$1:H960,0))=7,0),C961,\"\")","v":"Reutlingen"},"39Rommelsbach                                                 "]
["Undingen                                                    ",1465,"Reutlingen",39,1,1465,{"$f":"IF(IF(LEN(A962)>0,ERROR.TYPE(MATCH(H962,H$1:H961,0))=7,0),C962,\"\")","v":"Reutlingen"},"39Undingen                                                    "]
["Unterhausen                                                 ",2906,"Reutlingen",39,{"$f":"IF($G963<>\"\",IF($B963<400,0.5,IF($B963<2801,1,IF($B963<5601,1.5,IF($B963<8401,2,IF($B963<11201,2.5,1000))))),\"\")","v":1.5},2906,{"$f":"IF(IF(LEN(A963)>0,ERROR.TYPE(MATCH(H963,H$1:H962,0))=7,0),C963,\"\")","v":"Reutlingen"},"39Unterhausen                                                 "]
["Wannweil                                                    ",2298,"Reutlingen",39,1,{"$f":"IF(E964<>\"#NV\",B964,\"\")","v":2298},{"$f":"IF(IF(LEN(A964)>0,ERROR.TYPE(MATCH(H964,H$1:H963,0))=7,0),C964,\"\")","v":"Reutlingen"},{"$f":"D964&A964","v":"39Wannweil                                                    "}]
["Willmandingen                                               ",1082,"Reutlingen",39,1,1082,{"$f":"IF(IF(LEN(A965)>0,ERROR.TYPE(MATCH(H965,H$1:H964,0))=7,0),C965,\"\")","v":"Reutlingen"},"39Willmandingen                                               "]
["Reutlingen-Hohbuch                                          ",2137,"Reutlingen",39,1,2137,{"$f":"IF(IF(LEN(A966)>0,ERROR.TYPE(MATCH(H966,H$1:H965,0))=7,0),C966,\"\")","v":"Reutlingen"},"39Reutlingen-Hohbuch                                          "]
["Pfullingen Martinskirchengemeinde                           ",4645,"Reutlingen",39,1.5,4645,{"$f":"IF(IF(LEN(A967)>0,ERROR.TYPE(MATCH(H967,H$1:H966,0))=7,0),C967,\"\")","v":"Reutlingen"},"39Pfullingen Martinskirchengemeinde                           "]
["Pfullingen Magdalenenkirchengemeinde                        ",1401,"Reutlingen",39,1,1401,{"$f":"IF(IF(LEN(A968)>0,ERROR.TYPE(MATCH(H968,H$1:H967,0))=7,0),C968,\"\")","v":"Reutlingen"},"39Pfullingen Magdalenenkirchengemeinde                        "]
["Pfullingen Thomaskirchengemeinde                            ",1903,"Reutlingen",39,1,1903,{"$f":"IF(IF(LEN(A969)>0,ERROR.TYPE(MATCH(H969,H$1:H968,0))=7,0),C969,\"\")","v":"Reutlingen"},"39Pfullingen Thomaskirchengemeinde                            "]
["Trochtelfingen Christuskirchengemeinde                      ",1320,"Reutlingen",39,1,1320,{"$f":"IF(IF(LEN(A970)>0,ERROR.TYPE(MATCH(H970,H$1:H969,0))=7,0),C970,\"\")","v":"Reutlingen"},"39Trochtelfingen Christuskirchengemeinde                      "]
["Reutlingen West-Betzingen                                   ",4968,"Reutlingen",39,1.5,4968,{"$f":"IF(IF(LEN(A971)>0,ERROR.TYPE(MATCH(H971,H$1:H970,0))=7,0),C971,\"\")","v":"Reutlingen"},"39Reutlingen West-Betzingen                                   "]
["Schorndorf Stadtkirchengemeinde                             ",4693,"Schorndorf",40,1.5,4693,{"$f":"IF(IF(LEN(A972)>0,ERROR.TYPE(MATCH(H972,H$1:H971,0))=7,0),C972,\"\")","v":"Schorndorf"},"40Schorndorf Stadtkirchengemeinde                             "]
["Schorndorf Pauluskirchengemeinde                            ",1897,"Schorndorf",40,1,1897,{"$f":"IF(IF(LEN(A973)>0,ERROR.TYPE(MATCH(H973,H$1:H972,0))=7,0),C973,\"\")","v":"Schorndorf"},"40Schorndorf Pauluskirchengemeinde                            "]
["Oberberken                                                  ",741,"Schorndorf",40,1,741,{"$f":"IF(IF(LEN(A974)>0,ERROR.TYPE(MATCH(H974,H$1:H973,0))=7,0),C974,\"\")","v":"Schorndorf"},"40Oberberken                                                  "]
["Schlichten                                                  ",402,"Schorndorf",40,1,402,{"$f":"IF(IF(LEN(A975)>0,ERROR.TYPE(MATCH(H975,H$1:H974,0))=7,0),C975,\"\")","v":"Schorndorf"},"40Schlichten                                                  "]
["Beutelsbach                                                 ",3342,"Schorndorf",40,1.5,3342,{"$f":"IF(IF(LEN(A976)>0,ERROR.TYPE(MATCH(H976,H$1:H975,0))=7,0),C976,\"\")","v":"Schorndorf"},"40Beutelsbach                                                 "]
["Geradstetten                                                ",1973,"Schorndorf",40,1,1973,{"$f":"IF(IF(LEN(A977)>0,ERROR.TYPE(MATCH(H977,H$1:H976,0))=7,0),C977,\"\")","v":"Schorndorf"},"40Geradstetten                                                "]
["Grunbach                                                    ",2799,"Schorndorf",40,1,2799,{"$f":"IF(IF(LEN(A978)>0,ERROR.TYPE(MATCH(H978,H$1:H977,0))=7,0),C978,\"\")","v":"Schorndorf"},"40Grunbach                                                    "]
["Haubersbronn                                                ",1506,"Schorndorf",40,1,1506,{"$f":"IF(IF(LEN(A979)>0,ERROR.TYPE(MATCH(H979,H$1:H978,0))=7,0),C979,\"\")","v":"Schorndorf"},"40Haubersbronn                                                "]
["Hebsack-Rohrbronn                                           ",892,"Schorndorf",40,1,892,{"$f":"IF(IF(LEN(A980)>0,ERROR.TYPE(MATCH(H980,H$1:H979,0))=7,0),C980,\"\")","v":"Schorndorf"},"40Hebsack-Rohrbronn                                           "]
["Hößlinswart                                                 ",334,"Schorndorf",40,0.5,334,{"$f":"IF(IF(LEN(A981)>0,ERROR.TYPE(MATCH(H981,H$1:H980,0))=7,0),C981,\"\")","v":"Schorndorf"},"40Hößlinswart                                                 "]
["Steinach                                                    ",632,"Schorndorf",40,1,632,{"$f":"IF(IF(LEN(A982)>0,ERROR.TYPE(MATCH(H982,H$1:H981,0))=7,0),C982,\"\")","v":"Schorndorf"},"40Steinach                                                    "]
["Urbach                                                      ",3815,"Schorndorf",40,1.5,3815,{"$f":"IF(IF(LEN(A983)>0,ERROR.TYPE(MATCH(H983,H$1:H982,0))=7,0),C983,\"\")","v":"Schorndorf"},"40Urbach                                                      "]
["Walkersbach                                                 ",169,"Schorndorf",40,0.5,169,{"$f":"IF(IF(LEN(A984)>0,ERROR.TYPE(MATCH(H984,H$1:H983,0))=7,0),C984,\"\")","v":"Schorndorf"},"40Walkersbach                                                 "]
["Schnait                                                     ",1671,"Schorndorf",40,1,1671,{"$f":"IF(IF(LEN(A985)>0,ERROR.TYPE(MATCH(H985,H$1:H984,0))=7,0),C985,\"\")","v":"Schorndorf"},"40Schnait                                                     "]
["Schornbach                                                  ",1376,"Schorndorf",40,1,1376,{"$f":"IF(IF(LEN(A986)>0,ERROR.TYPE(MATCH(H986,H$1:H985,0))=7,0),C986,\"\")","v":"Schorndorf"},"40Schornbach                                                  "]
["Steinenberg                                                 ",1498,"Schorndorf",40,1,1498,{"$f":"IF(IF(LEN(A987)>0,ERROR.TYPE(MATCH(H987,H$1:H986,0))=7,0),C987,\"\")","v":"Schorndorf"},"40Steinenberg                                                 "]
["Weiler                                                      ",1697,"Schorndorf",40,1,1697,{"$f":"IF(IF(LEN(A988)>0,ERROR.TYPE(MATCH(H988,H$1:H987,0))=7,0),C988,\"\")","v":"Schorndorf"},"40Weiler                                                      "]
["Winterbach                                                  ",3423,"Schorndorf",40,1.5,3423,{"$f":"IF(IF(LEN(A989)>0,ERROR.TYPE(MATCH(H989,H$1:H988,0))=7,0),C989,\"\")","v":"Schorndorf"},"40Winterbach                                                  "]
["Schorndorf Versöhnungskirchengemeinde                       ",2109,"Schorndorf",40,1,2109,{"$f":"IF(IF(LEN(A990)>0,ERROR.TYPE(MATCH(H990,H$1:H989,0))=7,0),C990,\"\")","v":"Schorndorf"},"40Schorndorf Versöhnungskirchengemeinde                       "]
["Alfdorf                                                     ",2961,"Schorndorf",40,1.5,2961,{"$f":"IF(IF(LEN(A991)>0,ERROR.TYPE(MATCH(H991,H$1:H990,0))=7,0),C991,\"\")","v":"Schorndorf"},"40Alfdorf                                                     "]
["Hellershof                                                  ",602,"Schorndorf",40,1,602,{"$f":"IF(IF(LEN(A992)>0,ERROR.TYPE(MATCH(H992,H$1:H991,0))=7,0),C992,\"\")","v":"Schorndorf"},"40Hellershof                                                  "]
["Kaisersbach                                                 ",1124,"Schorndorf",40,1,1124,{"$f":"IF(IF(LEN(A993)>0,ERROR.TYPE(MATCH(H993,H$1:H992,0))=7,0),C993,\"\")","v":"Schorndorf"},"40Kaisersbach                                                 "]
["Plüderhausen                                                ",3240,"Schorndorf",40,1.5,3240,{"$f":"IF(IF(LEN(A994)>0,ERROR.TYPE(MATCH(H994,H$1:H993,0))=7,0),C994,\"\")","v":"Schorndorf"},"40Plüderhausen                                                "]
["Rudersberg                                                  ",2598,"Schorndorf",40,1,2598,{"$f":"IF(IF(LEN(A995)>0,ERROR.TYPE(MATCH(H995,H$1:H994,0))=7,0),C995,\"\")","v":"Schorndorf"},"40Rudersberg                                                  "]
["Schlechtbach                                                ",894,"Schorndorf",40,1,894,{"$f":"IF(IF(LEN(A996)>0,ERROR.TYPE(MATCH(H996,H$1:H995,0))=7,0),C996,\"\")","v":"Schorndorf"},"40Schlechtbach                                                "]
["Welzheim                                                    ",4912,"Schorndorf",40,1.5,4912,{"$f":"IF(IF(LEN(A997)>0,ERROR.TYPE(MATCH(H997,H$1:H996,0))=7,0),C997,\"\")","v":"Schorndorf"},"40Welzheim                                                    "]
["Rienharz                                                    ",269,"Schorndorf",40,0.5,269,{"$f":"IF(IF(LEN(A998)>0,ERROR.TYPE(MATCH(H998,H$1:H997,0))=7,0),C998,\"\")","v":"Schorndorf"},"40Rienharz                                                    "]
["Miedelsbach                                                 ",976,"Schorndorf",40,1,976,{"$f":"IF(IF(LEN(A999)>0,ERROR.TYPE(MATCH(H999,H$1:H998,0))=7,0),C999,\"\")","v":"Schorndorf"},"40Miedelsbach                                                 "]
["Sulz                                                        ",1678,"Sulz/Neckar",41,1,1678,{"$f":"IF(IF(LEN(A1000)>0,ERROR.TYPE(MATCH(H1000,H$1:H999,0))=7,0),C1000,\"\")","v":"Sulz/Neckar"},"41Sulz                                                        "]
["Holzhausen                                                  ",487,"Sulz/Neckar",41,1,487,{"$f":"IF(IF(LEN(A1001)>0,ERROR.TYPE(MATCH(H1001,H$1:H1000,0))=7,0),C1001,\"\")","v":"Sulz/Neckar"},"41Holzhausen                                                  "]
["Aistaig                                                     ",684,"Sulz/Neckar",41,1,684,{"$f":"IF(IF(LEN(A1002)>0,ERROR.TYPE(MATCH(H1002,H$1:H1001,0))=7,0),C1002,\"\")","v":"Sulz/Neckar"},"41Aistaig                                                     "]
["Bergfelden                                                  ",983,"Sulz/Neckar",41,1,983,{"$f":"IF(IF(LEN(A1003)>0,ERROR.TYPE(MATCH(H1003,H$1:H1002,0))=7,0),C1003,\"\")","v":"Sulz/Neckar"},"41Bergfelden                                                  "]
["Betzweiler                                                  ",719,"Sulz/Neckar",41,1,719,{"$f":"IF(IF(LEN(A1004)>0,ERROR.TYPE(MATCH(H1004,H$1:H1003,0))=7,0),C1004,\"\")","v":"Sulz/Neckar"},"41Betzweiler                                                  "]
["Wälde                                                       ",347,"Sulz/Neckar",41,0.5,347,{"$f":"IF(IF(LEN(A1005)>0,ERROR.TYPE(MATCH(H1005,H$1:H1004,0))=7,0),C1005,\"\")","v":"Sulz/Neckar"},"41Wälde                                                       "]
["Bickelsberg                                                 ",400,"Sulz/Neckar",41,1,400,{"$f":"IF(IF(LEN(A1006)>0,ERROR.TYPE(MATCH(H1006,H$1:H1005,0))=7,0),C1006,\"\")","v":"Sulz/Neckar"},"41Bickelsberg                                                 "]
["Brittheim                                                   ",266,"Sulz/Neckar",41,0.5,266,{"$f":"IF(IF(LEN(A1007)>0,ERROR.TYPE(MATCH(H1007,H$1:H1006,0))=7,0),C1007,\"\")","v":"Sulz/Neckar"},"41Brittheim                                                   "]
["Boll                                                        ",818,"Sulz/Neckar",41,1,818,{"$f":"IF(IF(LEN(A1008)>0,ERROR.TYPE(MATCH(H1008,H$1:H1007,0))=7,0),C1008,\"\")","v":"Sulz/Neckar"},"41Boll                                                        "]
["Dettingen                                                   ",1277,"Sulz/Neckar",41,1,1277,{"$f":"IF(IF(LEN(A1009)>0,ERROR.TYPE(MATCH(H1009,H$1:H1008,0))=7,0),C1009,\"\")","v":"Sulz/Neckar"},"41Dettingen                                                   "]
["Dornhan                                                     ",1636,"Sulz/Neckar",41,1,1636,{"$f":"IF(IF(LEN(A1010)>0,ERROR.TYPE(MATCH(H1010,H$1:H1009,0))=7,0),C1010,\"\")","v":"Sulz/Neckar"},"41Dornhan                                                     "]
["Fluorn                                                      ",1423,"Sulz/Neckar",41,1,1423,{"$f":"IF(IF(LEN(A1011)>0,ERROR.TYPE(MATCH(H1011,H$1:H1010,0))=7,0),C1011,\"\")","v":"Sulz/Neckar"},"41Fluorn                                                      "]
["Hopfau                                                      ",398,"Sulz/Neckar",41,0.5,398,{"$f":"IF(IF(LEN(A1012)>0,ERROR.TYPE(MATCH(H1012,H$1:H1011,0))=7,0),C1012,\"\")","v":"Sulz/Neckar"},"41Hopfau                                                      "]
["Dürrenmettstetten                                           ",393,"Sulz/Neckar",41,0.5,393,{"$f":"IF(IF(LEN(A1013)>0,ERROR.TYPE(MATCH(H1013,H$1:H1012,0))=7,0),C1013,\"\")","v":"Sulz/Neckar"},"41Dürrenmettstetten                                           "]
["Horb a.N.                                                   ",3424,"Sulz/Neckar",41,1.5,3424,{"$f":"IF(IF(LEN(A1014)>0,ERROR.TYPE(MATCH(H1014,H$1:H1013,0))=7,0),C1014,\"\")","v":"Sulz/Neckar"},"41Horb a.N.                                                   "]
["Leidringen                                                  ",632,"Sulz/Neckar",41,1,632,{"$f":"IF(IF(LEN(A1015)>0,ERROR.TYPE(MATCH(H1015,H$1:H1014,0))=7,0),C1015,\"\")","v":"Sulz/Neckar"},"41Leidringen                                                  "]
["Rotenzimmern                                                ",132,"Sulz/Neckar",41,0.5,132,{"$f":"IF(IF(LEN(A1016)>0,ERROR.TYPE(MATCH(H1016,H$1:H1015,0))=7,0),C1016,\"\")","v":"Sulz/Neckar"},"41Rotenzimmern                                                "]
["Locherhof                                                   ",1623,"Sulz/Neckar",41,1,1623,{"$f":"IF(IF(LEN(A1017)>0,ERROR.TYPE(MATCH(H1017,H$1:H1016,0))=7,0),C1017,\"\")","v":"Sulz/Neckar"},"41Locherhof                                                   "]
["Marschalkenzimmern                                          ",818,"Sulz/Neckar",41,1,818,{"$f":"IF(IF(LEN(A1018)>0,ERROR.TYPE(MATCH(H1018,H$1:H1017,0))=7,0),C1018,\"\")","v":"Sulz/Neckar"},"41Marschalkenzimmern                                          "]
["Weiden                                                      ",481,"Sulz/Neckar",41,1,481,{"$f":"IF(IF(LEN(A1019)>0,ERROR.TYPE(MATCH(H1019,H$1:H1018,0))=7,0),C1019,\"\")","v":"Sulz/Neckar"},"41Weiden                                                      "]
["Mühlen a.N.                                                 ",1359,"Sulz/Neckar",41,1,1359,{"$f":"IF(IF(LEN(A1020)>0,ERROR.TYPE(MATCH(H1020,H$1:H1019,0))=7,0),C1020,\"\")","v":"Sulz/Neckar"},"41Mühlen a.N.                                                 "]
["Mühlheim am Bach                                            ",597,"Sulz/Neckar",41,1,597,{"$f":"IF(IF(LEN(A1021)>0,ERROR.TYPE(MATCH(H1021,H$1:H1020,0))=7,0),C1021,\"\")","v":"Sulz/Neckar"},"41Mühlheim am Bach                                            "]
["Renfrizhausen                                               ",403,"Sulz/Neckar",41,1,403,{"$f":"IF(IF(LEN(A1022)>0,ERROR.TYPE(MATCH(H1022,H$1:H1021,0))=7,0),C1022,\"\")","v":"Sulz/Neckar"},"41Renfrizhausen                                               "]
["Oberndorf am Neckar                                         ",2320,"Sulz/Neckar",41,1,2320,{"$f":"IF(IF(LEN(A1023)>0,ERROR.TYPE(MATCH(H1023,H$1:H1022,0))=7,0),C1023,\"\")","v":"Sulz/Neckar"},"41Oberndorf am Neckar                                         "]
["Peterzell                                                   ",372,"Sulz/Neckar",41,0.5,372,{"$f":"IF(IF(LEN(A1024)>0,ERROR.TYPE(MATCH(H1024,H$1:H1023,0))=7,0),C1024,\"\")","v":"Sulz/Neckar"},"41Peterzell                                                   "]
["Römlinsdorf                                                 ",206,"Sulz/Neckar",41,0.5,206,{"$f":"IF(IF(LEN(A1025)>0,ERROR.TYPE(MATCH(H1025,H$1:H1024,0))=7,0),C1025,\"\")","v":"Sulz/Neckar"},"41Römlinsdorf                                                 "]
["Rötenberg                                                   ",1372,"Sulz/Neckar",41,1,1372,{"$f":"IF(IF(LEN(A1026)>0,ERROR.TYPE(MATCH(H1026,H$1:H1025,0))=7,0),C1026,\"\")","v":"Sulz/Neckar"},"41Rötenberg                                                   "]
["Rosenfeld                                                   ",1124,"Sulz/Neckar",41,{"$f":"IF($G1027<>\"\",IF($B1027<400,0.5,IF($B1027<2801,1,IF($B1027<5601,1.5,IF($B1027<8401,2,IF($B1027<11201,2.5,1000))))),\"\")","v":1},1124,{"$f":"IF(IF(LEN(A1027)>0,ERROR.TYPE(MATCH(H1027,H$1:H1026,0))=7,0),C1027,\"\")","v":"Sulz/Neckar"},"41Rosenfeld                                                   "]
["Schramberg                                                  ",1469,"Sulz/Neckar",41,1,{"$f":"IF(E1028<>\"#NV\",B1028,\"\")","v":1469},{"$f":"IF(IF(LEN(A1028)>0,ERROR.TYPE(MATCH(H1028,H$1:H1027,0))=7,0),C1028,\"\")","v":"Sulz/Neckar"},{"$f":"D1028&A1028","v":"41Schramberg                                                  "}]
["Lauterbach                                                  ",429,"Sulz/Neckar",41,1,429,{"$f":"IF(IF(LEN(A1029)>0,ERROR.TYPE(MATCH(H1029,H$1:H1028,0))=7,0),C1029,\"\")","v":"Sulz/Neckar"},"41Lauterbach                                                  "]
["Sulgen                                                      ",2044,"Sulz/Neckar",41,1,2044,{"$f":"IF(IF(LEN(A1030)>0,ERROR.TYPE(MATCH(H1030,H$1:H1029,0))=7,0),C1030,\"\")","v":"Sulz/Neckar"},"41Sulgen                                                      "]
["Trichtingen                                                 ",1246,"Sulz/Neckar",41,1,1246,{"$f":"IF(IF(LEN(A1031)>0,ERROR.TYPE(MATCH(H1031,H$1:H1030,0))=7,0),C1031,\"\")","v":"Sulz/Neckar"},"41Trichtingen                                                 "]
["Vöhringen                                                   ",1680,"Sulz/Neckar",41,1,1680,{"$f":"IF(IF(LEN(A1032)>0,ERROR.TYPE(MATCH(H1032,H$1:H1031,0))=7,0),C1032,\"\")","v":"Sulz/Neckar"},"41Vöhringen                                                   "]
["Wittershausen                                               ",583,"Sulz/Neckar",41,1,583,{"$f":"IF(IF(LEN(A1033)>0,ERROR.TYPE(MATCH(H1033,H$1:H1032,0))=7,0),C1033,\"\")","v":"Sulz/Neckar"},"41Wittershausen                                               "]
["Sigmarswangen                                               ",466,"Sulz/Neckar",41,1,466,{"$f":"IF(IF(LEN(A1034)>0,ERROR.TYPE(MATCH(H1034,H$1:H1033,0))=7,0),C1034,\"\")","v":"Sulz/Neckar"},"41Sigmarswangen                                               "]
["Empfingen                                                   ",658,"Sulz/Neckar",41,1,658,{"$f":"IF(IF(LEN(A1035)>0,ERROR.TYPE(MATCH(H1035,H$1:H1034,0))=7,0),C1035,\"\")","v":"Sulz/Neckar"},"41Empfingen                                                   "]
["Tübingen Stiftskirchengemeinde                              ",3338,"Tübingen",42,1.5,3338,{"$f":"IF(IF(LEN(A1036)>0,ERROR.TYPE(MATCH(H1036,H$1:H1035,0))=7,0),C1036,\"\")","v":"Tübingen"},"42Tübingen Stiftskirchengemeinde                              "]
["Tübingen Eberhardskirchengemeinde                           ",4034,"Tübingen",42,1.5,4034,{"$f":"IF(IF(LEN(A1037)>0,ERROR.TYPE(MATCH(H1037,H$1:H1036,0))=7,0),C1037,\"\")","v":"Tübingen"},"42Tübingen Eberhardskirchengemeinde                           "]
["Tübingen Jakobuskirchengemeinde                             ",1477,"Tübingen",42,1,1477,{"$f":"IF(IF(LEN(A1038)>0,ERROR.TYPE(MATCH(H1038,H$1:H1037,0))=7,0),C1038,\"\")","v":"Tübingen"},"42Tübingen Jakobuskirchengemeinde                             "]
["Tübingen Martinskirchengemeinde                             ",3272,"Tübingen",42,1.5,3272,{"$f":"IF(IF(LEN(A1039)>0,ERROR.TYPE(MATCH(H1039,H$1:H1038,0))=7,0),C1039,\"\")","v":"Tübingen"},"42Tübingen Martinskirchengemeinde                             "]
["Tübingen Stephanuskirchengemeinde                           ",2517,"Tübingen",42,1,2517,{"$f":"IF(IF(LEN(A1040)>0,ERROR.TYPE(MATCH(H1040,H$1:H1039,0))=7,0),C1040,\"\")","v":"Tübingen"},"42Tübingen Stephanuskirchengemeinde                           "]
["Derendingen                                                 ",2238,"Tübingen",42,1,2238,{"$f":"IF(IF(LEN(A1041)>0,ERROR.TYPE(MATCH(H1041,H$1:H1040,0))=7,0),C1041,\"\")","v":"Tübingen"},"42Derendingen                                                 "]
["Lustnau                                                     ",3448,"Tübingen",42,1.5,3448,{"$f":"IF(IF(LEN(A1042)>0,ERROR.TYPE(MATCH(H1042,H$1:H1041,0))=7,0),C1042,\"\")","v":"Tübingen"},"42Lustnau                                                     "]
["Bebenhausen                                                 ",146,"Tübingen",42,0.5,146,{"$f":"IF(IF(LEN(A1043)>0,ERROR.TYPE(MATCH(H1043,H$1:H1042,0))=7,0),C1043,\"\")","v":"Tübingen"},"42Bebenhausen                                                 "]
["Belsen                                                      ",1623,"Tübingen",42,1,1623,{"$f":"IF(IF(LEN(A1044)>0,ERROR.TYPE(MATCH(H1044,H$1:H1043,0))=7,0),C1044,\"\")","v":"Tübingen"},"42Belsen                                                      "]
["Bodelshausen                                                ",2782,"Tübingen",42,1,2782,{"$f":"IF(IF(LEN(A1045)>0,ERROR.TYPE(MATCH(H1045,H$1:H1044,0))=7,0),C1045,\"\")","v":"Tübingen"},"42Bodelshausen                                                "]
["Dettenhausen                                                ",2364,"Tübingen",42,1,2364,{"$f":"IF(IF(LEN(A1046)>0,ERROR.TYPE(MATCH(H1046,H$1:H1045,0))=7,0),C1046,\"\")","v":"Tübingen"},"42Dettenhausen                                                "]
["Dusslingen                                                  ",2577,"Tübingen",42,1,2577,{"$f":"IF(IF(LEN(A1047)>0,ERROR.TYPE(MATCH(H1047,H$1:H1046,0))=7,0),C1047,\"\")","v":"Tübingen"},"42Dusslingen                                                  "]
["Eckenweiler                                                 ",996,"Tübingen",42,1,996,{"$f":"IF(IF(LEN(A1048)>0,ERROR.TYPE(MATCH(H1048,H$1:H1047,0))=7,0),C1048,\"\")","v":"Tübingen"},"42Eckenweiler                                                 "]
["Ergenzingen                                                 ",838,"Tübingen",42,1,838,{"$f":"IF(IF(LEN(A1049)>0,ERROR.TYPE(MATCH(H1049,H$1:H1048,0))=7,0),C1049,\"\")","v":"Tübingen"},"42Ergenzingen                                                 "]
["Gniebel                                                     ",739,"Tübingen",42,1,739,{"$f":"IF(IF(LEN(A1050)>0,ERROR.TYPE(MATCH(H1050,H$1:H1049,0))=7,0),C1050,\"\")","v":"Tübingen"},"42Gniebel                                                     "]
["Rübgarten                                                   ",1003,"Tübingen",42,1,1003,{"$f":"IF(IF(LEN(A1051)>0,ERROR.TYPE(MATCH(H1051,H$1:H1050,0))=7,0),C1051,\"\")","v":"Tübingen"},"42Rübgarten                                                   "]
["Hagelloch                                                   ",989,"Tübingen",42,1,989,{"$f":"IF(IF(LEN(A1052)>0,ERROR.TYPE(MATCH(H1052,H$1:H1051,0))=7,0),C1052,\"\")","v":"Tübingen"},"42Hagelloch                                                   "]
["Kilchberg/Bühl                                              ",1160,"Tübingen",42,1,1160,{"$f":"IF(IF(LEN(A1053)>0,ERROR.TYPE(MATCH(H1053,H$1:H1052,0))=7,0),C1053,\"\")","v":"Tübingen"},"42Kilchberg/Bühl                                              "]
["Kirchentellinsfurt                                          ",2383,"Tübingen",42,1,2383,{"$f":"IF(IF(LEN(A1054)>0,ERROR.TYPE(MATCH(H1054,H$1:H1053,0))=7,0),C1054,\"\")","v":"Tübingen"},"42Kirchentellinsfurt                                          "]
["Kusterdingen                                                ",1822,"Tübingen",42,1,1822,{"$f":"IF(IF(LEN(A1055)>0,ERROR.TYPE(MATCH(H1055,H$1:H1054,0))=7,0),C1055,\"\")","v":"Tübingen"},"42Kusterdingen                                                "]
["Mähringen                                                   ",665,"Tübingen",42,1,665,{"$f":"IF(IF(LEN(A1056)>0,ERROR.TYPE(MATCH(H1056,H$1:H1055,0))=7,0),C1056,\"\")","v":"Tübingen"},"42Mähringen                                                   "]
["Immenhausen                                                 ",402,"Tübingen",42,1,402,{"$f":"IF(IF(LEN(A1057)>0,ERROR.TYPE(MATCH(H1057,H$1:H1056,0))=7,0),C1057,\"\")","v":"Tübingen"},"42Immenhausen                                                 "]
["Mössingen                                                   ",5819,"Tübingen",42,2,5819,{"$f":"IF(IF(LEN(A1058)>0,ERROR.TYPE(MATCH(H1058,H$1:H1057,0))=7,0),C1058,\"\")","v":"Tübingen"},"42Mössingen                                                   "]
["Nehren                                                      ",2031,"Tübingen",42,1,2031,{"$f":"IF(IF(LEN(A1059)>0,ERROR.TYPE(MATCH(H1059,H$1:H1058,0))=7,0),C1059,\"\")","v":"Tübingen"},"42Nehren                                                      "]
["Öschingen                                                   ",1615,"Tübingen",42,1,1615,{"$f":"IF(IF(LEN(A1060)>0,ERROR.TYPE(MATCH(H1060,H$1:H1059,0))=7,0),C1060,\"\")","v":"Tübingen"},"42Öschingen                                                   "]
["Ofterdingen                                                 ",2254,"Tübingen",42,1,2254,{"$f":"IF(IF(LEN(A1061)>0,ERROR.TYPE(MATCH(H1061,H$1:H1060,0))=7,0),C1061,\"\")","v":"Tübingen"},"42Ofterdingen                                                 "]
["Pfäffingen                                                  ",1679,"Tübingen",42,1,1679,{"$f":"IF(IF(LEN(A1062)>0,ERROR.TYPE(MATCH(H1062,H$1:H1061,0))=7,0),C1062,\"\")","v":"Tübingen"},"42Pfäffingen                                                  "]
["Pfrondorf                                                   ",1616,"Tübingen",42,1,1616,{"$f":"IF(IF(LEN(A1063)>0,ERROR.TYPE(MATCH(H1063,H$1:H1062,0))=7,0),C1063,\"\")","v":"Tübingen"},"42Pfrondorf                                                   "]
["Pliezhausen                                                 ",2569,"Tübingen",42,1,2569,{"$f":"IF(IF(LEN(A1064)>0,ERROR.TYPE(MATCH(H1064,H$1:H1063,0))=7,0),C1064,\"\")","v":"Tübingen"},"42Pliezhausen                                                 "]
["Dörnach                                                     ",329,"Tübingen",42,0.5,329,{"$f":"IF(IF(LEN(A1065)>0,ERROR.TYPE(MATCH(H1065,H$1:H1064,0))=7,0),C1065,\"\")","v":"Tübingen"},"42Dörnach                                                     "]
["Remmingsheim                                                ",1365,"Tübingen",42,1,1365,{"$f":"IF(IF(LEN(A1066)>0,ERROR.TYPE(MATCH(H1066,H$1:H1065,0))=7,0),C1066,\"\")","v":"Tübingen"},"42Remmingsheim                                                "]
["Rottenburg                                                  ",6254,"Tübingen",42,2,6254,{"$f":"IF(IF(LEN(A1067)>0,ERROR.TYPE(MATCH(H1067,H$1:H1066,0))=7,0),C1067,\"\")","v":"Tübingen"},"42Rottenburg                                                  "]
["Talheim                                                     ",1041,"Tübingen",42,1,1041,{"$f":"IF(IF(LEN(A1068)>0,ERROR.TYPE(MATCH(H1068,H$1:H1067,0))=7,0),C1068,\"\")","v":"Tübingen"},"42Talheim                                                     "]
["Unterjesingen                                               ",1070,"Tübingen",42,1,1070,{"$f":"IF(IF(LEN(A1069)>0,ERROR.TYPE(MATCH(H1069,H$1:H1068,0))=7,0),C1069,\"\")","v":"Tübingen"},"42Unterjesingen                                               "]
["Wankheim                                                    ",728,"Tübingen",42,1,728,{"$f":"IF(IF(LEN(A1070)>0,ERROR.TYPE(MATCH(H1070,H$1:H1069,0))=7,0),C1070,\"\")","v":"Tübingen"},"42Wankheim                                                    "]
["Jettenburg                                                  ",507,"Tübingen",42,1,507,{"$f":"IF(IF(LEN(A1071)>0,ERROR.TYPE(MATCH(H1071,H$1:H1070,0))=7,0),C1071,\"\")","v":"Tübingen"},"42Jettenburg                                                  "]
["Weilheim                                                    ",694,"Tübingen",42,1,694,{"$f":"IF(IF(LEN(A1072)>0,ERROR.TYPE(MATCH(H1072,H$1:H1071,0))=7,0),C1072,\"\")","v":"Tübingen"},"42Weilheim                                                    "]
["Hirschau                                                    ",905,"Tübingen",42,1,905,{"$f":"IF(IF(LEN(A1073)>0,ERROR.TYPE(MATCH(H1073,H$1:H1072,0))=7,0),C1073,\"\")","v":"Tübingen"},"42Hirschau                                                    "]
["Tübingen Albert-Schweitzer-Kirchengemeinde                  ",1917,"Tübingen",42,1,1917,{"$f":"IF(IF(LEN(A1074)>0,ERROR.TYPE(MATCH(H1074,H$1:H1073,0))=7,0),C1074,\"\")","v":"Tübingen"},"42Tübingen Albert-Schweitzer-Kirchengemeinde                  "]
["Tübingen Dietrich-Bonhoeffer-Kirchengemeinde                ",1698,"Tübingen",42,1,1698,{"$f":"IF(IF(LEN(A1075)>0,ERROR.TYPE(MATCH(H1075,H$1:H1074,0))=7,0),C1075,\"\")","v":"Tübingen"},"42Tübingen Dietrich-Bonhoeffer-Kirchengemeinde                "]
["Gomaringen                                                  ",4342,"Tübingen",42,1.5,4342,{"$f":"IF(IF(LEN(A1076)>0,ERROR.TYPE(MATCH(H1076,H$1:H1075,0))=7,0),C1076,\"\")","v":"Tübingen"},"42Gomaringen                                                  "]
["Stockach                                                    ",269,"Tübingen",42,0.5,269,{"$f":"IF(IF(LEN(A1077)>0,ERROR.TYPE(MATCH(H1077,H$1:H1076,0))=7,0),C1077,\"\")","v":"Tübingen"},"42Stockach                                                    "]
["Walddorfhäslach                                             ",2747,"Tübingen",42,1,2747,{"$f":"IF(IF(LEN(A1078)>0,ERROR.TYPE(MATCH(H1078,H$1:H1077,0))=7,0),C1078,\"\")","v":"Tübingen"},"42Walddorfhäslach                                             "]
["Wolfenhausen-Nellingsheim                                   ",681,"Tübingen",42,1,681,{"$f":"IF(IF(LEN(A1079)>0,ERROR.TYPE(MATCH(H1079,H$1:H1078,0))=7,0),C1079,\"\")","v":"Tübingen"},"42Wolfenhausen-Nellingsheim                                   "]
["Tuttlingen Stadtkirchengemeinde                             ",2980,"Tuttlingen",43,1.5,2980,{"$f":"IF(IF(LEN(A1080)>0,ERROR.TYPE(MATCH(H1080,H$1:H1079,0))=7,0),C1080,\"\")","v":"Tuttlingen"},"43Tuttlingen Stadtkirchengemeinde                             "]
["Aldingen                                                    ",3264,"Tuttlingen",43,1.5,3264,{"$f":"IF(IF(LEN(A1081)>0,ERROR.TYPE(MATCH(H1081,H$1:H1080,0))=7,0),C1081,\"\")","v":"Tuttlingen"},"43Aldingen                                                    "]
["Deißlingen                                                  ",1257,"Tuttlingen",43,1,1257,{"$f":"IF(IF(LEN(A1082)>0,ERROR.TYPE(MATCH(H1082,H$1:H1081,0))=7,0),C1082,\"\")","v":"Tuttlingen"},"43Deißlingen                                                  "]
["Flözlingen-Zimmern                                          ",1424,"Tuttlingen",43,1,1424,{"$f":"IF(IF(LEN(A1083)>0,ERROR.TYPE(MATCH(H1083,H$1:H1082,0))=7,0),C1083,\"\")","v":"Tuttlingen"},"43Flözlingen-Zimmern                                          "]
["Hausen ob Verena                                            ",1253,"Tuttlingen",43,1,1253,{"$f":"IF(IF(LEN(A1084)>0,ERROR.TYPE(MATCH(H1084,H$1:H1083,0))=7,0),C1084,\"\")","v":"Tuttlingen"},"43Hausen ob Verena                                            "]
["Mühlheim an der Donau Christuskirchengemeinde               ",1657,"Tuttlingen",43,1,1657,{"$f":"IF(IF(LEN(A1085)>0,ERROR.TYPE(MATCH(H1085,H$1:H1084,0))=7,0),C1085,\"\")","v":"Tuttlingen"},"43Mühlheim an der Donau Christuskirchengemeinde               "]
["Neuhausen ob Eck                                            ",1190,"Tuttlingen",43,1,1190,{"$f":"IF(IF(LEN(A1086)>0,ERROR.TYPE(MATCH(H1086,H$1:H1085,0))=7,0),C1086,\"\")","v":"Tuttlingen"},"43Neuhausen ob Eck                                            "]
["Rietheim                                                    ",1653,"Tuttlingen",43,1,1653,{"$f":"IF(IF(LEN(A1087)>0,ERROR.TYPE(MATCH(H1087,H$1:H1086,0))=7,0),C1087,\"\")","v":"Tuttlingen"},"43Rietheim                                                    "]
["Rottweil                                                    ",7271,"Tuttlingen",43,2,7271,{"$f":"IF(IF(LEN(A1088)>0,ERROR.TYPE(MATCH(H1088,H$1:H1087,0))=7,0),C1088,\"\")","v":"Tuttlingen"},"43Rottweil                                                    "]
["Schwenningen am Neckar                                      ",9635,"Tuttlingen",43,2.5,9635,{"$f":"IF(IF(LEN(A1089)>0,ERROR.TYPE(MATCH(H1089,H$1:H1088,0))=7,0),C1089,\"\")","v":"Tuttlingen"},"43Schwenningen am Neckar                                      "]
["Spaichingen                                                 ",2844,"Tuttlingen",43,1.5,2844,{"$f":"IF(IF(LEN(A1090)>0,ERROR.TYPE(MATCH(H1090,H$1:H1089,0))=7,0),C1090,\"\")","v":"Tuttlingen"},"43Spaichingen                                                 "]
["Talheim                                                     ",713,"Tuttlingen",43,{"$f":"IF($G1091<>\"\",IF($B1091<400,0.5,IF($B1091<2801,1,IF($B1091<5601,1.5,IF($B1091<8401,2,IF($B1091<11201,2.5,1000))))),\"\")","v":1},713,{"$f":"IF(IF(LEN(A1091)>0,ERROR.TYPE(MATCH(H1091,H$1:H1090,0))=7,0),C1091,\"\")","v":"Tuttlingen"},"43Talheim                                                     "]
["Trossingen                                                  ",5551,"Tuttlingen",43,1.5,{"$f":"IF(E1092<>\"#NV\",B1092,\"\")","v":5551},{"$f":"IF(IF(LEN(A1092)>0,ERROR.TYPE(MATCH(H1092,H$1:H1091,0))=7,0),C1092,\"\")","v":"Tuttlingen"},{"$f":"D1092&A1092","v":"43Trossingen                                                  "}]
["Tuningen                                                    ",1097,"Tuttlingen",43,1,1097,{"$f":"IF(IF(LEN(A1093)>0,ERROR.TYPE(MATCH(H1093,H$1:H1092,0))=7,0),C1093,\"\")","v":"Tuttlingen"},"43Tuningen                                                    "]
["Wehingen                                                    ",1763,"Tuttlingen",43,1,1763,{"$f":"IF(IF(LEN(A1094)>0,ERROR.TYPE(MATCH(H1094,H$1:H1093,0))=7,0),C1094,\"\")","v":"Tuttlingen"},"43Wehingen                                                    "]
["Immendingen                                                 ",1177,"Tuttlingen",43,1,1177,{"$f":"IF(IF(LEN(A1095)>0,ERROR.TYPE(MATCH(H1095,H$1:H1094,0))=7,0),C1095,\"\")","v":"Tuttlingen"},"43Immendingen                                                 "]
["Geisingen                                                   ",1188,"Tuttlingen",43,1,1188,{"$f":"IF(IF(LEN(A1096)>0,ERROR.TYPE(MATCH(H1096,H$1:H1095,0))=7,0),C1096,\"\")","v":"Tuttlingen"},"43Geisingen                                                   "]
["Möhringen                                                   ",1967,"Tuttlingen",43,1,1967,{"$f":"IF(IF(LEN(A1097)>0,ERROR.TYPE(MATCH(H1097,H$1:H1096,0))=7,0),C1097,\"\")","v":"Tuttlingen"},"43Möhringen                                                   "]
["Tuttlingen Auferstehungskirchengemeinde                     ",1669,"Tuttlingen",43,1,1669,{"$f":"IF(IF(LEN(A1098)>0,ERROR.TYPE(MATCH(H1098,H$1:H1097,0))=7,0),C1098,\"\")","v":"Tuttlingen"},"43Tuttlingen Auferstehungskirchengemeinde                     "]
["Wurmlingen Erlöserkirchengemeinde                           ",939,"Tuttlingen",43,1,939,{"$f":"IF(IF(LEN(A1099)>0,ERROR.TYPE(MATCH(H1099,H$1:H1098,0))=7,0),C1099,\"\")","v":"Tuttlingen"},"43Wurmlingen Erlöserkirchengemeinde                           "]
["Tuttlingen Friedenskirchengemeinde                          ",2630,"Tuttlingen",43,1,2630,{"$f":"IF(IF(LEN(A1100)>0,ERROR.TYPE(MATCH(H1100,H$1:H1099,0))=7,0),C1100,\"\")","v":"Tuttlingen"},"43Tuttlingen Friedenskirchengemeinde                          "]
["Ulm Münsterkirchengemeinde                                  ",2286,"Ulm",44,1,2286,{"$f":"IF(IF(LEN(A1101)>0,ERROR.TYPE(MATCH(H1101,H$1:H1100,0))=7,0),C1101,\"\")","v":"Ulm"},"44Ulm Münsterkirchengemeinde                                  "]
["Ulm Auferstehungskirchengemeinde                            ",2895,"Ulm",44,1.5,2895,{"$f":"IF(IF(LEN(A1102)>0,ERROR.TYPE(MATCH(H1102,H$1:H1101,0))=7,0),C1102,\"\")","v":"Ulm"},"44Ulm Auferstehungskirchengemeinde                            "]
["Ulm-Söflingen Christuskirchengemeinde                       ",3636,"Ulm",44,1.5,3636,{"$f":"IF(IF(LEN(A1103)>0,ERROR.TYPE(MATCH(H1103,H$1:H1102,0))=7,0),C1103,\"\")","v":"Ulm"},"44Ulm-Söflingen Christuskirchengemeinde                       "]
["Ulm Lukaskirchengemeinde                                    ",3865,"Ulm",44,1.5,3865,{"$f":"IF(IF(LEN(A1104)>0,ERROR.TYPE(MATCH(H1104,H$1:H1103,0))=7,0),C1104,\"\")","v":"Ulm"},"44Ulm Lukaskirchengemeinde                                    "]
["Ulm Martin-Luther-Kirchengemeinde                           ",3775,"Ulm",44,1.5,3775,{"$f":"IF(IF(LEN(A1105)>0,ERROR.TYPE(MATCH(H1105,H$1:H1104,0))=7,0),C1105,\"\")","v":"Ulm"},"44Ulm Martin-Luther-Kirchengemeinde                           "]
["Ulm Pauluskirchengemeinde                                   ",3174,"Ulm",44,1.5,3174,{"$f":"IF(IF(LEN(A1106)>0,ERROR.TYPE(MATCH(H1106,H$1:H1105,0))=7,0),C1106,\"\")","v":"Ulm"},"44Ulm Pauluskirchengemeinde                                   "]
["Ulm Jakobuskirchengemeinde am Hochsträß                     ",1690,"Ulm",44,1,1690,{"$f":"IF(IF(LEN(A1107)>0,ERROR.TYPE(MATCH(H1107,H$1:H1106,0))=7,0),C1107,\"\")","v":"Ulm"},"44Ulm Jakobuskirchengemeinde am Hochsträß                     "]
["Altheim                                                     ",1092,"Ulm",44,1,1092,{"$f":"IF(IF(LEN(A1108)>0,ERROR.TYPE(MATCH(H1108,H$1:H1107,0))=7,0),C1108,\"\")","v":"Ulm"},"44Altheim                                                     "]
["Asselfingen                                                 ",896,"Ulm",44,1,896,{"$f":"IF(IF(LEN(A1109)>0,ERROR.TYPE(MATCH(H1109,H$1:H1108,0))=7,0),C1109,\"\")","v":"Ulm"},"44Asselfingen                                                 "]
["Ballendorf-Börslingen                                       ",622,"Ulm",44,1,622,{"$f":"IF(IF(LEN(A1110)>0,ERROR.TYPE(MATCH(H1110,H$1:H1109,0))=7,0),C1110,\"\")","v":"Ulm"},"44Ballendorf-Börslingen                                       "]
["Bernstadt                                                   ",1154,"Ulm",44,1,1154,{"$f":"IF(IF(LEN(A1111)>0,ERROR.TYPE(MATCH(H1111,H$1:H1110,0))=7,0),C1111,\"\")","v":"Ulm"},"44Bernstadt                                                   "]
["Beimerstetten                                               ",1622,"Ulm",44,1,1622,{"$f":"IF(IF(LEN(A1112)>0,ERROR.TYPE(MATCH(H1112,H$1:H1111,0))=7,0),C1112,\"\")","v":"Ulm"},"44Beimerstetten                                               "]
["Göttingen                                                   ",466,"Ulm",44,1,466,{"$f":"IF(IF(LEN(A1113)>0,ERROR.TYPE(MATCH(H1113,H$1:H1112,0))=7,0),C1113,\"\")","v":"Ulm"},"44Göttingen                                                   "]
["Albeck                                                      ",576,"Ulm",44,1,576,{"$f":"IF(IF(LEN(A1114)>0,ERROR.TYPE(MATCH(H1114,H$1:H1113,0))=7,0),C1114,\"\")","v":"Ulm"},"44Albeck                                                      "]
["Hörvelsingen                                                ",348,"Ulm",44,0.5,348,{"$f":"IF(IF(LEN(A1115)>0,ERROR.TYPE(MATCH(H1115,H$1:H1114,0))=7,0),C1115,\"\")","v":"Ulm"},"44Hörvelsingen                                                "]
["Holzkirch-Breitingen                                        ",331,"Ulm",44,0.5,331,{"$f":"IF(IF(LEN(A1116)>0,ERROR.TYPE(MATCH(H1116,H$1:H1115,0))=7,0),C1116,\"\")","v":"Ulm"},"44Holzkirch-Breitingen                                        "]
["Jungingen                                                   ",1339,"Ulm",44,1,1339,{"$f":"IF(IF(LEN(A1117)>0,ERROR.TYPE(MATCH(H1117,H$1:H1116,0))=7,0),C1117,\"\")","v":"Ulm"},"44Jungingen                                                   "]
["Langenau                                                    ",5179,"Ulm",44,1.5,5179,{"$f":"IF(IF(LEN(A1118)>0,ERROR.TYPE(MATCH(H1118,H$1:H1117,0))=7,0),C1118,\"\")","v":"Ulm"},"44Langenau                                                    "]
["Wettingen                                                   ",36,"Ulm",44,0.5,36,{"$f":"IF(IF(LEN(A1119)>0,ERROR.TYPE(MATCH(H1119,H$1:H1118,0))=7,0),C1119,\"\")","v":"Ulm"},"44Wettingen                                                   "]
["Lonsee-Halzhausen-Luizhausen Jakobuskirchengemeinde            ",1336,"Ulm",44,1,1336,{"$f":"IF(IF(LEN(A1120)>0,ERROR.TYPE(MATCH(H1120,H$1:H1119,0))=7,0),C1120,\"\")","v":"Ulm"},"44Lonsee-Halzhausen-Luizhausen Jakobuskirchengemeinde            "]
["Sinabronn                                                   ",67,"Ulm",44,0.5,67,{"$f":"IF(IF(LEN(A1121)>0,ERROR.TYPE(MATCH(H1121,H$1:H1120,0))=7,0),C1121,\"\")","v":"Ulm"},"44Sinabronn                                                   "]
["Mähringen                                                   ",572,"Ulm",44,1,572,{"$f":"IF(IF(LEN(A1122)>0,ERROR.TYPE(MATCH(H1122,H$1:H1121,0))=7,0),C1122,\"\")","v":"Ulm"},"44Mähringen                                                   "]
["Lehr                                                        ",1002,"Ulm",44,1,1002,{"$f":"IF(IF(LEN(A1123)>0,ERROR.TYPE(MATCH(H1123,H$1:H1122,0))=7,0),C1123,\"\")","v":"Ulm"},"44Lehr                                                        "]
["Neenstetten                                                 ",600,"Ulm",44,1,600,{"$f":"IF(IF(LEN(A1124)>0,ERROR.TYPE(MATCH(H1124,H$1:H1123,0))=7,0),C1124,\"\")","v":"Ulm"},"44Neenstetten                                                 "]
["Öllingen                                                    ",336,"Ulm",44,0.5,336,{"$f":"IF(IF(LEN(A1125)>0,ERROR.TYPE(MATCH(H1125,H$1:H1124,0))=7,0),C1125,\"\")","v":"Ulm"},"44Öllingen                                                    "]
["Urspring                                                    ",388,"Ulm",44,0.5,388,{"$f":"IF(IF(LEN(A1126)>0,ERROR.TYPE(MATCH(H1126,H$1:H1125,0))=7,0),C1126,\"\")","v":"Ulm"},"44Urspring                                                    "]
["Reutti                                                      ",116,"Ulm",44,0.5,116,{"$f":"IF(IF(LEN(A1127)>0,ERROR.TYPE(MATCH(H1127,H$1:H1126,0))=7,0),C1127,\"\")","v":"Ulm"},"44Reutti                                                      "]
["Weidenstetten                                               ",790,"Ulm",44,1,790,{"$f":"IF(IF(LEN(A1128)>0,ERROR.TYPE(MATCH(H1128,H$1:H1127,0))=7,0),C1128,\"\")","v":"Ulm"},"44Weidenstetten                                               "]
["Ettlenschiess                                               ",388,"Ulm",44,0.5,388,{"$f":"IF(IF(LEN(A1129)>0,ERROR.TYPE(MATCH(H1129,H$1:H1128,0))=7,0),C1129,\"\")","v":"Ulm"},"44Ettlenschiess                                               "]
["Erbach                                                      ",1858,"Ulm",44,1,1858,{"$f":"IF(IF(LEN(A1130)>0,ERROR.TYPE(MATCH(H1130,H$1:H1129,0))=7,0),C1130,\"\")","v":"Ulm"},"44Erbach                                                      "]
["Dornstadt                                                   ",1392,"Ulm",44,1,1392,{"$f":"IF(IF(LEN(A1131)>0,ERROR.TYPE(MATCH(H1131,H$1:H1130,0))=7,0),C1131,\"\")","v":"Ulm"},"44Dornstadt                                                   "]
["Wiblingen Versöhnungskirchengemeinde                        ",1530,"Ulm",44,1,1530,{"$f":"IF(IF(LEN(A1132)>0,ERROR.TYPE(MATCH(H1132,H$1:H1131,0))=7,0),C1132,\"\")","v":"Ulm"},"44Wiblingen Versöhnungskirchengemeinde                        "]
["Wiblingen Zachäuskirchengemeinde                            ",2225,"Ulm",44,1,2225,{"$f":"IF(IF(LEN(A1133)>0,ERROR.TYPE(MATCH(H1133,H$1:H1132,0))=7,0),C1133,\"\")","v":"Ulm"},"44Wiblingen Zachäuskirchengemeinde                            "]
["Gögglingen/Donaustetten Riedlenkirchengemeinde              ",929,"Ulm",44,1,929,{"$f":"IF(IF(LEN(A1134)>0,ERROR.TYPE(MATCH(H1134,H$1:H1133,0))=7,0),C1134,\"\")","v":"Ulm"},"44Gögglingen/Donaustetten Riedlenkirchengemeinde              "]
["Illerkirchberg                                              ",805,"Ulm",44,1,805,{"$f":"IF(IF(LEN(A1135)>0,ERROR.TYPE(MATCH(H1135,H$1:H1134,0))=7,0),C1135,\"\")","v":"Ulm"},"44Illerkirchberg                                              "]
["Setzingen-Nerenstetten                                      ",626,"Ulm",44,1,626,{"$f":"IF(IF(LEN(A1136)>0,ERROR.TYPE(MATCH(H1136,H$1:H1135,0))=7,0),C1136,\"\")","v":"Ulm"},"44Setzingen-Nerenstetten                                      "]
["Bad Urach und Seeburg                                       ",3441,"Bad Urach-Münsingen",45,1.5,3441,{"$f":"IF(IF(LEN(A1137)>0,ERROR.TYPE(MATCH(H1137,H$1:H1136,0))=7,0),C1137,\"\")","v":"Bad Urach-Münsingen"},"45Bad Urach und Seeburg                                       "]
["Bempflingen                                                 ",1657,"Bad Urach-Münsingen",45,1,1657,{"$f":"IF(IF(LEN(A1138)>0,ERROR.TYPE(MATCH(H1138,H$1:H1137,0))=7,0),C1138,\"\")","v":"Bad Urach-Münsingen"},"45Bempflingen                                                 "]
["Böhringen                                                   ",1251,"Bad Urach-Münsingen",45,1,1251,{"$f":"IF(IF(LEN(A1139)>0,ERROR.TYPE(MATCH(H1139,H$1:H1138,0))=7,0),C1139,\"\")","v":"Bad Urach-Münsingen"},"45Böhringen                                                   "]
["Dettingen an der Erms                                       ",5062,"Bad Urach-Münsingen",45,1.5,5062,{"$f":"IF(IF(LEN(A1140)>0,ERROR.TYPE(MATCH(H1140,H$1:H1139,0))=7,0),C1140,\"\")","v":"Bad Urach-Münsingen"},"45Dettingen an der Erms                                       "]
["Donnstetten-Westerheim                                      ",1416,"Bad Urach-Münsingen",45,1,1416,{"$f":"IF(IF(LEN(A1141)>0,ERROR.TYPE(MATCH(H1141,H$1:H1140,0))=7,0),C1141,\"\")","v":"Bad Urach-Münsingen"},"45Donnstetten-Westerheim                                      "]
["Gächingen                                                   ",584,"Bad Urach-Münsingen",45,1,584,{"$f":"IF(IF(LEN(A1142)>0,ERROR.TYPE(MATCH(H1142,H$1:H1141,0))=7,0),C1142,\"\")","v":"Bad Urach-Münsingen"},"45Gächingen                                                   "]
["Lonsingen                                                   ",440,"Bad Urach-Münsingen",45,1,440,{"$f":"IF(IF(LEN(A1143)>0,ERROR.TYPE(MATCH(H1143,H$1:H1142,0))=7,0),C1143,\"\")","v":"Bad Urach-Münsingen"},"45Lonsingen                                                   "]
["Grabenstetten                                               ",1037,"Bad Urach-Münsingen",45,1,1037,{"$f":"IF(IF(LEN(A1144)>0,ERROR.TYPE(MATCH(H1144,H$1:H1143,0))=7,0),C1144,\"\")","v":"Bad Urach-Münsingen"},"45Grabenstetten                                               "]
["Hülben                                                      ",1943,"Bad Urach-Münsingen",45,1,1943,{"$f":"IF(IF(LEN(A1145)>0,ERROR.TYPE(MATCH(H1145,H$1:H1144,0))=7,0),C1145,\"\")","v":"Bad Urach-Münsingen"},"45Hülben                                                      "]
["Metzingen Martinskirchengemeinde                            ",4240,"Bad Urach-Münsingen",45,1.5,4240,{"$f":"IF(IF(LEN(A1146)>0,ERROR.TYPE(MATCH(H1146,H$1:H1145,0))=7,0),C1146,\"\")","v":"Bad Urach-Münsingen"},"45Metzingen Martinskirchengemeinde                            "]
["Mittelstadt                                                 ",1778,"Bad Urach-Münsingen",45,1,1778,{"$f":"IF(IF(LEN(A1147)>0,ERROR.TYPE(MATCH(H1147,H$1:H1146,0))=7,0),C1147,\"\")","v":"Bad Urach-Münsingen"},"45Mittelstadt                                                 "]
["Reicheneck                                                  ",473,"Bad Urach-Münsingen",45,1,473,{"$f":"IF(IF(LEN(A1148)>0,ERROR.TYPE(MATCH(H1148,H$1:H1147,0))=7,0),C1148,\"\")","v":"Bad Urach-Münsingen"},"45Reicheneck                                                  "]
["Neuhausen/Erms                                              ",2465,"Bad Urach-Münsingen",45,1,2465,{"$f":"IF(IF(LEN(A1149)>0,ERROR.TYPE(MATCH(H1149,H$1:H1148,0))=7,0),C1149,\"\")","v":"Bad Urach-Münsingen"},"45Neuhausen/Erms                                              "]
["Glems                                                       ",727,"Bad Urach-Münsingen",45,1,727,{"$f":"IF(IF(LEN(A1150)>0,ERROR.TYPE(MATCH(H1150,H$1:H1149,0))=7,0),C1150,\"\")","v":"Bad Urach-Münsingen"},"45Glems                                                       "]
["Riederich                                                   ",1910,"Bad Urach-Münsingen",45,1,1910,{"$f":"IF(IF(LEN(A1151)>0,ERROR.TYPE(MATCH(H1151,H$1:H1150,0))=7,0),C1151,\"\")","v":"Bad Urach-Münsingen"},"45Riederich                                                   "]
["Upfingen                                                    ",598,"Bad Urach-Münsingen",45,1,598,{"$f":"IF(IF(LEN(A1152)>0,ERROR.TYPE(MATCH(H1152,H$1:H1151,0))=7,0),C1152,\"\")","v":"Bad Urach-Münsingen"},"45Upfingen                                                    "]
["Sirchingen                                                  ",537,"Bad Urach-Münsingen",45,1,537,{"$f":"IF(IF(LEN(A1153)>0,ERROR.TYPE(MATCH(H1153,H$1:H1152,0))=7,0),C1153,\"\")","v":"Bad Urach-Münsingen"},"45Sirchingen                                                  "]
["Wittlingen                                                  ",661,"Bad Urach-Münsingen",45,1,661,{"$f":"IF(IF(LEN(A1154)>0,ERROR.TYPE(MATCH(H1154,H$1:H1153,0))=7,0),C1154,\"\")","v":"Bad Urach-Münsingen"},"45Wittlingen                                                  "]
["Hengen                                                      ",563,"Bad Urach-Münsingen",45,{"$f":"IF($G1155<>\"\",IF($B1155<400,0.5,IF($B1155<2801,1,IF($B1155<5601,1.5,IF($B1155<8401,2,IF($B1155<11201,2.5,1000))))),\"\")","v":1},563,{"$f":"IF(IF(LEN(A1155)>0,ERROR.TYPE(MATCH(H1155,H$1:H1154,0))=7,0),C1155,\"\")","v":"Bad Urach-Münsingen"},"45Hengen                                                      "]
["Würtingen                                                   ",976,"Bad Urach-Münsingen",45,1,{"$f":"IF(E1156<>\"#NV\",B1156,\"\")","v":976},{"$f":"IF(IF(LEN(A1156)>0,ERROR.TYPE(MATCH(H1156,H$1:H1155,0))=7,0),C1156,\"\")","v":"Bad Urach-Münsingen"},{"$f":"D1156&A1156","v":"45Würtingen                                                   "}]
["Bleichstetten                                               ",498,"Bad Urach-Münsingen",45,1,498,{"$f":"IF(IF(LEN(A1157)>0,ERROR.TYPE(MATCH(H1157,H$1:H1156,0))=7,0),C1157,\"\")","v":"Bad Urach-Münsingen"},"45Bleichstetten                                               "]
["Zainingen                                                   ",951,"Bad Urach-Münsingen",45,1,951,{"$f":"IF(IF(LEN(A1158)>0,ERROR.TYPE(MATCH(H1158,H$1:H1157,0))=7,0),C1158,\"\")","v":"Bad Urach-Münsingen"},"45Zainingen                                                   "]
["Grafenberg                                                  ",1319,"Bad Urach-Münsingen",45,1,1319,{"$f":"IF(IF(LEN(A1159)>0,ERROR.TYPE(MATCH(H1159,H$1:H1158,0))=7,0),C1159,\"\")","v":"Bad Urach-Münsingen"},"45Grafenberg                                                  "]
["Metzingen-Nord                                              ",2031,"Bad Urach-Münsingen",45,1,2031,{"$f":"IF(IF(LEN(A1160)>0,ERROR.TYPE(MATCH(H1160,H$1:H1159,0))=7,0),C1160,\"\")","v":"Bad Urach-Münsingen"},"45Metzingen-Nord                                              "]
["Vaihingen/Enz                                               ",3645,"Vaihingen an der Enz",46,1.5,3645,{"$f":"IF(IF(LEN(A1161)>0,ERROR.TYPE(MATCH(H1161,H$1:H1160,0))=7,0),C1161,\"\")","v":"Vaihingen an der Enz"},"46Vaihingen/Enz                                               "]
["Aurich                                                      ",728,"Vaihingen an der Enz",46,1,728,{"$f":"IF(IF(LEN(A1162)>0,ERROR.TYPE(MATCH(H1162,H$1:H1161,0))=7,0),C1162,\"\")","v":"Vaihingen an der Enz"},"46Aurich                                                      "]
["Eberdingen                                                  ",767,"Vaihingen an der Enz",46,1,767,{"$f":"IF(IF(LEN(A1163)>0,ERROR.TYPE(MATCH(H1163,H$1:H1162,0))=7,0),C1163,\"\")","v":"Vaihingen an der Enz"},"46Eberdingen                                                  "]
["Riet                                                        ",448,"Vaihingen an der Enz",46,1,448,{"$f":"IF(IF(LEN(A1164)>0,ERROR.TYPE(MATCH(H1164,H$1:H1163,0))=7,0),C1164,\"\")","v":"Vaihingen an der Enz"},"46Riet                                                        "]
["Ensingen                                                    ",1209,"Vaihingen an der Enz",46,1,1209,{"$f":"IF(IF(LEN(A1165)>0,ERROR.TYPE(MATCH(H1165,H$1:H1164,0))=7,0),C1165,\"\")","v":"Vaihingen an der Enz"},"46Ensingen                                                    "]
["Enzweihingen                                                ",1711,"Vaihingen an der Enz",46,1,1711,{"$f":"IF(IF(LEN(A1166)>0,ERROR.TYPE(MATCH(H1166,H$1:H1165,0))=7,0),C1166,\"\")","v":"Vaihingen an der Enz"},"46Enzweihingen                                                "]
["Großsachsenheim                                             ",3494,"Vaihingen an der Enz",46,1.5,3494,{"$f":"IF(IF(LEN(A1167)>0,ERROR.TYPE(MATCH(H1167,H$1:H1166,0))=7,0),C1167,\"\")","v":"Vaihingen an der Enz"},"46Großsachsenheim                                             "]
["Häfnerhaslach                                               ",361,"Vaihingen an der Enz",46,0.5,361,{"$f":"IF(IF(LEN(A1168)>0,ERROR.TYPE(MATCH(H1168,H$1:H1167,0))=7,0),C1168,\"\")","v":"Vaihingen an der Enz"},"46Häfnerhaslach                                               "]
["Hochdorf                                                    ",1025,"Vaihingen an der Enz",46,1,1025,{"$f":"IF(IF(LEN(A1169)>0,ERROR.TYPE(MATCH(H1169,H$1:H1168,0))=7,0),C1169,\"\")","v":"Vaihingen an der Enz"},"46Hochdorf                                                    "]
["Hohenhaslach                                                ",1357,"Vaihingen an der Enz",46,1,1357,{"$f":"IF(IF(LEN(A1170)>0,ERROR.TYPE(MATCH(H1170,H$1:H1169,0))=7,0),C1170,\"\")","v":"Vaihingen an der Enz"},"46Hohenhaslach                                                "]
["Horrheim                                                    ",1423,"Vaihingen an der Enz",46,1,1423,{"$f":"IF(IF(LEN(A1171)>0,ERROR.TYPE(MATCH(H1171,H$1:H1170,0))=7,0),C1171,\"\")","v":"Vaihingen an der Enz"},"46Horrheim                                                    "]
["Kleinglattbach                                              ",1905,"Vaihingen an der Enz",46,1,1905,{"$f":"IF(IF(LEN(A1172)>0,ERROR.TYPE(MATCH(H1172,H$1:H1171,0))=7,0),C1172,\"\")","v":"Vaihingen an der Enz"},"46Kleinglattbach                                              "]
["Kleinsachsenheim                                            ",1856,"Vaihingen an der Enz",46,1,1856,{"$f":"IF(IF(LEN(A1173)>0,ERROR.TYPE(MATCH(H1173,H$1:H1172,0))=7,0),C1173,\"\")","v":"Vaihingen an der Enz"},"46Kleinsachsenheim                                            "]
["Gündelbach                                                  ",666,"Vaihingen an der Enz",46,1,666,{"$f":"IF(IF(LEN(A1174)>0,ERROR.TYPE(MATCH(H1174,H$1:H1173,0))=7,0),C1174,\"\")","v":"Vaihingen an der Enz"},"46Gündelbach                                                  "]
["Nussdorf                                                    ",940,"Vaihingen an der Enz",46,1,940,{"$f":"IF(IF(LEN(A1175)>0,ERROR.TYPE(MATCH(H1175,H$1:H1174,0))=7,0),C1175,\"\")","v":"Vaihingen an der Enz"},"46Nussdorf                                                    "]
["Oberriexingen                                               ",1385,"Vaihingen an der Enz",46,1,1385,{"$f":"IF(IF(LEN(A1176)>0,ERROR.TYPE(MATCH(H1176,H$1:H1175,0))=7,0),C1176,\"\")","v":"Vaihingen an der Enz"},"46Oberriexingen                                               "]
["Ochsenbach-Spielberg                                        ",659,"Vaihingen an der Enz",46,1,659,{"$f":"IF(IF(LEN(A1177)>0,ERROR.TYPE(MATCH(H1177,H$1:H1176,0))=7,0),C1177,\"\")","v":"Vaihingen an der Enz"},"46Ochsenbach-Spielberg                                        "]
["Roßwag                                                      ",665,"Vaihingen an der Enz",46,1,665,{"$f":"IF(IF(LEN(A1178)>0,ERROR.TYPE(MATCH(H1178,H$1:H1177,0))=7,0),C1178,\"\")","v":"Vaihingen an der Enz"},"46Roßwag                                                      "]
["Sersheim                                                    ",2479,"Vaihingen an der Enz",46,1,2479,{"$f":"IF(IF(LEN(A1179)>0,ERROR.TYPE(MATCH(H1179,H$1:H1178,0))=7,0),C1179,\"\")","v":"Vaihingen an der Enz"},"46Sersheim                                                    "]
["Unterriexingen                                              ",1036,"Vaihingen an der Enz",46,1,1036,{"$f":"IF(IF(LEN(A1180)>0,ERROR.TYPE(MATCH(H1180,H$1:H1179,0))=7,0),C1180,\"\")","v":"Vaihingen an der Enz"},"46Unterriexingen                                              "]
["Waiblingen                                                  ",8350,"Waiblingen",47,2,8350,{"$f":"IF(IF(LEN(A1181)>0,ERROR.TYPE(MATCH(H1181,H$1:H1180,0))=7,0),C1181,\"\")","v":"Waiblingen"},"47Waiblingen                                                  "]
["Beinstein                                                   ",1481,"Waiblingen",47,1,1481,{"$f":"IF(IF(LEN(A1182)>0,ERROR.TYPE(MATCH(H1182,H$1:H1181,0))=7,0),C1182,\"\")","v":"Waiblingen"},"47Beinstein                                                   "]
["Birkmannsweiler                                             ",1186,"Waiblingen",47,1,1186,{"$f":"IF(IF(LEN(A1183)>0,ERROR.TYPE(MATCH(H1183,H$1:H1182,0))=7,0),C1183,\"\")","v":"Waiblingen"},"47Birkmannsweiler                                             "]
["Höfen-Baach                                                 ",983,"Waiblingen",47,1,983,{"$f":"IF(IF(LEN(A1184)>0,ERROR.TYPE(MATCH(H1184,H$1:H1183,0))=7,0),C1184,\"\")","v":"Waiblingen"},"47Höfen-Baach                                                 "]
["Bittenfeld                                                  ",1761,"Waiblingen",47,1,1761,{"$f":"IF(IF(LEN(A1185)>0,ERROR.TYPE(MATCH(H1185,H$1:H1184,0))=7,0),C1185,\"\")","v":"Waiblingen"},"47Bittenfeld                                                  "]
["Buoch                                                       ",637,"Waiblingen",47,1,637,{"$f":"IF(IF(LEN(A1186)>0,ERROR.TYPE(MATCH(H1186,H$1:H1185,0))=7,0),C1186,\"\")","v":"Waiblingen"},"47Buoch                                                       "]
["Breuningsweiler                                             ",440,"Waiblingen",47,1,440,{"$f":"IF(IF(LEN(A1187)>0,ERROR.TYPE(MATCH(H1187,H$1:H1186,0))=7,0),C1187,\"\")","v":"Waiblingen"},"47Breuningsweiler                                             "]
["Endersbach                                                  ",2883,"Waiblingen",47,1.5,2883,{"$f":"IF(IF(LEN(A1188)>0,ERROR.TYPE(MATCH(H1188,H$1:H1187,0))=7,0),C1188,\"\")","v":"Waiblingen"},"47Endersbach                                                  "]
["Großheppach                                                 ",1862,"Waiblingen",47,1,1862,{"$f":"IF(IF(LEN(A1189)>0,ERROR.TYPE(MATCH(H1189,H$1:H1188,0))=7,0),C1189,\"\")","v":"Waiblingen"},"47Großheppach                                                 "]
["Hegnach                                                     ",1654,"Waiblingen",47,1,1654,{"$f":"IF(IF(LEN(A1190)>0,ERROR.TYPE(MATCH(H1190,H$1:H1189,0))=7,0),C1190,\"\")","v":"Waiblingen"},"47Hegnach                                                     "]
["Hertmannsweiler-Bürg                                        ",1209,"Waiblingen",47,1,1209,{"$f":"IF(IF(LEN(A1191)>0,ERROR.TYPE(MATCH(H1191,H$1:H1190,0))=7,0),C1191,\"\")","v":"Waiblingen"},"47Hertmannsweiler-Bürg                                        "]
["Hohenacker                                                  ",1865,"Waiblingen",47,1,1865,{"$f":"IF(IF(LEN(A1192)>0,ERROR.TYPE(MATCH(H1192,H$1:H1191,0))=7,0),C1192,\"\")","v":"Waiblingen"},"47Hohenacker                                                  "]
["Korb                                                        ",4050,"Waiblingen",47,1.5,4050,{"$f":"IF(IF(LEN(A1193)>0,ERROR.TYPE(MATCH(H1193,H$1:H1192,0))=7,0),C1193,\"\")","v":"Waiblingen"},"47Korb                                                        "]
["Leutenbach                                                  ",1894,"Waiblingen",47,1,1894,{"$f":"IF(IF(LEN(A1194)>0,ERROR.TYPE(MATCH(H1194,H$1:H1193,0))=7,0),C1194,\"\")","v":"Waiblingen"},"47Leutenbach                                                  "]
["Nellmersbach                                                ",1374,"Waiblingen",47,1,1374,{"$f":"IF(IF(LEN(A1195)>0,ERROR.TYPE(MATCH(H1195,H$1:H1194,0))=7,0),C1195,\"\")","v":"Waiblingen"},"47Nellmersbach                                                "]
["Neustadt                                                    ",1891,"Waiblingen",47,1,1891,{"$f":"IF(IF(LEN(A1196)>0,ERROR.TYPE(MATCH(H1196,H$1:H1195,0))=7,0),C1196,\"\")","v":"Waiblingen"},"47Neustadt                                                    "]
["Oppelsbohm                                                  ",2028,"Waiblingen",47,1,2028,{"$f":"IF(IF(LEN(A1197)>0,ERROR.TYPE(MATCH(H1197,H$1:H1196,0))=7,0),C1197,\"\")","v":"Waiblingen"},"47Oppelsbohm                                                  "]
["Rommelshausen                                               ",3417,"Waiblingen",47,1.5,3417,{"$f":"IF(IF(LEN(A1198)>0,ERROR.TYPE(MATCH(H1198,H$1:H1197,0))=7,0),C1198,\"\")","v":"Waiblingen"},"47Rommelshausen                                               "]
["Schwaikheim                                                 ",3451,"Waiblingen",47,1.5,3451,{"$f":"IF(IF(LEN(A1199)>0,ERROR.TYPE(MATCH(H1199,H$1:H1198,0))=7,0),C1199,\"\")","v":"Waiblingen"},"47Schwaikheim                                                 "]
["Stetten i.R.                                                ",2832,"Waiblingen",47,1.5,2832,{"$f":"IF(IF(LEN(A1200)>0,ERROR.TYPE(MATCH(H1200,H$1:H1199,0))=7,0),C1200,\"\")","v":"Waiblingen"},"47Stetten i.R.                                                "]
["Strümpfelbach                                               ",1234,"Waiblingen",47,1,1234,{"$f":"IF(IF(LEN(A1201)>0,ERROR.TYPE(MATCH(H1201,H$1:H1200,0))=7,0),C1201,\"\")","v":"Waiblingen"},"47Strümpfelbach                                               "]
["Schelmenholz/Hanweiler                                      ",1865,"Waiblingen",47,1,1865,{"$f":"IF(IF(LEN(A1202)>0,ERROR.TYPE(MATCH(H1202,H$1:H1201,0))=7,0),C1202,\"\")","v":"Waiblingen"},"47Schelmenholz/Hanweiler                                      "]
["Fellbach                                                    ",7503,"Waiblingen",47,2,7503,{"$f":"IF(IF(LEN(A1203)>0,ERROR.TYPE(MATCH(H1203,H$1:H1202,0))=7,0),C1203,\"\")","v":"Waiblingen"},"47Fellbach                                                    "]
["Oeffingen                                                   ",1876,"Waiblingen",47,1,1876,{"$f":"IF(IF(LEN(A1204)>0,ERROR.TYPE(MATCH(H1204,H$1:H1203,0))=7,0),C1204,\"\")","v":"Waiblingen"},"47Oeffingen                                                   "]
["Schmiden                                                    ",3788,"Waiblingen",47,1.5,3788,{"$f":"IF(IF(LEN(A1205)>0,ERROR.TYPE(MATCH(H1205,H$1:H1204,0))=7,0),C1205,\"\")","v":"Waiblingen"},"47Schmiden                                                    "]
["Weiler zum Stein                                            ",1249,"Waiblingen",47,1,1249,{"$f":"IF(IF(LEN(A1206)>0,ERROR.TYPE(MATCH(H1206,H$1:H1205,0))=7,0),C1206,\"\")","v":"Waiblingen"},"47Weiler zum Stein                                            "]
["Winnenden                                                   ",4280,"Waiblingen",47,1.5,4280,{"$f":"IF(IF(LEN(A1207)>0,ERROR.TYPE(MATCH(H1207,H$1:H1206,0))=7,0),C1207,\"\")","v":"Waiblingen"},"47Winnenden                                                   "]
["Weikersheim                                                 ",1872,"Weikersheim",48,1,1872,{"$f":"IF(IF(LEN(A1208)>0,ERROR.TYPE(MATCH(H1208,H$1:H1207,0))=7,0),C1208,\"\")","v":"Weikersheim"},"48Weikersheim                                                 "]
["Adolzhausen                                                 ",178,"Weikersheim",48,0.5,178,{"$f":"IF(IF(LEN(A1209)>0,ERROR.TYPE(MATCH(H1209,H$1:H1208,0))=7,0),C1209,\"\")","v":"Weikersheim"},"48Adolzhausen                                                 "]
["Herbsthausen                                                ",126,"Weikersheim",48,0.5,126,{"$f":"IF(IF(LEN(A1210)>0,ERROR.TYPE(MATCH(H1210,H$1:H1209,0))=7,0),C1210,\"\")","v":"Weikersheim"},"48Herbsthausen                                                "]
["Archshofen                                                  ",241,"Weikersheim",48,0.5,241,{"$f":"IF(IF(LEN(A1211)>0,ERROR.TYPE(MATCH(H1211,H$1:H1210,0))=7,0),C1211,\"\")","v":"Weikersheim"},"48Archshofen                                                  "]
["Creglingen                                                  ",1264,"Weikersheim",48,1,1264,{"$f":"IF(IF(LEN(A1212)>0,ERROR.TYPE(MATCH(H1212,H$1:H1211,0))=7,0),C1212,\"\")","v":"Weikersheim"},"48Creglingen                                                  "]
["Niederrimbach                                               ",105,"Weikersheim",48,0.5,105,{"$f":"IF(IF(LEN(A1213)>0,ERROR.TYPE(MATCH(H1213,H$1:H1212,0))=7,0),C1213,\"\")","v":"Weikersheim"},"48Niederrimbach                                               "]
["Standorf                                                    ",83,"Weikersheim",48,0.5,83,{"$f":"IF(IF(LEN(A1214)>0,ERROR.TYPE(MATCH(H1214,H$1:H1213,0))=7,0),C1214,\"\")","v":"Weikersheim"},"48Standorf                                                    "]
["Edelfingen                                                  ",616,"Weikersheim",48,1,616,{"$f":"IF(IF(LEN(A1215)>0,ERROR.TYPE(MATCH(H1215,H$1:H1214,0))=7,0),C1215,\"\")","v":"Weikersheim"},"48Edelfingen                                                  "]
["Elpersheim                                                  ",490,"Weikersheim",48,1,490,{"$f":"IF(IF(LEN(A1216)>0,ERROR.TYPE(MATCH(H1216,H$1:H1215,0))=7,0),C1216,\"\")","v":"Weikersheim"},"48Elpersheim                                                  "]
["Freudenbach                                                 ",220,"Weikersheim",48,0.5,220,{"$f":"IF(IF(LEN(A1217)>0,ERROR.TYPE(MATCH(H1217,H$1:H1216,0))=7,0),C1217,\"\")","v":"Weikersheim"},"48Freudenbach                                                 "]
["Frauental                                                   ",109,"Weikersheim",48,0.5,109,{"$f":"IF(IF(LEN(A1218)>0,ERROR.TYPE(MATCH(H1218,H$1:H1217,0))=7,0),C1218,\"\")","v":"Weikersheim"},"48Frauental                                                   "]
["Bad Mergentheim                                             ",4289,"Weikersheim",48,{"$f":"IF($G1219<>\"\",IF($B1219<400,0.5,IF($B1219<2801,1,IF($B1219<5601,1.5,IF($B1219<8401,2,IF($B1219<11201,2.5,1000))))),\"\")","v":1.5},4289,{"$f":"IF(IF(LEN(A1219)>0,ERROR.TYPE(MATCH(H1219,H$1:H1218,0))=7,0),C1219,\"\")","v":"Weikersheim"},"48Bad Mergentheim                                             "]
["Münster                                                     ",207,"Weikersheim",48,0.5,{"$f":"IF(E1220<>\"#NV\",B1220,\"\")","v":207},{"$f":"IF(IF(LEN(A1220)>0,ERROR.TYPE(MATCH(H1220,H$1:H1219,0))=7,0),C1220,\"\")","v":"Weikersheim"},{"$f":"D1220&A1220","v":"48Münster                                                     "}]
["Nassau                                                      ",198,"Weikersheim",48,0.5,198,{"$f":"IF(IF(LEN(A1221)>0,ERROR.TYPE(MATCH(H1221,H$1:H1220,0))=7,0),C1221,\"\")","v":"Weikersheim"},"48Nassau                                                      "]
["Neubronn                                                    ",309,"Weikersheim",48,0.5,309,{"$f":"IF(IF(LEN(A1222)>0,ERROR.TYPE(MATCH(H1222,H$1:H1221,0))=7,0),C1222,\"\")","v":"Weikersheim"},"48Neubronn                                                    "]
["Neunkirchen                                                 ",373,"Weikersheim",48,0.5,373,{"$f":"IF(IF(LEN(A1223)>0,ERROR.TYPE(MATCH(H1223,H$1:H1222,0))=7,0),C1223,\"\")","v":"Weikersheim"},"48Neunkirchen                                                 "]
["Althausen                                                   ",339,"Weikersheim",48,0.5,339,{"$f":"IF(IF(LEN(A1224)>0,ERROR.TYPE(MATCH(H1224,H$1:H1223,0))=7,0),C1224,\"\")","v":"Weikersheim"},"48Althausen                                                   "]
["Niederstetten                                               ",1437,"Weikersheim",48,1,1437,{"$f":"IF(IF(LEN(A1225)>0,ERROR.TYPE(MATCH(H1225,H$1:H1224,0))=7,0),C1225,\"\")","v":"Weikersheim"},"48Niederstetten                                               "]
["Sichertshausen                                              ",32,"Weikersheim",48,0.5,32,{"$f":"IF(IF(LEN(A1226)>0,ERROR.TYPE(MATCH(H1226,H$1:H1225,0))=7,0),C1226,\"\")","v":"Weikersheim"},"48Sichertshausen                                              "]
["Oberstetten                                                 ",317,"Weikersheim",48,0.5,317,{"$f":"IF(IF(LEN(A1227)>0,ERROR.TYPE(MATCH(H1227,H$1:H1226,0))=7,0),C1227,\"\")","v":"Weikersheim"},"48Oberstetten                                                 "]
["Pfitzingen                                                  ",219,"Weikersheim",48,0.5,219,{"$f":"IF(IF(LEN(A1228)>0,ERROR.TYPE(MATCH(H1228,H$1:H1227,0))=7,0),C1228,\"\")","v":"Weikersheim"},"48Pfitzingen                                                  "]
["Rüsselhausen                                                ",89,"Weikersheim",48,0.5,89,{"$f":"IF(IF(LEN(A1229)>0,ERROR.TYPE(MATCH(H1229,H$1:H1228,0))=7,0),C1229,\"\")","v":"Weikersheim"},"48Rüsselhausen                                                "]
["Reinsbronn                                                  ",217,"Weikersheim",48,0.5,217,{"$f":"IF(IF(LEN(A1230)>0,ERROR.TYPE(MATCH(H1230,H$1:H1229,0))=7,0),C1230,\"\")","v":"Weikersheim"},"48Reinsbronn                                                  "]
["Rinderfeld                                                  ",192,"Weikersheim",48,0.5,192,{"$f":"IF(IF(LEN(A1231)>0,ERROR.TYPE(MATCH(H1231,H$1:H1230,0))=7,0),C1231,\"\")","v":"Weikersheim"},"48Rinderfeld                                                  "]
["Schäftersheim                                               ",450,"Weikersheim",48,1,450,{"$f":"IF(IF(LEN(A1232)>0,ERROR.TYPE(MATCH(H1232,H$1:H1231,0))=7,0),C1232,\"\")","v":"Weikersheim"},"48Schäftersheim                                               "]
["Vorbachzimmern                                              ",301,"Weikersheim",48,0.5,301,{"$f":"IF(IF(LEN(A1233)>0,ERROR.TYPE(MATCH(H1233,H$1:H1232,0))=7,0),C1233,\"\")","v":"Weikersheim"},"48Vorbachzimmern                                              "]
["Wachbach                                                    ",640,"Weikersheim",48,1,640,{"$f":"IF(IF(LEN(A1234)>0,ERROR.TYPE(MATCH(H1234,H$1:H1233,0))=7,0),C1234,\"\")","v":"Weikersheim"},"48Wachbach                                                    "]
["Waldmannshofen                                              ",148,"Weikersheim",48,0.5,148,{"$f":"IF(IF(LEN(A1235)>0,ERROR.TYPE(MATCH(H1235,H$1:H1234,0))=7,0),C1235,\"\")","v":"Weikersheim"},"48Waldmannshofen                                              "]
["Sechselbach                                                 ",57,"Weikersheim",48,0.5,57,{"$f":"IF(IF(LEN(A1236)>0,ERROR.TYPE(MATCH(H1236,H$1:H1235,0))=7,0),C1236,\"\")","v":"Weikersheim"},"48Sechselbach                                                 "]
["Wermutshausen                                               ",135,"Weikersheim",48,0.5,135,{"$f":"IF(IF(LEN(A1237)>0,ERROR.TYPE(MATCH(H1237,H$1:H1236,0))=7,0),C1237,\"\")","v":"Weikersheim"},"48Wermutshausen                                               "]
["Wildentierbach                                              ",227,"Weikersheim",48,0.5,227,{"$f":"IF(IF(LEN(A1238)>0,ERROR.TYPE(MATCH(H1238,H$1:H1237,0))=7,0),C1238,\"\")","v":"Weikersheim"},"48Wildentierbach                                              "]
["Igersheim                                                   ",1425,"Weikersheim",48,1,1425,{"$f":"IF(IF(LEN(A1239)>0,ERROR.TYPE(MATCH(H1239,H$1:H1238,0))=7,0),C1239,\"\")","v":"Weikersheim"},"48Igersheim                                                   "]
["Markelsheim                                                 ",407,"Weikersheim",48,1,407,{"$f":"IF(IF(LEN(A1240)>0,ERROR.TYPE(MATCH(H1240,H$1:H1239,0))=7,0),C1240,\"\")","v":"Weikersheim"},"48Markelsheim                                                 "]
["Finsterlohr-Schmerbach-Lichtel                              ",782,"Weikersheim",48,1,782,{"$f":"IF(IF(LEN(A1241)>0,ERROR.TYPE(MATCH(H1241,H$1:H1240,0))=7,0),C1241,\"\")","v":"Weikersheim"},"48Finsterlohr-Schmerbach-Lichtel                              "]
["Weinsberg                                                   ",3694,"Weinsberg",49,1.5,3694,{"$f":"IF(IF(LEN(A1242)>0,ERROR.TYPE(MATCH(H1242,H$1:H1241,0))=7,0),C1242,\"\")","v":"Weinsberg"},"49Weinsberg                                                   "]
["Affaltrach                                                  ",1946,"Weinsberg",49,1,1946,{"$f":"IF(IF(LEN(A1243)>0,ERROR.TYPE(MATCH(H1243,H$1:H1242,0))=7,0),C1243,\"\")","v":"Weinsberg"},"49Affaltrach                                                  "]
["Weiler-Eichelberg                                           ",764,"Weinsberg",49,1,764,{"$f":"IF(IF(LEN(A1244)>0,ERROR.TYPE(MATCH(H1244,H$1:H1243,0))=7,0),C1244,\"\")","v":"Weinsberg"},"49Weiler-Eichelberg                                           "]
["Bitzfeld                                                    ",1462,"Weinsberg",49,1,1462,{"$f":"IF(IF(LEN(A1245)>0,ERROR.TYPE(MATCH(H1245,H$1:H1244,0))=7,0),C1245,\"\")","v":"Weinsberg"},"49Bitzfeld                                                    "]
["Bretzfeld                                                   ",968,"Weinsberg",49,1,968,{"$f":"IF(IF(LEN(A1246)>0,ERROR.TYPE(MATCH(H1246,H$1:H1245,0))=7,0),C1246,\"\")","v":"Weinsberg"},"49Bretzfeld                                                   "]
["Eberstadt                                                   ",1579,"Weinsberg",49,1,1579,{"$f":"IF(IF(LEN(A1247)>0,ERROR.TYPE(MATCH(H1247,H$1:H1246,0))=7,0),C1247,\"\")","v":"Weinsberg"},"49Eberstadt                                                   "]
["Ellhofen                                                    ",1576,"Weinsberg",49,1,1576,{"$f":"IF(IF(LEN(A1248)>0,ERROR.TYPE(MATCH(H1248,H$1:H1247,0))=7,0),C1248,\"\")","v":"Weinsberg"},"49Ellhofen                                                    "]
["Eschenau                                                    ",1294,"Weinsberg",49,1,1294,{"$f":"IF(IF(LEN(A1249)>0,ERROR.TYPE(MATCH(H1249,H$1:H1248,0))=7,0),C1249,\"\")","v":"Weinsberg"},"49Eschenau                                                    "]
["Gellmersbach                                                ",572,"Weinsberg",49,1,572,{"$f":"IF(IF(LEN(A1250)>0,ERROR.TYPE(MATCH(H1250,H$1:H1249,0))=7,0),C1250,\"\")","v":"Weinsberg"},"49Gellmersbach                                                "]
["Lehrensteinsfeld                                            ",1270,"Weinsberg",49,1,1270,{"$f":"IF(IF(LEN(A1251)>0,ERROR.TYPE(MATCH(H1251,H$1:H1250,0))=7,0),C1251,\"\")","v":"Weinsberg"},"49Lehrensteinsfeld                                            "]
["Löwenstein                                                  ",1717,"Weinsberg",49,1,1717,{"$f":"IF(IF(LEN(A1252)>0,ERROR.TYPE(MATCH(H1252,H$1:H1251,0))=7,0),C1252,\"\")","v":"Weinsberg"},"49Löwenstein                                                  "]
["Maienfels                                                   ",627,"Weinsberg",49,1,627,{"$f":"IF(IF(LEN(A1253)>0,ERROR.TYPE(MATCH(H1253,H$1:H1252,0))=7,0),C1253,\"\")","v":"Weinsberg"},"49Maienfels                                                   "]
["Neuhütten                                                   ",1142,"Weinsberg",49,1,1142,{"$f":"IF(IF(LEN(A1254)>0,ERROR.TYPE(MATCH(H1254,H$1:H1253,0))=7,0),C1254,\"\")","v":"Weinsberg"},"49Neuhütten                                                   "]
["Neulautern                                                  ",302,"Weinsberg",49,0.5,302,{"$f":"IF(IF(LEN(A1255)>0,ERROR.TYPE(MATCH(H1255,H$1:H1254,0))=7,0),C1255,\"\")","v":"Weinsberg"},"49Neulautern                                                  "]
["Schwabbach                                                  ",798,"Weinsberg",49,1,798,{"$f":"IF(IF(LEN(A1256)>0,ERROR.TYPE(MATCH(H1256,H$1:H1255,0))=7,0),C1256,\"\")","v":"Weinsberg"},"49Schwabbach                                                  "]
["Sülzbach                                                    ",1512,"Weinsberg",49,1,1512,{"$f":"IF(IF(LEN(A1257)>0,ERROR.TYPE(MATCH(H1257,H$1:H1256,0))=7,0),C1257,\"\")","v":"Weinsberg"},"49Sülzbach                                                    "]
["Unterheimbach                                               ",781,"Weinsberg",49,1,781,{"$f":"IF(IF(LEN(A1258)>0,ERROR.TYPE(MATCH(H1258,H$1:H1257,0))=7,0),C1258,\"\")","v":"Weinsberg"},"49Unterheimbach                                               "]
["Unterheinriet                                               ",1164,"Weinsberg",49,1,1164,{"$f":"IF(IF(LEN(A1259)>0,ERROR.TYPE(MATCH(H1259,H$1:H1258,0))=7,0),C1259,\"\")","v":"Weinsberg"},"49Unterheinriet                                               "]
["Waldbach                                                    ",722,"Weinsberg",49,1,722,{"$f":"IF(IF(LEN(A1260)>0,ERROR.TYPE(MATCH(H1260,H$1:H1259,0))=7,0),C1260,\"\")","v":"Weinsberg"},"49Waldbach                                                    "]
["Dimbach                                                     ",437,"Weinsberg",49,1,437,{"$f":"IF(IF(LEN(A1261)>0,ERROR.TYPE(MATCH(H1261,H$1:H1260,0))=7,0),C1261,\"\")","v":"Weinsberg"},"49Dimbach                                                     "]
["Rappach                                                     ",604,"Weinsberg",49,1,604,{"$f":"IF(IF(LEN(A1262)>0,ERROR.TYPE(MATCH(H1262,H$1:H1261,0))=7,0),C1262,\"\")","v":"Weinsberg"},"49Rappach                                                     "]
["Willsbach                                                   ",1749,"Weinsberg",49,1,1749,{"$f":"IF(IF(LEN(A1263)>0,ERROR.TYPE(MATCH(H1263,H$1:H1262,0))=7,0),C1263,\"\")","v":"Weinsberg"},"49Willsbach                                                   "]
["Wüstenrot                                                   ",1724,"Weinsberg",49,1,1724,{"$f":"IF(IF(LEN(A1264)>0,ERROR.TYPE(MATCH(H1264,H$1:H1263,0))=7,0),C1264,\"\")","v":"Weinsberg"},"49Wüstenrot                                                   "]
["Stuttgart-Zuffenhausen                                      ",4639,"Zuffenhausen",51,1.5,4639,{"$f":"IF(IF(LEN(A1265)>0,ERROR.TYPE(MATCH(H1265,H$1:H1264,0))=7,0),C1265,\"\")","v":"Zuffenhausen"},"51Stuttgart-Zuffenhausen                                      "]
["Feuerbach                                                   ",6590,"Zuffenhausen",51,2,6590,{"$f":"IF(IF(LEN(A1266)>0,ERROR.TYPE(MATCH(H1266,H$1:H1265,0))=7,0),C1266,\"\")","v":"Zuffenhausen"},"51Feuerbach                                                   "]
["Stammheim                                                   ",3173,"Zuffenhausen",51,1.5,3173,{"$f":"IF(IF(LEN(A1267)>0,ERROR.TYPE(MATCH(H1267,H$1:H1266,0))=7,0),C1267,\"\")","v":"Zuffenhausen"},"51Stammheim                                                   "]
["Stuttgart-Weilimdorf Stephanuskirchengemeinde               ",2166,"Zuffenhausen",51,1,2166,{"$f":"IF(IF(LEN(A1268)>0,ERROR.TYPE(MATCH(H1268,H$1:H1267,0))=7,0),C1268,\"\")","v":"Zuffenhausen"},"51Stuttgart-Weilimdorf Stephanuskirchengemeinde               "]
["Zazenhausen                                                 ",963,"Zuffenhausen",51,1,963,{"$f":"IF(IF(LEN(A1269)>0,ERROR.TYPE(MATCH(H1269,H$1:H1268,0))=7,0),C1269,\"\")","v":"Zuffenhausen"},"51Zazenhausen                                                 "]
["Stuttgart-Weilimdorf Dietrich-Bonhoeffer-Kirchengemeinde    ",1870,"Zuffenhausen",51,1,1870,{"$f":"IF(IF(LEN(A1270)>0,ERROR.TYPE(MATCH(H1270,H$1:H1269,0))=7,0),C1270,\"\")","v":"Zuffenhausen"},"51Stuttgart-Weilimdorf Dietrich-Bonhoeffer-Kirchengemeinde    "]
["Stuttgart Himmelsleiter                                     ",4450,"Zuffenhausen",51,1.5,4450,{"$f":"IF(IF(LEN(A1271)>0,ERROR.TYPE(MATCH(H1271,H$1:H1270,0))=7,0),C1271,\"\")","v":"Zuffenhausen"},"51Stuttgart Himmelsleiter                                     "]
["Stuttgart-Weilimdorf Oswald-Wolfbuschkirchengemeinde        ",4016,"Zuffenhausen",51,1.5,4016,{"$f":"IF(IF(LEN(A1272)>0,ERROR.TYPE(MATCH(H1272,H$1:H1271,0))=7,0),C1272,\"\")","v":"Zuffenhausen"},"51Stuttgart-Weilimdorf Oswald-Wolfbuschkirchengemeinde        "]
["Ditzingen                                                   ",4165,"Ditzingen",52,1.5,4165,{"$f":"IF(IF(LEN(A1273)>0,ERROR.TYPE(MATCH(H1273,H$1:H1272,0))=7,0),C1273,\"\")","v":"Ditzingen"},"52Ditzingen                                                   "]
["Gerlingen Petruskirchengemeinde                             ",4890,"Ditzingen",52,1.5,4890,{"$f":"IF(IF(LEN(A1274)>0,ERROR.TYPE(MATCH(H1274,H$1:H1273,0))=7,0),C1274,\"\")","v":"Ditzingen"},"52Gerlingen Petruskirchengemeinde                             "]
["Gerlingen Lukaskirchengemeinde                              ",1001,"Ditzingen",52,1,1001,{"$f":"IF(IF(LEN(A1275)>0,ERROR.TYPE(MATCH(H1275,H$1:H1274,0))=7,0),C1275,\"\")","v":"Ditzingen"},"52Gerlingen Lukaskirchengemeinde                              "]
["Gerlingen Matthäuskirchengemeinde                           ",779,"Ditzingen",52,1,779,{"$f":"IF(IF(LEN(A1276)>0,ERROR.TYPE(MATCH(H1276,H$1:H1275,0))=7,0),C1276,\"\")","v":"Ditzingen"},"52Gerlingen Matthäuskirchengemeinde                           "]
["Heimerdingen                                                ",1503,"Ditzingen",52,1,1503,{"$f":"IF(IF(LEN(A1277)>0,ERROR.TYPE(MATCH(H1277,H$1:H1276,0))=7,0),C1277,\"\")","v":"Ditzingen"},"52Heimerdingen                                                "]
["Hemmingen                                                   ",2549,"Ditzingen",52,1,2549,{"$f":"IF(IF(LEN(A1278)>0,ERROR.TYPE(MATCH(H1278,H$1:H1277,0))=7,0),C1278,\"\")","v":"Ditzingen"},"52Hemmingen                                                   "]
["Hirschlanden                                                ",1759,"Ditzingen",52,1,1759,{"$f":"IF(IF(LEN(A1279)>0,ERROR.TYPE(MATCH(H1279,H$1:H1278,0))=7,0),C1279,\"\")","v":"Ditzingen"},"52Hirschlanden                                                "]
["Korntal                                                     ",3054,"Ditzingen",52,1.5,3054,{"$f":"IF(IF(LEN(A1280)>0,ERROR.TYPE(MATCH(H1280,H$1:H1279,0))=7,0),C1280,\"\")","v":"Ditzingen"},"52Korntal                                                     "]
["Markgröningen                                               ",4263,"Ditzingen",52,1.5,4263,{"$f":"IF(IF(LEN(A1281)>0,ERROR.TYPE(MATCH(H1281,H$1:H1280,0))=7,0),C1281,\"\")","v":"Ditzingen"},"52Markgröningen                                               "]
["Münchingen                                                  ",2831,"Ditzingen",52,1.5,2831,{"$f":"IF(IF(LEN(A1282)>0,ERROR.TYPE(MATCH(H1282,H$1:H1281,0))=7,0),C1282,\"\")","v":"Ditzingen"},"52Münchingen                                                  "]
["Kallenberg                                                  ",388,"Ditzingen",52,{"$f":"IF($G1283<>\"\",IF($B1283<400,0.5,IF($B1283<2801,1,IF($B1283<5601,1.5,IF($B1283<8401,2,IF($B1283<11201,2.5,1000))))),\"\")","v":0.5},388,{"$f":"IF(IF(LEN(A1283)>0,ERROR.TYPE(MATCH(H1283,H$1:H1282,0))=7,0),C1283,\"\")","v":"Ditzingen"},"52Kallenberg                                                  "]
["Schöckingen                                                 ",800,"Ditzingen",52,1,{"$f":"IF(E1284<>\"#NV\",B1284,\"\")","v":800},{"$f":"IF(IF(LEN(A1284)>0,ERROR.TYPE(MATCH(H1284,H$1:H1283,0))=7,0),C1284,\"\")","v":"Ditzingen"},{"$f":"D1284&A1284","v":"52Schöckingen                                                 "}]
["Schwieberdingen                                             ",3748,"Ditzingen",52,1.5,3748,{"$f":"IF(IF(LEN(A1285)>0,ERROR.TYPE(MATCH(H1285,H$1:H1284,0))=7,0),C1285,\"\")","v":"Ditzingen"},"52Schwieberdingen                                             "]
["Bernhausen                                                  ",4748,"Bernhausen",53,1.5,4748,{"$f":"IF(IF(LEN(A1286)>0,ERROR.TYPE(MATCH(H1286,H$1:H1285,0))=7,0),C1286,\"\")","v":"Bernhausen"},"53Bernhausen                                                  "]
["Bonlanden                                                   ",3690,"Bernhausen",53,1.5,3690,{"$f":"IF(IF(LEN(A1287)>0,ERROR.TYPE(MATCH(H1287,H$1:H1286,0))=7,0),C1287,\"\")","v":"Bernhausen"},"53Bonlanden                                                   "]
["Echterdingen                                                ",4508,"Bernhausen",53,1.5,4508,{"$f":"IF(IF(LEN(A1288)>0,ERROR.TYPE(MATCH(H1288,H$1:H1287,0))=7,0),C1288,\"\")","v":"Bernhausen"},"53Echterdingen                                                "]
["Harthausen                                                  ",1615,"Bernhausen",53,1,1615,{"$f":"IF(IF(LEN(A1289)>0,ERROR.TYPE(MATCH(H1289,H$1:H1288,0))=7,0),C1289,\"\")","v":"Bernhausen"},"53Harthausen                                                  "]
["Kemnat                                                      ",1882,"Bernhausen",53,1,1882,{"$f":"IF(IF(LEN(A1290)>0,ERROR.TYPE(MATCH(H1290,H$1:H1289,0))=7,0),C1290,\"\")","v":"Bernhausen"},"53Kemnat                                                      "]
["Leinfelden-Unteraichen                                      ",3297,"Bernhausen",53,1.5,3297,{"$f":"IF(IF(LEN(A1291)>0,ERROR.TYPE(MATCH(H1291,H$1:H1290,0))=7,0),C1291,\"\")","v":"Bernhausen"},"53Leinfelden-Unteraichen                                      "]
["Nellingen                                                   ",3453,"Bernhausen",53,1.5,3453,{"$f":"IF(IF(LEN(A1292)>0,ERROR.TYPE(MATCH(H1292,H$1:H1291,0))=7,0),C1292,\"\")","v":"Bernhausen"},"53Nellingen                                                   "]
["Ostfildern Dietrich-Bonhoeffer-Kirchengemeinde              ",2913,"Bernhausen",53,1.5,2913,{"$f":"IF(IF(LEN(A1293)>0,ERROR.TYPE(MATCH(H1293,H$1:H1292,0))=7,0),C1293,\"\")","v":"Bernhausen"},"53Ostfildern Dietrich-Bonhoeffer-Kirchengemeinde              "]
["Neuhausen/Filder                                            ",2976,"Bernhausen",53,1.5,2976,{"$f":"IF(IF(LEN(A1294)>0,ERROR.TYPE(MATCH(H1294,H$1:H1293,0))=7,0),C1294,\"\")","v":"Bernhausen"},"53Neuhausen/Filder                                            "]
["Oberaichen                                                  ",1228,"Bernhausen",53,1,1228,{"$f":"IF(IF(LEN(A1295)>0,ERROR.TYPE(MATCH(H1295,H$1:H1294,0))=7,0),C1295,\"\")","v":"Bernhausen"},"53Oberaichen                                                  "]
["Musberg                                                     ",2131,"Bernhausen",53,1,2131,{"$f":"IF(IF(LEN(A1296)>0,ERROR.TYPE(MATCH(H1296,H$1:H1295,0))=7,0),C1296,\"\")","v":"Bernhausen"},"53Musberg                                                     "]
["Plattenhardt                                                ",3222,"Bernhausen",53,1.5,3222,{"$f":"IF(IF(LEN(A1297)>0,ERROR.TYPE(MATCH(H1297,H$1:H1296,0))=7,0),C1297,\"\")","v":"Bernhausen"},"53Plattenhardt                                                "]
["Ruit                                                        ",3077,"Bernhausen",53,1.5,3077,{"$f":"IF(IF(LEN(A1298)>0,ERROR.TYPE(MATCH(H1298,H$1:H1297,0))=7,0),C1298,\"\")","v":"Bernhausen"},"53Ruit                                                        "]
["Scharnhausen                                                ",1532,"Bernhausen",53,1,1532,{"$f":"IF(IF(LEN(A1299)>0,ERROR.TYPE(MATCH(H1299,H$1:H1298,0))=7,0),C1299,\"\")","v":"Bernhausen"},"53Scharnhausen                                                "]
["Sielmingen                                                  ",3097,"Bernhausen",53,1.5,3097,{"$f":"IF(IF(LEN(A1300)>0,ERROR.TYPE(MATCH(H1300,H$1:H1299,0))=7,0),C1300,\"\")","v":"Bernhausen"},"53Sielmingen                                                  "]
["Stetten a.d.F.                                              ",2099,"Bernhausen",53,1,2099,{"$f":"IF(IF(LEN(A1301)>0,ERROR.TYPE(MATCH(H1301,H$1:H1300,0))=7,0),C1301,\"\")","v":"Bernhausen"},"53Stetten a.d.F.                                              "]
[]
[null,null,null,null,"",0,{"$f":"IF(IF(LEN(A1303)>0,ERROR.TYPE(MATCH(H1303,H$1:H1302,0))=7,0),C1303,\"\")","v":""},""]
[null,null,null,null,"",0,{"$f":"IF(IF(LEN(A1304)>0,ERROR.TYPE(MATCH(H1304,H$1:H1303,0))=7,0),C1304,\"\")","v":""},""]
[null,null,null,null,"",0,{"$f":"IF(IF(LEN(A1305)>0,ERROR.TYPE(MATCH(H1305,H$1:H1304,0))=7,0),C1305,\"\")","v":""},""]
[null,null,null,null,"",0,{"$f":"IF(IF(LEN(A1306)>0,ERROR.TYPE(MATCH(H1306,H$1:H1305,0))=7,0),C1306,\"\")","v":""},""]
[null,null,null,null,"",0,{"$f":"IF(IF(LEN(A1307)>0,ERROR.TYPE(MATCH(H1307,H$1:H1306,0))=7,0),C1307,\"\")","v":""},""]
[null,null,null,null,"",0,{"$f":"IF(IF(LEN(A1308)>0,ERROR.TYPE(MATCH(H1308,H$1:H1307,0))=7,0),C1308,\"\")","v":""},""]
[null,null,null,null,"",0,{"$f":"IF(IF(LEN(A1309)>0,ERROR.TYPE(MATCH(H1309,H$1:H1308,0))=7,0),C1309,\"\")","v":""},""]
[null,null,null,null,"",0,{"$f":"IF(IF(LEN(A1310)>0,ERROR.TYPE(MATCH(H1310,H$1:H1309,0))=7,0),C1310,\"\")","v":""},""]
[null,null,null,null,"",0,{"$f":"IF(IF(LEN(A1311)>0,ERROR.TYPE(MATCH(H1311,H$1:H1310,0))=7,0),C1311,\"\")","v":""},""]
[null,null,null,null,"",0,{"$f":"IF(IF(LEN(A1312)>0,ERROR.TYPE(MATCH(H1312,H$1:H1311,0))=7,0),C1312,\"\")","v":""},""]
[null,null,null,null,"",0,{"$f":"IF(IF(LEN(A1313)>0,ERROR.TYPE(MATCH(H1313,H$1:H1312,0))=7,0),C1313,\"\")","v":""},""]
[null,null,null,null,"",0,{"$f":"IF(IF(LEN(A1314)>0,ERROR.TYPE(MATCH(H1314,H$1:H1313,0))=7,0),C1314,\"\")","v":""},""]
[null,null,null,null,"",0,{"$f":"IF(IF(LEN(A1315)>0,ERROR.TYPE(MATCH(H1315,H$1:H1314,0))=7,0),C1315,\"\")","v":""},""]
[null,null,null,null,"",0,{"$f":"IF(IF(LEN(A1316)>0,ERROR.TYPE(MATCH(H1316,H$1:H1315,0))=7,0),C1316,\"\")","v":""},""]
[null,null,null,null,"",0,{"$f":"IF(IF(LEN(A1317)>0,ERROR.TYPE(MATCH(H1317,H$1:H1316,0))=7,0),C1317,\"\")","v":""},""]
[null,null,null,null,"",0,{"$f":"IF(IF(LEN(A1318)>0,ERROR.TYPE(MATCH(H1318,H$1:H1317,0))=7,0),C1318,\"\")","v":""},""]
[null,null,null,null,"",0,{"$f":"IF(IF(LEN(A1319)>0,ERROR.TYPE(MATCH(H1319,H$1:H1318,0))=7,0),C1319,\"\")","v":""},""]
[null,null,null,null,"",0,{"$f":"IF(IF(LEN(A1320)>0,ERROR.TYPE(MATCH(H1320,H$1:H1319,0))=7,0),C1320,\"\")","v":""},""]
[null,null,null,null,"",0,{"$f":"IF(IF(LEN(A1321)>0,ERROR.TYPE(MATCH(H1321,H$1:H1320,0))=7,0),C1321,\"\")","v":""},""]
[null,null,null,null,"",0,{"$f":"IF(IF(LEN(A1322)>0,ERROR.TYPE(MATCH(H1322,H$1:H1321,0))=7,0),C1322,\"\")","v":""},""]
[null,null,null,null,"",0,{"$f":"IF(IF(LEN(A1323)>0,ERROR.TYPE(MATCH(H1323,H$1:H1322,0))=7,0),C1323,\"\")","v":""},""]
[null,null,null,null,"",0,{"$f":"IF(IF(LEN(A1324)>0,ERROR.TYPE(MATCH(H1324,H$1:H1323,0))=7,0),C1324,\"\")","v":""},""]
[null,null,null,null,"",0,{"$f":"IF(IF(LEN(A1325)>0,ERROR.TYPE(MATCH(H1325,H$1:H1324,0))=7,0),C1325,\"\")","v":""},""]
[null,null,null,null,"",0,{"$f":"IF(IF(LEN(A1326)>0,ERROR.TYPE(MATCH(H1326,H$1:H1325,0))=7,0),C1326,\"\")","v":""},""]
[null,null,null,null,"",0,{"$f":"IF(IF(LEN(A1327)>0,ERROR.TYPE(MATCH(H1327,H$1:H1326,0))=7,0),C1327,\"\")","v":""},""]
[null,null,null,null,"",0,{"$f":"IF(IF(LEN(A1328)>0,ERROR.TYPE(MATCH(H1328,H$1:H1327,0))=7,0),C1328,\"\")","v":""},""]
[null,null,null,null,"",0,{"$f":"IF(IF(LEN(A1329)>0,ERROR.TYPE(MATCH(H1329,H$1:H1328,0))=7,0),C1329,\"\")","v":""},""]
[null,null,null,null,"",0,{"$f":"IF(IF(LEN(A1330)>0,ERROR.TYPE(MATCH(H1330,H$1:H1329,0))=7,0),C1330,\"\")","v":""},""]
[null,null,null,null,"",0,{"$f":"IF(IF(LEN(A1331)>0,ERROR.TYPE(MATCH(H1331,H$1:H1330,0))=7,0),C1331,\"\")","v":""},""]
[null,null,null,null,"",0,{"$f":"IF(IF(LEN(A1332)>0,ERROR.TYPE(MATCH(H1332,H$1:H1331,0))=7,0),C1332,\"\")","v":""},""]
[null,null,null,null,"",0,{"$f":"IF(IF(LEN(A1333)>0,ERROR.TYPE(MATCH(H1333,H$1:H1332,0))=7,0),C1333,\"\")","v":""},""]
[null,null,null,null,"",0,{"$f":"IF(IF(LEN(A1334)>0,ERROR.TYPE(MATCH(H1334,H$1:H1333,0))=7,0),C1334,\"\")","v":""},""]
[null,null,null,null,"",0,{"$f":"IF(IF(LEN(A1335)>0,ERROR.TYPE(MATCH(H1335,H$1:H1334,0))=7,0),C1335,\"\")","v":""},""]
[null,null,null,null,"",0,{"$f":"IF(IF(LEN(A1336)>0,ERROR.TYPE(MATCH(H1336,H$1:H1335,0))=7,0),C1336,\"\")","v":""},""]
[null,null,null,null,"",0,{"$f":"IF(IF(LEN(A1337)>0,ERROR.TYPE(MATCH(H1337,H$1:H1336,0))=7,0),C1337,\"\")","v":""},""]
[null,null,null,null,"",0,{"$f":"IF(IF(LEN(A1338)>0,ERROR.TYPE(MATCH(H1338,H$1:H1337,0))=7,0),C1338,\"\")","v":""},""]
[null,null,null,null,"",0,{"$f":"IF(IF(LEN(A1339)>0,ERROR.TYPE(MATCH(H1339,H$1:H1338,0))=7,0),C1339,\"\")","v":""},""]
[null,null,null,null,"",0,{"$f":"IF(IF(LEN(A1340)>0,ERROR.TYPE(MATCH(H1340,H$1:H1339,0))=7,0),C1340,\"\")","v":""},""]
[null,null,null,null,"",0,{"$f":"IF(IF(LEN(A1341)>0,ERROR.TYPE(MATCH(H1341,H$1:H1340,0))=7,0),C1341,\"\")","v":""},""]
[null,null,null,null,"",0,{"$f":"IF(IF(LEN(A1342)>0,ERROR.TYPE(MATCH(H1342,H$1:H1341,0))=7,0),C1342,\"\")","v":""},""]
[null,null,null,null,"",0,{"$f":"IF(IF(LEN(A1343)>0,ERROR.TYPE(MATCH(H1343,H$1:H1342,0))=7,0),C1343,\"\")","v":""},""]
[null,null,null,null,"",0,{"$f":"IF(IF(LEN(A1344)>0,ERROR.TYPE(MATCH(H1344,H$1:H1343,0))=7,0),C1344,\"\")","v":""},""]
[null,null,null,null,"",0,{"$f":"IF(IF(LEN(A1345)>0,ERROR.TYPE(MATCH(H1345,H$1:H1344,0))=7,0),C1345,\"\")","v":""},""]
[null,null,null,null,"",0,{"$f":"IF(IF(LEN(A1346)>0,ERROR.TYPE(MATCH(H1346,H$1:H1345,0))=7,0),C1346,\"\")","v":""},""]
[null,null,null,null,{"$f":"IF($G1347<>\"\",IF($B1347<400,0.5,IF($B1347<2801,1,IF($B1347<5601,1.5,IF($B1347<8401,2,IF($B1347<11201,2.5,1000))))),\"\")","v":""},0,{"$f":"IF(IF(LEN(A1347)>0,ERROR.TYPE(MATCH(H1347,H$1:H1346,0))=7,0),C1347,\"\")","v":""},""]
[null,null,null,null,"",{"$f":"IF(E1348<>\"#NV\",B1348,\"\")","v":0},{"$f":"IF(IF(LEN(A1348)>0,ERROR.TYPE(MATCH(H1348,H$1:H1347,0))=7,0),C1348,\"\")","v":""},{"$f":"D1348&A1348","v":""}]
[null,null,null,null,"",0,{"$f":"IF(IF(LEN(A1349)>0,ERROR.TYPE(MATCH(H1349,H$1:H1348,0))=7,0),C1349,\"\")","v":""},""]
[null,null,null,null,"",0,{"$f":"IF(IF(LEN(A1350)>0,ERROR.TYPE(MATCH(H1350,H$1:H1349,0))=7,0),C1350,\"\")","v":""},""]
[null,null,null,null,"",0,{"$f":"IF(IF(LEN(A1351)>0,ERROR.TYPE(MATCH(H1351,H$1:H1350,0))=7,0),C1351,\"\")","v":""},""]
[null,null,null,null,"",0,{"$f":"IF(IF(LEN(A1352)>0,ERROR.TYPE(MATCH(H1352,H$1:H1351,0))=7,0),C1352,\"\")","v":""},""]
[null,null,null,null,"",0,{"$f":"IF(IF(LEN(A1353)>0,ERROR.TYPE(MATCH(H1353,H$1:H1352,0))=7,0),C1353,\"\")","v":""},""]
[null,null,null,null,"",0,{"$f":"IF(IF(LEN(A1354)>0,ERROR.TYPE(MATCH(H1354,H$1:H1353,0))=7,0),C1354,\"\")","v":""},""]
[null,null,null,null,"",0,{"$f":"IF(IF(LEN(A1355)>0,ERROR.TYPE(MATCH(H1355,H$1:H1354,0))=7,0),C1355,\"\")","v":""},""]
[null,null,null,null,"",0,{"$f":"IF(IF(LEN(A1356)>0,ERROR.TYPE(MATCH(H1356,H$1:H1355,0))=7,0),C1356,\"\")","v":""},""]
[null,null,null,null,"",0,{"$f":"IF(IF(LEN(A1357)>0,ERROR.TYPE(MATCH(H1357,H$1:H1356,0))=7,0),C1357,\"\")","v":""},""]
[null,null,null,null,"",0,{"$f":"IF(IF(LEN(A1358)>0,ERROR.TYPE(MATCH(H1358,H$1:H1357,0))=7,0),C1358,\"\")","v":""},""]
[null,null,null,null,"",0,{"$f":"IF(IF(LEN(A1359)>0,ERROR.TYPE(MATCH(H1359,H$1:H1358,0))=7,0),C1359,\"\")","v":""},""]
[null,null,null,null,"",0,{"$f":"IF(IF(LEN(A1360)>0,ERROR.TYPE(MATCH(H1360,H$1:H1359,0))=7,0),C1360,\"\")","v":""},""]
[null,null,null,null,"",0,{"$f":"IF(IF(LEN(A1361)>0,ERROR.TYPE(MATCH(H1361,H$1:H1360,0))=7,0),C1361,\"\")","v":""},""]
[null,null,null,null,"",0,{"$f":"IF(IF(LEN(A1362)>0,ERROR.TYPE(MATCH(H1362,H$1:H1361,0))=7,0),C1362,\"\")","v":""},""]
[null,null,null,null,"",0,{"$f":"IF(IF(LEN(A1363)>0,ERROR.TYPE(MATCH(H1363,H$1:H1362,0))=7,0),C1363,\"\")","v":""},""]
[null,null,null,null,"",0,{"$f":"IF(IF(LEN(A1364)>0,ERROR.TYPE(MATCH(H1364,H$1:H1363,0))=7,0),C1364,\"\")","v":""},""]
[null,null,null,null,"",0,{"$f":"IF(IF(LEN(A1365)>0,ERROR.TYPE(MATCH(H1365,H$1:H1364,0))=7,0),C1365,\"\")","v":""},""]
[null,null,null,null,"",0,{"$f":"IF(IF(LEN(A1366)>0,ERROR.TYPE(MATCH(H1366,H$1:H1365,0))=7,0),C1366,\"\")","v":""},""]
[null,null,null,null,"",0,{"$f":"IF(IF(LEN(A1367)>0,ERROR.TYPE(MATCH(H1367,H$1:H1366,0))=7,0),C1367,\"\")","v":""},""]
[null,null,null,null,"",0,{"$f":"IF(IF(LEN(A1368)>0,ERROR.TYPE(MATCH(H1368,H$1:H1367,0))=7,0),C1368,\"\")","v":""},""]
[null,null,null,null,"",0,{"$f":"IF(IF(LEN(A1369)>0,ERROR.TYPE(MATCH(H1369,H$1:H1368,0))=7,0),C1369,\"\")","v":""},""]
[null,null,null,null,"",0,{"$f":"IF(IF(LEN(A1370)>0,ERROR.TYPE(MATCH(H1370,H$1:H1369,0))=7,0),C1370,\"\")","v":""},""]
[null,null,null,null,"",0,{"$f":"IF(IF(LEN(A1371)>0,ERROR.TYPE(MATCH(H1371,H$1:H1370,0))=7,0),C1371,\"\")","v":""},""]
[null,null,null,null,"",0,{"$f":"IF(IF(LEN(A1372)>0,ERROR.TYPE(MATCH(H1372,H$1:H1371,0))=7,0),C1372,\"\")","v":""},""]
[null,null,null,null,"",0,{"$f":"IF(IF(LEN(A1373)>0,ERROR.TYPE(MATCH(H1373,H$1:H1372,0))=7,0),C1373,\"\")","v":""},""]
[null,null,null,null,"",0,{"$f":"IF(IF(LEN(A1374)>0,ERROR.TYPE(MATCH(H1374,H$1:H1373,0))=7,0),C1374,\"\")","v":""},""]
[null,null,null,null,"",0,{"$f":"IF(IF(LEN(A1375)>0,ERROR.TYPE(MATCH(H1375,H$1:H1374,0))=7,0),C1375,\"\")","v":""},""]
[null,null,null,null,"",0,{"$f":"IF(IF(LEN(A1376)>0,ERROR.TYPE(MATCH(H1376,H$1:H1375,0))=7,0),C1376,\"\")","v":""},""]
[null,null,null,null,"",0,{"$f":"IF(IF(LEN(A1377)>0,ERROR.TYPE(MATCH(H1377,H$1:H1376,0))=7,0),C1377,\"\")","v":""},""]
[null,null,null,null,"",0,{"$f":"IF(IF(LEN(A1378)>0,ERROR.TYPE(MATCH(H1378,H$1:H1377,0))=7,0),C1378,\"\")","v":""},""]
[null,null,null,null,"",0,{"$f":"IF(IF(LEN(A1379)>0,ERROR.TYPE(MATCH(H1379,H$1:H1378,0))=7,0),C1379,\"\")","v":""},""]
[null,null,null,null,"",0,{"$f":"IF(IF(LEN(A1380)>0,ERROR.TYPE(MATCH(H1380,H$1:H1379,0))=7,0),C1380,\"\")","v":""},""]
[null,null,null,null,"",0,{"$f":"IF(IF(LEN(A1381)>0,ERROR.TYPE(MATCH(H1381,H$1:H1380,0))=7,0),C1381,\"\")","v":""},""]
[null,null,null,null,"",0,{"$f":"IF(IF(LEN(A1382)>0,ERROR.TYPE(MATCH(H1382,H$1:H1381,0))=7,0),C1382,\"\")","v":""},""]
[null,null,null,null,"",0,{"$f":"IF(IF(LEN(A1383)>0,ERROR.TYPE(MATCH(H1383,H$1:H1382,0))=7,0),C1383,\"\")","v":""},""]
[null,null,null,null,"",0,{"$f":"IF(IF(LEN(A1384)>0,ERROR.TYPE(MATCH(H1384,H$1:H1383,0))=7,0),C1384,\"\")","v":""},""]
[null,null,null,null,"",0,{"$f":"IF(IF(LEN(A1385)>0,ERROR.TYPE(MATCH(H1385,H$1:H1384,0))=7,0),C1385,\"\")","v":""},""]
[null,null,null,null,"",0,{"$f":"IF(IF(LEN(A1386)>0,ERROR.TYPE(MATCH(H1386,H$1:H1385,0))=7,0),C1386,\"\")","v":""},""]
[null,null,null,null,"",0,{"$f":"IF(IF(LEN(A1387)>0,ERROR.TYPE(MATCH(H1387,H$1:H1386,0))=7,0),C1387,\"\")","v":""},""]
[null,null,null,null,"",0,{"$f":"IF(IF(LEN(A1388)>0,ERROR.TYPE(MATCH(H1388,H$1:H1387,0))=7,0),C1388,\"\")","v":""},""]
[null,null,null,null,"",0,{"$f":"IF(IF(LEN(A1389)>0,ERROR.TYPE(MATCH(H1389,H$1:H1388,0))=7,0),C1389,\"\")","v":""},""]
[null,null,null,null,"",0,{"$f":"IF(IF(LEN(A1390)>0,ERROR.TYPE(MATCH(H1390,H$1:H1389,0))=7,0),C1390,\"\")","v":""},""]
[null,null,null,null,"",0,{"$f":"IF(IF(LEN(A1391)>0,ERROR.TYPE(MATCH(H1391,H$1:H1390,0))=7,0),C1391,\"\")","v":""},""]
[null,null,null,null,"",0,{"$f":"IF(IF(LEN(A1392)>0,ERROR.TYPE(MATCH(H1392,H$1:H1391,0))=7,0),C1392,\"\")","v":""},""]
[null,null,null,null,"",0,{"$f":"IF(IF(LEN(A1393)>0,ERROR.TYPE(MATCH(H1393,H$1:H1392,0))=7,0),C1393,\"\")","v":""},""]
[null,null,null,null,"",0,{"$f":"IF(IF(LEN(A1394)>0,ERROR.TYPE(MATCH(H1394,H$1:H1393,0))=7,0),C1394,\"\")","v":""},""]
[null,null,null,null,"",0,{"$f":"IF(IF(LEN(A1395)>0,ERROR.TYPE(MATCH(H1395,H$1:H1394,0))=7,0),C1395,\"\")","v":""},""]
[null,null,null,null,"",0,{"$f":"IF(IF(LEN(A1396)>0,ERROR.TYPE(MATCH(H1396,H$1:H1395,0))=7,0),C1396,\"\")","v":""},""]
[null,null,null,null,"",0,{"$f":"IF(IF(LEN(A1397)>0,ERROR.TYPE(MATCH(H1397,H$1:H1396,0))=7,0),C1397,\"\")","v":""},""]
[null,null,null,null,"",0,{"$f":"IF(IF(LEN(A1398)>0,ERROR.TYPE(MATCH(H1398,H$1:H1397,0))=7,0),C1398,\"\")","v":""},""]
[null,null,null,null,"",0,{"$f":"IF(IF(LEN(A1399)>0,ERROR.TYPE(MATCH(H1399,H$1:H1398,0))=7,0),C1399,\"\")","v":""},""]
[null,null,null,null,"",0,{"$f":"IF(IF(LEN(A1400)>0,ERROR.TYPE(MATCH(H1400,H$1:H1399,0))=7,0),C1400,\"\")","v":""},""]
[null,null,null,null,"",0,{"$f":"IF(IF(LEN(A1401)>0,ERROR.TYPE(MATCH(H1401,H$1:H1400,0))=7,0),C1401,\"\")","v":""},""]
[null,null,null,null,"",0,{"$f":"IF(IF(LEN(A1402)>0,ERROR.TYPE(MATCH(H1402,H$1:H1401,0))=7,0),C1402,\"\")","v":""},""]
[null,null,null,null,"",0,{"$f":"IF(IF(LEN(A1403)>0,ERROR.TYPE(MATCH(H1403,H$1:H1402,0))=7,0),C1403,\"\")","v":""},""]
[null,null,null,null,"",0,{"$f":"IF(IF(LEN(A1404)>0,ERROR.TYPE(MATCH(H1404,H$1:H1403,0))=7,0),C1404,\"\")","v":""},""]
[null,null,null,null,"",0,{"$f":"IF(IF(LEN(A1405)>0,ERROR.TYPE(MATCH(H1405,H$1:H1404,0))=7,0),C1405,\"\")","v":""},""]
[null,null,null,null,"",0,{"$f":"IF(IF(LEN(A1406)>0,ERROR.TYPE(MATCH(H1406,H$1:H1405,0))=7,0),C1406,\"\")","v":""},""]
[null,null,null,null,"",0,{"$f":"IF(IF(LEN(A1407)>0,ERROR.TYPE(MATCH(H1407,H$1:H1406,0))=7,0),C1407,\"\")","v":""},""]
[null,null,null,null,"",0,{"$f":"IF(IF(LEN(A1408)>0,ERROR.TYPE(MATCH(H1408,H$1:H1407,0))=7,0),C1408,\"\")","v":""},""]
[null,null,null,null,"",0,{"$f":"IF(IF(LEN(A1409)>0,ERROR.TYPE(MATCH(H1409,H$1:H1408,0))=7,0),C1409,\"\")","v":""},""]
[null,null,null,null,"",0,{"$f":"IF(IF(LEN(A1410)>0,ERROR.TYPE(MATCH(H1410,H$1:H1409,0))=7,0),C1410,\"\")","v":""},""]
[null,null,null,null,{"$f":"IF($G1411<>\"\",IF($B1411<400,0.5,IF($B1411<2801,1,IF($B1411<5601,1.5,IF($B1411<8401,2,IF($B1411<11201,2.5,1000))))),\"\")","v":""},0,{"$f":"IF(IF(LEN(A1411)>0,ERROR.TYPE(MATCH(H1411,H$1:H1410,0))=7,0),C1411,\"\")","v":""},""]
[null,null,null,null,"",{"$f":"IF(E1412<>\"#NV\",B1412,\"\")","v":0},{"$f":"IF(IF(LEN(A1412)>0,ERROR.TYPE(MATCH(H1412,H$1:H1411,0))=7,0),C1412,\"\")","v":""},{"$f":"D1412&A1412","v":""}]
[null,null,null,null,"",0,{"$f":"IF(IF(LEN(A1413)>0,ERROR.TYPE(MATCH(H1413,H$1:H1412,0))=7,0),C1413,\"\")","v":""},""]
[null,null,null,null,"",0,{"$f":"IF(IF(LEN(A1414)>0,ERROR.TYPE(MATCH(H1414,H$1:H1413,0))=7,0),C1414,\"\")","v":""},""]
[null,null,null,null,"",0,{"$f":"IF(IF(LEN(A1415)>0,ERROR.TYPE(MATCH(H1415,H$1:H1414,0))=7,0),C1415,\"\")","v":""},""]
[null,null,null,null,"",0,{"$f":"IF(IF(LEN(A1416)>0,ERROR.TYPE(MATCH(H1416,H$1:H1415,0))=7,0),C1416,\"\")","v":""},""]
[null,null,null,null,"",0,{"$f":"IF(IF(LEN(A1417)>0,ERROR.TYPE(MATCH(H1417,H$1:H1416,0))=7,0),C1417,\"\")","v":""},""]
[null,null,null,null,"",0,{"$f":"IF(IF(LEN(A1418)>0,ERROR.TYPE(MATCH(H1418,H$1:H1417,0))=7,0),C1418,\"\")","v":""},""]
[null,null,null,null,"",0,{"$f":"IF(IF(LEN(A1419)>0,ERROR.TYPE(MATCH(H1419,H$1:H1418,0))=7,0),C1419,\"\")","v":""},""]
[null,null,null,null,"",0,{"$f":"IF(IF(LEN(A1420)>0,ERROR.TYPE(MATCH(H1420,H$1:H1419,0))=7,0),C1420,\"\")","v":""},""]
[null,null,null,null,"",0,{"$f":"IF(IF(LEN(A1421)>0,ERROR.TYPE(MATCH(H1421,H$1:H1420,0))=7,0),C1421,\"\")","v":""},""]
[null,null,null,null,"",0,{"$f":"IF(IF(LEN(A1422)>0,ERROR.TYPE(MATCH(H1422,H$1:H1421,0))=7,0),C1422,\"\")","v":""},""]
[null,null,null,null,"",0,{"$f":"IF(IF(LEN(A1423)>0,ERROR.TYPE(MATCH(H1423,H$1:H1422,0))=7,0),C1423,\"\")","v":""},""]
[null,null,null,null,"",0,{"$f":"IF(IF(LEN(A1424)>0,ERROR.TYPE(MATCH(H1424,H$1:H1423,0))=7,0),C1424,\"\")","v":""},""]
[null,null,null,null,"",0,{"$f":"IF(IF(LEN(A1425)>0,ERROR.TYPE(MATCH(H1425,H$1:H1424,0))=7,0),C1425,\"\")","v":""},""]
[null,null,null,null,"",0,{"$f":"IF(IF(LEN(A1426)>0,ERROR.TYPE(MATCH(H1426,H$1:H1425,0))=7,0),C1426,\"\")","v":""},""]
[null,null,null,null,"",0,{"$f":"IF(IF(LEN(A1427)>0,ERROR.TYPE(MATCH(H1427,H$1:H1426,0))=7,0),C1427,\"\")","v":""},""]
[null,null,null,null,"",0,{"$f":"IF(IF(LEN(A1428)>0,ERROR.TYPE(MATCH(H1428,H$1:H1427,0))=7,0),C1428,\"\")","v":""},""]
[null,null,null,null,"",0,{"$f":"IF(IF(LEN(A1429)>0,ERROR.TYPE(MATCH(H1429,H$1:H1428,0))=7,0),C1429,\"\")","v":""},""]
[null,null,null,null,"",0,{"$f":"IF(IF(LEN(A1430)>0,ERROR.TYPE(MATCH(H1430,H$1:H1429,0))=7,0),C1430,\"\")","v":""},""]
[null,null,null,null,"",0,{"$f":"IF(IF(LEN(A1431)>0,ERROR.TYPE(MATCH(H1431,H$1:H1430,0))=7,0),C1431,\"\")","v":""},""]
[null,null,null,null,"",0,{"$f":"IF(IF(LEN(A1432)>0,ERROR.TYPE(MATCH(H1432,H$1:H1431,0))=7,0),C1432,\"\")","v":""},""]
[null,null,null,null,"",0,{"$f":"IF(IF(LEN(A1433)>0,ERROR.TYPE(MATCH(H1433,H$1:H1432,0))=7,0),C1433,\"\")","v":""},""]
[null,null,null,null,"",0,{"$f":"IF(IF(LEN(A1434)>0,ERROR.TYPE(MATCH(H1434,H$1:H1433,0))=7,0),C1434,\"\")","v":""},""]
[null,null,null,null,"",0,{"$f":"IF(IF(LEN(A1435)>0,ERROR.TYPE(MATCH(H1435,H$1:H1434,0))=7,0),C1435,\"\")","v":""},""]
[null,null,null,null,"",0,{"$f":"IF(IF(LEN(A1436)>0,ERROR.TYPE(MATCH(H1436,H$1:H1435,0))=7,0),C1436,\"\")","v":""},""]
[null,null,null,null,"",0,{"$f":"IF(IF(LEN(A1437)>0,ERROR.TYPE(MATCH(H1437,H$1:H1436,0))=7,0),C1437,\"\")","v":""},""]
[null,null,null,null,"",0,{"$f":"IF(IF(LEN(A1438)>0,ERROR.TYPE(MATCH(H1438,H$1:H1437,0))=7,0),C1438,\"\")","v":""},""]
[null,null,null,null,"",0,{"$f":"IF(IF(LEN(A1439)>0,ERROR.TYPE(MATCH(H1439,H$1:H1438,0))=7,0),C1439,\"\")","v":""},""]
[null,null,null,null,"",0,{"$f":"IF(IF(LEN(A1440)>0,ERROR.TYPE(MATCH(H1440,H$1:H1439,0))=7,0),C1440,\"\")","v":""},""]
[null,null,null,null,"",0,{"$f":"IF(IF(LEN(A1441)>0,ERROR.TYPE(MATCH(H1441,H$1:H1440,0))=7,0),C1441,\"\")","v":""},""]
[null,null,null,null,"",0,{"$f":"IF(IF(LEN(A1442)>0,ERROR.TYPE(MATCH(H1442,H$1:H1441,0))=7,0),C1442,\"\")","v":""},""]
[null,null,null,null,"",0,{"$f":"IF(IF(LEN(A1443)>0,ERROR.TYPE(MATCH(H1443,H$1:H1442,0))=7,0),C1443,\"\")","v":""},""]
[null,null,null,null,"",0,{"$f":"IF(IF(LEN(A1444)>0,ERROR.TYPE(MATCH(H1444,H$1:H1443,0))=7,0),C1444,\"\")","v":""},""]
[null,null,null,null,"",0,{"$f":"IF(IF(LEN(A1445)>0,ERROR.TYPE(MATCH(H1445,H$1:H1444,0))=7,0),C1445,\"\")","v":""},""]
[null,null,null,null,"",0,{"$f":"IF(IF(LEN(A1446)>0,ERROR.TYPE(MATCH(H1446,H$1:H1445,0))=7,0),C1446,\"\")","v":""},""]
[null,null,null,null,"",0,{"$f":"IF(IF(LEN(A1447)>0,ERROR.TYPE(MATCH(H1447,H$1:H1446,0))=7,0),C1447,\"\")","v":""},""]
[null,null,null,null,"",0,{"$f":"IF(IF(LEN(A1448)>0,ERROR.TYPE(MATCH(H1448,H$1:H1447,0))=7,0),C1448,\"\")","v":""},""]
[null,null,null,null,"",0,{"$f":"IF(IF(LEN(A1449)>0,ERROR.TYPE(MATCH(H1449,H$1:H1448,0))=7,0),C1449,\"\")","v":""},""]
[null,null,null,null,"",0,{"$f":"IF(IF(LEN(A1450)>0,ERROR.TYPE(MATCH(H1450,H$1:H1449,0))=7,0),C1450,\"\")","v":""},""]
[null,null,null,null,"",0,{"$f":"IF(IF(LEN(A1451)>0,ERROR.TYPE(MATCH(H1451,H$1:H1450,0))=7,0),C1451,\"\")","v":""},""]
[null,null,null,null,"",0,{"$f":"IF(IF(LEN(A1452)>0,ERROR.TYPE(MATCH(H1452,H$1:H1451,0))=7,0),C1452,\"\")","v":""},""]
[null,null,null,null,"",0,{"$f":"IF(IF(LEN(A1453)>0,ERROR.TYPE(MATCH(H1453,H$1:H1452,0))=7,0),C1453,\"\")","v":""},""]
[null,null,null,null,"",0,{"$f":"IF(IF(LEN(A1454)>0,ERROR.TYPE(MATCH(H1454,H$1:H1453,0))=7,0),C1454,\"\")","v":""},""]
[null,null,null,null,"",0,{"$f":"IF(IF(LEN(A1455)>0,ERROR.TYPE(MATCH(H1455,H$1:H1454,0))=7,0),C1455,\"\")","v":""},""]
[null,null,null,null,"",0,{"$f":"IF(IF(LEN(A1456)>0,ERROR.TYPE(MATCH(H1456,H$1:H1455,0))=7,0),C1456,\"\")","v":""},""]
[null,null,null,null,"",0,{"$f":"IF(IF(LEN(A1457)>0,ERROR.TYPE(MATCH(H1457,H$1:H1456,0))=7,0),C1457,\"\")","v":""},""]
[null,null,null,null,"",0,{"$f":"IF(IF(LEN(A1458)>0,ERROR.TYPE(MATCH(H1458,H$1:H1457,0))=7,0),C1458,\"\")","v":""},""]
[null,null,null,null,"",0,{"$f":"IF(IF(LEN(A1459)>0,ERROR.TYPE(MATCH(H1459,H$1:H1458,0))=7,0),C1459,\"\")","v":""},""]
[null,null,null,null,"",0,{"$f":"IF(IF(LEN(A1460)>0,ERROR.TYPE(MATCH(H1460,H$1:H1459,0))=7,0),C1460,\"\")","v":""},""]
[null,null,null,null,"",0,{"$f":"IF(IF(LEN(A1461)>0,ERROR.TYPE(MATCH(H1461,H$1:H1460,0))=7,0),C1461,\"\")","v":""},""]
[null,null,null,null,"",0,{"$f":"IF(IF(LEN(A1462)>0,ERROR.TYPE(MATCH(H1462,H$1:H1461,0))=7,0),C1462,\"\")","v":""},""]
[null,null,null,null,"",0,{"$f":"IF(IF(LEN(A1463)>0,ERROR.TYPE(MATCH(H1463,H$1:H1462,0))=7,0),C1463,\"\")","v":""},""]
[null,null,null,null,"",0,{"$f":"IF(IF(LEN(A1464)>0,ERROR.TYPE(MATCH(H1464,H$1:H1463,0))=7,0),C1464,\"\")","v":""},""]
[null,null,null,null,"",0,{"$f":"IF(IF(LEN(A1465)>0,ERROR.TYPE(MATCH(H1465,H$1:H1464,0))=7,0),C1465,\"\")","v":""},""]
[null,null,null,null,"",0,{"$f":"IF(IF(LEN(A1466)>0,ERROR.TYPE(MATCH(H1466,H$1:H1465,0))=7,0),C1466,\"\")","v":""},""]
[null,null,null,null,"",0,{"$f":"IF(IF(LEN(A1467)>0,ERROR.TYPE(MATCH(H1467,H$1:H1466,0))=7,0),C1467,\"\")","v":""},""]
[null,null,null,null,"",0,{"$f":"IF(IF(LEN(A1468)>0,ERROR.TYPE(MATCH(H1468,H$1:H1467,0))=7,0),C1468,\"\")","v":""},""]
[null,null,null,null,"",0,{"$f":"IF(IF(LEN(A1469)>0,ERROR.TYPE(MATCH(H1469,H$1:H1468,0))=7,0),C1469,\"\")","v":""},""]
[null,null,null,null,"",0,{"$f":"IF(IF(LEN(A1470)>0,ERROR.TYPE(MATCH(H1470,H$1:H1469,0))=7,0),C1470,\"\")","v":""},""]
[null,null,null,null,"",0,{"$f":"IF(IF(LEN(A1471)>0,ERROR.TYPE(MATCH(H1471,H$1:H1470,0))=7,0),C1471,\"\")","v":""},""]
[null,null,null,null,"",0,{"$f":"IF(IF(LEN(A1472)>0,ERROR.TYPE(MATCH(H1472,H$1:H1471,0))=7,0),C1472,\"\")","v":""},""]
[null,null,null,null,"",0,{"$f":"IF(IF(LEN(A1473)>0,ERROR.TYPE(MATCH(H1473,H$1:H1472,0))=7,0),C1473,\"\")","v":""},""]
[null,null,null,null,"",0,{"$f":"IF(IF(LEN(A1474)>0,ERROR.TYPE(MATCH(H1474,H$1:H1473,0))=7,0),C1474,\"\")","v":""},""]
[null,null,null,null,{"$f":"IF($G1475<>\"\",IF($B1475<400,0.5,IF($B1475<2801,1,IF($B1475<5601,1.5,IF($B1475<8401,2,IF($B1475<11201,2.5,1000))))),\"\")","v":""},0,{"$f":"IF(IF(LEN(A1475)>0,ERROR.TYPE(MATCH(H1475,H$1:H1474,0))=7,0),C1475,\"\")","v":""},""]
[null,null,null,null,"",{"$f":"IF(E1476<>\"#NV\",B1476,\"\")","v":0},{"$f":"IF(IF(LEN(A1476)>0,ERROR.TYPE(MATCH(H1476,H$1:H1475,0))=7,0),C1476,\"\")","v":""},{"$f":"D1476&A1476","v":""}]
[null,null,null,null,"",0,{"$f":"IF(IF(LEN(A1477)>0,ERROR.TYPE(MATCH(H1477,H$1:H1476,0))=7,0),C1477,\"\")","v":""},""]
[null,null,null,null,"",0,{"$f":"IF(IF(LEN(A1478)>0,ERROR.TYPE(MATCH(H1478,H$1:H1477,0))=7,0),C1478,\"\")","v":""},""]
[null,null,null,null,"",0,{"$f":"IF(IF(LEN(A1479)>0,ERROR.TYPE(MATCH(H1479,H$1:H1478,0))=7,0),C1479,\"\")","v":""},""]
[null,null,null,null,"",0,{"$f":"IF(IF(LEN(A1480)>0,ERROR.TYPE(MATCH(H1480,H$1:H1479,0))=7,0),C1480,\"\")","v":""},""]
[null,null,null,null,"",0,{"$f":"IF(IF(LEN(A1481)>0,ERROR.TYPE(MATCH(H1481,H$1:H1480,0))=7,0),C1481,\"\")","v":""},""]
[null,null,null,null,"",0,{"$f":"IF(IF(LEN(A1482)>0,ERROR.TYPE(MATCH(H1482,H$1:H1481,0))=7,0),C1482,\"\")","v":""},""]
[null,null,null,null,"",0,{"$f":"IF(IF(LEN(A1483)>0,ERROR.TYPE(MATCH(H1483,H$1:H1482,0))=7,0),C1483,\"\")","v":""},""]
[null,null,null,null,"",0,{"$f":"IF(IF(LEN(A1484)>0,ERROR.TYPE(MATCH(H1484,H$1:H1483,0))=7,0),C1484,\"\")","v":""},""]
[null,null,null,null,"",0,{"$f":"IF(IF(LEN(A1485)>0,ERROR.TYPE(MATCH(H1485,H$1:H1484,0))=7,0),C1485,\"\")","v":""},""]
[null,null,null,null,"",0,{"$f":"IF(IF(LEN(A1486)>0,ERROR.TYPE(MATCH(H1486,H$1:H1485,0))=7,0),C1486,\"\")","v":""},""]
[null,null,null,null,"",0,{"$f":"IF(IF(LEN(A1487)>0,ERROR.TYPE(MATCH(H1487,H$1:H1486,0))=7,0),C1487,\"\")","v":""},""]
[null,null,null,null,"",0,{"$f":"IF(IF(LEN(A1488)>0,ERROR.TYPE(MATCH(H1488,H$1:H1487,0))=7,0),C1488,\"\")","v":""},""]
[null,null,null,null,"",0,{"$f":"IF(IF(LEN(A1489)>0,ERROR.TYPE(MATCH(H1489,H$1:H1488,0))=7,0),C1489,\"\")","v":""},""]
[null,null,null,null,"",0,{"$f":"IF(IF(LEN(A1490)>0,ERROR.TYPE(MATCH(H1490,H$1:H1489,0))=7,0),C1490,\"\")","v":""},""]
[null,null,null,null,"",0,{"$f":"IF(IF(LEN(A1491)>0,ERROR.TYPE(MATCH(H1491,H$1:H1490,0))=7,0),C1491,\"\")","v":""},""]
[null,null,null,null,"",0,{"$f":"IF(IF(LEN(A1492)>0,ERROR.TYPE(MATCH(H1492,H$1:H1491,0))=7,0),C1492,\"\")","v":""},""]
[null,null,null,null,"",0,{"$f":"IF(IF(LEN(A1493)>0,ERROR.TYPE(MATCH(H1493,H$1:H1492,0))=7,0),C1493,\"\")","v":""},""]
[null,null,null,null,"",0,{"$f":"IF(IF(LEN(A1494)>0,ERROR.TYPE(MATCH(H1494,H$1:H1493,0))=7,0),C1494,\"\")","v":""},""]
[null,null,null,null,"",0,{"$f":"IF(IF(LEN(A1495)>0,ERROR.TYPE(MATCH(H1495,H$1:H1494,0))=7,0),C1495,\"\")","v":""},""]
[null,null,null,null,"",0,{"$f":"IF(IF(LEN(A1496)>0,ERROR.TYPE(MATCH(H1496,H$1:H1495,0))=7,0),C1496,\"\")","v":""},""]
[null,null,null,null,"",0,{"$f":"IF(IF(LEN(A1497)>0,ERROR.TYPE(MATCH(H1497,H$1:H1496,0))=7,0),C1497,\"\")","v":""},""]
[null,null,null,null,"",0,{"$f":"IF(IF(LEN(A1498)>0,ERROR.TYPE(MATCH(H1498,H$1:H1497,0))=7,0),C1498,\"\")","v":""},""]
[null,null,null,null,"",0,{"$f":"IF(IF(LEN(A1499)>0,ERROR.TYPE(MATCH(H1499,H$1:H1498,0))=7,0),C1499,\"\")","v":""},""]
[null,null,null,null,"",0,{"$f":"IF(IF(LEN(A1500)>0,ERROR.TYPE(MATCH(H1500,H$1:H1499,0))=7,0),C1500,\"\")","v":""},""]
[null,null,null,null,"",0,{"$f":"IF(IF(LEN(A1501)>0,ERROR.TYPE(MATCH(H1501,H$1:H1500,0))=7,0),C1501,\"\")","v":""},""]
[null,null,null,null,"",0,{"$f":"IF(IF(LEN(A1502)>0,ERROR.TYPE(MATCH(H1502,H$1:H1501,0))=7,0),C1502,\"\")","v":""},""]
[null,null,null,null,"",0,{"$f":"IF(IF(LEN(A1503)>0,ERROR.TYPE(MATCH(H1503,H$1:H1502,0))=7,0),C1503,\"\")","v":""},""]
[null,null,null,null,"",0,{"$f":"IF(IF(LEN(A1504)>0,ERROR.TYPE(MATCH(H1504,H$1:H1503,0))=7,0),C1504,\"\")","v":""},""]
[null,null,null,null,"",0,{"$f":"IF(IF(LEN(A1505)>0,ERROR.TYPE(MATCH(H1505,H$1:H1504,0))=7,0),C1505,\"\")","v":""},""]
[null,null,null,null,"",0,{"$f":"IF(IF(LEN(A1506)>0,ERROR.TYPE(MATCH(H1506,H$1:H1505,0))=7,0),C1506,\"\")","v":""},""]
[null,null,null,null,"",0,{"$f":"IF(IF(LEN(A1507)>0,ERROR.TYPE(MATCH(H1507,H$1:H1506,0))=7,0),C1507,\"\")","v":""},""]
[null,null,null,null,"",0,{"$f":"IF(IF(LEN(A1508)>0,ERROR.TYPE(MATCH(H1508,H$1:H1507,0))=7,0),C1508,\"\")","v":""},""]
[null,null,null,null,"",0,{"$f":"IF(IF(LEN(A1509)>0,ERROR.TYPE(MATCH(H1509,H$1:H1508,0))=7,0),C1509,\"\")","v":""},""]
[null,null,null,null,"",0,{"$f":"IF(IF(LEN(A1510)>0,ERROR.TYPE(MATCH(H1510,H$1:H1509,0))=7,0),C1510,\"\")","v":""},""]
[null,null,null,null,"",0,{"$f":"IF(IF(LEN(A1511)>0,ERROR.TYPE(MATCH(H1511,H$1:H1510,0))=7,0),C1511,\"\")","v":""},""]
[null,null,null,null,"",0,{"$f":"IF(IF(LEN(A1512)>0,ERROR.TYPE(MATCH(H1512,H$1:H1511,0))=7,0),C1512,\"\")","v":""},""]
[null,null,null,null,"",0,{"$f":"IF(IF(LEN(A1513)>0,ERROR.TYPE(MATCH(H1513,H$1:H1512,0))=7,0),C1513,\"\")","v":""},""]
[null,null,null,null,"",0,{"$f":"IF(IF(LEN(A1514)>0,ERROR.TYPE(MATCH(H1514,H$1:H1513,0))=7,0),C1514,\"\")","v":""},""]
[null,null,null,null,"",0,{"$f":"IF(IF(LEN(A1515)>0,ERROR.TYPE(MATCH(H1515,H$1:H1514,0))=7,0),C1515,\"\")","v":""},""]
[null,null,null,null,"",0,{"$f":"IF(IF(LEN(A1516)>0,ERROR.TYPE(MATCH(H1516,H$1:H1515,0))=7,0),C1516,\"\")","v":""},""]
[null,null,null,null,"",0,{"$f":"IF(IF(LEN(A1517)>0,ERROR.TYPE(MATCH(H1517,H$1:H1516,0))=7,0),C1517,\"\")","v":""},""]
[null,null,null,null,"",0,{"$f":"IF(IF(LEN(A1518)>0,ERROR.TYPE(MATCH(H1518,H$1:H1517,0))=7,0),C1518,\"\")","v":""},""]
[null,null,null,null,"",0,{"$f":"IF(IF(LEN(A1519)>0,ERROR.TYPE(MATCH(H1519,H$1:H1518,0))=7,0),C1519,\"\")","v":""},""]
[null,null,null,null,"",0,{"$f":"IF(IF(LEN(A1520)>0,ERROR.TYPE(MATCH(H1520,H$1:H1519,0))=7,0),C1520,\"\")","v":""},""]
[null,null,null,null,"",0,{"$f":"IF(IF(LEN(A1521)>0,ERROR.TYPE(MATCH(H1521,H$1:H1520,0))=7,0),C1521,\"\")","v":""},""]
[null,null,null,null,"",0,{"$f":"IF(IF(LEN(A1522)>0,ERROR.TYPE(MATCH(H1522,H$1:H1521,0))=7,0),C1522,\"\")","v":""},""]
[null,null,null,null,"",0,{"$f":"IF(IF(LEN(A1523)>0,ERROR.TYPE(MATCH(H1523,H$1:H1522,0))=7,0),C1523,\"\")","v":""},""]
[null,null,null,null,"",0,{"$f":"IF(IF(LEN(A1524)>0,ERROR.TYPE(MATCH(H1524,H$1:H1523,0))=7,0),C1524,\"\")","v":""},""]
[null,null,null,null,"",0,{"$f":"IF(IF(LEN(A1525)>0,ERROR.TYPE(MATCH(H1525,H$1:H1524,0))=7,0),C1525,\"\")","v":""},""]
[null,null,null,null,"",0,{"$f":"IF(IF(LEN(A1526)>0,ERROR.TYPE(MATCH(H1526,H$1:H1525,0))=7,0),C1526,\"\")","v":""},""]
[null,null,null,null,"",0,{"$f":"IF(IF(LEN(A1527)>0,ERROR.TYPE(MATCH(H1527,H$1:H1526,0))=7,0),C1527,\"\")","v":""},""]
[null,null,null,null,"",0,{"$f":"IF(IF(LEN(A1528)>0,ERROR.TYPE(MATCH(H1528,H$1:H1527,0))=7,0),C1528,\"\")","v":""},""]
[null,null,null,null,"",0,{"$f":"IF(IF(LEN(A1529)>0,ERROR.TYPE(MATCH(H1529,H$1:H1528,0))=7,0),C1529,\"\")","v":""},""]
[null,null,null,null,"",0,{"$f":"IF(IF(LEN(A1530)>0,ERROR.TYPE(MATCH(H1530,H$1:H1529,0))=7,0),C1530,\"\")","v":""},""]
[null,null,null,null,"",0,{"$f":"IF(IF(LEN(A1531)>0,ERROR.TYPE(MATCH(H1531,H$1:H1530,0))=7,0),C1531,\"\")","v":""},""]
[null,null,null,null,"",0,{"$f":"IF(IF(LEN(A1532)>0,ERROR.TYPE(MATCH(H1532,H$1:H1531,0))=7,0),C1532,\"\")","v":""},""]
[null,null,null,null,"",0,{"$f":"IF(IF(LEN(A1533)>0,ERROR.TYPE(MATCH(H1533,H$1:H1532,0))=7,0),C1533,\"\")","v":""},""]
[null,null,null,null,"",0,{"$f":"IF(IF(LEN(A1534)>0,ERROR.TYPE(MATCH(H1534,H$1:H1533,0))=7,0),C1534,\"\")","v":""},""]
[null,null,null,null,"",0,{"$f":"IF(IF(LEN(A1535)>0,ERROR.TYPE(MATCH(H1535,H$1:H1534,0))=7,0),C1535,\"\")","v":""},""]
[null,null,null,null,"",0,{"$f":"IF(IF(LEN(A1536)>0,ERROR.TYPE(MATCH(H1536,H$1:H1535,0))=7,0),C1536,\"\")","v":""},""]
[null,null,null,null,"",0,{"$f":"IF(IF(LEN(A1537)>0,ERROR.TYPE(MATCH(H1537,H$1:H1536,0))=7,0),C1537,\"\")","v":""},""]
[null,null,null,null,"",0,{"$f":"IF(IF(LEN(A1538)>0,ERROR.TYPE(MATCH(H1538,H$1:H1537,0))=7,0),C1538,\"\")","v":""},""]
[null,null,null,null,{"$f":"IF($G1539<>\"\",IF($B1539<400,0.5,IF($B1539<2801,1,IF($B1539<5601,1.5,IF($B1539<8401,2,IF($B1539<11201,2.5,1000))))),\"\")","v":""},0,{"$f":"IF(IF(LEN(A1539)>0,ERROR.TYPE(MATCH(H1539,H$1:H1538,0))=7,0),C1539,\"\")","v":""},""]
[null,null,null,null,"",{"$f":"IF(E1540<>\"#NV\",B1540,\"\")","v":0},{"$f":"IF(IF(LEN(A1540)>0,ERROR.TYPE(MATCH(H1540,H$1:H1539,0))=7,0),C1540,\"\")","v":""},{"$f":"D1540&A1540","v":""}]
[null,null,null,null,"",0,{"$f":"IF(IF(LEN(A1541)>0,ERROR.TYPE(MATCH(H1541,H$1:H1540,0))=7,0),C1541,\"\")","v":""},""]
[null,null,null,null,"",0,{"$f":"IF(IF(LEN(A1542)>0,ERROR.TYPE(MATCH(H1542,H$1:H1541,0))=7,0),C1542,\"\")","v":""},""]
[null,null,null,null,"",0,{"$f":"IF(IF(LEN(A1543)>0,ERROR.TYPE(MATCH(H1543,H$1:H1542,0))=7,0),C1543,\"\")","v":""},""]
[null,null,null,null,"",0,{"$f":"IF(IF(LEN(A1544)>0,ERROR.TYPE(MATCH(H1544,H$1:H1543,0))=7,0),C1544,\"\")","v":""},""]
[null,null,null,null,"",0,{"$f":"IF(IF(LEN(A1545)>0,ERROR.TYPE(MATCH(H1545,H$1:H1544,0))=7,0),C1545,\"\")","v":""},""]
[null,null,null,null,"",0,{"$f":"IF(IF(LEN(A1546)>0,ERROR.TYPE(MATCH(H1546,H$1:H1545,0))=7,0),C1546,\"\")","v":""},""]
[null,null,null,null,"",0,{"$f":"IF(IF(LEN(A1547)>0,ERROR.TYPE(MATCH(H1547,H$1:H1546,0))=7,0),C1547,\"\")","v":""},""]
[null,null,null,null,"",0,{"$f":"IF(IF(LEN(A1548)>0,ERROR.TYPE(MATCH(H1548,H$1:H1547,0))=7,0),C1548,\"\")","v":""},""]
[null,null,null,null,"",0,{"$f":"IF(IF(LEN(A1549)>0,ERROR.TYPE(MATCH(H1549,H$1:H1548,0))=7,0),C1549,\"\")","v":""},""]
[null,null,null,null,"",0,{"$f":"IF(IF(LEN(A1550)>0,ERROR.TYPE(MATCH(H1550,H$1:H1549,0))=7,0),C1550,\"\")","v":""},""]
[null,null,null,null,"",0,{"$f":"IF(IF(LEN(A1551)>0,ERROR.TYPE(MATCH(H1551,H$1:H1550,0))=7,0),C1551,\"\")","v":""},""]
[null,null,null,null,"",0,{"$f":"IF(IF(LEN(A1552)>0,ERROR.TYPE(MATCH(H1552,H$1:H1551,0))=7,0),C1552,\"\")","v":""},""]
[null,null,null,null,"",0,{"$f":"IF(IF(LEN(A1553)>0,ERROR.TYPE(MATCH(H1553,H$1:H1552,0))=7,0),C1553,\"\")","v":""},""]
[null,null,null,null,"",0,{"$f":"IF(IF(LEN(A1554)>0,ERROR.TYPE(MATCH(H1554,H$1:H1553,0))=7,0),C1554,\"\")","v":""},""]
[null,null,null,null,"",0,{"$f":"IF(IF(LEN(A1555)>0,ERROR.TYPE(MATCH(H1555,H$1:H1554,0))=7,0),C1555,\"\")","v":""},""]
[null,null,null,null,"",0,{"$f":"IF(IF(LEN(A1556)>0,ERROR.TYPE(MATCH(H1556,H$1:H1555,0))=7,0),C1556,\"\")","v":""},""]
[null,null,null,null,"",0,{"$f":"IF(IF(LEN(A1557)>0,ERROR.TYPE(MATCH(H1557,H$1:H1556,0))=7,0),C1557,\"\")","v":""},""]
[null,null,null,null,"",0,{"$f":"IF(IF(LEN(A1558)>0,ERROR.TYPE(MATCH(H1558,H$1:H1557,0))=7,0),C1558,\"\")","v":""},""]
[null,null,null,null,"",0,{"$f":"IF(IF(LEN(A1559)>0,ERROR.TYPE(MATCH(H1559,H$1:H1558,0))=7,0),C1559,\"\")","v":""},""]
[null,null,null,null,"",0,{"$f":"IF(IF(LEN(A1560)>0,ERROR.TYPE(MATCH(H1560,H$1:H1559,0))=7,0),C1560,\"\")","v":""},""]
[null,null,null,null,"",0,{"$f":"IF(IF(LEN(A1561)>0,ERROR.TYPE(MATCH(H1561,H$1:H1560,0))=7,0),C1561,\"\")","v":""},""]
[null,null,null,null,"",0,{"$f":"IF(IF(LEN(A1562)>0,ERROR.TYPE(MATCH(H1562,H$1:H1561,0))=7,0),C1562,\"\")","v":""},""]
[null,null,null,null,"",0,{"$f":"IF(IF(LEN(A1563)>0,ERROR.TYPE(MATCH(H1563,H$1:H1562,0))=7,0),C1563,\"\")","v":""},""]
[null,null,null,null,"",0,{"$f":"IF(IF(LEN(A1564)>0,ERROR.TYPE(MATCH(H1564,H$1:H1563,0))=7,0),C1564,\"\")","v":""},""]
[null,null,null,null,"",0,{"$f":"IF(IF(LEN(A1565)>0,ERROR.TYPE(MATCH(H1565,H$1:H1564,0))=7,0),C1565,\"\")","v":""},""]
[null,null,null,null,"",0,{"$f":"IF(IF(LEN(A1566)>0,ERROR.TYPE(MATCH(H1566,H$1:H1565,0))=7,0),C1566,\"\")","v":""},""]
[null,null,null,null,"",0,{"$f":"IF(IF(LEN(A1567)>0,ERROR.TYPE(MATCH(H1567,H$1:H1566,0))=7,0),C1567,\"\")","v":""},""]
[null,null,null,null,"",0,{"$f":"IF(IF(LEN(A1568)>0,ERROR.TYPE(MATCH(H1568,H$1:H1567,0))=7,0),C1568,\"\")","v":""},""]
[null,null,null,null,"",0,{"$f":"IF(IF(LEN(A1569)>0,ERROR.TYPE(MATCH(H1569,H$1:H1568,0))=7,0),C1569,\"\")","v":""},""]
[null,null,null,null,"",0,{"$f":"IF(IF(LEN(A1570)>0,ERROR.TYPE(MATCH(H1570,H$1:H1569,0))=7,0),C1570,\"\")","v":""},""]
[null,null,null,null,"",0,{"$f":"IF(IF(LEN(A1571)>0,ERROR.TYPE(MATCH(H1571,H$1:H1570,0))=7,0),C1571,\"\")","v":""},""]
[null,null,null,null,"",0,{"$f":"IF(IF(LEN(A1572)>0,ERROR.TYPE(MATCH(H1572,H$1:H1571,0))=7,0),C1572,\"\")","v":""},""]
[null,null,null,null,"",0,{"$f":"IF(IF(LEN(A1573)>0,ERROR.TYPE(MATCH(H1573,H$1:H1572,0))=7,0),C1573,\"\")","v":""},""]
[null,null,null,null,"",0,{"$f":"IF(IF(LEN(A1574)>0,ERROR.TYPE(MATCH(H1574,H$1:H1573,0))=7,0),C1574,\"\")","v":""},""]
[null,null,null,null,"",0,{"$f":"IF(IF(LEN(A1575)>0,ERROR.TYPE(MATCH(H1575,H$1:H1574,0))=7,0),C1575,\"\")","v":""},""]
[null,null,null,null,"",0,{"$f":"IF(IF(LEN(A1576)>0,ERROR.TYPE(MATCH(H1576,H$1:H1575,0))=7,0),C1576,\"\")","v":""},""]
[null,null,null,null,"",0,{"$f":"IF(IF(LEN(A1577)>0,ERROR.TYPE(MATCH(H1577,H$1:H1576,0))=7,0),C1577,\"\")","v":""},""]
[null,null,null,null,"",0,{"$f":"IF(IF(LEN(A1578)>0,ERROR.TYPE(MATCH(H1578,H$1:H1577,0))=7,0),C1578,\"\")","v":""},""]
[null,null,null,null,"",0,{"$f":"IF(IF(LEN(A1579)>0,ERROR.TYPE(MATCH(H1579,H$1:H1578,0))=7,0),C1579,\"\")","v":""},""]
[null,null,null,null,"",0,{"$f":"IF(IF(LEN(A1580)>0,ERROR.TYPE(MATCH(H1580,H$1:H1579,0))=7,0),C1580,\"\")","v":""},""]
[null,null,null,null,"",0,{"$f":"IF(IF(LEN(A1581)>0,ERROR.TYPE(MATCH(H1581,H$1:H1580,0))=7,0),C1581,\"\")","v":""},""]
[null,null,null,null,"",0,{"$f":"IF(IF(LEN(A1582)>0,ERROR.TYPE(MATCH(H1582,H$1:H1581,0))=7,0),C1582,\"\")","v":""},""]
[null,null,null,null,"",0,{"$f":"IF(IF(LEN(A1583)>0,ERROR.TYPE(MATCH(H1583,H$1:H1582,0))=7,0),C1583,\"\")","v":""},""]
[null,null,null,null,"",0,{"$f":"IF(IF(LEN(A1584)>0,ERROR.TYPE(MATCH(H1584,H$1:H1583,0))=7,0),C1584,\"\")","v":""},""]
[null,null,null,null,"",0,{"$f":"IF(IF(LEN(A1585)>0,ERROR.TYPE(MATCH(H1585,H$1:H1584,0))=7,0),C1585,\"\")","v":""},""]
[null,null,null,null,"",0,{"$f":"IF(IF(LEN(A1586)>0,ERROR.TYPE(MATCH(H1586,H$1:H1585,0))=7,0),C1586,\"\")","v":""},""]
[null,null,null,null,"",0,{"$f":"IF(IF(LEN(A1587)>0,ERROR.TYPE(MATCH(H1587,H$1:H1586,0))=7,0),C1587,\"\")","v":""},""]
[null,null,null,null,"",0,{"$f":"IF(IF(LEN(A1588)>0,ERROR.TYPE(MATCH(H1588,H$1:H1587,0))=7,0),C1588,\"\")","v":""},""]
[null,null,null,null,"",0,{"$f":"IF(IF(LEN(A1589)>0,ERROR.TYPE(MATCH(H1589,H$1:H1588,0))=7,0),C1589,\"\")","v":""},""]
[null,null,null,null,"",0,{"$f":"IF(IF(LEN(A1590)>0,ERROR.TYPE(MATCH(H1590,H$1:H1589,0))=7,0),C1590,\"\")","v":""},""]
[null,null,null,null,"",0,{"$f":"IF(IF(LEN(A1591)>0,ERROR.TYPE(MATCH(H1591,H$1:H1590,0))=7,0),C1591,\"\")","v":""},""]
[null,null,null,null,"",0,{"$f":"IF(IF(LEN(A1592)>0,ERROR.TYPE(MATCH(H1592,H$1:H1591,0))=7,0),C1592,\"\")","v":""},""]
[null,null,null,null,"",0,{"$f":"IF(IF(LEN(A1593)>0,ERROR.TYPE(MATCH(H1593,H$1:H1592,0))=7,0),C1593,\"\")","v":""},""]
[null,null,null,null,"",0,{"$f":"IF(IF(LEN(A1594)>0,ERROR.TYPE(MATCH(H1594,H$1:H1593,0))=7,0),C1594,\"\")","v":""},""]
[null,null,null,null,"",0,{"$f":"IF(IF(LEN(A1595)>0,ERROR.TYPE(MATCH(H1595,H$1:H1594,0))=7,0),C1595,\"\")","v":""},""]
[null,null,null,null,"",0,{"$f":"IF(IF(LEN(A1596)>0,ERROR.TYPE(MATCH(H1596,H$1:H1595,0))=7,0),C1596,\"\")","v":""},""]
[null,null,null,null,"",0,{"$f":"IF(IF(LEN(A1597)>0,ERROR.TYPE(MATCH(H1597,H$1:H1596,0))=7,0),C1597,\"\")","v":""},""]
[null,null,null,null,"",0,{"$f":"IF(IF(LEN(A1598)>0,ERROR.TYPE(MATCH(H1598,H$1:H1597,0))=7,0),C1598,\"\")","v":""},""]
[null,null,null,null,"",0,{"$f":"IF(IF(LEN(A1599)>0,ERROR.TYPE(MATCH(H1599,H$1:H1598,0))=7,0),C1599,\"\")","v":""},""]
[null,null,null,null,"",0,{"$f":"IF(IF(LEN(A1600)>0,ERROR.TYPE(MATCH(H1600,H$1:H1599,0))=7,0),C1600,\"\")","v":""},""]
[null,null,null,null,"",0,{"$f":"IF(IF(LEN(A1601)>0,ERROR.TYPE(MATCH(H1601,H$1:H1600,0))=7,0),C1601,\"\")","v":""},""]
[null,null,null,null,"",0,{"$f":"IF(IF(LEN(A1602)>0,ERROR.TYPE(MATCH(H1602,H$1:H1601,0))=7,0),C1602,\"\")","v":""},""]
[null,null,null,null,{"$f":"IF($G1603<>\"\",IF($B1603<400,0.5,IF($B1603<2801,1,IF($B1603<5601,1.5,IF($B1603<8401,2,IF($B1603<11201,2.5,1000))))),\"\")","v":""},0,{"$f":"IF(IF(LEN(A1603)>0,ERROR.TYPE(MATCH(H1603,H$1:H1602,0))=7,0),C1603,\"\")","v":""},""]
[null,null,null,null,"",{"$f":"IF(E1604<>\"#NV\",B1604,\"\")","v":0},{"$f":"IF(IF(LEN(A1604)>0,ERROR.TYPE(MATCH(H1604,H$1:H1603,0))=7,0),C1604,\"\")","v":""},{"$f":"D1604&A1604","v":""}]
[null,null,null,null,"",0,{"$f":"IF(IF(LEN(A1605)>0,ERROR.TYPE(MATCH(H1605,H$1:H1604,0))=7,0),C1605,\"\")","v":""},""]
[null,null,null,null,"",0,{"$f":"IF(IF(LEN(A1606)>0,ERROR.TYPE(MATCH(H1606,H$1:H1605,0))=7,0),C1606,\"\")","v":""},""]
[null,null,null,null,"",0,{"$f":"IF(IF(LEN(A1607)>0,ERROR.TYPE(MATCH(H1607,H$1:H1606,0))=7,0),C1607,\"\")","v":""},""]
[null,null,null,null,"",0,{"$f":"IF(IF(LEN(A1608)>0,ERROR.TYPE(MATCH(H1608,H$1:H1607,0))=7,0),C1608,\"\")","v":""},""]
[null,null,null,null,"",0,{"$f":"IF(IF(LEN(A1609)>0,ERROR.TYPE(MATCH(H1609,H$1:H1608,0))=7,0),C1609,\"\")","v":""},""]
[null,null,null,null,"",0,{"$f":"IF(IF(LEN(A1610)>0,ERROR.TYPE(MATCH(H1610,H$1:H1609,0))=7,0),C1610,\"\")","v":""},""]
[null,null,null,null,"",0,{"$f":"IF(IF(LEN(A1611)>0,ERROR.TYPE(MATCH(H1611,H$1:H1610,0))=7,0),C1611,\"\")","v":""},""]
[null,null,null,null,"",0,{"$f":"IF(IF(LEN(A1612)>0,ERROR.TYPE(MATCH(H1612,H$1:H1611,0))=7,0),C1612,\"\")","v":""},""]
[null,null,null,null,"",0,{"$f":"IF(IF(LEN(A1613)>0,ERROR.TYPE(MATCH(H1613,H$1:H1612,0))=7,0),C1613,\"\")","v":""},""]
[null,null,null,null,"",0,{"$f":"IF(IF(LEN(A1614)>0,ERROR.TYPE(MATCH(H1614,H$1:H1613,0))=7,0),C1614,\"\")","v":""},""]
[null,null,null,null,"",0,{"$f":"IF(IF(LEN(A1615)>0,ERROR.TYPE(MATCH(H1615,H$1:H1614,0))=7,0),C1615,\"\")","v":""},""]
[null,null,null,null,"",0,{"$f":"IF(IF(LEN(A1616)>0,ERROR.TYPE(MATCH(H1616,H$1:H1615,0))=7,0),C1616,\"\")","v":""},""]
[null,null,null,null,"",0,{"$f":"IF(IF(LEN(A1617)>0,ERROR.TYPE(MATCH(H1617,H$1:H1616,0))=7,0),C1617,\"\")","v":""},""]
[null,null,null,null,"",0,{"$f":"IF(IF(LEN(A1618)>0,ERROR.TYPE(MATCH(H1618,H$1:H1617,0))=7,0),C1618,\"\")","v":""},""]
[null,null,null,null,"",0,{"$f":"IF(IF(LEN(A1619)>0,ERROR.TYPE(MATCH(H1619,H$1:H1618,0))=7,0),C1619,\"\")","v":""},""]
[null,null,null,null,"",0,{"$f":"IF(IF(LEN(A1620)>0,ERROR.TYPE(MATCH(H1620,H$1:H1619,0))=7,0),C1620,\"\")","v":""},""]
[null,null,null,null,"",0,{"$f":"IF(IF(LEN(A1621)>0,ERROR.TYPE(MATCH(H1621,H$1:H1620,0))=7,0),C1621,\"\")","v":""},""]
[null,null,null,null,"",0,{"$f":"IF(IF(LEN(A1622)>0,ERROR.TYPE(MATCH(H1622,H$1:H1621,0))=7,0),C1622,\"\")","v":""},""]
[null,null,null,null,"",0,{"$f":"IF(IF(LEN(A1623)>0,ERROR.TYPE(MATCH(H1623,H$1:H1622,0))=7,0),C1623,\"\")","v":""},""]
[null,null,null,null,"",0,{"$f":"IF(IF(LEN(A1624)>0,ERROR.TYPE(MATCH(H1624,H$1:H1623,0))=7,0),C1624,\"\")","v":""},""]
[null,null,null,null,"",0,{"$f":"IF(IF(LEN(A1625)>0,ERROR.TYPE(MATCH(H1625,H$1:H1624,0))=7,0),C1625,\"\")","v":""},""]
[null,null,null,null,"",0,{"$f":"IF(IF(LEN(A1626)>0,ERROR.TYPE(MATCH(H1626,H$1:H1625,0))=7,0),C1626,\"\")","v":""},""]
[null,null,null,null,"",0,{"$f":"IF(IF(LEN(A1627)>0,ERROR.TYPE(MATCH(H1627,H$1:H1626,0))=7,0),C1627,\"\")","v":""},""]
[null,null,null,null,"",0,{"$f":"IF(IF(LEN(A1628)>0,ERROR.TYPE(MATCH(H1628,H$1:H1627,0))=7,0),C1628,\"\")","v":""},""]
[null,null,null,null,"",0,{"$f":"IF(IF(LEN(A1629)>0,ERROR.TYPE(MATCH(H1629,H$1:H1628,0))=7,0),C1629,\"\")","v":""},""]
[null,null,null,null,"",0,{"$f":"IF(IF(LEN(A1630)>0,ERROR.TYPE(MATCH(H1630,H$1:H1629,0))=7,0),C1630,\"\")","v":""},""]
[null,null,null,null,"",0,{"$f":"IF(IF(LEN(A1631)>0,ERROR.TYPE(MATCH(H1631,H$1:H1630,0))=7,0),C1631,\"\")","v":""},""]
[null,null,null,null,"",0,{"$f":"IF(IF(LEN(A1632)>0,ERROR.TYPE(MATCH(H1632,H$1:H1631,0))=7,0),C1632,\"\")","v":""},""]
[null,null,null,null,"",0,{"$f":"IF(IF(LEN(A1633)>0,ERROR.TYPE(MATCH(H1633,H$1:H1632,0))=7,0),C1633,\"\")","v":""},""]
[null,null,null,null,"",0,{"$f":"IF(IF(LEN(A1634)>0,ERROR.TYPE(MATCH(H1634,H$1:H1633,0))=7,0),C1634,\"\")","v":""},""]
[null,null,null,null,"",0,{"$f":"IF(IF(LEN(A1635)>0,ERROR.TYPE(MATCH(H1635,H$1:H1634,0))=7,0),C1635,\"\")","v":""},""]
[null,null,null,null,"",0,{"$f":"IF(IF(LEN(A1636)>0,ERROR.TYPE(MATCH(H1636,H$1:H1635,0))=7,0),C1636,\"\")","v":""},""]
[null,null,null,null,"",0,{"$f":"IF(IF(LEN(A1637)>0,ERROR.TYPE(MATCH(H1637,H$1:H1636,0))=7,0),C1637,\"\")","v":""},""]
[null,null,null,null,"",0,{"$f":"IF(IF(LEN(A1638)>0,ERROR.TYPE(MATCH(H1638,H$1:H1637,0))=7,0),C1638,\"\")","v":""},""]
[null,null,null,null,"",0,{"$f":"IF(IF(LEN(A1639)>0,ERROR.TYPE(MATCH(H1639,H$1:H1638,0))=7,0),C1639,\"\")","v":""},""]
[null,null,null,null,"",0,{"$f":"IF(IF(LEN(A1640)>0,ERROR.TYPE(MATCH(H1640,H$1:H1639,0))=7,0),C1640,\"\")","v":""},""]
[null,null,null,null,"",0,{"$f":"IF(IF(LEN(A1641)>0,ERROR.TYPE(MATCH(H1641,H$1:H1640,0))=7,0),C1641,\"\")","v":""},""]
[null,null,null,null,"",0,{"$f":"IF(IF(LEN(A1642)>0,ERROR.TYPE(MATCH(H1642,H$1:H1641,0))=7,0),C1642,\"\")","v":""},""]
[null,null,null,null,"",0,{"$f":"IF(IF(LEN(A1643)>0,ERROR.TYPE(MATCH(H1643,H$1:H1642,0))=7,0),C1643,\"\")","v":""},""]
[null,null,null,null,"",0,{"$f":"IF(IF(LEN(A1644)>0,ERROR.TYPE(MATCH(H1644,H$1:H1643,0))=7,0),C1644,\"\")","v":""},""]
[null,null,null,null,"",0,{"$f":"IF(IF(LEN(A1645)>0,ERROR.TYPE(MATCH(H1645,H$1:H1644,0))=7,0),C1645,\"\")","v":""},""]
[null,null,null,null,"",0,{"$f":"IF(IF(LEN(A1646)>0,ERROR.TYPE(MATCH(H1646,H$1:H1645,0))=7,0),C1646,\"\")","v":""},""]
[null,null,null,null,"",0,{"$f":"IF(IF(LEN(A1647)>0,ERROR.TYPE(MATCH(H1647,H$1:H1646,0))=7,0),C1647,\"\")","v":""},""]
[null,null,null,null,"",0,{"$f":"IF(IF(LEN(A1648)>0,ERROR.TYPE(MATCH(H1648,H$1:H1647,0))=7,0),C1648,\"\")","v":""},""]
[null,null,null,null,"",0,{"$f":"IF(IF(LEN(A1649)>0,ERROR.TYPE(MATCH(H1649,H$1:H1648,0))=7,0),C1649,\"\")","v":""},""]
[null,null,null,null,"",0,{"$f":"IF(IF(LEN(A1650)>0,ERROR.TYPE(MATCH(H1650,H$1:H1649,0))=7,0),C1650,\"\")","v":""},""]
[null,null,null,null,"",0,{"$f":"IF(IF(LEN(A1651)>0,ERROR.TYPE(MATCH(H1651,H$1:H1650,0))=7,0),C1651,\"\")","v":""},""]
[null,null,null,null,"",0,{"$f":"IF(IF(LEN(A1652)>0,ERROR.TYPE(MATCH(H1652,H$1:H1651,0))=7,0),C1652,\"\")","v":""},""]
[null,null,null,null,"",0,{"$f":"IF(IF(LEN(A1653)>0,ERROR.TYPE(MATCH(H1653,H$1:H1652,0))=7,0),C1653,\"\")","v":""},""]
[null,null,null,null,"",0,{"$f":"IF(IF(LEN(A1654)>0,ERROR.TYPE(MATCH(H1654,H$1:H1653,0))=7,0),C1654,\"\")","v":""},""]
[null,null,null,null,"",0,{"$f":"IF(IF(LEN(A1655)>0,ERROR.TYPE(MATCH(H1655,H$1:H1654,0))=7,0),C1655,\"\")","v":""},""]
[null,null,null,null,"",0,{"$f":"IF(IF(LEN(A1656)>0,ERROR.TYPE(MATCH(H1656,H$1:H1655,0))=7,0),C1656,\"\")","v":""},""]
[null,null,null,null,"",0,{"$f":"IF(IF(LEN(A1657)>0,ERROR.TYPE(MATCH(H1657,H$1:H1656,0))=7,0),C1657,\"\")","v":""},""]
[null,null,null,null,"",0,{"$f":"IF(IF(LEN(A1658)>0,ERROR.TYPE(MATCH(H1658,H$1:H1657,0))=7,0),C1658,\"\")","v":""},""]
[null,null,null,null,"",0,{"$f":"IF(IF(LEN(A1659)>0,ERROR.TYPE(MATCH(H1659,H$1:H1658,0))=7,0),C1659,\"\")","v":""},""]
[null,null,null,null,"",0,{"$f":"IF(IF(LEN(A1660)>0,ERROR.TYPE(MATCH(H1660,H$1:H1659,0))=7,0),C1660,\"\")","v":""},""]
[null,null,null,null,"",0,{"$f":"IF(IF(LEN(A1661)>0,ERROR.TYPE(MATCH(H1661,H$1:H1660,0))=7,0),C1661,\"\")","v":""},""]
[null,null,null,null,"",0,{"$f":"IF(IF(LEN(A1662)>0,ERROR.TYPE(MATCH(H1662,H$1:H1661,0))=7,0),C1662,\"\")","v":""},""]
[null,null,null,null,"",0,{"$f":"IF(IF(LEN(A1663)>0,ERROR.TYPE(MATCH(H1663,H$1:H1662,0))=7,0),C1663,\"\")","v":""},""]
[null,null,null,null,"",0,{"$f":"IF(IF(LEN(A1664)>0,ERROR.TYPE(MATCH(H1664,H$1:H1663,0))=7,0),C1664,\"\")","v":""},""]
[null,null,null,null,"",0,{"$f":"IF(IF(LEN(A1665)>0,ERROR.TYPE(MATCH(H1665,H$1:H1664,0))=7,0),C1665,\"\")","v":""},""]
[null,null,null,null,"",0,{"$f":"IF(IF(LEN(A1666)>0,ERROR.TYPE(MATCH(H1666,H$1:H1665,0))=7,0),C1666,\"\")","v":""},""]
[null,null,null,null,{"$f":"IF($G1667<>\"\",IF($B1667<400,0.5,IF($B1667<2801,1,IF($B1667<5601,1.5,IF($B1667<8401,2,IF($B1667<11201,2.5,1000))))),\"\")","v":""},0,{"$f":"IF(IF(LEN(A1667)>0,ERROR.TYPE(MATCH(H1667,H$1:H1666,0))=7,0),C1667,\"\")","v":""},""]
[null,null,null,null,"",{"$f":"IF(E1668<>\"#NV\",B1668,\"\")","v":0},{"$f":"IF(IF(LEN(A1668)>0,ERROR.TYPE(MATCH(H1668,H$1:H1667,0))=7,0),C1668,\"\")","v":""},{"$f":"D1668&A1668","v":""}]
[null,null,null,null,"",0,{"$f":"IF(IF(LEN(A1669)>0,ERROR.TYPE(MATCH(H1669,H$1:H1668,0))=7,0),C1669,\"\")","v":""},""]
[null,null,null,null,"",0,{"$f":"IF(IF(LEN(A1670)>0,ERROR.TYPE(MATCH(H1670,H$1:H1669,0))=7,0),C1670,\"\")","v":""},""]
[null,null,null,null,"",0,{"$f":"IF(IF(LEN(A1671)>0,ERROR.TYPE(MATCH(H1671,H$1:H1670,0))=7,0),C1671,\"\")","v":""},""]
[null,null,null,null,"",0,{"$f":"IF(IF(LEN(A1672)>0,ERROR.TYPE(MATCH(H1672,H$1:H1671,0))=7,0),C1672,\"\")","v":""},""]
[null,null,null,null,"",0,{"$f":"IF(IF(LEN(A1673)>0,ERROR.TYPE(MATCH(H1673,H$1:H1672,0))=7,0),C1673,\"\")","v":""},""]
[null,null,null,null,"",0,{"$f":"IF(IF(LEN(A1674)>0,ERROR.TYPE(MATCH(H1674,H$1:H1673,0))=7,0),C1674,\"\")","v":""},""]
[null,null,null,null,"",0,{"$f":"IF(IF(LEN(A1675)>0,ERROR.TYPE(MATCH(H1675,H$1:H1674,0))=7,0),C1675,\"\")","v":""},""]
[null,null,null,null,"",0,{"$f":"IF(IF(LEN(A1676)>0,ERROR.TYPE(MATCH(H1676,H$1:H1675,0))=7,0),C1676,\"\")","v":""},""]
[null,null,null,null,"",0,{"$f":"IF(IF(LEN(A1677)>0,ERROR.TYPE(MATCH(H1677,H$1:H1676,0))=7,0),C1677,\"\")","v":""},""]
[null,null,null,null,"",0,{"$f":"IF(IF(LEN(A1678)>0,ERROR.TYPE(MATCH(H1678,H$1:H1677,0))=7,0),C1678,\"\")","v":""},""]
[null,null,null,null,"",0,{"$f":"IF(IF(LEN(A1679)>0,ERROR.TYPE(MATCH(H1679,H$1:H1678,0))=7,0),C1679,\"\")","v":""},""]
[null,null,null,null,"",0,{"$f":"IF(IF(LEN(A1680)>0,ERROR.TYPE(MATCH(H1680,H$1:H1679,0))=7,0),C1680,\"\")","v":""},""]
[null,null,null,null,"",0,{"$f":"IF(IF(LEN(A1681)>0,ERROR.TYPE(MATCH(H1681,H$1:H1680,0))=7,0),C1681,\"\")","v":""},""]
[null,null,null,null,"",0,{"$f":"IF(IF(LEN(A1682)>0,ERROR.TYPE(MATCH(H1682,H$1:H1681,0))=7,0),C1682,\"\")","v":""},""]
[null,null,null,null,"",0,{"$f":"IF(IF(LEN(A1683)>0,ERROR.TYPE(MATCH(H1683,H$1:H1682,0))=7,0),C1683,\"\")","v":""},""]
[null,null,null,null,"",0,{"$f":"IF(IF(LEN(A1684)>0,ERROR.TYPE(MATCH(H1684,H$1:H1683,0))=7,0),C1684,\"\")","v":""},""]
[null,null,null,null,"",0,{"$f":"IF(IF(LEN(A1685)>0,ERROR.TYPE(MATCH(H1685,H$1:H1684,0))=7,0),C1685,\"\")","v":""},""]
[null,null,null,null,"",0,{"$f":"IF(IF(LEN(A1686)>0,ERROR.TYPE(MATCH(H1686,H$1:H1685,0))=7,0),C1686,\"\")","v":""},""]
[null,null,null,null,"",0,{"$f":"IF(IF(LEN(A1687)>0,ERROR.TYPE(MATCH(H1687,H$1:H1686,0))=7,0),C1687,\"\")","v":""},""]
[null,null,null,null,"",0,{"$f":"IF(IF(LEN(A1688)>0,ERROR.TYPE(MATCH(H1688,H$1:H1687,0))=7,0),C1688,\"\")","v":""},""]
[null,null,null,null,"",0,{"$f":"IF(IF(LEN(A1689)>0,ERROR.TYPE(MATCH(H1689,H$1:H1688,0))=7,0),C1689,\"\")","v":""},""]
[null,null,null,null,"",0,{"$f":"IF(IF(LEN(A1690)>0,ERROR.TYPE(MATCH(H1690,H$1:H1689,0))=7,0),C1690,\"\")","v":""},""]
[null,null,null,null,"",0,{"$f":"IF(IF(LEN(A1691)>0,ERROR.TYPE(MATCH(H1691,H$1:H1690,0))=7,0),C1691,\"\")","v":""},""]
[null,null,null,null,"",0,{"$f":"IF(IF(LEN(A1692)>0,ERROR.TYPE(MATCH(H1692,H$1:H1691,0))=7,0),C1692,\"\")","v":""},""]
[null,null,null,null,"",0,{"$f":"IF(IF(LEN(A1693)>0,ERROR.TYPE(MATCH(H1693,H$1:H1692,0))=7,0),C1693,\"\")","v":""},""]
[null,null,null,null,"",0,{"$f":"IF(IF(LEN(A1694)>0,ERROR.TYPE(MATCH(H1694,H$1:H1693,0))=7,0),C1694,\"\")","v":""},""]
[null,null,null,null,"",0,{"$f":"IF(IF(LEN(A1695)>0,ERROR.TYPE(MATCH(H1695,H$1:H1694,0))=7,0),C1695,\"\")","v":""},""]
[null,null,null,null,"",0,{"$f":"IF(IF(LEN(A1696)>0,ERROR.TYPE(MATCH(H1696,H$1:H1695,0))=7,0),C1696,\"\")","v":""},""]
[null,null,null,null,"",0,{"$f":"IF(IF(LEN(A1697)>0,ERROR.TYPE(MATCH(H1697,H$1:H1696,0))=7,0),C1697,\"\")","v":""},""]
[null,null,null,null,"",0,{"$f":"IF(IF(LEN(A1698)>0,ERROR.TYPE(MATCH(H1698,H$1:H1697,0))=7,0),C1698,\"\")","v":""},""]
[null,null,null,null,"",0,{"$f":"IF(IF(LEN(A1699)>0,ERROR.TYPE(MATCH(H1699,H$1:H1698,0))=7,0),C1699,\"\")","v":""},""]
[null,null,null,null,"",0,{"$f":"IF(IF(LEN(A1700)>0,ERROR.TYPE(MATCH(H1700,H$1:H1699,0))=7,0),C1700,\"\")","v":""},""]
[null,null,null,null,"",0,{"$f":"IF(IF(LEN(A1701)>0,ERROR.TYPE(MATCH(H1701,H$1:H1700,0))=7,0),C1701,\"\")","v":""},""]
[null,null,null,null,"",0,{"$f":"IF(IF(LEN(A1702)>0,ERROR.TYPE(MATCH(H1702,H$1:H1701,0))=7,0),C1702,\"\")","v":""},""]
[null,null,null,null,"",0,{"$f":"IF(IF(LEN(A1703)>0,ERROR.TYPE(MATCH(H1703,H$1:H1702,0))=7,0),C1703,\"\")","v":""},""]
[null,null,null,null,"",0,{"$f":"IF(IF(LEN(A1704)>0,ERROR.TYPE(MATCH(H1704,H$1:H1703,0))=7,0),C1704,\"\")","v":""},""]
[null,null,null,null,"",0,{"$f":"IF(IF(LEN(A1705)>0,ERROR.TYPE(MATCH(H1705,H$1:H1704,0))=7,0),C1705,\"\")","v":""},""]
[null,null,null,null,"",0,{"$f":"IF(IF(LEN(A1706)>0,ERROR.TYPE(MATCH(H1706,H$1:H1705,0))=7,0),C1706,\"\")","v":""},""]
[null,null,null,null,"",0,{"$f":"IF(IF(LEN(A1707)>0,ERROR.TYPE(MATCH(H1707,H$1:H1706,0))=7,0),C1707,\"\")","v":""},""]
[null,null,null,null,"",0,{"$f":"IF(IF(LEN(A1708)>0,ERROR.TYPE(MATCH(H1708,H$1:H1707,0))=7,0),C1708,\"\")","v":""},""]
[null,null,null,null,"",0,{"$f":"IF(IF(LEN(A1709)>0,ERROR.TYPE(MATCH(H1709,H$1:H1708,0))=7,0),C1709,\"\")","v":""},""]
[null,null,null,null,"",0,{"$f":"IF(IF(LEN(A1710)>0,ERROR.TYPE(MATCH(H1710,H$1:H1709,0))=7,0),C1710,\"\")","v":""},""]
[null,null,null,null,"",0,{"$f":"IF(IF(LEN(A1711)>0,ERROR.TYPE(MATCH(H1711,H$1:H1710,0))=7,0),C1711,\"\")","v":""},""]
[null,null,null,null,"",0,{"$f":"IF(IF(LEN(A1712)>0,ERROR.TYPE(MATCH(H1712,H$1:H1711,0))=7,0),C1712,\"\")","v":""},""]
[null,null,null,null,"",0,{"$f":"IF(IF(LEN(A1713)>0,ERROR.TYPE(MATCH(H1713,H$1:H1712,0))=7,0),C1713,\"\")","v":""},""]
[null,null,null,null,"",0,{"$f":"IF(IF(LEN(A1714)>0,ERROR.TYPE(MATCH(H1714,H$1:H1713,0))=7,0),C1714,\"\")","v":""},""]
[null,null,null,null,"",0,{"$f":"IF(IF(LEN(A1715)>0,ERROR.TYPE(MATCH(H1715,H$1:H1714,0))=7,0),C1715,\"\")","v":""},""]
[null,null,null,null,"",0,{"$f":"IF(IF(LEN(A1716)>0,ERROR.TYPE(MATCH(H1716,H$1:H1715,0))=7,0),C1716,\"\")","v":""},""]
[null,null,null,null,"",0,{"$f":"IF(IF(LEN(A1717)>0,ERROR.TYPE(MATCH(H1717,H$1:H1716,0))=7,0),C1717,\"\")","v":""},""]
[null,null,null,null,"",0,{"$f":"IF(IF(LEN(A1718)>0,ERROR.TYPE(MATCH(H1718,H$1:H1717,0))=7,0),C1718,\"\")","v":""},""]
[null,null,null,null,"",0,{"$f":"IF(IF(LEN(A1719)>0,ERROR.TYPE(MATCH(H1719,H$1:H1718,0))=7,0),C1719,\"\")","v":""},""]
[null,null,null,null,"",0,{"$f":"IF(IF(LEN(A1720)>0,ERROR.TYPE(MATCH(H1720,H$1:H1719,0))=7,0),C1720,\"\")","v":""},""]
[null,null,null,null,"",0,{"$f":"IF(IF(LEN(A1721)>0,ERROR.TYPE(MATCH(H1721,H$1:H1720,0))=7,0),C1721,\"\")","v":""},""]
[null,null,null,null,"",0,{"$f":"IF(IF(LEN(A1722)>0,ERROR.TYPE(MATCH(H1722,H$1:H1721,0))=7,0),C1722,\"\")","v":""},""]
[null,null,null,null,"",0,{"$f":"IF(IF(LEN(A1723)>0,ERROR.TYPE(MATCH(H1723,H$1:H1722,0))=7,0),C1723,\"\")","v":""},""]
[null,null,null,null,"",0,{"$f":"IF(IF(LEN(A1724)>0,ERROR.TYPE(MATCH(H1724,H$1:H1723,0))=7,0),C1724,\"\")","v":""},""]
[null,null,null,null,"",0,{"$f":"IF(IF(LEN(A1725)>0,ERROR.TYPE(MATCH(H1725,H$1:H1724,0))=7,0),C1725,\"\")","v":""},""]
[null,null,null,null,"",0,{"$f":"IF(IF(LEN(A1726)>0,ERROR.TYPE(MATCH(H1726,H$1:H1725,0))=7,0),C1726,\"\")","v":""},""]
[null,null,null,null,"",0,{"$f":"IF(IF(LEN(A1727)>0,ERROR.TYPE(MATCH(H1727,H$1:H1726,0))=7,0),C1727,\"\")","v":""},""]
[null,null,null,null,"",0,{"$f":"IF(IF(LEN(A1728)>0,ERROR.TYPE(MATCH(H1728,H$1:H1727,0))=7,0),C1728,\"\")","v":""},""]
[null,null,null,null,"",0,{"$f":"IF(IF(LEN(A1729)>0,ERROR.TYPE(MATCH(H1729,H$1:H1728,0))=7,0),C1729,\"\")","v":""},""]
[null,null,null,null,"",0,{"$f":"IF(IF(LEN(A1730)>0,ERROR.TYPE(MATCH(H1730,H$1:H1729,0))=7,0),C1730,\"\")","v":""},""]
[null,null,null,null,{"$f":"IF($G1731<>\"\",IF($B1731<400,0.5,IF($B1731<2801,1,IF($B1731<5601,1.5,IF($B1731<8401,2,IF($B1731<11201,2.5,1000))))),\"\")","v":""},0,{"$f":"IF(IF(LEN(A1731)>0,ERROR.TYPE(MATCH(H1731,H$1:H1730,0))=7,0),C1731,\"\")","v":""},""]
[null,null,null,null,"",{"$f":"IF(E1732<>\"#NV\",B1732,\"\")","v":0},{"$f":"IF(IF(LEN(A1732)>0,ERROR.TYPE(MATCH(H1732,H$1:H1731,0))=7,0),C1732,\"\")","v":""},{"$f":"D1732&A1732","v":""}]
[null,null,null,null,"",0,{"$f":"IF(IF(LEN(A1733)>0,ERROR.TYPE(MATCH(H1733,H$1:H1732,0))=7,0),C1733,\"\")","v":""},""]
[null,null,null,null,"",0,{"$f":"IF(IF(LEN(A1734)>0,ERROR.TYPE(MATCH(H1734,H$1:H1733,0))=7,0),C1734,\"\")","v":""},""]
[null,null,null,null,"",0,{"$f":"IF(IF(LEN(A1735)>0,ERROR.TYPE(MATCH(H1735,H$1:H1734,0))=7,0),C1735,\"\")","v":""},""]
[null,null,null,null,"",0,{"$f":"IF(IF(LEN(A1736)>0,ERROR.TYPE(MATCH(H1736,H$1:H1735,0))=7,0),C1736,\"\")","v":""},""]
[null,null,null,null,"",0,{"$f":"IF(IF(LEN(A1737)>0,ERROR.TYPE(MATCH(H1737,H$1:H1736,0))=7,0),C1737,\"\")","v":""},""]
[null,null,null,null,"",0,{"$f":"IF(IF(LEN(A1738)>0,ERROR.TYPE(MATCH(H1738,H$1:H1737,0))=7,0),C1738,\"\")","v":""},""]
[null,null,null,null,"",0,{"$f":"IF(IF(LEN(A1739)>0,ERROR.TYPE(MATCH(H1739,H$1:H1738,0))=7,0),C1739,\"\")","v":""},""]
[null,null,null,null,"",0,{"$f":"IF(IF(LEN(A1740)>0,ERROR.TYPE(MATCH(H1740,H$1:H1739,0))=7,0),C1740,\"\")","v":""},""]
[null,null,null,null,"",0,{"$f":"IF(IF(LEN(A1741)>0,ERROR.TYPE(MATCH(H1741,H$1:H1740,0))=7,0),C1741,\"\")","v":""},""]
[null,null,null,null,"",0,{"$f":"IF(IF(LEN(A1742)>0,ERROR.TYPE(MATCH(H1742,H$1:H1741,0))=7,0),C1742,\"\")","v":""},""]
[null,null,null,null,"",0,{"$f":"IF(IF(LEN(A1743)>0,ERROR.TYPE(MATCH(H1743,H$1:H1742,0))=7,0),C1743,\"\")","v":""},""]
[null,null,null,null,"",0,{"$f":"IF(IF(LEN(A1744)>0,ERROR.TYPE(MATCH(H1744,H$1:H1743,0))=7,0),C1744,\"\")","v":""},""]
[null,null,null,null,"",0,{"$f":"IF(IF(LEN(A1745)>0,ERROR.TYPE(MATCH(H1745,H$1:H1744,0))=7,0),C1745,\"\")","v":""},""]
[null,null,null,null,"",0,{"$f":"IF(IF(LEN(A1746)>0,ERROR.TYPE(MATCH(H1746,H$1:H1745,0))=7,0),C1746,\"\")","v":""},""]
[null,null,null,null,"",0,{"$f":"IF(IF(LEN(A1747)>0,ERROR.TYPE(MATCH(H1747,H$1:H1746,0))=7,0),C1747,\"\")","v":""},""]
[null,null,null,null,"",0,{"$f":"IF(IF(LEN(A1748)>0,ERROR.TYPE(MATCH(H1748,H$1:H1747,0))=7,0),C1748,\"\")","v":""},""]
[null,null,null,null,"",0,{"$f":"IF(IF(LEN(A1749)>0,ERROR.TYPE(MATCH(H1749,H$1:H1748,0))=7,0),C1749,\"\")","v":""},""]
[null,null,null,null,"",0,{"$f":"IF(IF(LEN(A1750)>0,ERROR.TYPE(MATCH(H1750,H$1:H1749,0))=7,0),C1750,\"\")","v":""},""]
[null,null,null,null,"",0,{"$f":"IF(IF(LEN(A1751)>0,ERROR.TYPE(MATCH(H1751,H$1:H1750,0))=7,0),C1751,\"\")","v":""},""]
[null,null,null,null,"",0,{"$f":"IF(IF(LEN(A1752)>0,ERROR.TYPE(MATCH(H1752,H$1:H1751,0))=7,0),C1752,\"\")","v":""},""]
[null,null,null,null,"",0,{"$f":"IF(IF(LEN(A1753)>0,ERROR.TYPE(MATCH(H1753,H$1:H1752,0))=7,0),C1753,\"\")","v":""},""]
[null,null,null,null,"",0,{"$f":"IF(IF(LEN(A1754)>0,ERROR.TYPE(MATCH(H1754,H$1:H1753,0))=7,0),C1754,\"\")","v":""},""]
[null,null,null,null,"",0,{"$f":"IF(IF(LEN(A1755)>0,ERROR.TYPE(MATCH(H1755,H$1:H1754,0))=7,0),C1755,\"\")","v":""},""]
[null,null,null,null,"",0,{"$f":"IF(IF(LEN(A1756)>0,ERROR.TYPE(MATCH(H1756,H$1:H1755,0))=7,0),C1756,\"\")","v":""},""]
[null,null,null,null,"",0,{"$f":"IF(IF(LEN(A1757)>0,ERROR.TYPE(MATCH(H1757,H$1:H1756,0))=7,0),C1757,\"\")","v":""},""]
[null,null,null,null,"",0,{"$f":"IF(IF(LEN(A1758)>0,ERROR.TYPE(MATCH(H1758,H$1:H1757,0))=7,0),C1758,\"\")","v":""},""]
[null,null,null,null,"",0,{"$f":"IF(IF(LEN(A1759)>0,ERROR.TYPE(MATCH(H1759,H$1:H1758,0))=7,0),C1759,\"\")","v":""},""]
[null,null,null,null,"",0,{"$f":"IF(IF(LEN(A1760)>0,ERROR.TYPE(MATCH(H1760,H$1:H1759,0))=7,0),C1760,\"\")","v":""},""]
[null,null,null,null,"",0,{"$f":"IF(IF(LEN(A1761)>0,ERROR.TYPE(MATCH(H1761,H$1:H1760,0))=7,0),C1761,\"\")","v":""},""]
[null,null,null,null,"",0,{"$f":"IF(IF(LEN(A1762)>0,ERROR.TYPE(MATCH(H1762,H$1:H1761,0))=7,0),C1762,\"\")","v":""},""]
[null,null,null,null,"",0,{"$f":"IF(IF(LEN(A1763)>0,ERROR.TYPE(MATCH(H1763,H$1:H1762,0))=7,0),C1763,\"\")","v":""},""]
[null,null,null,null,"",0,{"$f":"IF(IF(LEN(A1764)>0,ERROR.TYPE(MATCH(H1764,H$1:H1763,0))=7,0),C1764,\"\")","v":""},""]
[null,null,null,null,"",0,{"$f":"IF(IF(LEN(A1765)>0,ERROR.TYPE(MATCH(H1765,H$1:H1764,0))=7,0),C1765,\"\")","v":""},""]
[null,null,null,null,"",0,{"$f":"IF(IF(LEN(A1766)>0,ERROR.TYPE(MATCH(H1766,H$1:H1765,0))=7,0),C1766,\"\")","v":""},""]
[null,null,null,null,"",0,{"$f":"IF(IF(LEN(A1767)>0,ERROR.TYPE(MATCH(H1767,H$1:H1766,0))=7,0),C1767,\"\")","v":""},""]
[null,null,null,null,"",0,{"$f":"IF(IF(LEN(A1768)>0,ERROR.TYPE(MATCH(H1768,H$1:H1767,0))=7,0),C1768,\"\")","v":""},""]
[null,null,null,null,"",0,{"$f":"IF(IF(LEN(A1769)>0,ERROR.TYPE(MATCH(H1769,H$1:H1768,0))=7,0),C1769,\"\")","v":""},""]
[null,null,null,null,"",0,{"$f":"IF(IF(LEN(A1770)>0,ERROR.TYPE(MATCH(H1770,H$1:H1769,0))=7,0),C1770,\"\")","v":""},""]
[null,null,null,null,"",0,{"$f":"IF(IF(LEN(A1771)>0,ERROR.TYPE(MATCH(H1771,H$1:H1770,0))=7,0),C1771,\"\")","v":""},""]
[null,null,null,null,"",0,{"$f":"IF(IF(LEN(A1772)>0,ERROR.TYPE(MATCH(H1772,H$1:H1771,0))=7,0),C1772,\"\")","v":""},""]
[null,null,null,null,"",0,{"$f":"IF(IF(LEN(A1773)>0,ERROR.TYPE(MATCH(H1773,H$1:H1772,0))=7,0),C1773,\"\")","v":""},""]
[null,null,null,null,"",0,{"$f":"IF(IF(LEN(A1774)>0,ERROR.TYPE(MATCH(H1774,H$1:H1773,0))=7,0),C1774,\"\")","v":""},""]
[null,null,null,null,"",0,{"$f":"IF(IF(LEN(A1775)>0,ERROR.TYPE(MATCH(H1775,H$1:H1774,0))=7,0),C1775,\"\")","v":""},""]
[null,null,null,null,"",0,{"$f":"IF(IF(LEN(A1776)>0,ERROR.TYPE(MATCH(H1776,H$1:H1775,0))=7,0),C1776,\"\")","v":""},""]
[null,null,null,null,"",0,{"$f":"IF(IF(LEN(A1777)>0,ERROR.TYPE(MATCH(H1777,H$1:H1776,0))=7,0),C1777,\"\")","v":""},""]
[null,null,null,null,"",0,{"$f":"IF(IF(LEN(A1778)>0,ERROR.TYPE(MATCH(H1778,H$1:H1777,0))=7,0),C1778,\"\")","v":""},""]
[null,null,null,null,"",0,{"$f":"IF(IF(LEN(A1779)>0,ERROR.TYPE(MATCH(H1779,H$1:H1778,0))=7,0),C1779,\"\")","v":""},""]
[null,null,null,null,"",0,{"$f":"IF(IF(LEN(A1780)>0,ERROR.TYPE(MATCH(H1780,H$1:H1779,0))=7,0),C1780,\"\")","v":""},""]
[null,null,null,null,"",0,{"$f":"IF(IF(LEN(A1781)>0,ERROR.TYPE(MATCH(H1781,H$1:H1780,0))=7,0),C1781,\"\")","v":""},""]
[null,null,null,null,"",0,{"$f":"IF(IF(LEN(A1782)>0,ERROR.TYPE(MATCH(H1782,H$1:H1781,0))=7,0),C1782,\"\")","v":""},""]
[null,null,null,null,"",0,{"$f":"IF(IF(LEN(A1783)>0,ERROR.TYPE(MATCH(H1783,H$1:H1782,0))=7,0),C1783,\"\")","v":""},""]
[null,null,null,null,"",0,{"$f":"IF(IF(LEN(A1784)>0,ERROR.TYPE(MATCH(H1784,H$1:H1783,0))=7,0),C1784,\"\")","v":""},""]
[null,null,null,null,"",0,{"$f":"IF(IF(LEN(A1785)>0,ERROR.TYPE(MATCH(H1785,H$1:H1784,0))=7,0),C1785,\"\")","v":""},""]
[null,null,null,null,"",0,{"$f":"IF(IF(LEN(A1786)>0,ERROR.TYPE(MATCH(H1786,H$1:H1785,0))=7,0),C1786,\"\")","v":""},""]
[null,null,null,null,"",0,{"$f":"IF(IF(LEN(A1787)>0,ERROR.TYPE(MATCH(H1787,H$1:H1786,0))=7,0),C1787,\"\")","v":""},""]
[null,null,null,null,"",0,{"$f":"IF(IF(LEN(A1788)>0,ERROR.TYPE(MATCH(H1788,H$1:H1787,0))=7,0),C1788,\"\")","v":""},""]
[null,null,null,null,"",0,{"$f":"IF(IF(LEN(A1789)>0,ERROR.TYPE(MATCH(H1789,H$1:H1788,0))=7,0),C1789,\"\")","v":""},""]
[null,null,null,null,"",0,{"$f":"IF(IF(LEN(A1790)>0,ERROR.TYPE(MATCH(H1790,H$1:H1789,0))=7,0),C1790,\"\")","v":""},""]
[null,null,null,null,"",0,{"$f":"IF(IF(LEN(A1791)>0,ERROR.TYPE(MATCH(H1791,H$1:H1790,0))=7,0),C1791,\"\")","v":""},""]
[null,null,null,null,"",0,{"$f":"IF(IF(LEN(A1792)>0,ERROR.TYPE(MATCH(H1792,H$1:H1791,0))=7,0),C1792,\"\")","v":""},""]
[null,null,null,null,"",0,{"$f":"IF(IF(LEN(A1793)>0,ERROR.TYPE(MATCH(H1793,H$1:H1792,0))=7,0),C1793,\"\")","v":""},""]
[null,null,null,null,"",0,{"$f":"IF(IF(LEN(A1794)>0,ERROR.TYPE(MATCH(H1794,H$1:H1793,0))=7,0),C1794,\"\")","v":""},""]
[null,null,null,null,{"$f":"IF($G1795<>\"\",IF($B1795<400,0.5,IF($B1795<2801,1,IF($B1795<5601,1.5,IF($B1795<8401,2,IF($B1795<11201,2.5,1000))))),\"\")","v":""},0,{"$f":"IF(IF(LEN(A1795)>0,ERROR.TYPE(MATCH(H1795,H$1:H1794,0))=7,0),C1795,\"\")","v":""},""]
[null,null,null,null,"",{"$f":"IF(E1796<>\"#NV\",B1796,\"\")","v":0},{"$f":"IF(IF(LEN(A1796)>0,ERROR.TYPE(MATCH(H1796,H$1:H1795,0))=7,0),C1796,\"\")","v":""},{"$f":"D1796&A1796","v":""}]
[null,null,null,null,"",0,{"$f":"IF(IF(LEN(A1797)>0,ERROR.TYPE(MATCH(H1797,H$1:H1796,0))=7,0),C1797,\"\")","v":""},""]
[null,null,null,null,"",0,{"$f":"IF(IF(LEN(A1798)>0,ERROR.TYPE(MATCH(H1798,H$1:H1797,0))=7,0),C1798,\"\")","v":""},""]
[null,null,null,null,"",0,{"$f":"IF(IF(LEN(A1799)>0,ERROR.TYPE(MATCH(H1799,H$1:H1798,0))=7,0),C1799,\"\")","v":""},""]
[null,null,null,null,"",0,{"$f":"IF(IF(LEN(A1800)>0,ERROR.TYPE(MATCH(H1800,H$1:H1799,0))=7,0),C1800,\"\")","v":""},""]
[null,null,null,null,"",0,{"$f":"IF(IF(LEN(A1801)>0,ERROR.TYPE(MATCH(H1801,H$1:H1800,0))=7,0),C1801,\"\")","v":""},""]
[null,null,null,null,"",0,{"$f":"IF(IF(LEN(A1802)>0,ERROR.TYPE(MATCH(H1802,H$1:H1801,0))=7,0),C1802,\"\")","v":""},""]
[null,null,null,null,"",0,{"$f":"IF(IF(LEN(A1803)>0,ERROR.TYPE(MATCH(H1803,H$1:H1802,0))=7,0),C1803,\"\")","v":""},""]
[null,null,null,null,"",0,{"$f":"IF(IF(LEN(A1804)>0,ERROR.TYPE(MATCH(H1804,H$1:H1803,0))=7,0),C1804,\"\")","v":""},""]
[null,null,null,null,"",0,{"$f":"IF(IF(LEN(A1805)>0,ERROR.TYPE(MATCH(H1805,H$1:H1804,0))=7,0),C1805,\"\")","v":""},""]
[null,null,null,null,"",0,{"$f":"IF(IF(LEN(A1806)>0,ERROR.TYPE(MATCH(H1806,H$1:H1805,0))=7,0),C1806,\"\")","v":""},""]
[null,null,null,null,"",0,{"$f":"IF(IF(LEN(A1807)>0,ERROR.TYPE(MATCH(H1807,H$1:H1806,0))=7,0),C1807,\"\")","v":""},""]
[null,null,null,null,"",0,{"$f":"IF(IF(LEN(A1808)>0,ERROR.TYPE(MATCH(H1808,H$1:H1807,0))=7,0),C1808,\"\")","v":""},""]
[null,null,null,null,"",0,{"$f":"IF(IF(LEN(A1809)>0,ERROR.TYPE(MATCH(H1809,H$1:H1808,0))=7,0),C1809,\"\")","v":""},""]
[null,null,null,null,"",0,{"$f":"IF(IF(LEN(A1810)>0,ERROR.TYPE(MATCH(H1810,H$1:H1809,0))=7,0),C1810,\"\")","v":""},""]
[null,null,null,null,"",0,{"$f":"IF(IF(LEN(A1811)>0,ERROR.TYPE(MATCH(H1811,H$1:H1810,0))=7,0),C1811,\"\")","v":""},""]
[null,null,null,null,"",0,{"$f":"IF(IF(LEN(A1812)>0,ERROR.TYPE(MATCH(H1812,H$1:H1811,0))=7,0),C1812,\"\")","v":""},""]
[null,null,null,null,"",0,{"$f":"IF(IF(LEN(A1813)>0,ERROR.TYPE(MATCH(H1813,H$1:H1812,0))=7,0),C1813,\"\")","v":""},""]
[null,null,null,null,"",0,{"$f":"IF(IF(LEN(A1814)>0,ERROR.TYPE(MATCH(H1814,H$1:H1813,0))=7,0),C1814,\"\")","v":""},""]
[null,null,null,null,"",0,{"$f":"IF(IF(LEN(A1815)>0,ERROR.TYPE(MATCH(H1815,H$1:H1814,0))=7,0),C1815,\"\")","v":""},""]
[null,null,null,null,"",0,{"$f":"IF(IF(LEN(A1816)>0,ERROR.TYPE(MATCH(H1816,H$1:H1815,0))=7,0),C1816,\"\")","v":""},""]
[null,null,null,null,"",0,{"$f":"IF(IF(LEN(A1817)>0,ERROR.TYPE(MATCH(H1817,H$1:H1816,0))=7,0),C1817,\"\")","v":""},""]
[null,null,null,null,"",0,{"$f":"IF(IF(LEN(A1818)>0,ERROR.TYPE(MATCH(H1818,H$1:H1817,0))=7,0),C1818,\"\")","v":""},""]
[null,null,null,null,"",0,{"$f":"IF(IF(LEN(A1819)>0,ERROR.TYPE(MATCH(H1819,H$1:H1818,0))=7,0),C1819,\"\")","v":""},""]
[null,null,null,null,"",0,{"$f":"IF(IF(LEN(A1820)>0,ERROR.TYPE(MATCH(H1820,H$1:H1819,0))=7,0),C1820,\"\")","v":""},""]
[null,null,null,null,"",0,{"$f":"IF(IF(LEN(A1821)>0,ERROR.TYPE(MATCH(H1821,H$1:H1820,0))=7,0),C1821,\"\")","v":""},""]
[null,null,null,null,"",0,{"$f":"IF(IF(LEN(A1822)>0,ERROR.TYPE(MATCH(H1822,H$1:H1821,0))=7,0),C1822,\"\")","v":""},""]
[null,null,null,null,"",0,{"$f":"IF(IF(LEN(A1823)>0,ERROR.TYPE(MATCH(H1823,H$1:H1822,0))=7,0),C1823,\"\")","v":""},""]
[null,null,null,null,"",0,{"$f":"IF(IF(LEN(A1824)>0,ERROR.TYPE(MATCH(H1824,H$1:H1823,0))=7,0),C1824,\"\")","v":""},""]
[null,null,null,null,"",0,{"$f":"IF(IF(LEN(A1825)>0,ERROR.TYPE(MATCH(H1825,H$1:H1824,0))=7,0),C1825,\"\")","v":""},""]
[null,null,null,null,"",0,{"$f":"IF(IF(LEN(A1826)>0,ERROR.TYPE(MATCH(H1826,H$1:H1825,0))=7,0),C1826,\"\")","v":""},""]
[null,null,null,null,"",0,{"$f":"IF(IF(LEN(A1827)>0,ERROR.TYPE(MATCH(H1827,H$1:H1826,0))=7,0),C1827,\"\")","v":""},""]
[null,null,null,null,"",0,{"$f":"IF(IF(LEN(A1828)>0,ERROR.TYPE(MATCH(H1828,H$1:H1827,0))=7,0),C1828,\"\")","v":""},""]
[null,null,null,null,"",0,{"$f":"IF(IF(LEN(A1829)>0,ERROR.TYPE(MATCH(H1829,H$1:H1828,0))=7,0),C1829,\"\")","v":""},""]
[null,null,null,null,"",0,{"$f":"IF(IF(LEN(A1830)>0,ERROR.TYPE(MATCH(H1830,H$1:H1829,0))=7,0),C1830,\"\")","v":""},""]
[null,null,null,null,"",0,{"$f":"IF(IF(LEN(A1831)>0,ERROR.TYPE(MATCH(H1831,H$1:H1830,0))=7,0),C1831,\"\")","v":""},""]
[null,null,null,null,"",0,{"$f":"IF(IF(LEN(A1832)>0,ERROR.TYPE(MATCH(H1832,H$1:H1831,0))=7,0),C1832,\"\")","v":""},""]
[null,null,null,null,"",0,{"$f":"IF(IF(LEN(A1833)>0,ERROR.TYPE(MATCH(H1833,H$1:H1832,0))=7,0),C1833,\"\")","v":""},""]
[null,null,null,null,"",0,{"$f":"IF(IF(LEN(A1834)>0,ERROR.TYPE(MATCH(H1834,H$1:H1833,0))=7,0),C1834,\"\")","v":""},""]
[null,null,null,null,"",0,{"$f":"IF(IF(LEN(A1835)>0,ERROR.TYPE(MATCH(H1835,H$1:H1834,0))=7,0),C1835,\"\")","v":""},""]
[null,null,null,null,"",0,{"$f":"IF(IF(LEN(A1836)>0,ERROR.TYPE(MATCH(H1836,H$1:H1835,0))=7,0),C1836,\"\")","v":""},""]
[null,null,null,null,"",0,{"$f":"IF(IF(LEN(A1837)>0,ERROR.TYPE(MATCH(H1837,H$1:H1836,0))=7,0),C1837,\"\")","v":""},""]
[null,null,null,null,"",0,{"$f":"IF(IF(LEN(A1838)>0,ERROR.TYPE(MATCH(H1838,H$1:H1837,0))=7,0),C1838,\"\")","v":""},""]
[null,null,null,null,"",0,{"$f":"IF(IF(LEN(A1839)>0,ERROR.TYPE(MATCH(H1839,H$1:H1838,0))=7,0),C1839,\"\")","v":""},""]
[null,null,null,null,"",0,{"$f":"IF(IF(LEN(A1840)>0,ERROR.TYPE(MATCH(H1840,H$1:H1839,0))=7,0),C1840,\"\")","v":""},""]
[null,null,null,null,"",0,{"$f":"IF(IF(LEN(A1841)>0,ERROR.TYPE(MATCH(H1841,H$1:H1840,0))=7,0),C1841,\"\")","v":""},""]
[null,null,null,null,"",0,{"$f":"IF(IF(LEN(A1842)>0,ERROR.TYPE(MATCH(H1842,H$1:H1841,0))=7,0),C1842,\"\")","v":""},""]
[null,null,null,null,"",0,{"$f":"IF(IF(LEN(A1843)>0,ERROR.TYPE(MATCH(H1843,H$1:H1842,0))=7,0),C1843,\"\")","v":""},""]
[null,null,null,null,"",0,{"$f":"IF(IF(LEN(A1844)>0,ERROR.TYPE(MATCH(H1844,H$1:H1843,0))=7,0),C1844,\"\")","v":""},""]
[null,null,null,null,"",0,{"$f":"IF(IF(LEN(A1845)>0,ERROR.TYPE(MATCH(H1845,H$1:H1844,0))=7,0),C1845,\"\")","v":""},""]
[null,null,null,null,"",0,{"$f":"IF(IF(LEN(A1846)>0,ERROR.TYPE(MATCH(H1846,H$1:H1845,0))=7,0),C1846,\"\")","v":""},""]
[null,null,null,null,"",0,{"$f":"IF(IF(LEN(A1847)>0,ERROR.TYPE(MATCH(H1847,H$1:H1846,0))=7,0),C1847,\"\")","v":""},""]
[null,null,null,null,"",0,{"$f":"IF(IF(LEN(A1848)>0,ERROR.TYPE(MATCH(H1848,H$1:H1847,0))=7,0),C1848,\"\")","v":""},""]
[null,null,null,null,"",0,{"$f":"IF(IF(LEN(A1849)>0,ERROR.TYPE(MATCH(H1849,H$1:H1848,0))=7,0),C1849,\"\")","v":""},""]
[null,null,null,null,"",0,{"$f":"IF(IF(LEN(A1850)>0,ERROR.TYPE(MATCH(H1850,H$1:H1849,0))=7,0),C1850,\"\")","v":""},""]
[null,null,null,null,"",0,{"$f":"IF(IF(LEN(A1851)>0,ERROR.TYPE(MATCH(H1851,H$1:H1850,0))=7,0),C1851,\"\")","v":""},""]
[null,null,null,null,"",0,{"$f":"IF(IF(LEN(A1852)>0,ERROR.TYPE(MATCH(H1852,H$1:H1851,0))=7,0),C1852,\"\")","v":""},""]
[null,null,null,null,"",0,{"$f":"IF(IF(LEN(A1853)>0,ERROR.TYPE(MATCH(H1853,H$1:H1852,0))=7,0),C1853,\"\")","v":""},""]
[null,null,null,null,"",0,{"$f":"IF(IF(LEN(A1854)>0,ERROR.TYPE(MATCH(H1854,H$1:H1853,0))=7,0),C1854,\"\")","v":""},""]
[null,null,null,null,"",0,{"$f":"IF(IF(LEN(A1855)>0,ERROR.TYPE(MATCH(H1855,H$1:H1854,0))=7,0),C1855,\"\")","v":""},""]
[null,null,null,null,"",0,{"$f":"IF(IF(LEN(A1856)>0,ERROR.TYPE(MATCH(H1856,H$1:H1855,0))=7,0),C1856,\"\")","v":""},""]
[null,null,null,null,"",0,{"$f":"IF(IF(LEN(A1857)>0,ERROR.TYPE(MATCH(H1857,H$1:H1856,0))=7,0),C1857,\"\")","v":""},""]
[null,null,null,null,"",0,{"$f":"IF(IF(LEN(A1858)>0,ERROR.TYPE(MATCH(H1858,H$1:H1857,0))=7,0),C1858,\"\")","v":""},""]
[null,null,null,null,{"$f":"IF($G1859<>\"\",IF($B1859<400,0.5,IF($B1859<2801,1,IF($B1859<5601,1.5,IF($B1859<8401,2,IF($B1859<11201,2.5,1000))))),\"\")","v":""},0,{"$f":"IF(IF(LEN(A1859)>0,ERROR.TYPE(MATCH(H1859,H$1:H1858,0))=7,0),C1859,\"\")","v":""},""]
[null,null,null,null,"",{"$f":"IF(E1860<>\"#NV\",B1860,\"\")","v":0},{"$f":"IF(IF(LEN(A1860)>0,ERROR.TYPE(MATCH(H1860,H$1:H1859,0))=7,0),C1860,\"\")","v":""},{"$f":"D1860&A1860","v":""}]
[null,null,null,null,"",0,{"$f":"IF(IF(LEN(A1861)>0,ERROR.TYPE(MATCH(H1861,H$1:H1860,0))=7,0),C1861,\"\")","v":""},""]
[null,null,null,null,"",0,{"$f":"IF(IF(LEN(A1862)>0,ERROR.TYPE(MATCH(H1862,H$1:H1861,0))=7,0),C1862,\"\")","v":""},""]
[null,null,null,null,"",0,{"$f":"IF(IF(LEN(A1863)>0,ERROR.TYPE(MATCH(H1863,H$1:H1862,0))=7,0),C1863,\"\")","v":""},""]
[null,null,null,null,"",0,{"$f":"IF(IF(LEN(A1864)>0,ERROR.TYPE(MATCH(H1864,H$1:H1863,0))=7,0),C1864,\"\")","v":""},""]
[null,null,null,null,"",0,{"$f":"IF(IF(LEN(A1865)>0,ERROR.TYPE(MATCH(H1865,H$1:H1864,0))=7,0),C1865,\"\")","v":""},""]
[null,null,null,null,"",0,{"$f":"IF(IF(LEN(A1866)>0,ERROR.TYPE(MATCH(H1866,H$1:H1865,0))=7,0),C1866,\"\")","v":""},""]
[null,null,null,null,"",0,{"$f":"IF(IF(LEN(A1867)>0,ERROR.TYPE(MATCH(H1867,H$1:H1866,0))=7,0),C1867,\"\")","v":""},""]
[null,null,null,null,"",0,{"$f":"IF(IF(LEN(A1868)>0,ERROR.TYPE(MATCH(H1868,H$1:H1867,0))=7,0),C1868,\"\")","v":""},""]
[null,null,null,null,"",0,{"$f":"IF(IF(LEN(A1869)>0,ERROR.TYPE(MATCH(H1869,H$1:H1868,0))=7,0),C1869,\"\")","v":""},""]
[null,null,null,null,"",0,{"$f":"IF(IF(LEN(A1870)>0,ERROR.TYPE(MATCH(H1870,H$1:H1869,0))=7,0),C1870,\"\")","v":""},""]
[null,null,null,null,"",0,{"$f":"IF(IF(LEN(A1871)>0,ERROR.TYPE(MATCH(H1871,H$1:H1870,0))=7,0),C1871,\"\")","v":""},""]
[null,null,null,null,"",0,{"$f":"IF(IF(LEN(A1872)>0,ERROR.TYPE(MATCH(H1872,H$1:H1871,0))=7,0),C1872,\"\")","v":""},""]
[null,null,null,null,"",0,{"$f":"IF(IF(LEN(A1873)>0,ERROR.TYPE(MATCH(H1873,H$1:H1872,0))=7,0),C1873,\"\")","v":""},""]
[null,null,null,null,"",0,{"$f":"IF(IF(LEN(A1874)>0,ERROR.TYPE(MATCH(H1874,H$1:H1873,0))=7,0),C1874,\"\")","v":""},""]
[null,null,null,null,"",0,{"$f":"IF(IF(LEN(A1875)>0,ERROR.TYPE(MATCH(H1875,H$1:H1874,0))=7,0),C1875,\"\")","v":""},""]
[null,null,null,null,"",0,{"$f":"IF(IF(LEN(A1876)>0,ERROR.TYPE(MATCH(H1876,H$1:H1875,0))=7,0),C1876,\"\")","v":""},""]
[null,null,null,null,"",0,{"$f":"IF(IF(LEN(A1877)>0,ERROR.TYPE(MATCH(H1877,H$1:H1876,0))=7,0),C1877,\"\")","v":""},""]
[null,null,null,null,"",0,{"$f":"IF(IF(LEN(A1878)>0,ERROR.TYPE(MATCH(H1878,H$1:H1877,0))=7,0),C1878,\"\")","v":""},""]
[null,null,null,null,"",0,{"$f":"IF(IF(LEN(A1879)>0,ERROR.TYPE(MATCH(H1879,H$1:H1878,0))=7,0),C1879,\"\")","v":""},""]
[null,null,null,null,"",0,{"$f":"IF(IF(LEN(A1880)>0,ERROR.TYPE(MATCH(H1880,H$1:H1879,0))=7,0),C1880,\"\")","v":""},""]
[null,null,null,null,"",0,{"$f":"IF(IF(LEN(A1881)>0,ERROR.TYPE(MATCH(H1881,H$1:H1880,0))=7,0),C1881,\"\")","v":""},""]
[null,null,null,null,"",0,{"$f":"IF(IF(LEN(A1882)>0,ERROR.TYPE(MATCH(H1882,H$1:H1881,0))=7,0),C1882,\"\")","v":""},""]
[null,null,null,null,"",0,{"$f":"IF(IF(LEN(A1883)>0,ERROR.TYPE(MATCH(H1883,H$1:H1882,0))=7,0),C1883,\"\")","v":""},""]
[null,null,null,null,"",0,{"$f":"IF(IF(LEN(A1884)>0,ERROR.TYPE(MATCH(H1884,H$1:H1883,0))=7,0),C1884,\"\")","v":""},""]
[null,null,null,null,"",0,{"$f":"IF(IF(LEN(A1885)>0,ERROR.TYPE(MATCH(H1885,H$1:H1884,0))=7,0),C1885,\"\")","v":""},""]
[null,null,null,null,"",0,{"$f":"IF(IF(LEN(A1886)>0,ERROR.TYPE(MATCH(H1886,H$1:H1885,0))=7,0),C1886,\"\")","v":""},""]
[null,null,null,null,"",0,{"$f":"IF(IF(LEN(A1887)>0,ERROR.TYPE(MATCH(H1887,H$1:H1886,0))=7,0),C1887,\"\")","v":""},""]
[null,null,null,null,"",0,{"$f":"IF(IF(LEN(A1888)>0,ERROR.TYPE(MATCH(H1888,H$1:H1887,0))=7,0),C1888,\"\")","v":""},""]
[null,null,null,null,"",0,{"$f":"IF(IF(LEN(A1889)>0,ERROR.TYPE(MATCH(H1889,H$1:H1888,0))=7,0),C1889,\"\")","v":""},""]
[null,null,null,null,"",0,{"$f":"IF(IF(LEN(A1890)>0,ERROR.TYPE(MATCH(H1890,H$1:H1889,0))=7,0),C1890,\"\")","v":""},""]
[null,null,null,null,"",0,{"$f":"IF(IF(LEN(A1891)>0,ERROR.TYPE(MATCH(H1891,H$1:H1890,0))=7,0),C1891,\"\")","v":""},""]
[null,null,null,null,"",0,{"$f":"IF(IF(LEN(A1892)>0,ERROR.TYPE(MATCH(H1892,H$1:H1891,0))=7,0),C1892,\"\")","v":""},""]
[null,null,null,null,"",0,{"$f":"IF(IF(LEN(A1893)>0,ERROR.TYPE(MATCH(H1893,H$1:H1892,0))=7,0),C1893,\"\")","v":""},""]
[null,null,null,null,"",0,{"$f":"IF(IF(LEN(A1894)>0,ERROR.TYPE(MATCH(H1894,H$1:H1893,0))=7,0),C1894,\"\")","v":""},""]
[null,null,null,null,"",0,{"$f":"IF(IF(LEN(A1895)>0,ERROR.TYPE(MATCH(H1895,H$1:H1894,0))=7,0),C1895,\"\")","v":""},""]
[null,null,null,null,"",0,{"$f":"IF(IF(LEN(A1896)>0,ERROR.TYPE(MATCH(H1896,H$1:H1895,0))=7,0),C1896,\"\")","v":""},""]
[null,null,null,null,"",0,{"$f":"IF(IF(LEN(A1897)>0,ERROR.TYPE(MATCH(H1897,H$1:H1896,0))=7,0),C1897,\"\")","v":""},""]
[null,null,null,null,"",0,{"$f":"IF(IF(LEN(A1898)>0,ERROR.TYPE(MATCH(H1898,H$1:H1897,0))=7,0),C1898,\"\")","v":""},""]
[null,null,null,null,"",0,{"$f":"IF(IF(LEN(A1899)>0,ERROR.TYPE(MATCH(H1899,H$1:H1898,0))=7,0),C1899,\"\")","v":""},""]
[null,null,null,null,"",0,{"$f":"IF(IF(LEN(A1900)>0,ERROR.TYPE(MATCH(H1900,H$1:H1899,0))=7,0),C1900,\"\")","v":""},""]
[null,null,null,null,"",0,{"$f":"IF(IF(LEN(A1901)>0,ERROR.TYPE(MATCH(H1901,H$1:H1900,0))=7,0),C1901,\"\")","v":""},""]
[null,null,null,null,"",0,{"$f":"IF(IF(LEN(A1902)>0,ERROR.TYPE(MATCH(H1902,H$1:H1901,0))=7,0),C1902,\"\")","v":""},""]
[null,null,null,null,"",0,{"$f":"IF(IF(LEN(A1903)>0,ERROR.TYPE(MATCH(H1903,H$1:H1902,0))=7,0),C1903,\"\")","v":""},""]
[null,null,null,null,"",0,{"$f":"IF(IF(LEN(A1904)>0,ERROR.TYPE(MATCH(H1904,H$1:H1903,0))=7,0),C1904,\"\")","v":""},""]
[null,null,null,null,"",0,{"$f":"IF(IF(LEN(A1905)>0,ERROR.TYPE(MATCH(H1905,H$1:H1904,0))=7,0),C1905,\"\")","v":""},""]
[null,null,null,null,"",0,{"$f":"IF(IF(LEN(A1906)>0,ERROR.TYPE(MATCH(H1906,H$1:H1905,0))=7,0),C1906,\"\")","v":""},""]
[null,null,null,null,"",0,{"$f":"IF(IF(LEN(A1907)>0,ERROR.TYPE(MATCH(H1907,H$1:H1906,0))=7,0),C1907,\"\")","v":""},""]
[null,null,null,null,"",0,{"$f":"IF(IF(LEN(A1908)>0,ERROR.TYPE(MATCH(H1908,H$1:H1907,0))=7,0),C1908,\"\")","v":""},""]
[null,null,null,null,"",0,{"$f":"IF(IF(LEN(A1909)>0,ERROR.TYPE(MATCH(H1909,H$1:H1908,0))=7,0),C1909,\"\")","v":""},""]
[null,null,null,null,"",0,{"$f":"IF(IF(LEN(A1910)>0,ERROR.TYPE(MATCH(H1910,H$1:H1909,0))=7,0),C1910,\"\")","v":""},""]
[null,null,null,null,"",0,{"$f":"IF(IF(LEN(A1911)>0,ERROR.TYPE(MATCH(H1911,H$1:H1910,0))=7,0),C1911,\"\")","v":""},""]
[null,null,null,null,"",0,{"$f":"IF(IF(LEN(A1912)>0,ERROR.TYPE(MATCH(H1912,H$1:H1911,0))=7,0),C1912,\"\")","v":""},""]
[null,null,null,null,"",0,{"$f":"IF(IF(LEN(A1913)>0,ERROR.TYPE(MATCH(H1913,H$1:H1912,0))=7,0),C1913,\"\")","v":""},""]
[null,null,null,null,"",0,{"$f":"IF(IF(LEN(A1914)>0,ERROR.TYPE(MATCH(H1914,H$1:H1913,0))=7,0),C1914,\"\")","v":""},""]
[null,null,null,null,"",0,{"$f":"IF(IF(LEN(A1915)>0,ERROR.TYPE(MATCH(H1915,H$1:H1914,0))=7,0),C1915,\"\")","v":""},""]
[null,null,null,null,"",0,{"$f":"IF(IF(LEN(A1916)>0,ERROR.TYPE(MATCH(H1916,H$1:H1915,0))=7,0),C1916,\"\")","v":""},""]
[null,null,null,null,"",0,{"$f":"IF(IF(LEN(A1917)>0,ERROR.TYPE(MATCH(H1917,H$1:H1916,0))=7,0),C1917,\"\")","v":""},""]
[null,null,null,null,"",0,{"$f":"IF(IF(LEN(A1918)>0,ERROR.TYPE(MATCH(H1918,H$1:H1917,0))=7,0),C1918,\"\")","v":""},""]
[null,null,null,null,"",0,{"$f":"IF(IF(LEN(A1919)>0,ERROR.TYPE(MATCH(H1919,H$1:H1918,0))=7,0),C1919,\"\")","v":""},""]
[null,null,null,null,"",0,{"$f":"IF(IF(LEN(A1920)>0,ERROR.TYPE(MATCH(H1920,H$1:H1919,0))=7,0),C1920,\"\")","v":""},""]
[null,null,null,null,"",0,{"$f":"IF(IF(LEN(A1921)>0,ERROR.TYPE(MATCH(H1921,H$1:H1920,0))=7,0),C1921,\"\")","v":""},""]
[null,null,null,null,"",0,{"$f":"IF(IF(LEN(A1922)>0,ERROR.TYPE(MATCH(H1922,H$1:H1921,0))=7,0),C1922,\"\")","v":""},""]
[null,null,null,null,{"$f":"IF($G1923<>\"\",IF($B1923<400,0.5,IF($B1923<2801,1,IF($B1923<5601,1.5,IF($B1923<8401,2,IF($B1923<11201,2.5,1000))))),\"\")","v":""},0,{"$f":"IF(IF(LEN(A1923)>0,ERROR.TYPE(MATCH(H1923,H$1:H1922,0))=7,0),C1923,\"\")","v":""},""]
[null,null,null,null,"",{"$f":"IF(E1924<>\"#NV\",B1924,\"\")","v":0},{"$f":"IF(IF(LEN(A1924)>0,ERROR.TYPE(MATCH(H1924,H$1:H1923,0))=7,0),C1924,\"\")","v":""},{"$f":"D1924&A1924","v":""}]
[null,null,null,null,"",0,{"$f":"IF(IF(LEN(A1925)>0,ERROR.TYPE(MATCH(H1925,H$1:H1924,0))=7,0),C1925,\"\")","v":""},""]
[null,null,null,null,"",0,{"$f":"IF(IF(LEN(A1926)>0,ERROR.TYPE(MATCH(H1926,H$1:H1925,0))=7,0),C1926,\"\")","v":""},""]
[null,null,null,null,"",0,{"$f":"IF(IF(LEN(A1927)>0,ERROR.TYPE(MATCH(H1927,H$1:H1926,0))=7,0),C1927,\"\")","v":""},""]
[null,null,null,null,"",0,{"$f":"IF(IF(LEN(A1928)>0,ERROR.TYPE(MATCH(H1928,H$1:H1927,0))=7,0),C1928,\"\")","v":""},""]
[null,null,null,null,"",0,{"$f":"IF(IF(LEN(A1929)>0,ERROR.TYPE(MATCH(H1929,H$1:H1928,0))=7,0),C1929,\"\")","v":""},""]
[null,null,null,null,"",0,{"$f":"IF(IF(LEN(A1930)>0,ERROR.TYPE(MATCH(H1930,H$1:H1929,0))=7,0),C1930,\"\")","v":""},""]
[null,null,null,null,"",0,{"$f":"IF(IF(LEN(A1931)>0,ERROR.TYPE(MATCH(H1931,H$1:H1930,0))=7,0),C1931,\"\")","v":""},""]
[null,null,null,null,"",0,{"$f":"IF(IF(LEN(A1932)>0,ERROR.TYPE(MATCH(H1932,H$1:H1931,0))=7,0),C1932,\"\")","v":""},""]
[null,null,null,null,"",0,{"$f":"IF(IF(LEN(A1933)>0,ERROR.TYPE(MATCH(H1933,H$1:H1932,0))=7,0),C1933,\"\")","v":""},""]
[null,null,null,null,"",0,{"$f":"IF(IF(LEN(A1934)>0,ERROR.TYPE(MATCH(H1934,H$1:H1933,0))=7,0),C1934,\"\")","v":""},""]
[null,null,null,null,"",0,{"$f":"IF(IF(LEN(A1935)>0,ERROR.TYPE(MATCH(H1935,H$1:H1934,0))=7,0),C1935,\"\")","v":""},""]
[null,null,null,null,"",0,{"$f":"IF(IF(LEN(A1936)>0,ERROR.TYPE(MATCH(H1936,H$1:H1935,0))=7,0),C1936,\"\")","v":""},""]
[null,null,null,null,"",0,{"$f":"IF(IF(LEN(A1937)>0,ERROR.TYPE(MATCH(H1937,H$1:H1936,0))=7,0),C1937,\"\")","v":""},""]
[null,null,null,null,"",0,{"$f":"IF(IF(LEN(A1938)>0,ERROR.TYPE(MATCH(H1938,H$1:H1937,0))=7,0),C1938,\"\")","v":""},""]
[null,null,null,null,"",0,{"$f":"IF(IF(LEN(A1939)>0,ERROR.TYPE(MATCH(H1939,H$1:H1938,0))=7,0),C1939,\"\")","v":""},""]
[null,null,null,null,"",0,{"$f":"IF(IF(LEN(A1940)>0,ERROR.TYPE(MATCH(H1940,H$1:H1939,0))=7,0),C1940,\"\")","v":""},""]
[null,null,null,null,"",0,{"$f":"IF(IF(LEN(A1941)>0,ERROR.TYPE(MATCH(H1941,H$1:H1940,0))=7,0),C1941,\"\")","v":""},""]
[null,null,null,null,"",0,{"$f":"IF(IF(LEN(A1942)>0,ERROR.TYPE(MATCH(H1942,H$1:H1941,0))=7,0),C1942,\"\")","v":""},""]
[null,null,null,null,"",0,{"$f":"IF(IF(LEN(A1943)>0,ERROR.TYPE(MATCH(H1943,H$1:H1942,0))=7,0),C1943,\"\")","v":""},""]
[null,null,null,null,"",0,{"$f":"IF(IF(LEN(A1944)>0,ERROR.TYPE(MATCH(H1944,H$1:H1943,0))=7,0),C1944,\"\")","v":""},""]
[null,null,null,null,"",0,{"$f":"IF(IF(LEN(A1945)>0,ERROR.TYPE(MATCH(H1945,H$1:H1944,0))=7,0),C1945,\"\")","v":""},""]
[null,null,null,null,"",0,{"$f":"IF(IF(LEN(A1946)>0,ERROR.TYPE(MATCH(H1946,H$1:H1945,0))=7,0),C1946,\"\")","v":""},""]
[null,null,null,null,"",0,{"$f":"IF(IF(LEN(A1947)>0,ERROR.TYPE(MATCH(H1947,H$1:H1946,0))=7,0),C1947,\"\")","v":""},""]
[null,null,null,null,"",0,{"$f":"IF(IF(LEN(A1948)>0,ERROR.TYPE(MATCH(H1948,H$1:H1947,0))=7,0),C1948,\"\")","v":""},""]
[null,null,null,null,"",0,{"$f":"IF(IF(LEN(A1949)>0,ERROR.TYPE(MATCH(H1949,H$1:H1948,0))=7,0),C1949,\"\")","v":""},""]
[null,null,null,null,"",0,{"$f":"IF(IF(LEN(A1950)>0,ERROR.TYPE(MATCH(H1950,H$1:H1949,0))=7,0),C1950,\"\")","v":""},""]
[null,null,null,null,"",0,{"$f":"IF(IF(LEN(A1951)>0,ERROR.TYPE(MATCH(H1951,H$1:H1950,0))=7,0),C1951,\"\")","v":""},""]
[null,null,null,null,"",0,{"$f":"IF(IF(LEN(A1952)>0,ERROR.TYPE(MATCH(H1952,H$1:H1951,0))=7,0),C1952,\"\")","v":""},""]
[null,null,null,null,"",0,{"$f":"IF(IF(LEN(A1953)>0,ERROR.TYPE(MATCH(H1953,H$1:H1952,0))=7,0),C1953,\"\")","v":""},""]
[null,null,null,null,"",0,{"$f":"IF(IF(LEN(A1954)>0,ERROR.TYPE(MATCH(H1954,H$1:H1953,0))=7,0),C1954,\"\")","v":""},""]
[null,null,null,null,"",0,{"$f":"IF(IF(LEN(A1955)>0,ERROR.TYPE(MATCH(H1955,H$1:H1954,0))=7,0),C1955,\"\")","v":""},""]
[null,null,null,null,"",0,{"$f":"IF(IF(LEN(A1956)>0,ERROR.TYPE(MATCH(H1956,H$1:H1955,0))=7,0),C1956,\"\")","v":""},""]
[null,null,null,null,"",0,{"$f":"IF(IF(LEN(A1957)>0,ERROR.TYPE(MATCH(H1957,H$1:H1956,0))=7,0),C1957,\"\")","v":""},""]
[null,null,null,null,"",0,{"$f":"IF(IF(LEN(A1958)>0,ERROR.TYPE(MATCH(H1958,H$1:H1957,0))=7,0),C1958,\"\")","v":""},""]
[null,null,null,null,"",0,{"$f":"IF(IF(LEN(A1959)>0,ERROR.TYPE(MATCH(H1959,H$1:H1958,0))=7,0),C1959,\"\")","v":""},""]
[null,null,null,null,"",0,{"$f":"IF(IF(LEN(A1960)>0,ERROR.TYPE(MATCH(H1960,H$1:H1959,0))=7,0),C1960,\"\")","v":""},""]
[null,null,null,null,"",0,{"$f":"IF(IF(LEN(A1961)>0,ERROR.TYPE(MATCH(H1961,H$1:H1960,0))=7,0),C1961,\"\")","v":""},""]
[null,null,null,null,"",0,{"$f":"IF(IF(LEN(A1962)>0,ERROR.TYPE(MATCH(H1962,H$1:H1961,0))=7,0),C1962,\"\")","v":""},""]
[null,null,null,null,"",0,{"$f":"IF(IF(LEN(A1963)>0,ERROR.TYPE(MATCH(H1963,H$1:H1962,0))=7,0),C1963,\"\")","v":""},""]
[null,null,null,null,"",0,{"$f":"IF(IF(LEN(A1964)>0,ERROR.TYPE(MATCH(H1964,H$1:H1963,0))=7,0),C1964,\"\")","v":""},""]
[null,null,null,null,"",0,{"$f":"IF(IF(LEN(A1965)>0,ERROR.TYPE(MATCH(H1965,H$1:H1964,0))=7,0),C1965,\"\")","v":""},""]
[null,null,null,null,"",0,{"$f":"IF(IF(LEN(A1966)>0,ERROR.TYPE(MATCH(H1966,H$1:H1965,0))=7,0),C1966,\"\")","v":""},""]
[null,null,null,null,"",0,{"$f":"IF(IF(LEN(A1967)>0,ERROR.TYPE(MATCH(H1967,H$1:H1966,0))=7,0),C1967,\"\")","v":""},""]
[null,null,null,null,"",0,{"$f":"IF(IF(LEN(A1968)>0,ERROR.TYPE(MATCH(H1968,H$1:H1967,0))=7,0),C1968,\"\")","v":""},""]
[null,null,null,null,"",0,{"$f":"IF(IF(LEN(A1969)>0,ERROR.TYPE(MATCH(H1969,H$1:H1968,0))=7,0),C1969,\"\")","v":""},""]
[null,null,null,null,"",0,{"$f":"IF(IF(LEN(A1970)>0,ERROR.TYPE(MATCH(H1970,H$1:H1969,0))=7,0),C1970,\"\")","v":""},""]
[null,null,null,null,"",0,{"$f":"IF(IF(LEN(A1971)>0,ERROR.TYPE(MATCH(H1971,H$1:H1970,0))=7,0),C1971,\"\")","v":""},""]
[null,null,null,null,"",0,{"$f":"IF(IF(LEN(A1972)>0,ERROR.TYPE(MATCH(H1972,H$1:H1971,0))=7,0),C1972,\"\")","v":""},""]
[null,null,null,null,"",0,{"$f":"IF(IF(LEN(A1973)>0,ERROR.TYPE(MATCH(H1973,H$1:H1972,0))=7,0),C1973,\"\")","v":""},""]
[null,null,null,null,"",0,{"$f":"IF(IF(LEN(A1974)>0,ERROR.TYPE(MATCH(H1974,H$1:H1973,0))=7,0),C1974,\"\")","v":""},""]
[null,null,null,null,"",0,{"$f":"IF(IF(LEN(A1975)>0,ERROR.TYPE(MATCH(H1975,H$1:H1974,0))=7,0),C1975,\"\")","v":""},""]
[null,null,null,null,"",0,{"$f":"IF(IF(LEN(A1976)>0,ERROR.TYPE(MATCH(H1976,H$1:H1975,0))=7,0),C1976,\"\")","v":""},""]
[null,null,null,null,"",0,{"$f":"IF(IF(LEN(A1977)>0,ERROR.TYPE(MATCH(H1977,H$1:H1976,0))=7,0),C1977,\"\")","v":""},""]
[null,null,null,null,"",0,{"$f":"IF(IF(LEN(A1978)>0,ERROR.TYPE(MATCH(H1978,H$1:H1977,0))=7,0),C1978,\"\")","v":""},""]
[null,null,null,null,"",0,{"$f":"IF(IF(LEN(A1979)>0,ERROR.TYPE(MATCH(H1979,H$1:H1978,0))=7,0),C1979,\"\")","v":""},""]
[null,null,null,null,"",0,{"$f":"IF(IF(LEN(A1980)>0,ERROR.TYPE(MATCH(H1980,H$1:H1979,0))=7,0),C1980,\"\")","v":""},""]
[null,null,null,null,"",0,{"$f":"IF(IF(LEN(A1981)>0,ERROR.TYPE(MATCH(H1981,H$1:H1980,0))=7,0),C1981,\"\")","v":""},""]
[null,null,null,null,"",0,{"$f":"IF(IF(LEN(A1982)>0,ERROR.TYPE(MATCH(H1982,H$1:H1981,0))=7,0),C1982,\"\")","v":""},""]
[null,null,null,null,"",0,{"$f":"IF(IF(LEN(A1983)>0,ERROR.TYPE(MATCH(H1983,H$1:H1982,0))=7,0),C1983,\"\")","v":""},""]
[null,null,null,null,"",0,{"$f":"IF(IF(LEN(A1984)>0,ERROR.TYPE(MATCH(H1984,H$1:H1983,0))=7,0),C1984,\"\")","v":""},""]
[null,null,null,null,"",0,{"$f":"IF(IF(LEN(A1985)>0,ERROR.TYPE(MATCH(H1985,H$1:H1984,0))=7,0),C1985,\"\")","v":""},""]
[null,null,null,null,"",0,{"$f":"IF(IF(LEN(A1986)>0,ERROR.TYPE(MATCH(H1986,H$1:H1985,0))=7,0),C1986,\"\")","v":""},""]
[null,null,null,null,{"$f":"IF($G1987<>\"\",IF($B1987<400,0.5,IF($B1987<2801,1,IF($B1987<5601,1.5,IF($B1987<8401,2,IF($B1987<11201,2.5,1000))))),\"\")","v":""},0,{"$f":"IF(IF(LEN(A1987)>0,ERROR.TYPE(MATCH(H1987,H$1:H1986,0))=7,0),C1987,\"\")","v":""},""]
[null,null,null,null,"",{"$f":"IF(E1988<>\"#NV\",B1988,\"\")","v":0},{"$f":"IF(IF(LEN(A1988)>0,ERROR.TYPE(MATCH(H1988,H$1:H1987,0))=7,0),C1988,\"\")","v":""},{"$f":"D1988&A1988","v":""}]
[null,null,null,null,"",0,{"$f":"IF(IF(LEN(A1989)>0,ERROR.TYPE(MATCH(H1989,H$1:H1988,0))=7,0),C1989,\"\")","v":""},""]
[null,null,null,null,"",0,{"$f":"IF(IF(LEN(A1990)>0,ERROR.TYPE(MATCH(H1990,H$1:H1989,0))=7,0),C1990,\"\")","v":""},""]
[null,null,null,null,"",0,{"$f":"IF(IF(LEN(A1991)>0,ERROR.TYPE(MATCH(H1991,H$1:H1990,0))=7,0),C1991,\"\")","v":""},""]
[null,null,null,null,"",0,{"$f":"IF(IF(LEN(A1992)>0,ERROR.TYPE(MATCH(H1992,H$1:H1991,0))=7,0),C1992,\"\")","v":""},""]
[null,null,null,null,"",0,{"$f":"IF(IF(LEN(A1993)>0,ERROR.TYPE(MATCH(H1993,H$1:H1992,0))=7,0),C1993,\"\")","v":""},""]
[null,null,null,null,"",0,{"$f":"IF(IF(LEN(A1994)>0,ERROR.TYPE(MATCH(H1994,H$1:H1993,0))=7,0),C1994,\"\")","v":""},""]
[null,null,null,null,"",0,{"$f":"IF(IF(LEN(A1995)>0,ERROR.TYPE(MATCH(H1995,H$1:H1994,0))=7,0),C1995,\"\")","v":""},""]
[null,null,null,null,"",0,{"$f":"IF(IF(LEN(A1996)>0,ERROR.TYPE(MATCH(H1996,H$1:H1995,0))=7,0),C1996,\"\")","v":""},""]
[null,null,null,null,"",0,{"$f":"IF(IF(LEN(A1997)>0,ERROR.TYPE(MATCH(H1997,H$1:H1996,0))=7,0),C1997,\"\")","v":""},""]
[null,null,null,null,"",0,{"$f":"IF(IF(LEN(A1998)>0,ERROR.TYPE(MATCH(H1998,H$1:H1997,0))=7,0),C1998,\"\")","v":""},""]
[null,null,null,null,"",0,{"$f":"IF(IF(LEN(A1999)>0,ERROR.TYPE(MATCH(H1999,H$1:H1998,0))=7,0),C1999,\"\")","v":""},""]
[null,null,null,null,"",0,{"$f":"IF(IF(LEN(A2000)>0,ERROR.TYPE(MATCH(H2000,H$1:H1999,0))=7,0),C2000,\"\")","v":""},""]
[null,null,null,null,"",0,{"$f":"IF(IF(LEN(A2001)>0,ERROR.TYPE(MATCH(H2001,H$1:H2000,0))=7,0),C2001,\"\")","v":""},""]
[null,null,null,null,"",0,{"$f":"IF(IF(LEN(A2002)>0,ERROR.TYPE(MATCH(H2002,H$1:H2001,0))=7,0),C2002,\"\")","v":""},""]
[null,null,null,null,"",0,{"$f":"IF(IF(LEN(A2003)>0,ERROR.TYPE(MATCH(H2003,H$1:H2002,0))=7,0),C2003,\"\")","v":""},""]
[null,null,null,null,"",0,{"$f":"IF(IF(LEN(A2004)>0,ERROR.TYPE(MATCH(H2004,H$1:H2003,0))=7,0),C2004,\"\")","v":""},""]
[null,null,null,null,"",0,{"$f":"IF(IF(LEN(A2005)>0,ERROR.TYPE(MATCH(H2005,H$1:H2004,0))=7,0),C2005,\"\")","v":""},""]
[null,null,null,null,"",0,{"$f":"IF(IF(LEN(A2006)>0,ERROR.TYPE(MATCH(H2006,H$1:H2005,0))=7,0),C2006,\"\")","v":""},""]
[null,null,null,null,"",0,{"$f":"IF(IF(LEN(A2007)>0,ERROR.TYPE(MATCH(H2007,H$1:H2006,0))=7,0),C2007,\"\")","v":""},""]
[null,null,null,null,"",0,{"$f":"IF(IF(LEN(A2008)>0,ERROR.TYPE(MATCH(H2008,H$1:H2007,0))=7,0),C2008,\"\")","v":""},""]
[null,null,null,null,"",0,{"$f":"IF(IF(LEN(A2009)>0,ERROR.TYPE(MATCH(H2009,H$1:H2008,0))=7,0),C2009,\"\")","v":""},""]
[null,null,null,null,"",0,{"$f":"IF(IF(LEN(A2010)>0,ERROR.TYPE(MATCH(H2010,H$1:H2009,0))=7,0),C2010,\"\")","v":""},""]
[null,null,null,null,"",0,{"$f":"IF(IF(LEN(A2011)>0,ERROR.TYPE(MATCH(H2011,H$1:H2010,0))=7,0),C2011,\"\")","v":""},""]
[null,null,null,null,"",0,{"$f":"IF(IF(LEN(A2012)>0,ERROR.TYPE(MATCH(H2012,H$1:H2011,0))=7,0),C2012,\"\")","v":""},""]
[null,null,null,null,"",0,{"$f":"IF(IF(LEN(A2013)>0,ERROR.TYPE(MATCH(H2013,H$1:H2012,0))=7,0),C2013,\"\")","v":""},""]
[null,null,null,null,"",0,{"$f":"IF(IF(LEN(A2014)>0,ERROR.TYPE(MATCH(H2014,H$1:H2013,0))=7,0),C2014,\"\")","v":""},""]
[null,null,null,null,"",0,{"$f":"IF(IF(LEN(A2015)>0,ERROR.TYPE(MATCH(H2015,H$1:H2014,0))=7,0),C2015,\"\")","v":""},""]
[null,null,null,null,"",0,{"$f":"IF(IF(LEN(A2016)>0,ERROR.TYPE(MATCH(H2016,H$1:H2015,0))=7,0),C2016,\"\")","v":""},""]
[null,null,null,null,"",0,{"$f":"IF(IF(LEN(A2017)>0,ERROR.TYPE(MATCH(H2017,H$1:H2016,0))=7,0),C2017,\"\")","v":""},""]
[null,null,null,null,"",0,{"$f":"IF(IF(LEN(A2018)>0,ERROR.TYPE(MATCH(H2018,H$1:H2017,0))=7,0),C2018,\"\")","v":""},""]
[null,null,null,null,"",0,{"$f":"IF(IF(LEN(A2019)>0,ERROR.TYPE(MATCH(H2019,H$1:H2018,0))=7,0),C2019,\"\")","v":""},""]
[null,null,null,null,"",0,{"$f":"IF(IF(LEN(A2020)>0,ERROR.TYPE(MATCH(H2020,H$1:H2019,0))=7,0),C2020,\"\")","v":""},""]
[null,null,null,null,"",0,{"$f":"IF(IF(LEN(A2021)>0,ERROR.TYPE(MATCH(H2021,H$1:H2020,0))=7,0),C2021,\"\")","v":""},""]
[null,null,null,null,"",0,{"$f":"IF(IF(LEN(A2022)>0,ERROR.TYPE(MATCH(H2022,H$1:H2021,0))=7,0),C2022,\"\")","v":""},""]
[null,null,null,null,"",0,{"$f":"IF(IF(LEN(A2023)>0,ERROR.TYPE(MATCH(H2023,H$1:H2022,0))=7,0),C2023,\"\")","v":""},""]
[null,null,null,null,"",0,{"$f":"IF(IF(LEN(A2024)>0,ERROR.TYPE(MATCH(H2024,H$1:H2023,0))=7,0),C2024,\"\")","v":""},""]
[null,null,null,null,"",0,{"$f":"IF(IF(LEN(A2025)>0,ERROR.TYPE(MATCH(H2025,H$1:H2024,0))=7,0),C2025,\"\")","v":""},""]
[null,null,null,null,"",0,{"$f":"IF(IF(LEN(A2026)>0,ERROR.TYPE(MATCH(H2026,H$1:H2025,0))=7,0),C2026,\"\")","v":""},""]
[null,null,null,null,"",0,{"$f":"IF(IF(LEN(A2027)>0,ERROR.TYPE(MATCH(H2027,H$1:H2026,0))=7,0),C2027,\"\")","v":""},""]
[null,null,null,null,"",0,{"$f":"IF(IF(LEN(A2028)>0,ERROR.TYPE(MATCH(H2028,H$1:H2027,0))=7,0),C2028,\"\")","v":""},""]
[null,null,null,null,"",0,{"$f":"IF(IF(LEN(A2029)>0,ERROR.TYPE(MATCH(H2029,H$1:H2028,0))=7,0),C2029,\"\")","v":""},""]
[null,null,null,null,"",0,{"$f":"IF(IF(LEN(A2030)>0,ERROR.TYPE(MATCH(H2030,H$1:H2029,0))=7,0),C2030,\"\")","v":""},""]
[null,null,null,null,"",0,{"$f":"IF(IF(LEN(A2031)>0,ERROR.TYPE(MATCH(H2031,H$1:H2030,0))=7,0),C2031,\"\")","v":""},""]
[null,null,null,null,"",0,{"$f":"IF(IF(LEN(A2032)>0,ERROR.TYPE(MATCH(H2032,H$1:H2031,0))=7,0),C2032,\"\")","v":""},""]
[null,null,null,null,"",0,{"$f":"IF(IF(LEN(A2033)>0,ERROR.TYPE(MATCH(H2033,H$1:H2032,0))=7,0),C2033,\"\")","v":""},""]
[null,null,null,null,"",0,{"$f":"IF(IF(LEN(A2034)>0,ERROR.TYPE(MATCH(H2034,H$1:H2033,0))=7,0),C2034,\"\")","v":""},""]
[null,null,null,null,"",0,{"$f":"IF(IF(LEN(A2035)>0,ERROR.TYPE(MATCH(H2035,H$1:H2034,0))=7,0),C2035,\"\")","v":""},""]
[null,null,null,null,"",0,{"$f":"IF(IF(LEN(A2036)>0,ERROR.TYPE(MATCH(H2036,H$1:H2035,0))=7,0),C2036,\"\")","v":""},""]
[null,null,null,null,"",0,{"$f":"IF(IF(LEN(A2037)>0,ERROR.TYPE(MATCH(H2037,H$1:H2036,0))=7,0),C2037,\"\")","v":""},""]
[null,null,null,null,"",0,{"$f":"IF(IF(LEN(A2038)>0,ERROR.TYPE(MATCH(H2038,H$1:H2037,0))=7,0),C2038,\"\")","v":""},""]
[null,null,null,null,"",0,{"$f":"IF(IF(LEN(A2039)>0,ERROR.TYPE(MATCH(H2039,H$1:H2038,0))=7,0),C2039,\"\")","v":""},""]
[null,null,null,null,"",0,{"$f":"IF(IF(LEN(A2040)>0,ERROR.TYPE(MATCH(H2040,H$1:H2039,0))=7,0),C2040,\"\")","v":""},""]
[null,null,null,null,"",0,{"$f":"IF(IF(LEN(A2041)>0,ERROR.TYPE(MATCH(H2041,H$1:H2040,0))=7,0),C2041,\"\")","v":""},""]
[null,null,null,null,"",0,{"$f":"IF(IF(LEN(A2042)>0,ERROR.TYPE(MATCH(H2042,H$1:H2041,0))=7,0),C2042,\"\")","v":""},""]
[null,null,null,null,"",0,{"$f":"IF(IF(LEN(A2043)>0,ERROR.TYPE(MATCH(H2043,H$1:H2042,0))=7,0),C2043,\"\")","v":""},""]
[null,null,null,null,"",0,{"$f":"IF(IF(LEN(A2044)>0,ERROR.TYPE(MATCH(H2044,H$1:H2043,0))=7,0),C2044,\"\")","v":""},""]
[null,null,null,null,"",0,{"$f":"IF(IF(LEN(A2045)>0,ERROR.TYPE(MATCH(H2045,H$1:H2044,0))=7,0),C2045,\"\")","v":""},""]
[null,null,null,null,"",0,{"$f":"IF(IF(LEN(A2046)>0,ERROR.TYPE(MATCH(H2046,H$1:H2045,0))=7,0),C2046,\"\")","v":""},""]
[null,null,null,null,"",0,{"$f":"IF(IF(LEN(A2047)>0,ERROR.TYPE(MATCH(H2047,H$1:H2046,0))=7,0),C2047,\"\")","v":""},""]
[null,null,null,null,"",0,{"$f":"IF(IF(LEN(A2048)>0,ERROR.TYPE(MATCH(H2048,H$1:H2047,0))=7,0),C2048,\"\")","v":""},""]
[null,null,null,null,"",0,{"$f":"IF(IF(LEN(A2049)>0,ERROR.TYPE(MATCH(H2049,H$1:H2048,0))=7,0),C2049,\"\")","v":""},""]
[null,null,null,null,"",0,{"$f":"IF(IF(LEN(A2050)>0,ERROR.TYPE(MATCH(H2050,H$1:H2049,0))=7,0),C2050,\"\")","v":""},""]
[null,null,null,null,{"$f":"IF($G2051<>\"\",IF($B2051<400,0.5,IF($B2051<2801,1,IF($B2051<5601,1.5,IF($B2051<8401,2,IF($B2051<11201,2.5,1000))))),\"\")","v":""},0,{"$f":"IF(IF(LEN(A2051)>0,ERROR.TYPE(MATCH(H2051,H$1:H2050,0))=7,0),C2051,\"\")","v":""},""]
[null,null,null,null,"",{"$f":"IF(E2052<>\"#NV\",B2052,\"\")","v":0},{"$f":"IF(IF(LEN(A2052)>0,ERROR.TYPE(MATCH(H2052,H$1:H2051,0))=7,0),C2052,\"\")","v":""},{"$f":"D2052&A2052","v":""}]
[null,null,null,null,"",0,{"$f":"IF(IF(LEN(A2053)>0,ERROR.TYPE(MATCH(H2053,H$1:H2052,0))=7,0),C2053,\"\")","v":""},""]
[null,null,null,null,"",0,{"$f":"IF(IF(LEN(A2054)>0,ERROR.TYPE(MATCH(H2054,H$1:H2053,0))=7,0),C2054,\"\")","v":""},""]
[null,null,null,null,"",0,{"$f":"IF(IF(LEN(A2055)>0,ERROR.TYPE(MATCH(H2055,H$1:H2054,0))=7,0),C2055,\"\")","v":""},""]
[null,null,null,null,"",0,{"$f":"IF(IF(LEN(A2056)>0,ERROR.TYPE(MATCH(H2056,H$1:H2055,0))=7,0),C2056,\"\")","v":""},""]
[null,null,null,null,"",0,{"$f":"IF(IF(LEN(A2057)>0,ERROR.TYPE(MATCH(H2057,H$1:H2056,0))=7,0),C2057,\"\")","v":""},""]
[null,null,null,null,"",0,{"$f":"IF(IF(LEN(A2058)>0,ERROR.TYPE(MATCH(H2058,H$1:H2057,0))=7,0),C2058,\"\")","v":""},""]
[null,null,null,null,"",0,{"$f":"IF(IF(LEN(A2059)>0,ERROR.TYPE(MATCH(H2059,H$1:H2058,0))=7,0),C2059,\"\")","v":""},""]
[null,null,null,null,"",0,{"$f":"IF(IF(LEN(A2060)>0,ERROR.TYPE(MATCH(H2060,H$1:H2059,0))=7,0),C2060,\"\")","v":""},""]
[null,null,null,null,"",0,{"$f":"IF(IF(LEN(A2061)>0,ERROR.TYPE(MATCH(H2061,H$1:H2060,0))=7,0),C2061,\"\")","v":""},""]
[null,null,null,null,"",0,{"$f":"IF(IF(LEN(A2062)>0,ERROR.TYPE(MATCH(H2062,H$1:H2061,0))=7,0),C2062,\"\")","v":""},""]
[null,null,null,null,"",0,{"$f":"IF(IF(LEN(A2063)>0,ERROR.TYPE(MATCH(H2063,H$1:H2062,0))=7,0),C2063,\"\")","v":""},""]
[null,null,null,null,"",0,{"$f":"IF(IF(LEN(A2064)>0,ERROR.TYPE(MATCH(H2064,H$1:H2063,0))=7,0),C2064,\"\")","v":""},""]
[null,null,null,null,"",0,{"$f":"IF(IF(LEN(A2065)>0,ERROR.TYPE(MATCH(H2065,H$1:H2064,0))=7,0),C2065,\"\")","v":""},""]
[null,null,null,null,"",0,{"$f":"IF(IF(LEN(A2066)>0,ERROR.TYPE(MATCH(H2066,H$1:H2065,0))=7,0),C2066,\"\")","v":""},""]
[null,null,null,null,"",0,{"$f":"IF(IF(LEN(A2067)>0,ERROR.TYPE(MATCH(H2067,H$1:H2066,0))=7,0),C2067,\"\")","v":""},""]
[null,null,null,null,"",0,{"$f":"IF(IF(LEN(A2068)>0,ERROR.TYPE(MATCH(H2068,H$1:H2067,0))=7,0),C2068,\"\")","v":""},""]
[null,null,null,null,"",0,{"$f":"IF(IF(LEN(A2069)>0,ERROR.TYPE(MATCH(H2069,H$1:H2068,0))=7,0),C2069,\"\")","v":""},""]
[null,null,null,null,"",0,{"$f":"IF(IF(LEN(A2070)>0,ERROR.TYPE(MATCH(H2070,H$1:H2069,0))=7,0),C2070,\"\")","v":""},""]
[null,null,null,null,"",0,{"$f":"IF(IF(LEN(A2071)>0,ERROR.TYPE(MATCH(H2071,H$1:H2070,0))=7,0),C2071,\"\")","v":""},""]
[null,null,null,null,"",0,{"$f":"IF(IF(LEN(A2072)>0,ERROR.TYPE(MATCH(H2072,H$1:H2071,0))=7,0),C2072,\"\")","v":""},""]
[null,null,null,null,"",0,{"$f":"IF(IF(LEN(A2073)>0,ERROR.TYPE(MATCH(H2073,H$1:H2072,0))=7,0),C2073,\"\")","v":""},""]
[null,null,null,null,"",0,{"$f":"IF(IF(LEN(A2074)>0,ERROR.TYPE(MATCH(H2074,H$1:H2073,0))=7,0),C2074,\"\")","v":""},""]
[null,null,null,null,"",0,{"$f":"IF(IF(LEN(A2075)>0,ERROR.TYPE(MATCH(H2075,H$1:H2074,0))=7,0),C2075,\"\")","v":""},""]
[null,null,null,null,"",0,{"$f":"IF(IF(LEN(A2076)>0,ERROR.TYPE(MATCH(H2076,H$1:H2075,0))=7,0),C2076,\"\")","v":""},""]
[null,null,null,null,"",0,{"$f":"IF(IF(LEN(A2077)>0,ERROR.TYPE(MATCH(H2077,H$1:H2076,0))=7,0),C2077,\"\")","v":""},""]
[null,null,null,null,"",0,{"$f":"IF(IF(LEN(A2078)>0,ERROR.TYPE(MATCH(H2078,H$1:H2077,0))=7,0),C2078,\"\")","v":""},""]
[null,null,null,null,"",0,{"$f":"IF(IF(LEN(A2079)>0,ERROR.TYPE(MATCH(H2079,H$1:H2078,0))=7,0),C2079,\"\")","v":""},""]
[null,null,null,null,"",0,{"$f":"IF(IF(LEN(A2080)>0,ERROR.TYPE(MATCH(H2080,H$1:H2079,0))=7,0),C2080,\"\")","v":""},""]
[null,null,null,null,"",0,{"$f":"IF(IF(LEN(A2081)>0,ERROR.TYPE(MATCH(H2081,H$1:H2080,0))=7,0),C2081,\"\")","v":""},""]
[null,null,null,null,"",0,{"$f":"IF(IF(LEN(A2082)>0,ERROR.TYPE(MATCH(H2082,H$1:H2081,0))=7,0),C2082,\"\")","v":""},""]
[null,null,null,null,"",0,{"$f":"IF(IF(LEN(A2083)>0,ERROR.TYPE(MATCH(H2083,H$1:H2082,0))=7,0),C2083,\"\")","v":""},""]
[null,null,null,null,"",0,{"$f":"IF(IF(LEN(A2084)>0,ERROR.TYPE(MATCH(H2084,H$1:H2083,0))=7,0),C2084,\"\")","v":""},""]
[null,null,null,null,"",0,{"$f":"IF(IF(LEN(A2085)>0,ERROR.TYPE(MATCH(H2085,H$1:H2084,0))=7,0),C2085,\"\")","v":""},""]
[null,null,null,null,"",0,{"$f":"IF(IF(LEN(A2086)>0,ERROR.TYPE(MATCH(H2086,H$1:H2085,0))=7,0),C2086,\"\")","v":""},""]
[null,null,null,null,"",0,{"$f":"IF(IF(LEN(A2087)>0,ERROR.TYPE(MATCH(H2087,H$1:H2086,0))=7,0),C2087,\"\")","v":""},""]
[null,null,null,null,"",0,{"$f":"IF(IF(LEN(A2088)>0,ERROR.TYPE(MATCH(H2088,H$1:H2087,0))=7,0),C2088,\"\")","v":""},""]
[null,null,null,null,"",0,{"$f":"IF(IF(LEN(A2089)>0,ERROR.TYPE(MATCH(H2089,H$1:H2088,0))=7,0),C2089,\"\")","v":""},""]
[null,null,null,null,"",0,{"$f":"IF(IF(LEN(A2090)>0,ERROR.TYPE(MATCH(H2090,H$1:H2089,0))=7,0),C2090,\"\")","v":""},""]
[null,null,null,null,"",0,{"$f":"IF(IF(LEN(A2091)>0,ERROR.TYPE(MATCH(H2091,H$1:H2090,0))=7,0),C2091,\"\")","v":""},""]
[null,null,null,null,"",0,{"$f":"IF(IF(LEN(A2092)>0,ERROR.TYPE(MATCH(H2092,H$1:H2091,0))=7,0),C2092,\"\")","v":""},""]
[null,null,null,null,"",0,{"$f":"IF(IF(LEN(A2093)>0,ERROR.TYPE(MATCH(H2093,H$1:H2092,0))=7,0),C2093,\"\")","v":""},""]
[null,null,null,null,"",0,{"$f":"IF(IF(LEN(A2094)>0,ERROR.TYPE(MATCH(H2094,H$1:H2093,0))=7,0),C2094,\"\")","v":""},""]
[null,null,null,null,"",0,{"$f":"IF(IF(LEN(A2095)>0,ERROR.TYPE(MATCH(H2095,H$1:H2094,0))=7,0),C2095,\"\")","v":""},""]
[null,null,null,null,"",0,{"$f":"IF(IF(LEN(A2096)>0,ERROR.TYPE(MATCH(H2096,H$1:H2095,0))=7,0),C2096,\"\")","v":""},""]
[null,null,null,null,"",0,{"$f":"IF(IF(LEN(A2097)>0,ERROR.TYPE(MATCH(H2097,H$1:H2096,0))=7,0),C2097,\"\")","v":""},""]
[null,null,null,null,"",0,{"$f":"IF(IF(LEN(A2098)>0,ERROR.TYPE(MATCH(H2098,H$1:H2097,0))=7,0),C2098,\"\")","v":""},""]
[null,null,null,null,"",0,{"$f":"IF(IF(LEN(A2099)>0,ERROR.TYPE(MATCH(H2099,H$1:H2098,0))=7,0),C2099,\"\")","v":""},""]
[null,null,null,null,"",0,{"$f":"IF(IF(LEN(A2100)>0,ERROR.TYPE(MATCH(H2100,H$1:H2099,0))=7,0),C2100,\"\")","v":""},""]
[null,null,null,null,"",0,{"$f":"IF(IF(LEN(A2101)>0,ERROR.TYPE(MATCH(H2101,H$1:H2100,0))=7,0),C2101,\"\")","v":""},""]
[null,null,null,null,"",0,{"$f":"IF(IF(LEN(A2102)>0,ERROR.TYPE(MATCH(H2102,H$1:H2101,0))=7,0),C2102,\"\")","v":""},""]
[null,null,null,null,"",0,{"$f":"IF(IF(LEN(A2103)>0,ERROR.TYPE(MATCH(H2103,H$1:H2102,0))=7,0),C2103,\"\")","v":""},""]
[null,null,null,null,"",0,{"$f":"IF(IF(LEN(A2104)>0,ERROR.TYPE(MATCH(H2104,H$1:H2103,0))=7,0),C2104,\"\")","v":""},""]
[null,null,null,null,"",0,{"$f":"IF(IF(LEN(A2105)>0,ERROR.TYPE(MATCH(H2105,H$1:H2104,0))=7,0),C2105,\"\")","v":""},""]
[null,null,null,null,"",0,{"$f":"IF(IF(LEN(A2106)>0,ERROR.TYPE(MATCH(H2106,H$1:H2105,0))=7,0),C2106,\"\")","v":""},""]
[null,null,null,null,"",0,{"$f":"IF(IF(LEN(A2107)>0,ERROR.TYPE(MATCH(H2107,H$1:H2106,0))=7,0),C2107,\"\")","v":""},""]
[null,null,null,null,"",0,{"$f":"IF(IF(LEN(A2108)>0,ERROR.TYPE(MATCH(H2108,H$1:H2107,0))=7,0),C2108,\"\")","v":""},""]
[null,null,null,null,"",0,{"$f":"IF(IF(LEN(A2109)>0,ERROR.TYPE(MATCH(H2109,H$1:H2108,0))=7,0),C2109,\"\")","v":""},""]
[null,null,null,null,"",0,{"$f":"IF(IF(LEN(A2110)>0,ERROR.TYPE(MATCH(H2110,H$1:H2109,0))=7,0),C2110,\"\")","v":""},""]
[null,null,null,null,"",0,{"$f":"IF(IF(LEN(A2111)>0,ERROR.TYPE(MATCH(H2111,H$1:H2110,0))=7,0),C2111,\"\")","v":""},""]
[null,null,null,null,"",0,{"$f":"IF(IF(LEN(A2112)>0,ERROR.TYPE(MATCH(H2112,H$1:H2111,0))=7,0),C2112,\"\")","v":""},""]
[null,null,null,null,"",0,{"$f":"IF(IF(LEN(A2113)>0,ERROR.TYPE(MATCH(H2113,H$1:H2112,0))=7,0),C2113,\"\")","v":""},""]
[null,null,null,null,"",0,{"$f":"IF(IF(LEN(A2114)>0,ERROR.TYPE(MATCH(H2114,H$1:H2113,0))=7,0),C2114,\"\")","v":""},""]
[null,null,null,null,{"$f":"IF($G2115<>\"\",IF($B2115<400,0.5,IF($B2115<2801,1,IF($B2115<5601,1.5,IF($B2115<8401,2,IF($B2115<11201,2.5,1000))))),\"\")","v":""},0,{"$f":"IF(IF(LEN(A2115)>0,ERROR.TYPE(MATCH(H2115,H$1:H2114,0))=7,0),C2115,\"\")","v":""},""]
[null,null,null,null,"",{"$f":"IF(E2116<>\"#NV\",B2116,\"\")","v":0},{"$f":"IF(IF(LEN(A2116)>0,ERROR.TYPE(MATCH(H2116,H$1:H2115,0))=7,0),C2116,\"\")","v":""},{"$f":"D2116&A2116","v":""}]
[null,null,null,null,"",0,{"$f":"IF(IF(LEN(A2117)>0,ERROR.TYPE(MATCH(H2117,H$1:H2116,0))=7,0),C2117,\"\")","v":""},""]
[null,null,null,null,"",0,{"$f":"IF(IF(LEN(A2118)>0,ERROR.TYPE(MATCH(H2118,H$1:H2117,0))=7,0),C2118,\"\")","v":""},""]
[null,null,null,null,"",0,{"$f":"IF(IF(LEN(A2119)>0,ERROR.TYPE(MATCH(H2119,H$1:H2118,0))=7,0),C2119,\"\")","v":""},""]
[null,null,null,null,"",0,{"$f":"IF(IF(LEN(A2120)>0,ERROR.TYPE(MATCH(H2120,H$1:H2119,0))=7,0),C2120,\"\")","v":""},""]
[null,null,null,null,"",0,{"$f":"IF(IF(LEN(A2121)>0,ERROR.TYPE(MATCH(H2121,H$1:H2120,0))=7,0),C2121,\"\")","v":""},""]
[null,null,null,null,"",0,{"$f":"IF(IF(LEN(A2122)>0,ERROR.TYPE(MATCH(H2122,H$1:H2121,0))=7,0),C2122,\"\")","v":""},""]
[null,null,null,null,"",0,{"$f":"IF(IF(LEN(A2123)>0,ERROR.TYPE(MATCH(H2123,H$1:H2122,0))=7,0),C2123,\"\")","v":""},""]
[null,null,null,null,"",0,{"$f":"IF(IF(LEN(A2124)>0,ERROR.TYPE(MATCH(H2124,H$1:H2123,0))=7,0),C2124,\"\")","v":""},""]
[null,null,null,null,"",0,{"$f":"IF(IF(LEN(A2125)>0,ERROR.TYPE(MATCH(H2125,H$1:H2124,0))=7,0),C2125,\"\")","v":""},""]
[null,null,null,null,"",0,{"$f":"IF(IF(LEN(A2126)>0,ERROR.TYPE(MATCH(H2126,H$1:H2125,0))=7,0),C2126,\"\")","v":""},""]
[null,null,null,null,"",0,{"$f":"IF(IF(LEN(A2127)>0,ERROR.TYPE(MATCH(H2127,H$1:H2126,0))=7,0),C2127,\"\")","v":""},""]
[null,null,null,null,"",0,{"$f":"IF(IF(LEN(A2128)>0,ERROR.TYPE(MATCH(H2128,H$1:H2127,0))=7,0),C2128,\"\")","v":""},""]
[null,null,null,null,"",0,{"$f":"IF(IF(LEN(A2129)>0,ERROR.TYPE(MATCH(H2129,H$1:H2128,0))=7,0),C2129,\"\")","v":""},""]
[null,null,null,null,"",0,{"$f":"IF(IF(LEN(A2130)>0,ERROR.TYPE(MATCH(H2130,H$1:H2129,0))=7,0),C2130,\"\")","v":""},""]
[null,null,null,null,"",0,{"$f":"IF(IF(LEN(A2131)>0,ERROR.TYPE(MATCH(H2131,H$1:H2130,0))=7,0),C2131,\"\")","v":""},""]
[null,null,null,null,"",0,{"$f":"IF(IF(LEN(A2132)>0,ERROR.TYPE(MATCH(H2132,H$1:H2131,0))=7,0),C2132,\"\")","v":""},""]
[null,null,null,null,"",0,{"$f":"IF(IF(LEN(A2133)>0,ERROR.TYPE(MATCH(H2133,H$1:H2132,0))=7,0),C2133,\"\")","v":""},""]
[null,null,null,null,"",0,{"$f":"IF(IF(LEN(A2134)>0,ERROR.TYPE(MATCH(H2134,H$1:H2133,0))=7,0),C2134,\"\")","v":""},""]
[null,null,null,null,"",0,{"$f":"IF(IF(LEN(A2135)>0,ERROR.TYPE(MATCH(H2135,H$1:H2134,0))=7,0),C2135,\"\")","v":""},""]
[null,null,null,null,"",0,{"$f":"IF(IF(LEN(A2136)>0,ERROR.TYPE(MATCH(H2136,H$1:H2135,0))=7,0),C2136,\"\")","v":""},""]
[null,null,null,null,"",0,{"$f":"IF(IF(LEN(A2137)>0,ERROR.TYPE(MATCH(H2137,H$1:H2136,0))=7,0),C2137,\"\")","v":""},""]
[null,null,null,null,"",0,{"$f":"IF(IF(LEN(A2138)>0,ERROR.TYPE(MATCH(H2138,H$1:H2137,0))=7,0),C2138,\"\")","v":""},""]
[null,null,null,null,"",0,{"$f":"IF(IF(LEN(A2139)>0,ERROR.TYPE(MATCH(H2139,H$1:H2138,0))=7,0),C2139,\"\")","v":""},""]
[null,null,null,null,"",0,{"$f":"IF(IF(LEN(A2140)>0,ERROR.TYPE(MATCH(H2140,H$1:H2139,0))=7,0),C2140,\"\")","v":""},""]
[null,null,null,null,"",0,{"$f":"IF(IF(LEN(A2141)>0,ERROR.TYPE(MATCH(H2141,H$1:H2140,0))=7,0),C2141,\"\")","v":""},""]
[null,null,null,null,"",0,{"$f":"IF(IF(LEN(A2142)>0,ERROR.TYPE(MATCH(H2142,H$1:H2141,0))=7,0),C2142,\"\")","v":""},""]
[null,null,null,null,"",0,{"$f":"IF(IF(LEN(A2143)>0,ERROR.TYPE(MATCH(H2143,H$1:H2142,0))=7,0),C2143,\"\")","v":""},""]
[null,null,null,null,"",0,{"$f":"IF(IF(LEN(A2144)>0,ERROR.TYPE(MATCH(H2144,H$1:H2143,0))=7,0),C2144,\"\")","v":""},""]
[null,null,null,null,"",0,{"$f":"IF(IF(LEN(A2145)>0,ERROR.TYPE(MATCH(H2145,H$1:H2144,0))=7,0),C2145,\"\")","v":""},""]
[null,null,null,null,"",0,{"$f":"IF(IF(LEN(A2146)>0,ERROR.TYPE(MATCH(H2146,H$1:H2145,0))=7,0),C2146,\"\")","v":""},""]
[null,null,null,null,"",0,{"$f":"IF(IF(LEN(A2147)>0,ERROR.TYPE(MATCH(H2147,H$1:H2146,0))=7,0),C2147,\"\")","v":""},""]
[null,null,null,null,"",0,{"$f":"IF(IF(LEN(A2148)>0,ERROR.TYPE(MATCH(H2148,H$1:H2147,0))=7,0),C2148,\"\")","v":""},""]
[null,null,null,null,"",0,{"$f":"IF(IF(LEN(A2149)>0,ERROR.TYPE(MATCH(H2149,H$1:H2148,0))=7,0),C2149,\"\")","v":""},""]
[null,null,null,null,"",0,{"$f":"IF(IF(LEN(A2150)>0,ERROR.TYPE(MATCH(H2150,H$1:H2149,0))=7,0),C2150,\"\")","v":""},""]
[null,null,null,null,"",0,{"$f":"IF(IF(LEN(A2151)>0,ERROR.TYPE(MATCH(H2151,H$1:H2150,0))=7,0),C2151,\"\")","v":""},""]
[null,null,null,null,"",0,{"$f":"IF(IF(LEN(A2152)>0,ERROR.TYPE(MATCH(H2152,H$1:H2151,0))=7,0),C2152,\"\")","v":""},""]
[null,null,null,null,"",0,{"$f":"IF(IF(LEN(A2153)>0,ERROR.TYPE(MATCH(H2153,H$1:H2152,0))=7,0),C2153,\"\")","v":""},""]
[null,null,null,null,"",0,{"$f":"IF(IF(LEN(A2154)>0,ERROR.TYPE(MATCH(H2154,H$1:H2153,0))=7,0),C2154,\"\")","v":""},""]
[null,null,null,null,"",0,{"$f":"IF(IF(LEN(A2155)>0,ERROR.TYPE(MATCH(H2155,H$1:H2154,0))=7,0),C2155,\"\")","v":""},""]
[null,null,null,null,"",0,{"$f":"IF(IF(LEN(A2156)>0,ERROR.TYPE(MATCH(H2156,H$1:H2155,0))=7,0),C2156,\"\")","v":""},""]
[null,null,null,null,"",0,{"$f":"IF(IF(LEN(A2157)>0,ERROR.TYPE(MATCH(H2157,H$1:H2156,0))=7,0),C2157,\"\")","v":""},""]
[null,null,null,null,"",0,{"$f":"IF(IF(LEN(A2158)>0,ERROR.TYPE(MATCH(H2158,H$1:H2157,0))=7,0),C2158,\"\")","v":""},""]
[null,null,null,null,"",0,{"$f":"IF(IF(LEN(A2159)>0,ERROR.TYPE(MATCH(H2159,H$1:H2158,0))=7,0),C2159,\"\")","v":""},""]
[null,null,null,null,"",0,{"$f":"IF(IF(LEN(A2160)>0,ERROR.TYPE(MATCH(H2160,H$1:H2159,0))=7,0),C2160,\"\")","v":""},""]
[null,null,null,null,"",0,{"$f":"IF(IF(LEN(A2161)>0,ERROR.TYPE(MATCH(H2161,H$1:H2160,0))=7,0),C2161,\"\")","v":""},""]
[null,null,null,null,"",0,{"$f":"IF(IF(LEN(A2162)>0,ERROR.TYPE(MATCH(H2162,H$1:H2161,0))=7,0),C2162,\"\")","v":""},""]
[null,null,null,null,"",0,{"$f":"IF(IF(LEN(A2163)>0,ERROR.TYPE(MATCH(H2163,H$1:H2162,0))=7,0),C2163,\"\")","v":""},""]
[null,null,null,null,"",0,{"$f":"IF(IF(LEN(A2164)>0,ERROR.TYPE(MATCH(H2164,H$1:H2163,0))=7,0),C2164,\"\")","v":""},""]
[null,null,null,null,"",0,{"$f":"IF(IF(LEN(A2165)>0,ERROR.TYPE(MATCH(H2165,H$1:H2164,0))=7,0),C2165,\"\")","v":""},""]
[null,null,null,null,"",0,{"$f":"IF(IF(LEN(A2166)>0,ERROR.TYPE(MATCH(H2166,H$1:H2165,0))=7,0),C2166,\"\")","v":""},""]
[null,null,null,null,"",0,{"$f":"IF(IF(LEN(A2167)>0,ERROR.TYPE(MATCH(H2167,H$1:H2166,0))=7,0),C2167,\"\")","v":""},""]
[null,null,null,null,"",0,{"$f":"IF(IF(LEN(A2168)>0,ERROR.TYPE(MATCH(H2168,H$1:H2167,0))=7,0),C2168,\"\")","v":""},""]
[null,null,null,null,"",0,{"$f":"IF(IF(LEN(A2169)>0,ERROR.TYPE(MATCH(H2169,H$1:H2168,0))=7,0),C2169,\"\")","v":""},""]
[null,null,null,null,"",0,{"$f":"IF(IF(LEN(A2170)>0,ERROR.TYPE(MATCH(H2170,H$1:H2169,0))=7,0),C2170,\"\")","v":""},""]
[null,null,null,null,"",0,{"$f":"IF(IF(LEN(A2171)>0,ERROR.TYPE(MATCH(H2171,H$1:H2170,0))=7,0),C2171,\"\")","v":""},""]
[null,null,null,null,"",0,{"$f":"IF(IF(LEN(A2172)>0,ERROR.TYPE(MATCH(H2172,H$1:H2171,0))=7,0),C2172,\"\")","v":""},""]
[null,null,null,null,"",0,{"$f":"IF(IF(LEN(A2173)>0,ERROR.TYPE(MATCH(H2173,H$1:H2172,0))=7,0),C2173,\"\")","v":""},""]
[null,null,null,null,"",0,{"$f":"IF(IF(LEN(A2174)>0,ERROR.TYPE(MATCH(H2174,H$1:H2173,0))=7,0),C2174,\"\")","v":""},""]
[null,null,null,null,"",0,{"$f":"IF(IF(LEN(A2175)>0,ERROR.TYPE(MATCH(H2175,H$1:H2174,0))=7,0),C2175,\"\")","v":""},""]
[null,null,null,null,"",0,{"$f":"IF(IF(LEN(A2176)>0,ERROR.TYPE(MATCH(H2176,H$1:H2175,0))=7,0),C2176,\"\")","v":""},""]
[null,null,null,null,"",0,{"$f":"IF(IF(LEN(A2177)>0,ERROR.TYPE(MATCH(H2177,H$1:H2176,0))=7,0),C2177,\"\")","v":""},""]
[null,null,null,null,{"$f":"IF($G2178<>\"\",IF($B2178<400,0.5,IF($B2178<2801,1,IF($B2178<5601,1.5,IF($B2178<8401,2,IF($B2178<11201,2.5,1000))))),\"\")","v":""},{"$f":"IF(E2178<>\"#NV\",B2178,\"\")","v":0},{"$f":"IF(IF(LEN(A2178)>0,ERROR.TYPE(MATCH(H2178,H$1:H2177,0))=7,0),C2178,\"\")","v":""},{"$f":"D2178&A2178","v":""}]
[null,null,null,null,{"$f":"IF($G2179<>\"\",IF($B2179<400,0.5,IF($B2179<2801,1,IF($B2179<5601,1.5,IF($B2179<8401,2,IF($B2179<11201,2.5,1000))))),\"\")","v":""},{"$f":"IF(E2179<>\"#NV\",B2179,\"\")","v":0},{"$f":"IF(IF(LEN(A2179)>0,ERROR.TYPE(MATCH(H2179,H$1:H2178,0))=7,0),C2179,\"\")","v":""},""]
[null,null,null,null,"",0,{"$f":"IF(IF(LEN(A2180)>0,ERROR.TYPE(MATCH(H2180,H$1:H2179,0))=7,0),C2180,\"\")","v":""},""]
[null,null,null,null,"",0,{"$f":"IF(IF(LEN(A2181)>0,ERROR.TYPE(MATCH(H2181,H$1:H2180,0))=7,0),C2181,\"\")","v":""},""]
[null,null,null,null,"",0,{"$f":"IF(IF(LEN(A2182)>0,ERROR.TYPE(MATCH(H2182,H$1:H2181,0))=7,0),C2182,\"\")","v":""},""]
[null,null,null,null,"",0,{"$f":"IF(IF(LEN(A2183)>0,ERROR.TYPE(MATCH(H2183,H$1:H2182,0))=7,0),C2183,\"\")","v":""},""]
[null,null,null,null,"",0,{"$f":"IF(IF(LEN(A2184)>0,ERROR.TYPE(MATCH(H2184,H$1:H2183,0))=7,0),C2184,\"\")","v":""},""]
[null,null,null,null,"",0,{"$f":"IF(IF(LEN(A2185)>0,ERROR.TYPE(MATCH(H2185,H$1:H2184,0))=7,0),C2185,\"\")","v":""},""]
[null,null,null,null,"",0,{"$f":"IF(IF(LEN(A2186)>0,ERROR.TYPE(MATCH(H2186,H$1:H2185,0))=7,0),C2186,\"\")","v":""},""]
[null,null,null,null,"",0,{"$f":"IF(IF(LEN(A2187)>0,ERROR.TYPE(MATCH(H2187,H$1:H2186,0))=7,0),C2187,\"\")","v":""},""]
[null,null,null,null,"",0,{"$f":"IF(IF(LEN(A2188)>0,ERROR.TYPE(MATCH(H2188,H$1:H2187,0))=7,0),C2188,\"\")","v":""},""]
[null,null,null,null,"",0,{"$f":"IF(IF(LEN(A2189)>0,ERROR.TYPE(MATCH(H2189,H$1:H2188,0))=7,0),C2189,\"\")","v":""},""]
[null,null,null,null,"",0,{"$f":"IF(IF(LEN(A2190)>0,ERROR.TYPE(MATCH(H2190,H$1:H2189,0))=7,0),C2190,\"\")","v":""},""]
[null,null,null,null,"",0,{"$f":"IF(IF(LEN(A2191)>0,ERROR.TYPE(MATCH(H2191,H$1:H2190,0))=7,0),C2191,\"\")","v":""},""]
[null,null,null,null,"",0,{"$f":"IF(IF(LEN(A2192)>0,ERROR.TYPE(MATCH(H2192,H$1:H2191,0))=7,0),C2192,\"\")","v":""},""]
[null,null,null,null,"",0,{"$f":"IF(IF(LEN(A2193)>0,ERROR.TYPE(MATCH(H2193,H$1:H2192,0))=7,0),C2193,\"\")","v":""},""]
[null,null,null,null,"",0,{"$f":"IF(IF(LEN(A2194)>0,ERROR.TYPE(MATCH(H2194,H$1:H2193,0))=7,0),C2194,\"\")","v":""},""]
[null,null,null,null,"",0,{"$f":"IF(IF(LEN(A2195)>0,ERROR.TYPE(MATCH(H2195,H$1:H2194,0))=7,0),C2195,\"\")","v":""},""]
[null,null,null,null,"",0,{"$f":"IF(IF(LEN(A2196)>0,ERROR.TYPE(MATCH(H2196,H$1:H2195,0))=7,0),C2196,\"\")","v":""},""]
[null,null,null,null,"",0,{"$f":"IF(IF(LEN(A2197)>0,ERROR.TYPE(MATCH(H2197,H$1:H2196,0))=7,0),C2197,\"\")","v":""},""]
[null,null,null,null,"",0,{"$f":"IF(IF(LEN(A2198)>0,ERROR.TYPE(MATCH(H2198,H$1:H2197,0))=7,0),C2198,\"\")","v":""},""]
[null,null,null,null,"",0,{"$f":"IF(IF(LEN(A2199)>0,ERROR.TYPE(MATCH(H2199,H$1:H2198,0))=7,0),C2199,\"\")","v":""},""]
[null,null,null,null,"",0,{"$f":"IF(IF(LEN(A2200)>0,ERROR.TYPE(MATCH(H2200,H$1:H2199,0))=7,0),C2200,\"\")","v":""},""]
[null,null,null,null,"",0,{"$f":"IF(IF(LEN(A2201)>0,ERROR.TYPE(MATCH(H2201,H$1:H2200,0))=7,0),C2201,\"\")","v":""},""]
[null,null,null,null,"",0,{"$f":"IF(IF(LEN(A2202)>0,ERROR.TYPE(MATCH(H2202,H$1:H2201,0))=7,0),C2202,\"\")","v":""},""]
[null,null,null,null,"",0,{"$f":"IF(IF(LEN(A2203)>0,ERROR.TYPE(MATCH(H2203,H$1:H2202,0))=7,0),C2203,\"\")","v":""},""]
[null,null,null,null,"",0,{"$f":"IF(IF(LEN(A2204)>0,ERROR.TYPE(MATCH(H2204,H$1:H2203,0))=7,0),C2204,\"\")","v":""},""]
[null,null,null,null,"",0,{"$f":"IF(IF(LEN(A2205)>0,ERROR.TYPE(MATCH(H2205,H$1:H2204,0))=7,0),C2205,\"\")","v":""},""]
[null,null,null,null,"",0,{"$f":"IF(IF(LEN(A2206)>0,ERROR.TYPE(MATCH(H2206,H$1:H2205,0))=7,0),C2206,\"\")","v":""},""]
[null,null,null,null,"",0,{"$f":"IF(IF(LEN(A2207)>0,ERROR.TYPE(MATCH(H2207,H$1:H2206,0))=7,0),C2207,\"\")","v":""},""]
[null,null,null,null,"",0,{"$f":"IF(IF(LEN(A2208)>0,ERROR.TYPE(MATCH(H2208,H$1:H2207,0))=7,0),C2208,\"\")","v":""},""]
[null,null,null,null,"",0,{"$f":"IF(IF(LEN(A2209)>0,ERROR.TYPE(MATCH(H2209,H$1:H2208,0))=7,0),C2209,\"\")","v":""},""]
[null,null,null,null,"",0,{"$f":"IF(IF(LEN(A2210)>0,ERROR.TYPE(MATCH(H2210,H$1:H2209,0))=7,0),C2210,\"\")","v":""},""]
[null,null,null,null,"",0,{"$f":"IF(IF(LEN(A2211)>0,ERROR.TYPE(MATCH(H2211,H$1:H2210,0))=7,0),C2211,\"\")","v":""},""]
[null,null,null,null,"",0,{"$f":"IF(IF(LEN(A2212)>0,ERROR.TYPE(MATCH(H2212,H$1:H2211,0))=7,0),C2212,\"\")","v":""},""]
[null,null,null,null,"",0,{"$f":"IF(IF(LEN(A2213)>0,ERROR.TYPE(MATCH(H2213,H$1:H2212,0))=7,0),C2213,\"\")","v":""},""]
[null,null,null,null,"",0,{"$f":"IF(IF(LEN(A2214)>0,ERROR.TYPE(MATCH(H2214,H$1:H2213,0))=7,0),C2214,\"\")","v":""},""]
[null,null,null,null,"",0,{"$f":"IF(IF(LEN(A2215)>0,ERROR.TYPE(MATCH(H2215,H$1:H2214,0))=7,0),C2215,\"\")","v":""},""]
[null,null,null,null,"",0,{"$f":"IF(IF(LEN(A2216)>0,ERROR.TYPE(MATCH(H2216,H$1:H2215,0))=7,0),C2216,\"\")","v":""},""]
[null,null,null,null,"",0,{"$f":"IF(IF(LEN(A2217)>0,ERROR.TYPE(MATCH(H2217,H$1:H2216,0))=7,0),C2217,\"\")","v":""},""]
[null,null,null,null,"",0,{"$f":"IF(IF(LEN(A2218)>0,ERROR.TYPE(MATCH(H2218,H$1:H2217,0))=7,0),C2218,\"\")","v":""},""]
[null,null,null,null,"",0,{"$f":"IF(IF(LEN(A2219)>0,ERROR.TYPE(MATCH(H2219,H$1:H2218,0))=7,0),C2219,\"\")","v":""},""]
[null,null,null,null,"",0,{"$f":"IF(IF(LEN(A2220)>0,ERROR.TYPE(MATCH(H2220,H$1:H2219,0))=7,0),C2220,\"\")","v":""},""]
[null,null,null,null,"",0,{"$f":"IF(IF(LEN(A2221)>0,ERROR.TYPE(MATCH(H2221,H$1:H2220,0))=7,0),C2221,\"\")","v":""},""]
[null,null,null,null,"",0,{"$f":"IF(IF(LEN(A2222)>0,ERROR.TYPE(MATCH(H2222,H$1:H2221,0))=7,0),C2222,\"\")","v":""},""]
[null,null,null,null,"",0,{"$f":"IF(IF(LEN(A2223)>0,ERROR.TYPE(MATCH(H2223,H$1:H2222,0))=7,0),C2223,\"\")","v":""},""]
[null,null,null,null,"",0,{"$f":"IF(IF(LEN(A2224)>0,ERROR.TYPE(MATCH(H2224,H$1:H2223,0))=7,0),C2224,\"\")","v":""},""]
[null,null,null,null,"",0,{"$f":"IF(IF(LEN(A2225)>0,ERROR.TYPE(MATCH(H2225,H$1:H2224,0))=7,0),C2225,\"\")","v":""},""]
[null,null,null,null,"",0,{"$f":"IF(IF(LEN(A2226)>0,ERROR.TYPE(MATCH(H2226,H$1:H2225,0))=7,0),C2226,\"\")","v":""},""]
[null,null,null,null,"",0,{"$f":"IF(IF(LEN(A2227)>0,ERROR.TYPE(MATCH(H2227,H$1:H2226,0))=7,0),C2227,\"\")","v":""},""]
[null,null,null,null,"",0,{"$f":"IF(IF(LEN(A2228)>0,ERROR.TYPE(MATCH(H2228,H$1:H2227,0))=7,0),C2228,\"\")","v":""},""]
[null,null,null,null,"",0,{"$f":"IF(IF(LEN(A2229)>0,ERROR.TYPE(MATCH(H2229,H$1:H2228,0))=7,0),C2229,\"\")","v":""},""]
[null,null,null,null,"",0,{"$f":"IF(IF(LEN(A2230)>0,ERROR.TYPE(MATCH(H2230,H$1:H2229,0))=7,0),C2230,\"\")","v":""},""]
[null,null,null,null,"",0,{"$f":"IF(IF(LEN(A2231)>0,ERROR.TYPE(MATCH(H2231,H$1:H2230,0))=7,0),C2231,\"\")","v":""},""]
[null,null,null,null,"",0,{"$f":"IF(IF(LEN(A2232)>0,ERROR.TYPE(MATCH(H2232,H$1:H2231,0))=7,0),C2232,\"\")","v":""},""]
[null,null,null,null,"",0,{"$f":"IF(IF(LEN(A2233)>0,ERROR.TYPE(MATCH(H2233,H$1:H2232,0))=7,0),C2233,\"\")","v":""},""]
[null,null,null,null,"",0,{"$f":"IF(IF(LEN(A2234)>0,ERROR.TYPE(MATCH(H2234,H$1:H2233,0))=7,0),C2234,\"\")","v":""},""]
[null,null,null,null,"",0,{"$f":"IF(IF(LEN(A2235)>0,ERROR.TYPE(MATCH(H2235,H$1:H2234,0))=7,0),C2235,\"\")","v":""},""]
[null,null,null,null,"",0,{"$f":"IF(IF(LEN(A2236)>0,ERROR.TYPE(MATCH(H2236,H$1:H2235,0))=7,0),C2236,\"\")","v":""},""]
[null,null,null,null,"",0,{"$f":"IF(IF(LEN(A2237)>0,ERROR.TYPE(MATCH(H2237,H$1:H2236,0))=7,0),C2237,\"\")","v":""},""]
[null,null,null,null,"",0,{"$f":"IF(IF(LEN(A2238)>0,ERROR.TYPE(MATCH(H2238,H$1:H2237,0))=7,0),C2238,\"\")","v":""},""]
[null,null,null,null,"",0,{"$f":"IF(IF(LEN(A2239)>0,ERROR.TYPE(MATCH(H2239,H$1:H2238,0))=7,0),C2239,\"\")","v":""},""]
[null,null,null,null,"",0,{"$f":"IF(IF(LEN(A2240)>0,ERROR.TYPE(MATCH(H2240,H$1:H2239,0))=7,0),C2240,\"\")","v":""},""]
[null,null,null,null,"",0,{"$f":"IF(IF(LEN(A2241)>0,ERROR.TYPE(MATCH(H2241,H$1:H2240,0))=7,0),C2241,\"\")","v":""},""]
[null,null,null,null,"",0,{"$f":"IF(IF(LEN(A2242)>0,ERROR.TYPE(MATCH(H2242,H$1:H2241,0))=7,0),C2242,\"\")","v":""},""]
[null,null,null,null,"",{"$f":"IF(E2243<>\"#NV\",B2243,\"\")","v":0},{"$f":"IF(IF(LEN(A2243)>0,ERROR.TYPE(MATCH(H2243,H$1:H2242,0))=7,0),C2243,\"\")","v":""},""]
[null,null,null,null,"",{"$f":"IF(E2244<>\"#NV\",B2244,\"\")","v":0},{"$f":"IF(IF(LEN(A2244)>0,ERROR.TYPE(MATCH(H2244,H$1:H2243,0))=7,0),C2244,\"\")","v":""},""]
[null,null,null,null,"",{"$f":"IF(E2245<>\"#NV\",B2245,\"\")","v":0},{"$f":"IF(IF(LEN(A2245)>0,ERROR.TYPE(MATCH(H2245,H$1:H2244,0))=7,0),C2245,\"\")","v":""},""]

{"sheet":"Ggl. Historie","index":3,"n_rows":57,"n_cols":38,"rows_kept":57,"cut":false,"hidden":false,"merged":[[0,43,0,44]]}
["Gemeindegliederentwicklung",null,null,null,null,null,null,null,null,null,null,null,"Grün: In diese Zeitspanne fällt der Wechsel von Gemeindegliedern zwischen Kirchenbezirken",null,null,null,null,null,null,null,null,null,null,null,"|<-   Datengrundlage für Prognose   ->|"]
["Daten der kirchlichen Statistik Wall (fixe Zahlen) zur Dokumentation der zurückliegenden Entwicklung",null,null,null,null,null,null,null,null,null,null,null,null,null,"PfarrPlan 2006 ->",null,null,null,null,"PfarrPlan 2011 (verlängerte Laufzeit) ->",null,null,null,null,null,"PfarrPlan 2018 ->",null,null,null,null,null,"PfarrPlan 2024 ->",null,null,null,null,null,"PfarrPlan 2030 ->"]
[null,null,null,1991,1992,1993,1994,1995,1996,1997,1998,1999,2000,2001,2002,2003,2004,2005,2006,2007,2008,2009,2010,2011,2012,2013,2014,2015,2016,2017,2018,2019,2020,2021,2022,2023,2024,2025]
[null,null,null,"GGl. Herbst 1991","GGl. Herbst 1992","GGl. Herbst 1993","GGl. Herbst 1994","GGl. Herbst 1995","GGl. Herbst 1996","GGl. Herbst 1997","GGl. Herbst 1998","GGl. Herbst 1999","GGl. Herbst 2000","GGl. Herbst 2001","GGl. Herbst 2002","GGl. Herbst 2003","GGl. Herbst 2004","GGl. Herbst 2005","GGl. Herbst 2006","GGl. Herbst 2007","GGl. Herbst 2008","GGl. 31.12.2009","GGl. 31.12.2010","GGl. 31.12.2011","GGl. 31.12.2012","GGl. 31.12.2013","GGl. 31.12.2014","GGl. 31.12.2015","GGl. 31.12.2016","GGl. 31.12.2017","GGl. 31.12.2018","GGl. 31.12.2019","GGl. 31.12.2020","GGl. 31.12.2021","GGl. 31.12.2022","GGl. 31.12.2023","GGl. 31.12.2024","GGl. 31.12.2025"]
[{"$f":"Parameter!B2","v":"Aalen"},1,null,40552,40690,41630,42015,42254,42547,42787,42141,42863,42743,42850,42882,42826,42706,42654,42399,41541,41203,40925,40430,40086,39820,39383,38883,38355,37955]
[{"$f":"Parameter!B3","v":"Backnang"},2,null,51149,51101,51018,50942,50790,50606,50593,50576,50374,50048,49950,49720,49390,49130,48797,48330,47794,47257,46447,45827,45179,44675,44091,43336,42641,42044]
[{"$f":"Parameter!B4","v":"Bad Cannstatt"},3,null,48680,47263,46061,44954,43691,42872,41971,41116,40609,40063,39328,38572,37736,37038,36584,35994,35509,35058,34359,33815,33394,33097,32662,31867,31050,30392]
[{"$f":"Parameter!B5","v":"Bad Urach-Münsingen"},4,null,67752,67582,67557,67540,67217,67274,67152,67003,66855,66643,66576,66368,66103,65783,65522,65108,64465,63879,63094,62076,61402,60795,60206,59257,58258,57510]
[{"$f":"Parameter!B6","v":"Balingen"},5,null,73189,73518,73944,74438,74478,74166,73826,73148,{"$f":"71724","v":71724},72163,71821,73035,72538,72131,71624,70893,71057,70455,69446,68132,67310,66520,65110,63873,62900,61986]
[{"$f":"Parameter!B7","v":"Bernhausen"},6,null,54962,54460,53931,53591,52878,52523,52067,51678,51283,51021,50882,50776,50451,50317,50116,49970,49785,49341,48977,48476,48151,47807,47250,46514,45965,45468]
[{"$f":"Parameter!B8","v":"Besigheim"},7,null,51973,51769,51446,51170,50993,51029,50836,50499,50488,50290,50296,50205,49862,49665,49655,49229,48874,48409,47728,47423,47020,46521,45821,45124,44429,43749]
[{"$f":"Parameter!B9","v":"Biberach"},8,null,37200,38096,39331,40689,41528,42402,43126,43392,43856,44392,44914,45392,45877,46329,46494,46432,46426,46401,46202,45739,45495,45066,44858,44553,44490,44376]
[{"$f":"Parameter!B10","v":"Blaubeuren"},9,null,26955,26800,26867,26875,26849,26782,26923,26959,26886,27033,27015,27002,26943,26988,26959,26783,26805,26631,26384,25908,25626,25451,25104,24776,24406,24032]
[{"$f":"Parameter!B11","v":"Blaufelden"},10,null,20714,21033,21278,21533,21806,21879,21974,21924,21879,21945,21954,21875,21760,21625,21537,21385,21198,21019,20633,20395,20236,20012,19692,19461,19302,19173]
[{"$f":"Parameter!B12","v":"Böblingen"},11,null,80954,80065,79487,78741,77542,77000,76554,75893,75463,74841,74112,73743,72962,72245,71520,70533,69845,69238,67650,66659,65850,65201,64493,63421,62482,61480]
[{"$f":"Parameter!B13","v":"Brackenheim"},12,null,28026,28391,28718,28903,29079,29394,29579,29600,29729,29971,30064,29976,29785,29652,29520,29398,29324,29061,28593,28302,27961,27738,27387,27081,26693,26382]
[{"$f":"Parameter!B14","v":"Calw"},13,null,36798,36926,36976,37167,36679,36458,36281,36106,36036,36024,35910,35843,35535,35424,35118,34741,34466,33995,33439,33071,32725,32266,32193,31800,31378,30881]
[{"$f":"Parameter!B15","v":"Crailsheim"},14,null,30851,31048,31462,31923,32160,32205,32310,32258,32262,32245,32343,32264,32153,31954,31793,31864,31874,31552,31292,30966,30676,30394,30177,29799,29430,29123]
[{"$f":"Parameter!B16","v":"Degerloch"},15,null,55929,55371,54384,53294,52262,51406,50536,49791,49102,48476,47741,46890,46227,45768,45413,44984,44548,44228,43674,43548,43486,42992,42462,41771,41021,40512]
[{"$f":"Parameter!B17","v":"Ditzingen"},16,null,40770,40459,39977,39428,38908,38578,38334,37925,37779,37346,36934,36665,36572,36375,36246,36065,35792,35489,34943,34506,34185,33863,33395,32844,32264,31730]
[{"$f":"Parameter!B18","v":"Esslingen"},17,null,78272,76947,75945,74743,73652,72967,72142,71590,70932,70429,69732,69214,68372,67802,67210,66434,65947,65193,64191,63326,62780,62178,61524,60444,59501,58575]
[{"$f":"Parameter!B19","v":"Freudenstadt"},18,null,45979,46090,45856,46200,45568,45391,45269,45567,45413,45067,44870,44672,44351,44133,43830,43393,42896,42380,41842,41315,40803,40581,39884,39369,38770,38155]
[{"$f":"Parameter!B20","v":"Gaildorf"},19,null,21697,21770,21800,22182,22376,22437,22430,22266,22369,22291,22412,22544,22430,22398,22366,22162,22733,22518,22180,21893,21648,21433,21136,20873,20626,20396]
[{"$f":"Parameter!B21","v":"Geislingen a.d. Steige"},20,null,32788,32637,32598,32515,32251,32078,31895,31747,31593,31456,31242,31008,30738,30528,30308,29914,29675,29327,28934,28462,28083,27692,27232,26730,26290,25890]
[{"$f":"Parameter!B22","v":"Göppingen"},21,null,69271,70365,70103,69859,69387,69012,68643,68215,67888,67435,66980,66638,66021,65590,65001,64228,63550,62968,62192,61304,60445,59786,59005,57829,56935,56522]
[{"$f":"Parameter!B23","v":"Heidenheim"},22,null,61101,60893,60716,60806,60792,60499,60170,59524,59097,58580,58145,57546,56886,56401,55708,55131,54854,54103,53303,52146,51483,51086,50173,49300,48316,47622]
[{"$f":"Parameter!B24","v":"Heilbronn"},23,null,82760,81944,81362,80650,79540,78737,78013,77058,76365,75737,75145,74316,73383,72523,71827,71165,70433,69572,68549,67596,66868,66226,65105,63853,62599,61527]
[{"$f":"Parameter!B25","v":"Herrenberg"},24,null,42108,42152,42022,42250,42263,42527,42784,42757,42841,42879,42822,42732,42636,42611,42572,42310,42061,41835,41348,40975,40630,40255,40005,39442,38884,38498]
[{"$f":"Parameter!B26","v":"Kirchheim unter Teck"},25,null,43123,42891,42916,42659,42425,41985,41767,41497,41192,41024,40675,40533,40244,40031,39900,39502,39114,38570,38008,37627,37156,36834,36341,35688,35128,34641]
[{"$f":"Parameter!B27","v":"Künzelsau"},26,null,15348,15403,15506,15607,16336,16568,16568,16481,16542,16536,16627,16590,16553,16579,16549,16430,16344,16200,16024,15884,15401,15294,15275,15073,14851,14686]
[{"$f":"Parameter!B28","v":"Leonberg"},27,null,52133,51967,51529,51226,50723,50588,50421,50217,50043,49691,49582,49248,49008,48621,48293,47730,47266,46753,46088,45463,44925,44416,43872,43090,42366,41868]
[{"$f":"Parameter!B29","v":"Ludwigsburg"},28,null,82464,81556,80950,79923,78415,77364,76587,75597,74924,74181,73831,73621,72822,72210,71568,70875,70072,69408,68626,67842,67264,66727,66216,65507,64587,63543]
[{"$f":"Parameter!B30","v":"Marbach a.N."},29,null,44818,44782,44804,44851,44692,44659,44520,44309,44394,44223,44130,43913,43702,43607,43442,43174,42971,42572,41896,41467,40985,40606,40140,39294,38657,38292]
[{"$f":"Parameter!B31","v":"Mühlacker"},30,null,38730,38773,39511,39566,39005,38749,38609,38469,38320,38200,37946,37585,37258,37151,36937,36620,36224,35763,35110,34729,34162,33787,33269,32778,32152,31708]
[{"$f":"Parameter!B32","v":"Münsingen (siehe Bad Urach-Münsigen)"},31]
[{"$f":"Parameter!B33","v":"Nagold"},32,null,34709,34714,34880,34692,34458,34495,34587,34506,34457,34441,34233,34184,33852,33732,33429,33094,32767,32397,31972,31635,31198,30809,30574,30109,29840,29525]
[{"$f":"Parameter!B34","v":"Neuenbürg"},33,null,39768,39559,39418,39180,38479,38126,37976,37674,37293,36957,36613,36331,35989,35809,35339,35018,34472,34032,33478,33001,32399,31966,31129,30513,30092,29662]
[{"$f":"Parameter!B35","v":"Neuenstadt a.K."},34,null,29507,30046,30624,31117,31723,32141,32568,32831,33226.9,33517,33511,33617,33545,33596,33477,33260,33109,32775,32381,32085,31747,31395,31043,30423,30005,29687]
[{"$f":"Parameter!B36","v":"Nürtingen"},35,null,60539,60271,59858,59501,58895,58619,58363,58078,57879,57585,57336,57115,56665,56368,56119,55673,55245,54763,54164,53383,52960,52446,51719,50855,50073,49531]
[{"$f":"Parameter!B37","v":"Öhringen"},36,null,30067,30193,30558,31142,31435,31636,31646,31574,{"$f":"30838+664","v":31502},31565,31598,31474,30746,30644,30504,30456,30436,30279,29929,29796,29523,29280,29039,28719,28461,28213]
[{"$f":"Parameter!B38","v":"Ravensburg"},37,null,60716,61087,61232,61243,{"$f":"61367-1400","v":59967},{"$f":"61522-1400","v":60122},{"$f":"61752-1400","v":60352},{"$f":"62033-1400","v":60633},60811,62715,62888,63187,63299,63453,63827,63619,63651,63374,63178,62917,62877,62857,62674,62047,61417,60972]
[{"$f":"Parameter!B39","v":"Reutlingen"},38,null,91693,91147,90451,89799,89143,88565,88057,87261,{"$f":"80000+6549","v":86549},85863,85316,78119,77297,76857,76346,75697,74986,74149,73271,72222,71439,70460,69567,68586,67393,66326]
[{"$f":"Parameter!B40","v":"Schorndorf"},39,null,64615,63241,63016,62830,62358,62150,61869,61501,61274,61161,61157,61079,60890,60593,60160,59653,59249,58578,57995,57371,56756,56186,55421,54628,53789,52545]
[{"$f":"Parameter!B41","v":"Schwäbisch Gmünd"},40,null,34522,35099,35301,35342,35182,35240,35200,35230,35168,35110,35160,35116,35099,35012,34860,34597,34296,34008,33647,33061,32670,32449,32103,31729,31408,31235]
[{"$f":"Parameter!B42","v":"Schwäbisch Hall"},41,null,37727,37902,38020,38544,38984,39254,39429,39386,{"$f":"40111-664","v":39447},39351,39277,39231,39736,39511,39376,39294,38392,38272,37901,37737,37903,37736,37467,37130,36901,36622]
[{"$f":"Parameter!B43","v":"Stuttgart"},42,null,75609,73278,70939,68512,66017,64553,63116,61583,60317,58978,57924,56971,55888,55687,55161,54668,54704,54507,54129,54368,54355,54088,53580,52663,51960,51350]
[{"$f":"Parameter!B44","v":"Sulz/Neckar"},43,null,40197,40434,40661,41049,41082,41040,41054,40775,40854,40936,40929,40873,40748,40609,40447,40107,39038,38674,38163,37588,37156,36556,36147,35714,35379,34947]
[{"$f":"Parameter!B45","v":"Tübingen"},44,null,86346,86503,86560,86210,85800,85354,85059,84040,{"$f":"89436-5016","v":84420},84244,84303,89194,88755,88775,88484,88085,87564,86910,87291,87320,86558,86433,85758,84736,83805,82943]
[{"$f":"Parameter!B46","v":"Tuttlingen"},45,null,59654,60000,60501,60798,60865,61243,61225,61081,60947,60962,61101,61115,60786,60702,60730,60255,59935,59359,58561,57574,56815,56101,55462,54527,53725,53122]
[{"$f":"Parameter!B47","v":"Ulm"},46,null,59455,59124,58724,58653,58352,57988,57527,57032,56818,56695,56408,56190,55762,55408,55252,54933,54486,53877,53406,53030,52692,52398,51836,51216,50465,49942]
[{"$f":"Parameter!B48","v":"Vaihingen an der Enz"},47,null,33174,33217,32083,32248,32257,32238,32074,31998,32216,31615,31556,31542,31325,31271,31196,30978,30846,30538,30138,29874,29668,29330,29117,28755,28214,27759]
[{"$f":"Parameter!B49","v":"Waiblingen"},48,null,86153,85010,84213,83615,83050,82536,82138,81598,81045,80496,79813,79190,78406,77916,77364,76669,75906,74917,74049,73063,72409,71559,70606,69272,68144,67043]
[{"$f":"Parameter!B50","v":"Weikersheim"},49,null,20124,20028,20179,20120,20337,20390,20443,20346,20259,20177,20078,19953,19824,19848,19808,19725,19638,19563,19332,19221,19023,18846,18768,18542,18320,18094]
[{"$f":"Parameter!B51","v":"Weinsberg"},50,null,32182,32324,32560,32632,32609,32507,32699,32630,32798,32783,32466,32262,32126,32027,31901,31620,31436,31126,30621,30326,30016,29794,29449,28985,28653,28404]
[{"$f":"Parameter!B52","v":"Zuffenhausen"},51,null,44875,43872,42548,41635,40305,39424,38680,38198,37334,36753,36128,35751,35017,34589,34022,33485,32924,32396,31778,31316,30965,30537,30000,29254,28567,27867]
["zz Landeskirche",null,null,2478678,2469791,2462011,2455102,{"$f":"SUM(H5:H55)","v":2437837},2428303,2418729,2403258,2393715.9,2384877,2374624,2363862,2346879,2335722,2322865,2304062,2286523,2264872,2237461,2212190,2190544,2170345,2144920,2112033,2081337,2054505,{"$f":"SUM(AD5:AD55)","v":0},0,0,0,0,0,0,0,0]
["Jährliche Abnahme",null,null,null,{"$f":"E56-D56","v":-8887},{"$f":"F56-E56","v":-7780},-6909,-17265,-9534,-9574,-15471,-9542.1000000000931,-8838.8999999999069,-10253,-10762,-16983,-11157,-12857,-18803,-17539,-21651,{"$f":"V56-U56","v":-27411},-25271,-21646,-20199,-25425,-32887,-30696,-26832,-2054505,0,{"$f":"AF56-AE56","v":0},0,0,0,0,0,0]

{"sheet":"Ggl. Korr.","index":4,"n_rows":57,"n_cols":18,"rows_kept":57,"cut":false,"hidden":false,"merged":[]}
["Gemeindegliederkorrekturen ",null,"Die Daten unten werden auf \"Ggl. Prog.\" übernommen.",null,null,null,null,null,null,"Die Daten unten dienen der Kontrolle der aktuellen Gemeindegliederdaten und werden lediglich für die Kontrollspalte Q auf \"Ggl. Prognose\" verwendet."]
["inbes. aufgrund Kirchenbezirkswechsel zur Rückrechnung für Prognose",null,null,null,null,null,null,null,null,"Die letzte Spalte ist in \"Ggl. Prog.\" in die Spalte P einzutragen, die Spalten dort davor (Vorjahre) sind entsprechend zu überprüfen und ggf. zu korrigieren."]
[]
["KG","KB",{"$f":"'Ggl. Prog.'!R4","v":"2012"},{"$f":"'Ggl. Prog.'!S4","v":"2013"},{"$f":"'Ggl. Prog.'!T4","v":"2014"},{"$f":"'Ggl. Prog.'!U4","v":"2015"},{"$f":"'Ggl. Prog.'!V4","v":"2016"},null,null,"Dekanat",null,{"$f":" \"Zahl der Gemeindeglieder 31.12.\" & Parameter!A8 & \" (zur Kontrolle) Zahlen Abrell unbearbeitet\"","v":"Zahl der Gemeindeglieder 31.12.2016 (zur Kontrolle) Zahlen Abrell unbearbeitet"},"Differenz ","Erklärung der Differenz",{"$f":"\"Zahl der Gemeindeglieder po-ausgabe_KG Ende \"& Parameter!A8 &\" (ohne Korrekturen!)\"","v":"Zahl der Gemeindeglieder po-ausgabe_KG Ende 2016 (ohne Korrekturen!)"},"+/- (Korrektur)","Gründe für Korrekturen ","Für den PfarrPlan maßgebliche Zahl der Gemeindeglieder"]
["Wilhelmsdorf","Ravensburg",-1331,-1331,-1331,-1331,-1331,"Die Kirchengemeinde Wilhelmsdorf wird separat pastoriert.",null,{"$f":"Parameter!B2","v":"Aalen"},null,37955,{"$f":"O5-L5","v":-503},"Stödtlen",{"$f":"SUMIF('Dateneingabe Ggl. und KG'!G$2:G$14000,J5,'Dateneingabe Ggl. und KG'!B$2:B$11522)","v":37452},null,null,{"$f":"O5+P5","v":37452}]
["Stödtlen","Aalen",-503,-503,-503,-503,-503,"Stödtlen gehört zur Kirchengemeinde Mönchsrodt (Bayern)",null,{"$f":"Parameter!B3","v":"Backnang"},null,42044,{"$f":"O6-L6","v":0},null,{"$f":"SUMIF('Dateneingabe Ggl. und KG'!G$2:G$14000,J6,'Dateneingabe Ggl. und KG'!B$2:B$11522)","v":42044},null,null,{"$f":"O6+P6","v":42044}]
["Militärkirchengemeinde Sigmaringen","Balingen",-523,null,null,null,null,"Wurde aufgelöst",null,{"$f":"Parameter!B4","v":"Bad Cannstatt"},null,30392,0,null,{"$f":"SUMIF('Dateneingabe Ggl. und KG'!G$2:G$14000,J7,'Dateneingabe Ggl. und KG'!B$2:B$11522)","v":30392},null,null,30392]
["Eberbach","Blaufelden",-112,null,null,null,null,"1.12.2013 Wechsel vom KB Blaufelden zum KB Künzelsau",null,{"$f":"Parameter!B5","v":"Bad Urach-Münsingen"},null,57510,0,null,{"$f":"SUMIF('Dateneingabe Ggl. und KG'!G$2:G$14000,J8,'Dateneingabe Ggl. und KG'!B$2:B$11522)","v":57510},null,null,57510]
["Eberbach","Künzelsau",112,null,null,null,null,"1.12.2013 Wechsel vom KB Blaufelden zum KB Künzelsau",null,{"$f":"Parameter!B6","v":"Balingen"},null,61986,-363,"Isingen",{"$f":"SUMIF('Dateneingabe Ggl. und KG'!G$2:G$14000,J9,'Dateneingabe Ggl. und KG'!B$2:B$11522)","v":61623},null,null,61623]
["Kapfenhardt","Neuenbürg",-351,null,null,null,null,"1.12.2013 Wechsel vom KB Neuenbürg zum KB Calw",null,{"$f":"Parameter!B7","v":"Bernhausen"},null,45468,0,null,{"$f":"SUMIF('Dateneingabe Ggl. und KG'!G$2:G$14000,J10,'Dateneingabe Ggl. und KG'!B$2:B$11522)","v":45468},null,null,45468]
["Kapfenhardt","Calw",351,null,null,null,null,"1.12.2013 Wechsel vom KB Neuenbürg zum KB Calw",null,{"$f":"Parameter!B8","v":"Besigheim"},null,43749,0,null,{"$f":"SUMIF('Dateneingabe Ggl. und KG'!G$2:G$14000,J11,'Dateneingabe Ggl. und KG'!B$2:B$11522)","v":43749},null,null,43749]
["Stocksberg (Teil der KG Neulautern)","Weinsberg",-51,null,null,null,null,"1.12.2013 Wechsel vom KB Weinsberg zum KB Marbach",null,{"$f":"Parameter!B9","v":"Biberach"},null,44376,0,null,{"$f":"SUMIF('Dateneingabe Ggl. und KG'!G$2:G$14000,J12,'Dateneingabe Ggl. und KG'!B$2:B$11522)","v":44376},null,null,44376]
["Stocksberg (Teil der KG Beilstein-Billensbach)","Marbach a.N.",51,null,null,null,null,"1.12.2013 Wechsel vom KB Weinsberg zum KB Marbach",null,{"$f":"Parameter!B10","v":"Blaubeuren"},null,24032,0,null,{"$f":"SUMIF('Dateneingabe Ggl. und KG'!G$2:G$14000,J13,'Dateneingabe Ggl. und KG'!B$2:B$11522)","v":24032},null,null,24032]
["Baiereck","Schorndorf",-384,-384,-384,-384,null,"1.1.2016 Wechsel vom KB Schorndorf zum KB Göppingen",null,{"$f":"Parameter!B11","v":"Blaufelden"},null,19173,-406,"Ruppertshofen",{"$f":"SUMIF('Dateneingabe Ggl. und KG'!G$2:G$14000,J14,'Dateneingabe Ggl. und KG'!B$2:B$11522)","v":18767},null,null,18767]
["Baiereck ","Göppingen",384,384,384,384,null,"1.1.2016 Wechsel vom KB Schorndorf zum KB Göppingen",null,{"$f":"Parameter!B12","v":"Böblingen"},null,61480,0,null,{"$f":"SUMIF('Dateneingabe Ggl. und KG'!G$2:G$14000,J15,'Dateneingabe Ggl. und KG'!B$2:B$11522)","v":61480},null,null,61480]
["Ruppertshofen","Blaufelden",-406,-406,-406,-406,-406,"1.1.2017 Wechsel vom KB Blaufelden zum KB Schwäb. Hall (408 Ev.)",null,{"$f":"Parameter!B13","v":"Brackenheim"},null,26382,0,null,{"$f":"SUMIF('Dateneingabe Ggl. und KG'!G$2:G$14000,J16,'Dateneingabe Ggl. und KG'!B$2:B$11522)","v":26382},null,null,26382]
["Ruppertshofen","Schwäbisch Hall",406,406,406,406,406,"1.1.2017 Wechsel vom KB Blaufelden zum KB Schwäb. Hall (408 Ev.)",null,{"$f":"Parameter!B14","v":"Calw"},null,30881,-256,"Aichelberg",{"$f":"SUMIF('Dateneingabe Ggl. und KG'!G$2:G$14000,J17,'Dateneingabe Ggl. und KG'!B$2:B$11522)","v":30625},null,null,30625]
["Aichelberg","Calw",-256,-256,-256,-256,-256,"Ca. 2020 wechselt die KG Aichelberg vom KB Calw zum KB Neuenbürg. Dekane sind einverstanden, dass man bereits so tun, als ob der Wechsel bereits stattgefunden habe.",null,{"$f":"Parameter!B15","v":"Crailsheim"},null,29123,0,null,{"$f":"SUMIF('Dateneingabe Ggl. und KG'!G$2:G$14000,J18,'Dateneingabe Ggl. und KG'!B$2:B$11522)","v":29123},null,null,29123]
["Aichelberg","Neuenbürg",256,256,256,256,256,"Ca. 2020 wechselt die KG Aichelberg vom KB Calw zum KB Neuenbürg. Dekane sind einverstanden, dass man bereits so tun, als ob der Wechsel bereits stattgefunden habe.",null,{"$f":"Parameter!B16","v":"Degerloch"},null,40512,0,null,{"$f":"SUMIF('Dateneingabe Ggl. und KG'!G$2:G$14000,J19,'Dateneingabe Ggl. und KG'!B$2:B$11522)","v":40512},null,null,40512]
["Isingen","Balingen",-363,-363,-363,-363,-363,"Die KG Isingen (aber ohne die Außenorte Erlaheim [121] und Binsdorf [243]) wechselt demnächst vom KB Balingen zum KB Sulz a.N. So Anfang 2017 beantragt. ",null,{"$f":"Parameter!B17","v":"Ditzingen"},null,31730,{"$f":"O20-L20","v":0},null,{"$f":"SUMIF('Dateneingabe Ggl. und KG'!G$2:G$14000,J20,'Dateneingabe Ggl. und KG'!B$2:B$11522)","v":31730},null,null,{"$f":"O20+P20","v":31730}]
["Isingen","Sulz/Neckar",363,363,363,363,363,"Die KG Isingen (aber ohne die Außenorte Erlaheim [121] und Binsdorf [243]) wechselt demnächst vom KB Balingen zum KB Sulz a.N. So Anfang 2017 beantragt. ",null,{"$f":"Parameter!B18","v":"Esslingen"},null,58575,0,null,{"$f":"SUMIF('Dateneingabe Ggl. und KG'!G$2:G$14000,J21,'Dateneingabe Ggl. und KG'!B$2:B$11522)","v":58575},null,null,58575]
[null,null,{"$f":"SUM(C8:C21)","v":0},{"$f":"SUM(D8:D21)","v":0},{"$f":"SUM(E8:E21)","v":0},{"$f":"SUM(F8:F21)","v":0},{"$f":"SUM(G8:G21)","v":0},null,null,{"$f":"Parameter!B19","v":"Freudenstadt"},null,38155,0,null,{"$f":"SUMIF('Dateneingabe Ggl. und KG'!G$2:G$14000,J22,'Dateneingabe Ggl. und KG'!B$2:B$11522)","v":38155},null,null,38155]
[null,null,null,null,null,null,null,null,null,{"$f":"Parameter!B20","v":"Gaildorf"},null,20396,0,null,{"$f":"SUMIF('Dateneingabe Ggl. und KG'!G$2:G$14000,J23,'Dateneingabe Ggl. und KG'!B$2:B$11522)","v":20396},null,null,20396]
[null,null,null,null,null,null,null,null,null,{"$f":"Parameter!B21","v":"Geislingen a.d. Steige"},null,25890,0,null,{"$f":"SUMIF('Dateneingabe Ggl. und KG'!G$2:G$14000,J24,'Dateneingabe Ggl. und KG'!B$2:B$11522)","v":25890},null,null,25890]
[null,null,null,null,null,null,null,null,null,{"$f":"Parameter!B22","v":"Göppingen"},null,56522,0,null,{"$f":"SUMIF('Dateneingabe Ggl. und KG'!G$2:G$14000,J25,'Dateneingabe Ggl. und KG'!B$2:B$11522)","v":56522},null,null,56522]
[null,null,null,null,null,null,null,null,null,{"$f":"Parameter!B23","v":"Heidenheim"},null,47622,0,null,{"$f":"SUMIF('Dateneingabe Ggl. und KG'!G$2:G$14000,J26,'Dateneingabe Ggl. und KG'!B$2:B$11522)","v":47622},null,null,47622]
[null,null,null,null,null,null,null,null,null,{"$f":"Parameter!B24","v":"Heilbronn"},null,61527,0,null,{"$f":"SUMIF('Dateneingabe Ggl. und KG'!G$2:G$14000,J27,'Dateneingabe Ggl. und KG'!B$2:B$11522)","v":61527},null,null,61527]
[null,null,null,null,null,null,null,null,null,{"$f":"Parameter!B25","v":"Herrenberg"},null,38498,0,null,{"$f":"SUMIF('Dateneingabe Ggl. und KG'!G$2:G$14000,J28,'Dateneingabe Ggl. und KG'!B$2:B$11522)","v":38498},null,null,38498]
[null,null,null,null,null,null,null,null,null,{"$f":"Parameter!B26","v":"Kirchheim unter Teck"},null,34641,0,null,{"$f":"SUMIF('Dateneingabe Ggl. und KG'!G$2:G$14000,J29,'Dateneingabe Ggl. und KG'!B$2:B$11522)","v":34641},null,null,34641]
[null,null,null,null,null,null,null,null,null,{"$f":"Parameter!B27","v":"Künzelsau"},null,14686,0,null,{"$f":"SUMIF('Dateneingabe Ggl. und KG'!G$2:G$14000,J30,'Dateneingabe Ggl. und KG'!B$2:B$11522)","v":14686},null,null,14686]
[null,null,null,null,null,null,null,null,null,{"$f":"Parameter!B28","v":"Leonberg"},null,41868,0,null,{"$f":"SUMIF('Dateneingabe Ggl. und KG'!G$2:G$14000,J31,'Dateneingabe Ggl. und KG'!B$2:B$11522)","v":41868},null,null,41868]
[null,null,null,null,null,null,null,null,null,{"$f":"Parameter!B29","v":"Ludwigsburg"},null,63543,0,null,{"$f":"SUMIF('Dateneingabe Ggl. und KG'!G$2:G$14000,J32,'Dateneingabe Ggl. und KG'!B$2:B$11522)","v":63543},null,null,63543]
[null,null,null,null,null,null,null,null,null,{"$f":"Parameter!B30","v":"Marbach a.N."},null,38292,0,null,{"$f":"SUMIF('Dateneingabe Ggl. und KG'!G$2:G$14000,J33,'Dateneingabe Ggl. und KG'!B$2:B$11522)","v":38292},null,null,38292]
[null,null,null,null,null,null,null,null,null,{"$f":"Parameter!B31","v":"Mühlacker"},null,31708,0,null,{"$f":"SUMIF('Dateneingabe Ggl. und KG'!G$2:G$14000,J34,'Dateneingabe Ggl. und KG'!B$2:B$11522)","v":31708},null,null,31708]
[null,null,null,null,null,null,null,null,null,{"$f":"Parameter!B32","v":"Münsingen (siehe Bad Urach-Münsigen)"},null,null,null,null,{"$f":"SUMIF('Dateneingabe Ggl. und KG'!G$2:G$14000,J35,'Dateneingabe Ggl. und KG'!B$2:B$11522)","v":0},null,null,0]
[null,null,null,null,null,null,null,null,null,{"$f":"Parameter!B33","v":"Nagold"},null,29525,0,null,{"$f":"SUMIF('Dateneingabe Ggl. und KG'!G$2:G$14000,J36,'Dateneingabe Ggl. und KG'!B$2:B$11522)","v":29525},null,null,29525]
[null,null,null,null,null,null,null,null,null,{"$f":"Parameter!B34","v":"Neuenbürg"},null,29662,{"$f":"O37-L37","v":256},"Aichelberg",{"$f":"SUMIF('Dateneingabe Ggl. und KG'!G$2:G$14000,J37,'Dateneingabe Ggl. und KG'!B$2:B$11522)","v":29918},null,null,{"$f":"O37+P37","v":29918}]
[null,null,null,null,null,null,null,null,null,{"$f":"Parameter!B35","v":"Neuenstadt a.K."},null,29687,0,null,{"$f":"SUMIF('Dateneingabe Ggl. und KG'!G$2:G$14000,J38,'Dateneingabe Ggl. und KG'!B$2:B$11522)","v":29687},null,null,29687]
[null,null,null,null,null,null,null,null,null,{"$f":"Parameter!B36","v":"Nürtingen"},null,49531,0,null,{"$f":"SUMIF('Dateneingabe Ggl. und KG'!G$2:G$14000,J39,'Dateneingabe Ggl. und KG'!B$2:B$11522)","v":49531},null,null,49531]
[null,null,null,null,null,null,null,null,null,{"$f":"Parameter!B37","v":"Öhringen"},null,28213,0,null,{"$f":"SUMIF('Dateneingabe Ggl. und KG'!G$2:G$14000,J40,'Dateneingabe Ggl. und KG'!B$2:B$11522)","v":28213},null,null,28213]
[null,null,null,null,null,null,null,null,null,{"$f":"Parameter!B38","v":"Ravensburg"},null,60972,-1331,"Wilhelmsdorf wird in PO weder bei Gemeindeglieder noch bei KGen gezählt.",{"$f":"SUMIF('Dateneingabe Ggl. und KG'!G$2:G$14000,J41,'Dateneingabe Ggl. und KG'!B$2:B$11522)","v":59641},null,null,59641]
[null,null,null,null,null,null,null,null,null,{"$f":"Parameter!B39","v":"Reutlingen"},null,66326,0,null,{"$f":"SUMIF('Dateneingabe Ggl. und KG'!G$2:G$14000,J42,'Dateneingabe Ggl. und KG'!B$2:B$11522)","v":66326},null,null,66326]
[null,null,null,null,null,null,null,null,null,{"$f":"Parameter!B40","v":"Schorndorf"},null,52545,0,null,{"$f":"SUMIF('Dateneingabe Ggl. und KG'!G$2:G$14000,J43,'Dateneingabe Ggl. und KG'!B$2:B$11522)","v":52545},null,null,52545]
[null,null,null,null,null,null,null,null,null,{"$f":"Parameter!B41","v":"Schwäbisch Gmünd"},null,31235,0,null,{"$f":"SUMIF('Dateneingabe Ggl. und KG'!G$2:G$14000,J44,'Dateneingabe Ggl. und KG'!B$2:B$11522)","v":31235},null,null,31235]
[null,null,null,null,null,null,null,null,null,{"$f":"Parameter!B42","v":"Schwäbisch Hall"},null,36622,406,"Ruppertshofen",{"$f":"SUMIF('Dateneingabe Ggl. und KG'!G$2:G$14000,J45,'Dateneingabe Ggl. und KG'!B$2:B$11522)","v":37028},null,null,37028]
[null,null,null,null,null,null,null,null,null,{"$f":"Parameter!B43","v":"Stuttgart"},null,51350,0,null,{"$f":"SUMIF('Dateneingabe Ggl. und KG'!G$2:G$14000,J46,'Dateneingabe Ggl. und KG'!B$2:B$11522)","v":51350},null,null,51350]
[null,null,null,null,null,null,null,null,null,{"$f":"Parameter!B44","v":"Sulz/Neckar"},null,34947,363,"Isingen",{"$f":"SUMIF('Dateneingabe Ggl. und KG'!G$2:G$14000,J47,'Dateneingabe Ggl. und KG'!B$2:B$11522)","v":35310},null,null,35310]
[null,null,null,null,null,null,null,null,null,{"$f":"Parameter!B45","v":"Tübingen"},null,82943,0,null,{"$f":"SUMIF('Dateneingabe Ggl. und KG'!G$2:G$14000,J48,'Dateneingabe Ggl. und KG'!B$2:B$11522)","v":82943},null,null,82943]
[null,null,null,null,null,null,null,null,null,{"$f":"Parameter!B46","v":"Tuttlingen"},null,53122,0,null,{"$f":"SUMIF('Dateneingabe Ggl. und KG'!G$2:G$14000,J49,'Dateneingabe Ggl. und KG'!B$2:B$11522)","v":53122},null,null,53122]
[null,null,null,null,null,null,null,null,null,{"$f":"Parameter!B47","v":"Ulm"},null,49942,0,null,{"$f":"SUMIF('Dateneingabe Ggl. und KG'!G$2:G$14000,J50,'Dateneingabe Ggl. und KG'!B$2:B$11522)","v":49942},null,null,49942]
[null,null,null,null,null,null,null,null,null,{"$f":"Parameter!B48","v":"Vaihingen an der Enz"},null,27759,0,null,{"$f":"SUMIF('Dateneingabe Ggl. und KG'!G$2:G$14000,J51,'Dateneingabe Ggl. und KG'!B$2:B$11522)","v":27759},null,null,27759]
[null,null,null,null,null,null,null,null,null,{"$f":"Parameter!B49","v":"Waiblingen"},null,67043,0,null,{"$f":"SUMIF('Dateneingabe Ggl. und KG'!G$2:G$14000,J52,'Dateneingabe Ggl. und KG'!B$2:B$11522)","v":67043},null,null,67043]
[null,null,null,null,null,null,null,null,null,{"$f":"Parameter!B50","v":"Weikersheim"},null,18094,0,null,{"$f":"SUMIF('Dateneingabe Ggl. und KG'!G$2:G$14000,J53,'Dateneingabe Ggl. und KG'!B$2:B$11522)","v":18094},null,null,18094]
[null,null,null,null,null,null,null,null,null,{"$f":"Parameter!B51","v":"Weinsberg"},null,28404,0,null,{"$f":"SUMIF('Dateneingabe Ggl. und KG'!G$2:G$14000,J54,'Dateneingabe Ggl. und KG'!B$2:B$11522)","v":28404},null,null,28404]
[null,null,null,null,null,null,null,null,null,{"$f":"Parameter!B52","v":"Zuffenhausen"},null,27867,0,null,{"$f":"SUMIF('Dateneingabe Ggl. und KG'!G$2:G$14000,J55,'Dateneingabe Ggl. und KG'!B$2:B$11522)","v":27867},null,null,27867]
[]
[null,null,null,null,null,null,null,null,null,"Landeskirche",null,2054505,{"$f":"SUM(M5:M55)","v":-1834},null,{"$f":"SUM(O5:O55)","v":2052671},{"$f":"SUM(P5:P55)","v":0},null,{"$f":"SUM(R5:R55)","v":2052671}]

{"sheet":"Ggl. Prog.","index":5,"n_rows":58,"n_cols":42,"rows_kept":58,"cut":false,"hidden":false,"merged":[[2,38,2,39],[3,36,3,37],[2,23,2,31],[2,1,2,5],[2,6,2,10],[2,11,2,15],[2,17,2,21],[2,35,2,37]]}
["Gemeindegliederprognose"]
["Jahr der zu Grunde zu legenden Daten (31.12.):"]
[{"$f":" Parameter!A8","v":2016},"Gemeindegliederdaten der jeweils letzten fünf Jahre (aus lk. Statistik ohne Korrekturen)",null,null,null,null,"Korrekturen und Rückrechnungen aufgrund von Verschiebungen zwischen Kirchenbezirken und Sonstigem (im Einzelnen dokumentiert: siehe Tabelle \"Ggl. Korr.\")",null,null,null,null,"Gemeindegliederdaten der jeweils letzten fünf Jahre (korrigiert und auf den Beginn des Fünf-Jahres-Zeitraums zurückgerechnet für Prognose)",null,null,null,null,null,"Bewertung der Gemeinde-gliederdaten",null,null,null,null,null,"Prognose aufgrund einer gewichteten Gerade ",null,null,null,null,null,null,null,null,null,null,null,{"$f":"\"Differenz der Gemeindegliederschätzung für das Jahr \"&TEXT($A$3+8,\"####\")&\" zum Stand Ende \"&TEXT($A$3,\"####\")","v":"Differenz der Gemeindegliederschätzung für das Jahr 2024 zum Stand Ende 2016"},null,null,{"$f":"\"Vergleich des Stands Ende 2016 gegenüber der Schätzung aus der Sicht des Jahres  \"&TEXT($A$3-5,\"####\")","v":"Vergleich des Stands Ende 2016 gegenüber der Schätzung aus der Sicht des Jahres  2011"}]
[{"$f":"Parameter!B1","v":"Dekanat/Kirchenbezirk"},{"$f":"\"Zahl der Gemeindeglieder 31.12. \"&TEXT($A$3-4,\"####\")","v":"Zahl der Gemeindeglieder 31.12. 2012"},{"$f":"\"Zahl der Gemeindeglieder 31.12. \"&TEXT($A$3-3,\"####\")","v":"Zahl der Gemeindeglieder 31.12. 2013"},{"$f":"\"Zahl der Gemeindeglieder 31.12. \"&TEXT($A$3-2,\"####\")","v":"Zahl der Gemeindeglieder 31.12. 2014"},{"$f":"\"Zahl der Gemeindeglieder 31.12.\"&TEXT($A$3-1,\"####\")","v":"Zahl der Gemeindeglieder 31.12.2015"},{"$f":"\"Zahl der Gemeindeglieder 31.12.\"&TEXT($A$3,\"####\")","v":"Zahl der Gemeindeglieder 31.12.2016"},{"$f":"B4","v":"Zahl der Gemeindeglieder 31.12. 2012"},"Zahl der Gemeindeglieder 31.12. 2013","Zahl der Gemeindeglieder 31.12. 2014","Zahl der Gemeindeglieder 31.12.2015","Zahl der Gemeindeglieder 31.12.2016","Zahl der Gemeindeglieder 31.12. 2012","Zahl der Gemeindeglieder 31.12. 2013","Zahl der Gemeindeglieder 31.12. 2014","Zahl der Gemeindeglieder 31.12.2015","Zahl der Gemeindeglieder 31.12.2016","Kontrollspalte",{"$f":"TEXT($A$3-4,\"####\")","v":"2012"},{"$f":"TEXT($A$3-3,\"####\")","v":"2013"},{"$f":"TEXT($A$3-2,\"####\")","v":"2014"},{"$f":"TEXT($A$3-1,\"####\")","v":"2015"},{"$f":"TEXT($A$3-0,\"####\")","v":"2016"},"Art der Steigung: \nL = lk. Durchschnitt","Prognostizierte Jahresveränderungen",{"$f":"TEXT($A$3+1,\"####\")","v":"2017"},{"$f":"TEXT($A$3+2,\"####\")","v":"2018"},{"$f":"TEXT($A$3+3,\"####\")","v":"2019"},{"$f":"TEXT($A$3+4,\"####\")","v":"2020"},{"$f":"TEXT($A$3+5,\"####\")","v":"2021"},{"$f":"TEXT($A$3+6,\"####\")","v":"2022"},{"$f":"TEXT($A$3+7,\"####\")","v":"2023"},{"$f":"\"Prognose Gemeindeglieder 31.12. \"&TEXT($A$3+8,\"####\")","v":"Prognose Gemeindeglieder 31.12. 2024"},null,null,null,{"$f":"\"Zahl der Gemeindeglieder 31.12. \"&TEXT($A$3,\"####\")","v":"Zahl der Gemeindeglieder 31.12. 2016"},{"$f":"\"Differenz zur Zahl der Gemeindeglieder für 31.12. \"&TEXT($A$3+8,\"####\")","v":"Differenz zur Zahl der Gemeindeglieder für 31.12. 2024"},null,{"$f":"\"Schätzung der Zahl der Gemeindeglieder aus Sicht des Jahres \"&TEXT($A$3-5,\"####\")&\" für das Jahr \"&TEXT($A$3+2,\"####\")","v":"Schätzung der Zahl der Gemeindeglieder aus Sicht des Jahres 2011 für das Jahr 2018"},"Differenz (negative Werte: Korrektur nach ''unten'')",null,"Kontrollspalte"]
[{"$f":"Parameter!B2","v":"Aalen"},{"$f":"'Ggl. Historie'!Y5","v":39820},{"$f":"'Ggl. Historie'!Z5","v":39383},{"$f":"'Ggl. Historie'!AA5","v":38883},{"$f":"'Ggl. Historie'!AB5","v":38355},{"$f":"'Ggl. Historie'!AC5","v":37955},{"$f":"SUMIF('Ggl. Korr.'!$B$5:$B$962,$A5,'Ggl. Korr.'!C$5:C$962)","v":-503},{"$f":"SUMIF('Ggl. Korr.'!$B$5:$B$962,$A5,'Ggl. Korr.'!D$5:D$962)","v":-503},{"$f":"SUMIF('Ggl. Korr.'!$B$5:$B$962,$A5,'Ggl. Korr.'!E$5:E$962)","v":-503},{"$f":"SUMIF('Ggl. Korr.'!$B$5:$B$962,$A5,'Ggl. Korr.'!F$5:F$962)","v":-503},{"$f":"SUMIF('Ggl. Korr.'!$B$5:$B$962,$A5,'Ggl. Korr.'!G$5:G$962)","v":-503},{"$f":"B5+G5","v":39317},{"$f":"C5+H5","v":38880},{"$f":"D5+I5","v":38380},{"$f":"E5+J5","v":37852},{"$f":"F5+K5","v":37452},{"$f":"IF((P5-'Ggl. Korr.'!R5)<>0,P5-'Ggl. Korr.'!R5,\"\")","v":""},1,2,3,4,5,null,{"$f":"IF(OR(W5=\"L\",W5=\"l\"),X$56/P$56*P5,(SUM(R5:V5)*(R5*L5+S5*M5*2+T5*N5*3+U5*O5*4+V5*P5*5)-(R5*L5+S5*M5+T5*N5+U5*O5+P5*V5)*(R5+2*S5+3*T5+4*U5+5*V5))/(SUM(R5:V5)*(R5+S5*4+T5*9+U5*16+V5*25)-POWER(R5+S5*2+T5*3+U5*4+V5*5,2)))","v":-473.82857142857142},{"$f":"$P5+($AF5-$P5)/8","v":36978.171428571426},{"$f":"$P5+2*($AF5-$P5)/8","v":36504.342857142859},{"$f":"$P5+3*($AF5-$P5)/8","v":36030.514285714286},{"$f":"$P5+4*($AF5-$P5)/8","v":35556.685714285719},{"$f":"$P5+5*($AF5-$P5)/8","v":35082.857142857145},{"$f":"$P5+6*($AF5-$P5)/8","v":34609.028571428571},{"$f":"$P5+7*($AF5-$P5)/8","v":34135.200000000004},{"$f":"IF(X5>0,P5+X5*(8-56/24),P5+8*X5)","v":33661.37142857143},null,null,null,{"$f":"P5","v":37452},{"$f":"AF5-AJ5","v":-3790.6285714285696},{"$f":"AK5/AJ5","v":-0.10121298118734832},36942.342857142859,{"$f":"(Z5-AM5)","v":-438},null,{"$f":"IF(P5='Ggl. Korr.'!R5,0,1)","v":0}]
[{"$f":"Parameter!B3","v":"Backnang"},{"$f":"'Ggl. Historie'!Y6","v":44675},{"$f":"'Ggl. Historie'!Z6","v":44091},{"$f":"'Ggl. Historie'!AA6","v":43336},{"$f":"'Ggl. Historie'!AB6","v":42641},{"$f":"'Ggl. Historie'!AC6","v":42044},{"$f":"SUMIF('Ggl. Korr.'!$B$5:$B$962,$A6,'Ggl. Korr.'!C$5:C$962)","v":0},{"$f":"SUMIF('Ggl. Korr.'!$B$5:$B$962,$A6,'Ggl. Korr.'!D$5:D$962)","v":0},{"$f":"SUMIF('Ggl. Korr.'!$B$5:$B$962,$A6,'Ggl. Korr.'!E$5:E$962)","v":0},{"$f":"SUMIF('Ggl. Korr.'!$B$5:$B$962,$A6,'Ggl. Korr.'!F$5:F$962)","v":0},{"$f":"SUMIF('Ggl. Korr.'!$B$5:$B$962,$A6,'Ggl. Korr.'!G$5:G$962)","v":0},44675,44091,43336,42641,42044,{"$f":"IF((P6-'Ggl. Korr.'!R6)<>0,P6-'Ggl. Korr.'!R6,\"\")","v":""},1,2,3,4,5,null,-669.74285714285713,{"$f":"$P6+($AF6-$P6)/8","v":41374.257142857139},{"$f":"$P6+2*($AF6-$P6)/8","v":40704.514285714286},{"$f":"$P6+3*($AF6-$P6)/8","v":40034.771428571432},{"$f":"$P6+4*($AF6-$P6)/8","v":39365.028571428571},{"$f":"$P6+5*($AF6-$P6)/8","v":38695.28571428571},{"$f":"$P6+6*($AF6-$P6)/8","v":38025.542857142857},{"$f":"$P6+7*($AF6-$P6)/8","v":37355.800000000003},{"$f":"IF(X6>0,P6+X6*(8-56/24),P6+8*X6)","v":36686.057142857142},null,null,null,{"$f":"P6","v":42044},-5357.942857142858,{"$f":"AK6/AJ6","v":-0.12743656305638992},40593.4,{"$f":"(Z6-AM6)","v":111.11428571428405},null,{"$f":"IF(P6='Ggl. Korr.'!R6,0,1)","v":0}]
[{"$f":"Parameter!B4","v":"Bad Cannstatt"},{"$f":"'Ggl. Historie'!Y7","v":33097},{"$f":"'Ggl. Historie'!Z7","v":32662},{"$f":"'Ggl. Historie'!AA7","v":31867},{"$f":"'Ggl. Historie'!AB7","v":31050},{"$f":"'Ggl. Historie'!AC7","v":30392},{"$f":"SUMIF('Ggl. Korr.'!$B$5:$B$962,$A7,'Ggl. Korr.'!C$5:C$962)","v":0},{"$f":"SUMIF('Ggl. Korr.'!$B$5:$B$962,$A7,'Ggl. Korr.'!D$5:D$962)","v":0},{"$f":"SUMIF('Ggl. Korr.'!$B$5:$B$962,$A7,'Ggl. Korr.'!E$5:E$962)","v":0},{"$f":"SUMIF('Ggl. Korr.'!$B$5:$B$962,$A7,'Ggl. Korr.'!F$5:F$962)","v":0},{"$f":"SUMIF('Ggl. Korr.'!$B$5:$B$962,$A7,'Ggl. Korr.'!G$5:G$962)","v":0},33097,32662,31867,31050,30392,{"$f":"IF((P7-'Ggl. Korr.'!R7)<>0,P7-'Ggl. Korr.'!R7,\"\")","v":""},1,2,3,4,5,null,-722.25714285714287,29669.742857142857,28947.485714285714,28225.228571428572,27502.971428571429,26780.714285714286,26058.457142857143,25336.2,24613.942857142858,null,null,null,30392,-5778.057142857142,-0.19011770014665511,29283.114285714284,-335.62857142856956,null,{"$f":"IF(P7='Ggl. Korr.'!R7,0,1)","v":0}]
[{"$f":"Parameter!B5","v":"Bad Urach-Münsingen"},{"$f":"'Ggl. Historie'!Y8","v":60795},{"$f":"'Ggl. Historie'!Z8","v":60206},{"$f":"'Ggl. Historie'!AA8","v":59257},{"$f":"'Ggl. Historie'!AB8","v":58258},{"$f":"'Ggl. Historie'!AC8","v":57510},{"$f":"SUMIF('Ggl. Korr.'!$B$5:$B$962,$A8,'Ggl. Korr.'!C$5:C$962)","v":0},{"$f":"SUMIF('Ggl. Korr.'!$B$5:$B$962,$A8,'Ggl. Korr.'!D$5:D$962)","v":0},{"$f":"SUMIF('Ggl. Korr.'!$B$5:$B$962,$A8,'Ggl. Korr.'!E$5:E$962)","v":0},{"$f":"SUMIF('Ggl. Korr.'!$B$5:$B$962,$A8,'Ggl. Korr.'!F$5:F$962)","v":0},{"$f":"SUMIF('Ggl. Korr.'!$B$5:$B$962,$A8,'Ggl. Korr.'!G$5:G$962)","v":0},60795,60206,59257,58258,57510,{"$f":"IF((P8-'Ggl. Korr.'!R8)<>0,P8-'Ggl. Korr.'!R8,\"\")","v":""},1,2,3,4,5,null,-867.57142857142856,56642.428571428572,55774.857142857145,54907.285714285717,54039.71428571429,53172.142857142855,52304.571428571428,51437,50569.428571428572,null,null,null,57510,-6940.5714285714275,-0.12068460143577513,55802.628571428562,-27.771428571417346,null,{"$f":"IF(P8='Ggl. Korr.'!R8,0,1)","v":0}]
[{"$f":"Parameter!B6","v":"Balingen"},{"$f":"'Ggl. Historie'!Y9","v":66520},{"$f":"'Ggl. Historie'!Z9","v":65110},{"$f":"'Ggl. Historie'!AA9","v":63873},{"$f":"'Ggl. Historie'!AB9","v":62900},{"$f":"'Ggl. Historie'!AC9","v":61986},{"$f":"SUMIF('Ggl. Korr.'!$B$5:$B$962,$A9,'Ggl. Korr.'!C$5:C$962)","v":-886},{"$f":"SUMIF('Ggl. Korr.'!$B$5:$B$962,$A9,'Ggl. Korr.'!D$5:D$962)","v":-363},{"$f":"SUMIF('Ggl. Korr.'!$B$5:$B$962,$A9,'Ggl. Korr.'!E$5:E$962)","v":-363},{"$f":"SUMIF('Ggl. Korr.'!$B$5:$B$962,$A9,'Ggl. Korr.'!F$5:F$962)","v":-363},{"$f":"SUMIF('Ggl. Korr.'!$B$5:$B$962,$A9,'Ggl. Korr.'!G$5:G$962)","v":-363},65634,64747,63510,62537,{"$f":"F9+K9","v":61623},{"$f":"IF((P9-'Ggl. Korr.'!R9)<>0,P9-'Ggl. Korr.'!R9,\"\")","v":""},1,2,3,4,5,null,-1014.2,60608.800000000003,59594.6,58580.4,57566.2,56552,55537.8,54523.6,53509.4,null,null,null,61623,-8113.5999999999985,-0.13166512503448385,60556.685714285712,-962.08571428571304,null,{"$f":"IF(P9='Ggl. Korr.'!R9,0,1)","v":0}]
[{"$f":"Parameter!B7","v":"Bernhausen"},{"$f":"'Ggl. Historie'!Y10","v":47807},{"$f":"'Ggl. Historie'!Z10","v":47250},{"$f":"'Ggl. Historie'!AA10","v":46514},{"$f":"'Ggl. Historie'!AB10","v":45965},{"$f":"'Ggl. Historie'!AC10","v":45468},{"$f":"SUMIF('Ggl. Korr.'!$B$5:$B$962,$A10,'Ggl. Korr.'!C$5:C$962)","v":0},{"$f":"SUMIF('Ggl. Korr.'!$B$5:$B$962,$A10,'Ggl. Korr.'!D$5:D$962)","v":0},{"$f":"SUMIF('Ggl. Korr.'!$B$5:$B$962,$A10,'Ggl. Korr.'!E$5:E$962)","v":0},{"$f":"SUMIF('Ggl. Korr.'!$B$5:$B$962,$A10,'Ggl. Korr.'!F$5:F$962)","v":0},{"$f":"SUMIF('Ggl. Korr.'!$B$5:$B$962,$A10,'Ggl. Korr.'!G$5:G$962)","v":0},47807,47250,46514,45965,45468,{"$f":"IF((P10-'Ggl. Korr.'!R10)<>0,P10-'Ggl. Korr.'!R10,\"\")","v":""},1,2,3,4,5,null,-583.14285714285711,44884.857142857145,44301.71428571429,43718.571428571428,43135.428571428572,42552.285714285717,41969.142857142855,41386,40802.857142857145,null,null,null,45468,-4665.1428571428551,-0.10260277243650161,45249.942857142858,-948.2285714285681,null,{"$f":"IF(P10='Ggl. Korr.'!R10,0,1)","v":0}]
[{"$f":"Parameter!B8","v":"Besigheim"},{"$f":"'Ggl. Historie'!Y11","v":46521},{"$f":"'Ggl. Historie'!Z11","v":45821},{"$f":"'Ggl. Historie'!AA11","v":45124},{"$f":"'Ggl. Historie'!AB11","v":44429},{"$f":"'Ggl. Historie'!AC11","v":43749},{"$f":"SUMIF('Ggl. Korr.'!$B$5:$B$962,$A11,'Ggl. Korr.'!C$5:C$962)","v":0},{"$f":"SUMIF('Ggl. Korr.'!$B$5:$B$962,$A11,'Ggl. Korr.'!D$5:D$962)","v":0},{"$f":"SUMIF('Ggl. Korr.'!$B$5:$B$962,$A11,'Ggl. Korr.'!E$5:E$962)","v":0},{"$f":"SUMIF('Ggl. Korr.'!$B$5:$B$962,$A11,'Ggl. Korr.'!F$5:F$962)","v":0},{"$f":"SUMIF('Ggl. Korr.'!$B$5:$B$962,$A11,'Ggl. Korr.'!G$5:G$962)","v":0},46521,45821,45124,44429,43749,{"$f":"IF((P11-'Ggl. Korr.'!R11)<>0,P11-'Ggl. Korr.'!R11,\"\")","v":""},1,2,3,4,5,null,-691.8,43057.2,42365.4,41673.599999999999,40981.800000000003,40290,39598.199999999997,38906.400000000001,38214.6,null,null,null,43749,-5534.4000000000015,-0.12650346293629572,43576.828571428574,-1211.4285714285725,null,{"$f":"IF(P11='Ggl. Korr.'!R11,0,1)","v":0}]
[{"$f":"Parameter!B9","v":"Biberach"},{"$f":"'Ggl. Historie'!Y12","v":45066},{"$f":"'Ggl. Historie'!Z12","v":44858},{"$f":"'Ggl. Historie'!AA12","v":44553},{"$f":"'Ggl. Historie'!AB12","v":44490},{"$f":"'Ggl. Historie'!AC12","v":44376},{"$f":"SUMIF('Ggl. Korr.'!$B$5:$B$962,$A12,'Ggl. Korr.'!C$5:C$962)","v":0},{"$f":"SUMIF('Ggl. Korr.'!$B$5:$B$962,$A12,'Ggl. Korr.'!D$5:D$962)","v":0},{"$f":"SUMIF('Ggl. Korr.'!$B$5:$B$962,$A12,'Ggl. Korr.'!E$5:E$962)","v":0},{"$f":"SUMIF('Ggl. Korr.'!$B$5:$B$962,$A12,'Ggl. Korr.'!F$5:F$962)","v":0},{"$f":"SUMIF('Ggl. Korr.'!$B$5:$B$962,$A12,'Ggl. Korr.'!G$5:G$962)","v":0},45066,44858,44553,44490,44376,{"$f":"IF((P12-'Ggl. Korr.'!R12)<>0,P12-'Ggl. Korr.'!R12,\"\")","v":""},1,2,3,4,5,null,-156.37142857142857,44219.62857142857,44063.257142857139,43906.885714285716,43750.514285714286,43594.142857142855,43437.771428571432,43281.4,43125.028571428571,null,null,null,44376,-1250.971428571429,-2.819027015890186E-2,44077.971428571429,-14.714285714289872,null,{"$f":"IF(P12='Ggl. Korr.'!R12,0,1)","v":0}]
[{"$f":"Parameter!B10","v":"Blaubeuren"},{"$f":"'Ggl. Historie'!Y13","v":25451},{"$f":"'Ggl. Historie'!Z13","v":25104},{"$f":"'Ggl. Historie'!AA13","v":24776},{"$f":"'Ggl. Historie'!AB13","v":24406},{"$f":"'Ggl. Historie'!AC13","v":24032},{"$f":"SUMIF('Ggl. Korr.'!$B$5:$B$962,$A13,'Ggl. Korr.'!C$5:C$962)","v":0},{"$f":"SUMIF('Ggl. Korr.'!$B$5:$B$962,$A13,'Ggl. Korr.'!D$5:D$962)","v":0},{"$f":"SUMIF('Ggl. Korr.'!$B$5:$B$962,$A13,'Ggl. Korr.'!E$5:E$962)","v":0},{"$f":"SUMIF('Ggl. Korr.'!$B$5:$B$962,$A13,'Ggl. Korr.'!F$5:F$962)","v":0},{"$f":"SUMIF('Ggl. Korr.'!$B$5:$B$962,$A13,'Ggl. Korr.'!G$5:G$962)","v":0},25451,25104,24776,24406,24032,{"$f":"IF((P13-'Ggl. Korr.'!R13)<>0,P13-'Ggl. Korr.'!R13,\"\")","v":""},1,2,3,4,5,null,-357.71428571428572,23674.285714285714,23316.571428571428,22958.857142857141,22601.142857142855,22243.428571428572,21885.714285714286,21528,21170.285714285714,null,null,null,24032,-2861.7142857142862,-0.11907932280768502,23804.685714285715,-488.11428571428769,null,{"$f":"IF(P13='Ggl. Korr.'!R13,0,1)","v":0}]
[{"$f":"Parameter!B11","v":"Blaufelden"},{"$f":"'Ggl. Historie'!Y14","v":20012},{"$f":"'Ggl. Historie'!Z14","v":19692},{"$f":"'Ggl. Historie'!AA14","v":19461},{"$f":"'Ggl. Historie'!AB14","v":19302},{"$f":"'Ggl. Historie'!AC14","v":19173},{"$f":"SUMIF('Ggl. Korr.'!$B$5:$B$962,$A14,'Ggl. Korr.'!C$5:C$962)","v":-518},{"$f":"SUMIF('Ggl. Korr.'!$B$5:$B$962,$A14,'Ggl. Korr.'!D$5:D$962)","v":-406},{"$f":"SUMIF('Ggl. Korr.'!$B$5:$B$962,$A14,'Ggl. Korr.'!E$5:E$962)","v":-406},{"$f":"SUMIF('Ggl. Korr.'!$B$5:$B$962,$A14,'Ggl. Korr.'!F$5:F$962)","v":-406},{"$f":"SUMIF('Ggl. Korr.'!$B$5:$B$962,$A14,'Ggl. Korr.'!G$5:G$962)","v":-406},19494,19286,19055,18896,18767,{"$f":"IF((P14-'Ggl. Korr.'!R14)<>0,P14-'Ggl. Korr.'!R14,\"\")","v":""},1,2,3,4,5,null,-174.54285714285714,18592.457142857143,18417.914285714287,18243.37142857143,18068.828571428574,17894.285714285714,17719.742857142857,17545.2,17370.657142857144,null,null,null,18767,-1396.3428571428558,-7.4404159276541579E-2,18122.057142857142,295.85714285714494,null,{"$f":"IF(P14='Ggl. Korr.'!R14,0,1)","v":0}]
[{"$f":"Parameter!B12","v":"Böblingen"},{"$f":"'Ggl. Historie'!Y15","v":65201},{"$f":"'Ggl. Historie'!Z15","v":64493},{"$f":"'Ggl. Historie'!AA15","v":63421},{"$f":"'Ggl. Historie'!AB15","v":62482},{"$f":"'Ggl. Historie'!AC15","v":61480},{"$f":"SUMIF('Ggl. Korr.'!$B$5:$B$962,$A15,'Ggl. Korr.'!C$5:C$962)","v":0},{"$f":"SUMIF('Ggl. Korr.'!$B$5:$B$962,$A15,'Ggl. Korr.'!D$5:D$962)","v":0},{"$f":"SUMIF('Ggl. Korr.'!$B$5:$B$962,$A15,'Ggl. Korr.'!E$5:E$962)","v":0},{"$f":"SUMIF('Ggl. Korr.'!$B$5:$B$962,$A15,'Ggl. Korr.'!F$5:F$962)","v":0},{"$f":"SUMIF('Ggl. Korr.'!$B$5:$B$962,$A15,'Ggl. Korr.'!G$5:G$962)","v":0},65201,64493,63421,62482,61480,{"$f":"IF((P15-'Ggl. Korr.'!R15)<>0,P15-'Ggl. Korr.'!R15,\"\")","v":""},1,2,3,4,5,null,-964.8,60515.199999999997,59550.400000000001,58585.599999999999,57620.800000000003,56656,55691.199999999997,54726.400000000001,53761.599999999999,null,null,null,61480,-7718.4000000000015,-0.12554326610279767,58160.485714285714,1389.914285714287,null,{"$f":"IF(P15='Ggl. Korr.'!R15,0,1)","v":0}]
[{"$f":"Parameter!B13","v":"Brackenheim"},{"$f":"'Ggl. Historie'!Y16","v":27738},{"$f":"'Ggl. Historie'!Z16","v":27387},{"$f":"'Ggl. Historie'!AA16","v":27081},{"$f":"'Ggl. Historie'!AB16","v":26693},{"$f":"'Ggl. Historie'!AC16","v":26382},{"$f":"SUMIF('Ggl. Korr.'!$B$5:$B$962,$A16,'Ggl. Korr.'!C$5:C$962)","v":0},{"$f":"SUMIF('Ggl. Korr.'!$B$5:$B$962,$A16,'Ggl. Korr.'!D$5:D$962)","v":0},{"$f":"SUMIF('Ggl. Korr.'!$B$5:$B$962,$A16,'Ggl. Korr.'!E$5:E$962)","v":0},{"$f":"SUMIF('Ggl. Korr.'!$B$5:$B$962,$A16,'Ggl. Korr.'!F$5:F$962)","v":0},{"$f":"SUMIF('Ggl. Korr.'!$B$5:$B$962,$A16,'Ggl. Korr.'!G$5:G$962)","v":0},27738,27387,27081,26693,26382,{"$f":"IF((P16-'Ggl. Korr.'!R16)<>0,P16-'Ggl. Korr.'!R16,\"\")","v":""},1,2,3,4,5,null,-340.68571428571431,26041.314285714285,25700.62857142857,25359.942857142858,25019.257142857143,24678.571428571428,24337.885714285716,23997.200000000001,23656.514285714286,null,null,null,26382,-2725.4857142857145,-0.10330853287414581,25744.514285714286,-43.885714285715949,null,{"$f":"IF(P16='Ggl. Korr.'!R16,0,1)","v":0}]
[{"$f":"Parameter!B14","v":"Calw"},{"$f":"'Ggl. Historie'!Y17","v":32266},{"$f":"'Ggl. Historie'!Z17","v":32193},{"$f":"'Ggl. Historie'!AA17","v":31800},{"$f":"'Ggl. Historie'!AB17","v":31378},{"$f":"'Ggl. Historie'!AC17","v":30881},{"$f":"SUMIF('Ggl. Korr.'!$B$5:$B$962,$A17,'Ggl. Korr.'!C$5:C$962)","v":95},{"$f":"SUMIF('Ggl. Korr.'!$B$5:$B$962,$A17,'Ggl. Korr.'!D$5:D$962)","v":-256},{"$f":"SUMIF('Ggl. Korr.'!$B$5:$B$962,$A17,'Ggl. Korr.'!E$5:E$962)","v":-256},{"$f":"SUMIF('Ggl. Korr.'!$B$5:$B$962,$A17,'Ggl. Korr.'!F$5:F$962)","v":-256},{"$f":"SUMIF('Ggl. Korr.'!$B$5:$B$962,$A17,'Ggl. Korr.'!G$5:G$962)","v":-256},32361,31937,31544,31122,30625,{"$f":"IF((P17-'Ggl. Korr.'!R17)<>0,P17-'Ggl. Korr.'!R17,\"\")","v":""},1,2,3,4,5,null,-436.2,30188.799999999999,29752.6,29316.400000000001,28880.2,28444,28007.800000000003,27571.600000000002,27135.4,null,null,null,30625,-3489.5999999999985,-0.11394612244897954,29484.485714285714,268.11428571428405,null,{"$f":"IF(P17='Ggl. Korr.'!R17,0,1)","v":0}]
[{"$f":"Parameter!B15","v":"Crailsheim"},{"$f":"'Ggl. Historie'!Y18","v":30394},{"$f":"'Ggl. Historie'!Z18","v":30177},{"$f":"'Ggl. Historie'!AA18","v":29799},{"$f":"'Ggl. Historie'!AB18","v":29430},{"$f":"'Ggl. Historie'!AC18","v":29123},{"$f":"SUMIF('Ggl. Korr.'!$B$5:$B$962,$A18,'Ggl. Korr.'!C$5:C$962)","v":0},{"$f":"SUMIF('Ggl. Korr.'!$B$5:$B$962,$A18,'Ggl. Korr.'!D$5:D$962)","v":0},{"$f":"SUMIF('Ggl. Korr.'!$B$5:$B$962,$A18,'Ggl. Korr.'!E$5:E$962)","v":0},{"$f":"SUMIF('Ggl. Korr.'!$B$5:$B$962,$A18,'Ggl. Korr.'!F$5:F$962)","v":0},{"$f":"SUMIF('Ggl. Korr.'!$B$5:$B$962,$A18,'Ggl. Korr.'!G$5:G$962)","v":0},30394,30177,29799,29430,29123,{"$f":"IF((P18-'Ggl. Korr.'!R18)<>0,P18-'Ggl. Korr.'!R18,\"\")","v":""},1,2,3,4,5,null,-336.22857142857146,28786.771428571428,28450.542857142857,28114.314285714285,27778.085714285713,27441.857142857145,27105.628571428573,26769.4,26433.17142857143,null,null,null,29123,-2689.8285714285703,-9.2360971446230483E-2,28854.457142857143,-403.91428571428696,null,{"$f":"IF(P18='Ggl. Korr.'!R18,0,1)","v":0}]
[{"$f":"Parameter!B16","v":"Degerloch"},{"$f":"'Ggl. Historie'!Y19","v":42992},{"$f":"'Ggl. Historie'!Z19","v":42462},{"$f":"'Ggl. Historie'!AA19","v":41771},{"$f":"'Ggl. Historie'!AB19","v":41021},{"$f":"'Ggl. Historie'!AC19","v":40512},{"$f":"SUMIF('Ggl. Korr.'!$B$5:$B$962,$A19,'Ggl. Korr.'!C$5:C$962)","v":0},{"$f":"SUMIF('Ggl. Korr.'!$B$5:$B$962,$A19,'Ggl. Korr.'!D$5:D$962)","v":0},{"$f":"SUMIF('Ggl. Korr.'!$B$5:$B$962,$A19,'Ggl. Korr.'!E$5:E$962)","v":0},{"$f":"SUMIF('Ggl. Korr.'!$B$5:$B$962,$A19,'Ggl. Korr.'!F$5:F$962)","v":0},{"$f":"SUMIF('Ggl. Korr.'!$B$5:$B$962,$A19,'Ggl. Korr.'!G$5:G$962)","v":0},42992,42462,41771,41021,40512,{"$f":"IF((P19-'Ggl. Korr.'!R19)<>0,P19-'Ggl. Korr.'!R19,\"\")","v":""},1,2,3,4,5,null,-640.82857142857142,39871.171428571426,39230.342857142859,38589.514285714286,37948.685714285719,37307.857142857145,36667.028571428571,36026.200000000004,35385.37142857143,null,null,null,40512,-5126.6285714285696,-0.12654592642744297,40683.542857142857,-1453.1999999999971,null,{"$f":"IF(P19='Ggl. Korr.'!R19,0,1)","v":0}]
[{"$f":"Parameter!B17","v":"Ditzingen"},{"$f":"'Ggl. Historie'!Y20","v":33863},{"$f":"'Ggl. Historie'!Z20","v":33395},{"$f":"'Ggl. Historie'!AA20","v":32844},{"$f":"'Ggl. Historie'!AB20","v":32264},{"$f":"'Ggl. Historie'!AC20","v":31730},{"$f":"SUMIF('Ggl. Korr.'!$B$5:$B$962,$A20,'Ggl. Korr.'!C$5:C$962)","v":0},{"$f":"SUMIF('Ggl. Korr.'!$B$5:$B$962,$A20,'Ggl. Korr.'!D$5:D$962)","v":0},{"$f":"SUMIF('Ggl. Korr.'!$B$5:$B$962,$A20,'Ggl. Korr.'!E$5:E$962)","v":0},{"$f":"SUMIF('Ggl. Korr.'!$B$5:$B$962,$A20,'Ggl. Korr.'!F$5:F$962)","v":0},{"$f":"SUMIF('Ggl. Korr.'!$B$5:$B$962,$A20,'Ggl. Korr.'!G$5:G$962)","v":0},33863,33395,32844,32264,31730,{"$f":"IF((P20-'Ggl. Korr.'!R20)<>0,P20-'Ggl. Korr.'!R20,\"\")","v":""},1,2,3,4,5,null,-546.6,31183.4,30636.799999999999,30090.2,29543.599999999999,28997,28450.400000000001,27903.8,27357.200000000001,null,null,null,31730,-4372.7999999999993,-0.13781279546170813,31136.62857142857,-499.82857142857029,null,{"$f":"IF(P20='Ggl. Korr.'!R20,0,1)","v":0}]
[{"$f":"Parameter!B18","v":"Esslingen"},{"$f":"'Ggl. Historie'!Y21","v":62178},{"$f":"'Ggl. Historie'!Z21","v":61524},{"$f":"'Ggl. Historie'!AA21","v":60444},{"$f":"'Ggl. Historie'!AB21","v":59501},{"$f":"'Ggl. Historie'!AC21","v":58575},{"$f":"SUMIF('Ggl. Korr.'!$B$5:$B$962,$A21,'Ggl. Korr.'!C$5:C$962)","v":0},{"$f":"SUMIF('Ggl. Korr.'!$B$5:$B$962,$A21,'Ggl. Korr.'!D$5:D$962)","v":0},{"$f":"SUMIF('Ggl. Korr.'!$B$5:$B$962,$A21,'Ggl. Korr.'!E$5:E$962)","v":0},{"$f":"SUMIF('Ggl. Korr.'!$B$5:$B$962,$A21,'Ggl. Korr.'!F$5:F$962)","v":0},{"$f":"SUMIF('Ggl. Korr.'!$B$5:$B$962,$A21,'Ggl. Korr.'!G$5:G$962)","v":0},62178,61524,60444,59501,58575,{"$f":"IF((P21-'Ggl. Korr.'!R21)<>0,P21-'Ggl. Korr.'!R21,\"\")","v":""},1,2,3,4,5,null,-940.34285714285716,57634.657142857141,56694.314285714281,55753.971428571429,54813.62857142857,53873.28571428571,52932.942857142858,51992.6,51052.257142857139,null,null,null,58575,-7522.7428571428609,-0.12842924211938303,56604.171428571426,90.142857142855064,null,{"$f":"IF(P21='Ggl. Korr.'!R21,0,1)","v":0}]
[{"$f":"Parameter!B19","v":"Freudenstadt"},{"$f":"'Ggl. Historie'!Y22","v":40581},{"$f":"'Ggl. Historie'!Z22","v":39884},{"$f":"'Ggl. Historie'!AA22","v":39369},{"$f":"'Ggl. Historie'!AB22","v":38770},{"$f":"'Ggl. Historie'!AC22","v":38155},{"$f":"SUMIF('Ggl. Korr.'!$B$5:$B$962,$A22,'Ggl. Korr.'!C$5:C$962)","v":0},{"$f":"SUMIF('Ggl. Korr.'!$B$5:$B$962,$A22,'Ggl. Korr.'!D$5:D$962)","v":0},{"$f":"SUMIF('Ggl. Korr.'!$B$5:$B$962,$A22,'Ggl. Korr.'!E$5:E$962)","v":0},{"$f":"SUMIF('Ggl. Korr.'!$B$5:$B$962,$A22,'Ggl. Korr.'!F$5:F$962)","v":0},{"$f":"SUMIF('Ggl. Korr.'!$B$5:$B$962,$A22,'Ggl. Korr.'!G$5:G$962)","v":0},40581,39884,39369,38770,38155,{"$f":"IF((P22-'Ggl. Korr.'!R22)<>0,P22-'Ggl. Korr.'!R22,\"\")","v":""},1,2,3,4,5,null,-593.17142857142858,37561.828571428574,36968.657142857141,36375.485714285714,35782.314285714281,35189.142857142855,34595.971428571429,34002.799999999996,33409.62857142857,null,null,null,38155,-4745.3714285714304,-0.12437089316135318,37118.885714285716,-150.22857142857538,null,{"$f":"IF(P22='Ggl. Korr.'!R22,0,1)","v":0}]
[{"$f":"Parameter!B20","v":"Gaildorf"},{"$f":"'Ggl. Historie'!Y23","v":21433},{"$f":"'Ggl. Historie'!Z23","v":21136},{"$f":"'Ggl. Historie'!AA23","v":20873},{"$f":"'Ggl. Historie'!AB23","v":20626},{"$f":"'Ggl. Historie'!AC23","v":20396},{"$f":"SUMIF('Ggl. Korr.'!$B$5:$B$962,$A23,'Ggl. Korr.'!C$5:C$962)","v":0},{"$f":"SUMIF('Ggl. Korr.'!$B$5:$B$962,$A23,'Ggl. Korr.'!D$5:D$962)","v":0},{"$f":"SUMIF('Ggl. Korr.'!$B$5:$B$962,$A23,'Ggl. Korr.'!E$5:E$962)","v":0},{"$f":"SUMIF('Ggl. Korr.'!$B$5:$B$962,$A23,'Ggl. Korr.'!F$5:F$962)","v":0},{"$f":"SUMIF('Ggl. Korr.'!$B$5:$B$962,$A23,'Ggl. Korr.'!G$5:G$962)","v":0},21433,21136,20873,20626,20396,{"$f":"IF((P23-'Ggl. Korr.'!R23)<>0,P23-'Ggl. Korr.'!R23,\"\")","v":""},1,2,3,4,5,null,-251.97142857142856,20144.028571428571,19892.057142857142,19640.085714285713,19388.114285714284,19136.142857142859,18884.17142857143,18632.2,18380.228571428572,null,null,null,20396,-2015.7714285714283,-9.8831703695402451E-2,19731.400000000001,160.65714285714057,null,{"$f":"IF(P23='Ggl. Korr.'!R23,0,1)","v":0}]
[{"$f":"Parameter!B21","v":"Geislingen a.d. Steige"},{"$f":"'Ggl. Historie'!Y24","v":27692},{"$f":"'Ggl. Historie'!Z24","v":27232},{"$f":"'Ggl. Historie'!AA24","v":26730},{"$f":"'Ggl. Historie'!AB24","v":26290},{"$f":"'Ggl. Historie'!AC24","v":25890},{"$f":"SUMIF('Ggl. Korr.'!$B$5:$B$962,$A24,'Ggl. Korr.'!C$5:C$962)","v":0},{"$f":"SUMIF('Ggl. Korr.'!$B$5:$B$962,$A24,'Ggl. Korr.'!D$5:D$962)","v":0},{"$f":"SUMIF('Ggl. Korr.'!$B$5:$B$962,$A24,'Ggl. Korr.'!E$5:E$962)","v":0},{"$f":"SUMIF('Ggl. Korr.'!$B$5:$B$962,$A24,'Ggl. Korr.'!F$5:F$962)","v":0},{"$f":"SUMIF('Ggl. Korr.'!$B$5:$B$962,$A24,'Ggl. Korr.'!G$5:G$962)","v":0},27692,27232,26730,26290,25890,{"$f":"IF((P24-'Ggl. Korr.'!R24)<>0,P24-'Ggl. Korr.'!R24,\"\")","v":""},1,2,3,4,5,null,-446.8,25443.200000000001,24996.400000000001,24549.599999999999,24102.799999999999,23656,23209.199999999997,22762.399999999998,22315.599999999999,null,null,null,25890,-3574.4000000000015,-0.13806102742371579,25370.799999999999,-374.39999999999782,null,{"$f":"IF(P24='Ggl. Korr.'!R24,0,1)","v":0}]
[{"$f":"Parameter!B22","v":"Göppingen"},{"$f":"'Ggl. Historie'!Y25","v":59786},{"$f":"'Ggl. Historie'!Z25","v":59005},{"$f":"'Ggl. Historie'!AA25","v":57829},{"$f":"'Ggl. Historie'!AB25","v":56935},{"$f":"'Ggl. Historie'!AC25","v":56522},{"$f":"SUMIF('Ggl. Korr.'!$B$5:$B$962,$A25,'Ggl. Korr.'!C$5:C$962)","v":384},{"$f":"SUMIF('Ggl. Korr.'!$B$5:$B$962,$A25,'Ggl. Korr.'!D$5:D$962)","v":384},{"$f":"SUMIF('Ggl. Korr.'!$B$5:$B$962,$A25,'Ggl. Korr.'!E$5:E$962)","v":384},{"$f":"SUMIF('Ggl. Korr.'!$B$5:$B$962,$A25,'Ggl. Korr.'!F$5:F$962)","v":384},{"$f":"SUMIF('Ggl. Korr.'!$B$5:$B$962,$A25,'Ggl. Korr.'!G$5:G$962)","v":0},60170,59389,58213,57319,56522,{"$f":"IF((P25-'Ggl. Korr.'!R25)<>0,P25-'Ggl. Korr.'!R25,\"\")","v":""},1,2,3,4,5,null,-925.88571428571424,55596.114285714284,54670.228571428568,53744.342857142859,52818.457142857143,51892.571428571428,50966.685714285719,50040.800000000003,49114.914285714287,null,null,null,56522,-7407.085714285713,-0.13104783472427928,55328.685714285712,-658.45714285714348,null,{"$f":"IF(P25='Ggl. Korr.'!R25,0,1)","v":0}]
[{"$f":"Parameter!B23","v":"Heidenheim"},{"$f":"'Ggl. Historie'!Y26","v":51086},{"$f":"'Ggl. Historie'!Z26","v":50173},{"$f":"'Ggl. Historie'!AA26","v":49300},{"$f":"'Ggl. Historie'!AB26","v":48316},{"$f":"'Ggl. Historie'!AC26","v":47622},{"$f":"SUMIF('Ggl. Korr.'!$B$5:$B$962,$A26,'Ggl. Korr.'!C$5:C$962)","v":0},{"$f":"SUMIF('Ggl. Korr.'!$B$5:$B$962,$A26,'Ggl. Korr.'!D$5:D$962)","v":0},{"$f":"SUMIF('Ggl. Korr.'!$B$5:$B$962,$A26,'Ggl. Korr.'!E$5:E$962)","v":0},{"$f":"SUMIF('Ggl. Korr.'!$B$5:$B$962,$A26,'Ggl. Korr.'!F$5:F$962)","v":0},{"$f":"SUMIF('Ggl. Korr.'!$B$5:$B$962,$A26,'Ggl. Korr.'!G$5:G$962)","v":0},51086,50173,49300,48316,47622,{"$f":"IF((P26-'Ggl. Korr.'!R26)<>0,P26-'Ggl. Korr.'!R26,\"\")","v":""},1,2,3,4,5,null,-864.48571428571427,46757.514285714286,45893.028571428571,45028.542857142857,44164.057142857142,43299.571428571428,42435.085714285713,41570.6,40706.114285714284,null,null,null,47622,-6915.8857142857159,-0.14522459607504337,45082.914285714287,810.11428571428405,null,{"$f":"IF(P26='Ggl. Korr.'!R26,0,1)","v":0}]
[{"$f":"Parameter!B24","v":"Heilbronn"},{"$f":"'Ggl. Historie'!Y27","v":66226},{"$f":"'Ggl. Historie'!Z27","v":65105},{"$f":"'Ggl. Historie'!AA27","v":63853},{"$f":"'Ggl. Historie'!AB27","v":62599},{"$f":"'Ggl. Historie'!AC27","v":61527},{"$f":"SUMIF('Ggl. Korr.'!$B$5:$B$962,$A27,'Ggl. Korr.'!C$5:C$962)","v":0},{"$f":"SUMIF('Ggl. Korr.'!$B$5:$B$962,$A27,'Ggl. Korr.'!D$5:D$962)","v":0},{"$f":"SUMIF('Ggl. Korr.'!$B$5:$B$962,$A27,'Ggl. Korr.'!E$5:E$962)","v":0},{"$f":"SUMIF('Ggl. Korr.'!$B$5:$B$962,$A27,'Ggl. Korr.'!F$5:F$962)","v":0},{"$f":"SUMIF('Ggl. Korr.'!$B$5:$B$962,$A27,'Ggl. Korr.'!G$5:G$962)","v":0},66226,65105,63853,62599,61527,{"$f":"IF((P27-'Ggl. Korr.'!R27)<>0,P27-'Ggl. Korr.'!R27,\"\")","v":""},1,2,3,4,5,null,-1186.2857142857142,60340.71428571429,59154.428571428572,57968.142857142855,56781.857142857145,55595.571428571435,54409.285714285717,53223,52036.71428571429,null,null,null,61527,-9490.2857142857101,-0.15424587115064459,60171.314285714288,-1016.8857142857159,null,{"$f":"IF(P27='Ggl. Korr.'!R27,0,1)","v":0}]
[{"$f":"Parameter!B25","v":"Herrenberg"},{"$f":"'Ggl. Historie'!Y28","v":40255},{"$f":"'Ggl. Historie'!Z28","v":40005},{"$f":"'Ggl. Historie'!AA28","v":39442},{"$f":"'Ggl. Historie'!AB28","v":38884},{"$f":"'Ggl. Historie'!AC28","v":38498},{"$f":"SUMIF('Ggl. Korr.'!$B$5:$B$962,$A28,'Ggl. Korr.'!C$5:C$962)","v":0},{"$f":"SUMIF('Ggl. Korr.'!$B$5:$B$962,$A28,'Ggl. Korr.'!D$5:D$962)","v":0},{"$f":"SUMIF('Ggl. Korr.'!$B$5:$B$962,$A28,'Ggl. Korr.'!E$5:E$962)","v":0},{"$f":"SUMIF('Ggl. Korr.'!$B$5:$B$962,$A28,'Ggl. Korr.'!F$5:F$962)","v":0},{"$f":"SUMIF('Ggl. Korr.'!$B$5:$B$962,$A28,'Ggl. Korr.'!G$5:G$962)","v":0},40255,40005,39442,38884,38498,{"$f":"IF((P28-'Ggl. Korr.'!R28)<>0,P28-'Ggl. Korr.'!R28,\"\")","v":""},1,2,3,4,5,null,-474.94285714285712,38023.057142857142,37548.114285714284,37073.171428571426,36598.228571428568,36123.285714285717,35648.342857142859,35173.4,34698.457142857143,null,null,null,38498,-3799.5428571428565,-9.8694551850559933E-2,38094.085714285713,-545.97142857142899,null,{"$f":"IF(P28='Ggl. Korr.'!R28,0,1)","v":0}]
[{"$f":"Parameter!B26","v":"Kirchheim unter Teck"},{"$f":"'Ggl. Historie'!Y29","v":36834},{"$f":"'Ggl. Historie'!Z29","v":36341},{"$f":"'Ggl. Historie'!AA29","v":35688},{"$f":"'Ggl. Historie'!AB29","v":35128},{"$f":"'Ggl. Historie'!AC29","v":34641},{"$f":"SUMIF('Ggl. Korr.'!$B$5:$B$962,$A29,'Ggl. Korr.'!C$5:C$962)","v":0},{"$f":"SUMIF('Ggl. Korr.'!$B$5:$B$962,$A29,'Ggl. Korr.'!D$5:D$962)","v":0},{"$f":"SUMIF('Ggl. Korr.'!$B$5:$B$962,$A29,'Ggl. Korr.'!E$5:E$962)","v":0},{"$f":"SUMIF('Ggl. Korr.'!$B$5:$B$962,$A29,'Ggl. Korr.'!F$5:F$962)","v":0},{"$f":"SUMIF('Ggl. Korr.'!$B$5:$B$962,$A29,'Ggl. Korr.'!G$5:G$962)","v":0},36834,36341,35688,35128,34641,{"$f":"IF((P29-'Ggl. Korr.'!R29)<>0,P29-'Ggl. Korr.'!R29,\"\")","v":""},1,2,3,4,5,null,-555.4,34085.599999999999,33530.199999999997,32974.800000000003,32419.4,31864,31308.6,30753.200000000001,30197.8,null,null,null,34641,-4443.2000000000007,-0.12826419560636243,33740.828571428574,-210.62857142857683,null,{"$f":"IF(P29='Ggl. Korr.'!R29,0,1)","v":0}]
[{"$f":"Parameter!B27","v":"Künzelsau"},{"$f":"'Ggl. Historie'!Y30","v":15294},{"$f":"'Ggl. Historie'!Z30","v":15275},{"$f":"'Ggl. Historie'!AA30","v":15073},{"$f":"'Ggl. Historie'!AB30","v":14851},{"$f":"'Ggl. Historie'!AC30","v":14686},{"$f":"SUMIF('Ggl. Korr.'!$B$5:$B$962,$A30,'Ggl. Korr.'!C$5:C$962)","v":112},{"$f":"SUMIF('Ggl. Korr.'!$B$5:$B$962,$A30,'Ggl. Korr.'!D$5:D$962)","v":0},{"$f":"SUMIF('Ggl. Korr.'!$B$5:$B$962,$A30,'Ggl. Korr.'!E$5:E$962)","v":0},{"$f":"SUMIF('Ggl. Korr.'!$B$5:$B$962,$A30,'Ggl. Korr.'!F$5:F$962)","v":0},{"$f":"SUMIF('Ggl. Korr.'!$B$5:$B$962,$A30,'Ggl. Korr.'!G$5:G$962)","v":0},15406,15275,15073,14851,14686,{"$f":"IF((P30-'Ggl. Korr.'!R30)<>0,P30-'Ggl. Korr.'!R30,\"\")","v":""},1,2,3,4,5,null,-190.17142857142858,14495.828571428572,14305.657142857142,14115.485714285714,13925.314285714285,13735.142857142857,13544.971428571429,13354.8,13164.628571428571,null,null,null,14686,-1521.3714285714286,-0.1035933153051497,14465.4,-159.74285714285725,null,{"$f":"IF(P30='Ggl. Korr.'!R30,0,1)","v":0}]
[{"$f":"Parameter!B28","v":"Leonberg"},{"$f":"'Ggl. Historie'!Y31","v":44416},{"$f":"'Ggl. Historie'!Z31","v":43872},{"$f":"'Ggl. Historie'!AA31","v":43090},{"$f":"'Ggl. Historie'!AB31","v":42366},{"$f":"'Ggl. Historie'!AC31","v":41868},{"$f":"SUMIF('Ggl. Korr.'!$B$5:$B$962,$A31,'Ggl. Korr.'!C$5:C$962)","v":0},{"$f":"SUMIF('Ggl. Korr.'!$B$5:$B$962,$A31,'Ggl. Korr.'!D$5:D$962)","v":0},{"$f":"SUMIF('Ggl. Korr.'!$B$5:$B$962,$A31,'Ggl. Korr.'!E$5:E$962)","v":0},{"$f":"SUMIF('Ggl. Korr.'!$B$5:$B$962,$A31,'Ggl. Korr.'!F$5:F$962)","v":0},{"$f":"SUMIF('Ggl. Korr.'!$B$5:$B$962,$A31,'Ggl. Korr.'!G$5:G$962)","v":0},44416,43872,43090,42366,41868,{"$f":"IF((P31-'Ggl. Korr.'!R31)<>0,P31-'Ggl. Korr.'!R31,\"\")","v":""},1,2,3,4,5,null,-653.7714285714286,41214.228571428568,40560.457142857143,39906.685714285719,39252.914285714287,38599.142857142855,37945.37142857143,37291.600000000006,36637.828571428574,null,null,null,41868,-5230.1714285714261,-0.12492049843726535,40730.885714285716,-170.42857142857247,null,{"$f":"IF(P31='Ggl. Korr.'!R31,0,1)","v":0}]
[{"$f":"Parameter!B29","v":"Ludwigsburg"},{"$f":"'Ggl. Historie'!Y32","v":66727},{"$f":"'Ggl. Historie'!Z32","v":66216},{"$f":"'Ggl. Historie'!AA32","v":65507},{"$f":"'Ggl. Historie'!AB32","v":64587},{"$f":"'Ggl. Historie'!AC32","v":63543},{"$f":"SUMIF('Ggl. Korr.'!$B$5:$B$962,$A32,'Ggl. Korr.'!C$5:C$962)","v":0},{"$f":"SUMIF('Ggl. Korr.'!$B$5:$B$962,$A32,'Ggl. Korr.'!D$5:D$962)","v":0},{"$f":"SUMIF('Ggl. Korr.'!$B$5:$B$962,$A32,'Ggl. Korr.'!E$5:E$962)","v":0},{"$f":"SUMIF('Ggl. Korr.'!$B$5:$B$962,$A32,'Ggl. Korr.'!F$5:F$962)","v":0},{"$f":"SUMIF('Ggl. Korr.'!$B$5:$B$962,$A32,'Ggl. Korr.'!G$5:G$962)","v":0},66727,66216,65507,64587,63543,{"$f":"IF((P32-'Ggl. Korr.'!R32)<>0,P32-'Ggl. Korr.'!R32,\"\")","v":""},1,2,3,4,5,null,-854.42857142857144,62688.571428571428,61834.142857142855,60979.714285714283,60125.28571428571,59270.857142857145,58416.428571428572,57562,56707.571428571428,null,null,null,63543,-6835.4285714285725,-0.1075717006031911,61804.971428571429,29.171428571426077,null,{"$f":"IF(P32='Ggl. Korr.'!R32,0,1)","v":0}]
[{"$f":"Parameter!B30","v":"Marbach a.N."},{"$f":"'Ggl. Historie'!Y33","v":40606},{"$f":"'Ggl. Historie'!Z33","v":40140},{"$f":"'Ggl. Historie'!AA33","v":39294},{"$f":"'Ggl. Historie'!AB33","v":38657},{"$f":"'Ggl. Historie'!AC33","v":38292},{"$f":"SUMIF('Ggl. Korr.'!$B$5:$B$962,$A33,'Ggl. Korr.'!C$5:C$962)","v":51},{"$f":"SUMIF('Ggl. Korr.'!$B$5:$B$962,$A33,'Ggl. Korr.'!D$5:D$962)","v":0},{"$f":"SUMIF('Ggl. Korr.'!$B$5:$B$962,$A33,'Ggl. Korr.'!E$5:E$962)","v":0},{"$f":"SUMIF('Ggl. Korr.'!$B$5:$B$962,$A33,'Ggl. Korr.'!F$5:F$962)","v":0},{"$f":"SUMIF('Ggl. Korr.'!$B$5:$B$962,$A33,'Ggl. Korr.'!G$5:G$962)","v":0},40657,40140,39294,38657,38292,{"$f":"IF((P33-'Ggl. Korr.'!R33)<>0,P33-'Ggl. Korr.'!R33,\"\")","v":""},1,2,3,4,5,null,-599.31428571428569,37692.685714285712,37093.37142857143,36494.057142857142,35894.742857142861,35295.428571428572,34696.114285714284,34096.800000000003,33497.485714285714,null,null,null,38292,-4794.5142857142855,-0.12520929399650804,37625.857142857145,-532.48571428571449,null,{"$f":"IF(P33='Ggl. Korr.'!R33,0,1)","v":0}]
[{"$f":"Parameter!B31","v":"Mühlacker"},{"$f":"'Ggl. Historie'!Y34","v":33787},{"$f":"'Ggl. Historie'!Z34","v":33269},{"$f":"'Ggl. Historie'!AA34","v":32778},{"$f":"'Ggl. Historie'!AB34","v":32152},{"$f":"'Ggl. Historie'!AC34","v":31708},{"$f":"SUMIF('Ggl. Korr.'!$B$5:$B$962,$A34,'Ggl. Korr.'!C$5:C$962)","v":0},{"$f":"SUMIF('Ggl. Korr.'!$B$5:$B$962,$A34,'Ggl. Korr.'!D$5:D$962)","v":0},{"$f":"SUMIF('Ggl. Korr.'!$B$5:$B$962,$A34,'Ggl. Korr.'!E$5:E$962)","v":0},{"$f":"SUMIF('Ggl. Korr.'!$B$5:$B$962,$A34,'Ggl. Korr.'!F$5:F$962)","v":0},{"$f":"SUMIF('Ggl. Korr.'!$B$5:$B$962,$A34,'Ggl. Korr.'!G$5:G$962)","v":0},33787,33269,32778,32152,31708,{"$f":"IF((P34-'Ggl. Korr.'!R34)<>0,P34-'Ggl. Korr.'!R34,\"\")","v":""},1,2,3,4,5,null,-526.94285714285718,31181.057142857142,30654.114285714284,30127.17142857143,29600.228571428572,29073.285714285714,28546.342857142859,28019.4,27492.457142857143,null,null,null,31708,-4215.5428571428565,-0.13294887274955394,30756.657142857144,-102.54285714286016,null,{"$f":"IF(P34='Ggl. Korr.'!R34,0,1)","v":0}]
[{"$f":"Parameter!B32","v":"Münsingen (siehe Bad Urach-Münsigen)"},null,null,null,null,{"$f":"'Ggl. Historie'!AC35","v":0},{"$f":"SUMIF('Ggl. Korr.'!$B$5:$B$962,$A35,'Ggl. Korr.'!C$5:C$962)","v":0},{"$f":"SUMIF('Ggl. Korr.'!$B$5:$B$962,$A35,'Ggl. Korr.'!D$5:D$962)","v":0},{"$f":"SUMIF('Ggl. Korr.'!$B$5:$B$962,$A35,'Ggl. Korr.'!E$5:E$962)","v":0},{"$f":"SUMIF('Ggl. Korr.'!$B$5:$B$962,$A35,'Ggl. Korr.'!F$5:F$962)","v":0},{"$f":"SUMIF('Ggl. Korr.'!$B$5:$B$962,$A35,'Ggl. Korr.'!G$5:G$962)","v":0}]
[{"$f":"Parameter!B33","v":"Nagold"},{"$f":"'Ggl. Historie'!Y36","v":30809},{"$f":"'Ggl. Historie'!Z36","v":30574},{"$f":"'Ggl. Historie'!AA36","v":30109},{"$f":"'Ggl. Historie'!AB36","v":29840},{"$f":"'Ggl. Historie'!AC36","v":29525},{"$f":"SUMIF('Ggl. Korr.'!$B$5:$B$962,$A36,'Ggl. Korr.'!C$5:C$962)","v":0},{"$f":"SUMIF('Ggl. Korr.'!$B$5:$B$962,$A36,'Ggl. Korr.'!D$5:D$962)","v":0},{"$f":"SUMIF('Ggl. Korr.'!$B$5:$B$962,$A36,'Ggl. Korr.'!E$5:E$962)","v":0},{"$f":"SUMIF('Ggl. Korr.'!$B$5:$B$962,$A36,'Ggl. Korr.'!F$5:F$962)","v":0},{"$f":"SUMIF('Ggl. Korr.'!$B$5:$B$962,$A36,'Ggl. Korr.'!G$5:G$962)","v":0},30809,30574,30109,29840,29525,{"$f":"IF((P36-'Ggl. Korr.'!R36)<>0,P36-'Ggl. Korr.'!R36,\"\")","v":""},1,2,3,4,5,null,-328.65714285714284,29196.342857142856,28867.685714285715,28539.028571428571,28210.37142857143,27881.714285714286,27553.057142857142,27224.400000000001,26895.742857142857,null,null,null,29525,-2629.2571428571428,-8.9051893068827867E-2,28638.885714285716,228.79999999999927,null,{"$f":"IF(P36='Ggl. Korr.'!R36,0,1)","v":0}]
[{"$f":"Parameter!B34","v":"Neuenbürg"},{"$f":"'Ggl. Historie'!Y37","v":31966},{"$f":"'Ggl. Historie'!Z37","v":31129},{"$f":"'Ggl. Historie'!AA37","v":30513},{"$f":"'Ggl. Historie'!AB37","v":30092},{"$f":"'Ggl. Historie'!AC37","v":29662},{"$f":"SUMIF('Ggl. Korr.'!$B$5:$B$962,$A37,'Ggl. Korr.'!C$5:C$962)","v":-95},{"$f":"SUMIF('Ggl. Korr.'!$B$5:$B$962,$A37,'Ggl. Korr.'!D$5:D$962)","v":256},{"$f":"SUMIF('Ggl. Korr.'!$B$5:$B$962,$A37,'Ggl. Korr.'!E$5:E$962)","v":256},{"$f":"SUMIF('Ggl. Korr.'!$B$5:$B$962,$A37,'Ggl. Korr.'!F$5:F$962)","v":256},{"$f":"SUMIF('Ggl. Korr.'!$B$5:$B$962,$A37,'Ggl. Korr.'!G$5:G$962)","v":256},{"$f":"B37+G37","v":31871},{"$f":"C37+H37","v":31385},{"$f":"D37+I37","v":30769},{"$f":"E37+J37","v":30348},{"$f":"F37+K37","v":29918},{"$f":"IF((P37-'Ggl. Korr.'!R37)<>0,P37-'Ggl. Korr.'!R37,\"\")","v":""},1,2,3,4,5,null,{"$f":"IF(OR(W37=\"L\",W37=\"l\"),X$56/P$56*P37,(SUM(R37:V37)*(R37*L37+S37*M37*2+T37*N37*3+U37*O37*4+V37*P37*5)-(R37*L37+S37*M37+T37*N37+U37*O37+P37*V37)*(R37+2*S37+3*T37+4*U37+5*V37))/(SUM(R37:V37)*(R37+S37*4+T37*9+U37*16+V37*25)-POWER(R37+S37*2+T37*3+U37*4+V37*5,2)))","v":-481.14285714285717},29436.857142857141,28955.714285714286,28474.571428571428,27993.428571428572,27512.285714285714,27031.142857142855,26550,26068.857142857141,null,null,null,29918,{"$f":"AF37-AJ37","v":-3849.1428571428587},-0.12865642279373149,28986.82857142857,-31.114285714284051,null,{"$f":"IF(P37='Ggl. Korr.'!R37,0,1)","v":0}]
[{"$f":"Parameter!B35","v":"Neuenstadt a.K."},{"$f":"'Ggl. Historie'!Y38","v":31395},{"$f":"'Ggl. Historie'!Z38","v":31043},{"$f":"'Ggl. Historie'!AA38","v":30423},{"$f":"'Ggl. Historie'!AB38","v":30005},{"$f":"'Ggl. Historie'!AC38","v":29687},{"$f":"SUMIF('Ggl. Korr.'!$B$5:$B$962,$A38,'Ggl. Korr.'!C$5:C$962)","v":0},{"$f":"SUMIF('Ggl. Korr.'!$B$5:$B$962,$A38,'Ggl. Korr.'!D$5:D$962)","v":0},{"$f":"SUMIF('Ggl. Korr.'!$B$5:$B$962,$A38,'Ggl. Korr.'!E$5:E$962)","v":0},{"$f":"SUMIF('Ggl. Korr.'!$B$5:$B$962,$A38,'Ggl. Korr.'!F$5:F$962)","v":0},{"$f":"SUMIF('Ggl. Korr.'!$B$5:$B$962,$A38,'Ggl. Korr.'!G$5:G$962)","v":0},31395,31043,30423,30005,29687,{"$f":"IF((P38-'Ggl. Korr.'!R38)<>0,P38-'Ggl. Korr.'!R38,\"\")","v":""},1,2,3,4,5,null,-433.82857142857142,29253.17142857143,28819.342857142859,28385.514285714286,27951.685714285715,27517.857142857145,27084.028571428571,26650.2,26216.37142857143,null,null,null,29687,-3470.6285714285696,-0.11690735242458213,29502.6,-683.25714285713912,null,{"$f":"IF(P38='Ggl. Korr.'!R38,0,1)","v":0}]
[{"$f":"Parameter!B36","v":"Nürtingen"},{"$f":"'Ggl. Historie'!Y39","v":52446},{"$f":"'Ggl. Historie'!Z39","v":51719},{"$f":"'Ggl. Historie'!AA39","v":50855},{"$f":"'Ggl. Historie'!AB39","v":50073},{"$f":"'Ggl. Historie'!AC39","v":49531},{"$f":"SUMIF('Ggl. Korr.'!$B$5:$B$962,$A39,'Ggl. Korr.'!C$5:C$962)","v":0},{"$f":"SUMIF('Ggl. Korr.'!$B$5:$B$962,$A39,'Ggl. Korr.'!D$5:D$962)","v":0},{"$f":"SUMIF('Ggl. Korr.'!$B$5:$B$962,$A39,'Ggl. Korr.'!E$5:E$962)","v":0},{"$f":"SUMIF('Ggl. Korr.'!$B$5:$B$962,$A39,'Ggl. Korr.'!F$5:F$962)","v":0},{"$f":"SUMIF('Ggl. Korr.'!$B$5:$B$962,$A39,'Ggl. Korr.'!G$5:G$962)","v":0},52446,51719,50855,50073,49531,{"$f":"IF((P39-'Ggl. Korr.'!R39)<>0,P39-'Ggl. Korr.'!R39,\"\")","v":""},1,2,3,4,5,null,-728.2285714285714,48802.771428571432,48074.542857142857,47346.314285714281,46618.085714285713,45889.857142857145,45161.62857142857,44433.399999999994,43705.171428571426,null,null,null,49531,-5825.8285714285739,-0.11761984558011294,48572.028571428571,-497.48571428571449,null,{"$f":"IF(P39='Ggl. Korr.'!R39,0,1)","v":0}]
[{"$f":"Parameter!B37","v":"Öhringen"},{"$f":"'Ggl. Historie'!Y40","v":29280},{"$f":"'Ggl. Historie'!Z40","v":29039},{"$f":"'Ggl. Historie'!AA40","v":28719},{"$f":"'Ggl. Historie'!AB40","v":28461},{"$f":"'Ggl. Historie'!AC40","v":28213},{"$f":"SUMIF('Ggl. Korr.'!$B$5:$B$962,$A40,'Ggl. Korr.'!C$5:C$962)","v":0},{"$f":"SUMIF('Ggl. Korr.'!$B$5:$B$962,$A40,'Ggl. Korr.'!D$5:D$962)","v":0},{"$f":"SUMIF('Ggl. Korr.'!$B$5:$B$962,$A40,'Ggl. Korr.'!E$5:E$962)","v":0},{"$f":"SUMIF('Ggl. Korr.'!$B$5:$B$962,$A40,'Ggl. Korr.'!F$5:F$962)","v":0},{"$f":"SUMIF('Ggl. Korr.'!$B$5:$B$962,$A40,'Ggl. Korr.'!G$5:G$962)","v":0},29280,29039,28719,28461,28213,{"$f":"IF((P40-'Ggl. Korr.'!R40)<>0,P40-'Ggl. Korr.'!R40,\"\")","v":""},1,2,3,4,5,null,-269.14285714285717,27943.857142857141,27674.714285714286,27405.571428571428,27136.428571428572,26867.285714285714,26598.142857142855,26329,26059.857142857141,null,null,null,28213,-2153.1428571428587,-7.6317401805651955E-2,28190.742857142857,-516.02857142857101,null,{"$f":"IF(P40='Ggl. Korr.'!R40,0,1)","v":0}]
[{"$f":"Parameter!B38","v":"Ravensburg"},{"$f":"'Ggl. Historie'!Y41","v":62857},{"$f":"'Ggl. Historie'!Z41","v":62674},{"$f":"'Ggl. Historie'!AA41","v":62047},{"$f":"'Ggl. Historie'!AB41","v":61417},{"$f":"'Ggl. Historie'!AC41","v":60972},{"$f":"SUMIF('Ggl. Korr.'!$B$5:$B$962,$A41,'Ggl. Korr.'!C$5:C$962)","v":-1331},{"$f":"SUMIF('Ggl. Korr.'!$B$5:$B$962,$A41,'Ggl. Korr.'!D$5:D$962)","v":-1331},{"$f":"SUMIF('Ggl. Korr.'!$B$5:$B$962,$A41,'Ggl. Korr.'!E$5:E$962)","v":-1331},{"$f":"SUMIF('Ggl. Korr.'!$B$5:$B$962,$A41,'Ggl. Korr.'!F$5:F$962)","v":-1331},{"$f":"SUMIF('Ggl. Korr.'!$B$5:$B$962,$A41,'Ggl. Korr.'!G$5:G$962)","v":-1331},61526,61343,60716,60086,59641,{"$f":"IF((P41-'Ggl. Korr.'!R41)<>0,P41-'Ggl. Korr.'!R41,\"\")","v":""},1,2,3,4,5,null,-525.28571428571433,59115.714285714283,58590.428571428572,58065.142857142855,57539.857142857145,57014.571428571428,56489.28571428571,55964,{"$f":"IF(X41>0,P41+X41*(8-56/24),P41+8*X41)","v":55438.714285714283},null,null,null,59641,-4202.2857142857174,-7.0459678984016325E-2,59882.257142857139,-1291.8285714285666,null,{"$f":"IF(P41='Ggl. Korr.'!R41,0,1)","v":0}]
[{"$f":"Parameter!B39","v":"Reutlingen"},{"$f":"'Ggl. Historie'!Y42","v":70460},{"$f":"'Ggl. Historie'!Z42","v":69567},{"$f":"'Ggl. Historie'!AA42","v":68586},{"$f":"'Ggl. Historie'!AB42","v":67393},{"$f":"'Ggl. Historie'!AC42","v":66326},{"$f":"SUMIF('Ggl. Korr.'!$B$5:$B$962,$A42,'Ggl. Korr.'!C$5:C$962)","v":0},{"$f":"SUMIF('Ggl. Korr.'!$B$5:$B$962,$A42,'Ggl. Korr.'!D$5:D$962)","v":0},{"$f":"SUMIF('Ggl. Korr.'!$B$5:$B$962,$A42,'Ggl. Korr.'!E$5:E$962)","v":0},{"$f":"SUMIF('Ggl. Korr.'!$B$5:$B$962,$A42,'Ggl. Korr.'!F$5:F$962)","v":0},{"$f":"SUMIF('Ggl. Korr.'!$B$5:$B$962,$A42,'Ggl. Korr.'!G$5:G$962)","v":0},70460,69567,68586,67393,66326,{"$f":"IF((P42-'Ggl. Korr.'!R42)<>0,P42-'Ggl. Korr.'!R42,\"\")","v":""},1,2,3,4,5,null,-1068.2,65257.8,64189.599999999999,63121.4,62053.2,60985,59916.800000000003,58848.6,57780.4,null,null,null,66326,-8545.5999999999985,-0.12884238458523051,65044.171428571426,-854.57142857142753,null,{"$f":"IF(P42='Ggl. Korr.'!R42,0,1)","v":0}]
[{"$f":"Parameter!B40","v":"Schorndorf"},{"$f":"'Ggl. Historie'!Y43","v":56186},{"$f":"'Ggl. Historie'!Z43","v":55421},{"$f":"'Ggl. Historie'!AA43","v":54628},{"$f":"'Ggl. Historie'!AB43","v":53789},{"$f":"'Ggl. Historie'!AC43","v":52545},{"$f":"SUMIF('Ggl. Korr.'!$B$5:$B$962,$A43,'Ggl. Korr.'!C$5:C$962)","v":-384},{"$f":"SUMIF('Ggl. Korr.'!$B$5:$B$962,$A43,'Ggl. Korr.'!D$5:D$962)","v":-384},{"$f":"SUMIF('Ggl. Korr.'!$B$5:$B$962,$A43,'Ggl. Korr.'!E$5:E$962)","v":-384},{"$f":"SUMIF('Ggl. Korr.'!$B$5:$B$962,$A43,'Ggl. Korr.'!F$5:F$962)","v":-384},{"$f":"SUMIF('Ggl. Korr.'!$B$5:$B$962,$A43,'Ggl. Korr.'!G$5:G$962)","v":0},55802,55037,54244,53405,52545,{"$f":"IF((P43-'Ggl. Korr.'!R43)<>0,P43-'Ggl. Korr.'!R43,\"\")","v":""},1,2,3,4,5,null,-824.71428571428567,51720.285714285717,50895.571428571428,50070.857142857145,49246.142857142855,48421.428571428572,47596.71428571429,46772,45947.285714285717,null,null,null,52545,-6597.7142857142826,-0.12556312276552065,52595.914285714287,-1700.3428571428594,null,{"$f":"IF(P43='Ggl. Korr.'!R43,0,1)","v":0}]
[{"$f":"Parameter!B41","v":"Schwäbisch Gmünd"},{"$f":"'Ggl. Historie'!Y44","v":32449},{"$f":"'Ggl. Historie'!Z44","v":32103},{"$f":"'Ggl. Historie'!AA44","v":31729},{"$f":"'Ggl. Historie'!AB44","v":31408},{"$f":"'Ggl. Historie'!AC44","v":31235},{"$f":"SUMIF('Ggl. Korr.'!$B$5:$B$962,$A44,'Ggl. Korr.'!C$5:C$962)","v":0},{"$f":"SUMIF('Ggl. Korr.'!$B$5:$B$962,$A44,'Ggl. Korr.'!D$5:D$962)","v":0},{"$f":"SUMIF('Ggl. Korr.'!$B$5:$B$962,$A44,'Ggl. Korr.'!E$5:E$962)","v":0},{"$f":"SUMIF('Ggl. Korr.'!$B$5:$B$962,$A44,'Ggl. Korr.'!F$5:F$962)","v":0},{"$f":"SUMIF('Ggl. Korr.'!$B$5:$B$962,$A44,'Ggl. Korr.'!G$5:G$962)","v":0},32449,32103,31729,31408,31235,{"$f":"IF((P44-'Ggl. Korr.'!R44)<>0,P44-'Ggl. Korr.'!R44,\"\")","v":""},1,2,3,4,5,null,-295.2,30939.8,30644.6,30349.4,30054.2,29759,29463.800000000003,29168.600000000002,28873.4,null,null,null,31235,-2361.5999999999985,-7.5607491595966012E-2,29863.742857142857,780.8571428571413,null,{"$f":"IF(P44='Ggl. Korr.'!R44,0,1)","v":0}]
[{"$f":"Parameter!B42","v":"Schwäbisch Hall"},{"$f":"'Ggl. Historie'!Y45","v":37736},{"$f":"'Ggl. Historie'!Z45","v":37467},{"$f":"'Ggl. Historie'!AA45","v":37130},{"$f":"'Ggl. Historie'!AB45","v":36901},{"$f":"'Ggl. Historie'!AC45","v":36622},{"$f":"SUMIF('Ggl. Korr.'!$B$5:$B$962,$A45,'Ggl. Korr.'!C$5:C$962)","v":406},{"$f":"SUMIF('Ggl. Korr.'!$B$5:$B$962,$A45,'Ggl. Korr.'!D$5:D$962)","v":406},{"$f":"SUMIF('Ggl. Korr.'!$B$5:$B$962,$A45,'Ggl. Korr.'!E$5:E$962)","v":406},{"$f":"SUMIF('Ggl. Korr.'!$B$5:$B$962,$A45,'Ggl. Korr.'!F$5:F$962)","v":406},{"$f":"SUMIF('Ggl. Korr.'!$B$5:$B$962,$A45,'Ggl. Korr.'!G$5:G$962)","v":406},38142,37873,37536,37307,37028,{"$f":"IF((P45-'Ggl. Korr.'!R45)<>0,P45-'Ggl. Korr.'!R45,\"\")","v":""},1,2,3,4,5,null,-275.62857142857143,36752.37142857143,36476.742857142861,36201.114285714284,35925.485714285714,35649.857142857145,35374.228571428568,35098.6,34822.971428571429,null,null,null,37028,-2205.028571428571,-5.9550301702186753E-2,36303.285714285717,173.45714285714348,null,{"$f":"IF(P45='Ggl. Korr.'!R45,0,1)","v":0}]
[{"$f":"Parameter!B43","v":"Stuttgart"},{"$f":"'Ggl. Historie'!Y46","v":54088},{"$f":"'Ggl. Historie'!Z46","v":53580},{"$f":"'Ggl. Historie'!AA46","v":52663},{"$f":"'Ggl. Historie'!AB46","v":51960},{"$f":"'Ggl. Historie'!AC46","v":51350},{"$f":"SUMIF('Ggl. Korr.'!$B$5:$B$962,$A46,'Ggl. Korr.'!C$5:C$962)","v":0},{"$f":"SUMIF('Ggl. Korr.'!$B$5:$B$962,$A46,'Ggl. Korr.'!D$5:D$962)","v":0},{"$f":"SUMIF('Ggl. Korr.'!$B$5:$B$962,$A46,'Ggl. Korr.'!E$5:E$962)","v":0},{"$f":"SUMIF('Ggl. Korr.'!$B$5:$B$962,$A46,'Ggl. Korr.'!F$5:F$962)","v":0},{"$f":"SUMIF('Ggl. Korr.'!$B$5:$B$962,$A46,'Ggl. Korr.'!G$5:G$962)","v":0},54088,53580,52663,51960,51350,{"$f":"IF((P46-'Ggl. Korr.'!R46)<>0,P46-'Ggl. Korr.'!R46,\"\")","v":""},1,2,3,4,5,null,-709.17142857142858,50640.828571428574,49931.657142857141,49222.485714285714,48513.314285714281,47804.142857142855,47094.971428571429,46385.799999999996,45676.62857142857,null,null,null,51350,-5673.3714285714304,-0.11048435109194607,53505.142857142855,-3573.4857142857145,null,{"$f":"IF(P46='Ggl. Korr.'!R46,0,1)","v":0}]
[{"$f":"Parameter!B44","v":"Sulz/Neckar"},{"$f":"'Ggl. Historie'!Y47","v":36556},{"$f":"'Ggl. Historie'!Z47","v":36147},{"$f":"'Ggl. Historie'!AA47","v":35714},{"$f":"'Ggl. Historie'!AB47","v":35379},{"$f":"'Ggl. Historie'!AC47","v":34947},{"$f":"SUMIF('Ggl. Korr.'!$B$5:$B$962,$A47,'Ggl. Korr.'!C$5:C$962)","v":363},{"$f":"SUMIF('Ggl. Korr.'!$B$5:$B$962,$A47,'Ggl. Korr.'!D$5:D$962)","v":363},{"$f":"SUMIF('Ggl. Korr.'!$B$5:$B$962,$A47,'Ggl. Korr.'!E$5:E$962)","v":363},{"$f":"SUMIF('Ggl. Korr.'!$B$5:$B$962,$A47,'Ggl. Korr.'!F$5:F$962)","v":363},{"$f":"SUMIF('Ggl. Korr.'!$B$5:$B$962,$A47,'Ggl. Korr.'!G$5:G$962)","v":363},36919,36510,36077,35742,35310,{"$f":"IF((P47-'Ggl. Korr.'!R47)<>0,P47-'Ggl. Korr.'!R47,\"\")","v":""},1,2,3,4,5,null,-396.37142857142857,34913.62857142857,34517.257142857139,34120.885714285716,33724.514285714286,33328.142857142855,32931.771428571432,32535.4,32139.028571428571,null,null,null,35310,-3170.971428571429,-8.9803778775741402E-2,33861.828571428574,655.42857142856519,null,{"$f":"IF(P47='Ggl. Korr.'!R47,0,1)","v":0}]
[{"$f":"Parameter!B45","v":"Tübingen"},{"$f":"'Ggl. Historie'!Y48","v":86433},{"$f":"'Ggl. Historie'!Z48","v":85758},{"$f":"'Ggl. Historie'!AA48","v":84736},{"$f":"'Ggl. Historie'!AB48","v":83805},{"$f":"'Ggl. Historie'!AC48","v":82943},{"$f":"SUMIF('Ggl. Korr.'!$B$5:$B$962,$A48,'Ggl. Korr.'!C$5:C$962)","v":0},{"$f":"SUMIF('Ggl. Korr.'!$B$5:$B$962,$A48,'Ggl. Korr.'!D$5:D$962)","v":0},{"$f":"SUMIF('Ggl. Korr.'!$B$5:$B$962,$A48,'Ggl. Korr.'!E$5:E$962)","v":0},{"$f":"SUMIF('Ggl. Korr.'!$B$5:$B$962,$A48,'Ggl. Korr.'!F$5:F$962)","v":0},{"$f":"SUMIF('Ggl. Korr.'!$B$5:$B$962,$A48,'Ggl. Korr.'!G$5:G$962)","v":0},86433,85758,84736,83805,82943,{"$f":"IF((P48-'Ggl. Korr.'!R48)<>0,P48-'Ggl. Korr.'!R48,\"\")","v":""},1,2,3,4,5,null,-905.42857142857144,82037.571428571435,81132.142857142855,80226.71428571429,79321.28571428571,78415.857142857145,77510.42857142858,76605,75699.571428571435,null,null,null,82943,-7243.4285714285652,-8.7330197502243287E-2,86609.600000000006,-5477.4571428571508,null,{"$f":"IF(P48='Ggl. Korr.'!R48,0,1)","v":0}]
[{"$f":"Parameter!B46","v":"Tuttlingen"},{"$f":"'Ggl. Historie'!Y49","v":56101},{"$f":"'Ggl. Historie'!Z49","v":55462},{"$f":"'Ggl. Historie'!AA49","v":54527},{"$f":"'Ggl. Historie'!AB49","v":53725},{"$f":"'Ggl. Historie'!AC49","v":53122},{"$f":"SUMIF('Ggl. Korr.'!$B$5:$B$962,$A49,'Ggl. Korr.'!C$5:C$962)","v":0},{"$f":"SUMIF('Ggl. Korr.'!$B$5:$B$962,$A49,'Ggl. Korr.'!D$5:D$962)","v":0},{"$f":"SUMIF('Ggl. Korr.'!$B$5:$B$962,$A49,'Ggl. Korr.'!E$5:E$962)","v":0},{"$f":"SUMIF('Ggl. Korr.'!$B$5:$B$962,$A49,'Ggl. Korr.'!F$5:F$962)","v":0},{"$f":"SUMIF('Ggl. Korr.'!$B$5:$B$962,$A49,'Ggl. Korr.'!G$5:G$962)","v":0},56101,55462,54527,53725,53122,{"$f":"IF((P49-'Ggl. Korr.'!R49)<>0,P49-'Ggl. Korr.'!R49,\"\")","v":""},1,2,3,4,5,null,-760.71428571428567,52361.285714285717,51600.571428571428,50839.857142857145,50079.142857142855,49318.428571428572,48557.71428571429,47797,47036.285714285717,null,null,null,53122,-6085.7142857142826,-0.1145610911809473,51651.714285714283,-51.142857142855064,null,{"$f":"IF(P49='Ggl. Korr.'!R49,0,1)","v":0}]
[{"$f":"Parameter!B47","v":"Ulm"},{"$f":"'Ggl. Historie'!Y50","v":52398},{"$f":"'Ggl. Historie'!Z50","v":51836},{"$f":"'Ggl. Historie'!AA50","v":51216},{"$f":"'Ggl. Historie'!AB50","v":50465},{"$f":"'Ggl. Historie'!AC50","v":49942},{"$f":"SUMIF('Ggl. Korr.'!$B$5:$B$962,$A50,'Ggl. Korr.'!C$5:C$962)","v":0},{"$f":"SUMIF('Ggl. Korr.'!$B$5:$B$962,$A50,'Ggl. Korr.'!D$5:D$962)","v":0},{"$f":"SUMIF('Ggl. Korr.'!$B$5:$B$962,$A50,'Ggl. Korr.'!E$5:E$962)","v":0},{"$f":"SUMIF('Ggl. Korr.'!$B$5:$B$962,$A50,'Ggl. Korr.'!F$5:F$962)","v":0},{"$f":"SUMIF('Ggl. Korr.'!$B$5:$B$962,$A50,'Ggl. Korr.'!G$5:G$962)","v":0},52398,51836,51216,50465,49942,{"$f":"IF((P50-'Ggl. Korr.'!R50)<>0,P50-'Ggl. Korr.'!R50,\"\")","v":""},1,2,3,4,5,null,-630.57142857142856,49311.428571428572,48680.857142857145,48050.285714285717,47419.71428571429,46789.142857142855,46158.571428571428,45528,44897.428571428572,null,null,null,49942,-5044.5714285714275,-0.10100859854574161,49217.2,-536.34285714285215,null,{"$f":"IF(P50='Ggl. Korr.'!R50,0,1)","v":0}]
[{"$f":"Parameter!B48","v":"Vaihingen an der Enz"},{"$f":"'Ggl. Historie'!Y51","v":29330},{"$f":"'Ggl. Historie'!Z51","v":29117},{"$f":"'Ggl. Historie'!AA51","v":28755},{"$f":"'Ggl. Historie'!AB51","v":28214},{"$f":"'Ggl. Historie'!AC51","v":27759},{"$f":"SUMIF('Ggl. Korr.'!$B$5:$B$962,$A51,'Ggl. Korr.'!C$5:C$962)","v":0},{"$f":"SUMIF('Ggl. Korr.'!$B$5:$B$962,$A51,'Ggl. Korr.'!D$5:D$962)","v":0},{"$f":"SUMIF('Ggl. Korr.'!$B$5:$B$962,$A51,'Ggl. Korr.'!E$5:E$962)","v":0},{"$f":"SUMIF('Ggl. Korr.'!$B$5:$B$962,$A51,'Ggl. Korr.'!F$5:F$962)","v":0},{"$f":"SUMIF('Ggl. Korr.'!$B$5:$B$962,$A51,'Ggl. Korr.'!G$5:G$962)","v":0},29330,29117,28755,28214,27759,{"$f":"IF((P51-'Ggl. Korr.'!R51)<>0,P51-'Ggl. Korr.'!R51,\"\")","v":""},1,2,3,4,5,null,-432.91428571428571,27326.085714285713,26893.17142857143,26460.257142857143,26027.342857142859,25594.428571428572,25161.514285714286,24728.600000000002,24295.685714285715,null,null,null,27759,-3463.3142857142848,-0.12476365451616718,27419.142857142859,-525.97142857142899,null,{"$f":"IF(P51='Ggl. Korr.'!R51,0,1)","v":0}]
[{"$f":"Parameter!B49","v":"Waiblingen"},{"$f":"'Ggl. Historie'!Y52","v":71559},{"$f":"'Ggl. Historie'!Z52","v":70606},{"$f":"'Ggl. Historie'!AA52","v":69272},{"$f":"'Ggl. Historie'!AB52","v":68144},{"$f":"'Ggl. Historie'!AC52","v":67043},{"$f":"SUMIF('Ggl. Korr.'!$B$5:$B$962,$A52,'Ggl. Korr.'!C$5:C$962)","v":0},{"$f":"SUMIF('Ggl. Korr.'!$B$5:$B$962,$A52,'Ggl. Korr.'!D$5:D$962)","v":0},{"$f":"SUMIF('Ggl. Korr.'!$B$5:$B$962,$A52,'Ggl. Korr.'!E$5:E$962)","v":0},{"$f":"SUMIF('Ggl. Korr.'!$B$5:$B$962,$A52,'Ggl. Korr.'!F$5:F$962)","v":0},{"$f":"SUMIF('Ggl. Korr.'!$B$5:$B$962,$A52,'Ggl. Korr.'!G$5:G$962)","v":0},71559,70606,69272,68144,67043,{"$f":"IF((P52-'Ggl. Korr.'!R52)<>0,P52-'Ggl. Korr.'!R52,\"\")","v":""},1,2,3,4,5,null,-1153.2571428571428,65889.742857142861,64736.485714285714,63583.228571428568,62429.971428571429,61276.71428571429,60123.457142857143,58970.2,57816.942857142858,null,null,null,67043,-9226.057142857142,-0.1376140259662775,65696.371428571423,-959.88571428570867,null,{"$f":"IF(P52='Ggl. Korr.'!R52,0,1)","v":0}]
[{"$f":"Parameter!B50","v":"Weikersheim"},{"$f":"'Ggl. Historie'!Y53","v":18846},{"$f":"'Ggl. Historie'!Z53","v":18768},{"$f":"'Ggl. Historie'!AA53","v":18542},{"$f":"'Ggl. Historie'!AB53","v":18320},{"$f":"'Ggl. Historie'!AC53","v":18094},{"$f":"SUMIF('Ggl. Korr.'!$B$5:$B$962,$A53,'Ggl. Korr.'!C$5:C$962)","v":0},{"$f":"SUMIF('Ggl. Korr.'!$B$5:$B$962,$A53,'Ggl. Korr.'!D$5:D$962)","v":0},{"$f":"SUMIF('Ggl. Korr.'!$B$5:$B$962,$A53,'Ggl. Korr.'!E$5:E$962)","v":0},{"$f":"SUMIF('Ggl. Korr.'!$B$5:$B$962,$A53,'Ggl. Korr.'!F$5:F$962)","v":0},{"$f":"SUMIF('Ggl. Korr.'!$B$5:$B$962,$A53,'Ggl. Korr.'!G$5:G$962)","v":0},18846,18768,18542,18320,18094,{"$f":"IF((P53-'Ggl. Korr.'!R53)<>0,P53-'Ggl. Korr.'!R53,\"\")","v":""},1,2,3,4,5,null,-207.71428571428572,17886.285714285714,17678.571428571428,17470.857142857141,17263.142857142855,17055.428571428572,16847.714285714286,16640,16432.285714285714,null,null,null,18094,-1661.7142857142862,-9.1837862590598326E-2,18099.857142857141,-421.28571428571377,null,{"$f":"IF(P53='Ggl. Korr.'!R53,0,1)","v":0}]
[{"$f":"Parameter!B51","v":"Weinsberg"},{"$f":"'Ggl. Historie'!Y54","v":29794},{"$f":"'Ggl. Historie'!Z54","v":29449},{"$f":"'Ggl. Historie'!AA54","v":28985},{"$f":"'Ggl. Historie'!AB54","v":28653},{"$f":"'Ggl. Historie'!AC54","v":28404},{"$f":"SUMIF('Ggl. Korr.'!$B$5:$B$962,$A54,'Ggl. Korr.'!C$5:C$962)","v":-51},{"$f":"SUMIF('Ggl. Korr.'!$B$5:$B$962,$A54,'Ggl. Korr.'!D$5:D$962)","v":0},{"$f":"SUMIF('Ggl. Korr.'!$B$5:$B$962,$A54,'Ggl. Korr.'!E$5:E$962)","v":0},{"$f":"SUMIF('Ggl. Korr.'!$B$5:$B$962,$A54,'Ggl. Korr.'!F$5:F$962)","v":0},{"$f":"SUMIF('Ggl. Korr.'!$B$5:$B$962,$A54,'Ggl. Korr.'!G$5:G$962)","v":0},29743,29449,28985,28653,28404,{"$f":"IF((P54-'Ggl. Korr.'!R54)<>0,P54-'Ggl. Korr.'!R54,\"\")","v":""},1,2,3,4,5,null,-337.8857142857143,28066.114285714284,27728.228571428572,27390.342857142859,27052.457142857143,26714.571428571428,26376.685714285715,26038.800000000003,25700.914285714287,null,null,null,28404,-2703.085714285713,-9.5165670831070026E-2,27460.62857142857,267.60000000000218,null,{"$f":"IF(P54='Ggl. Korr.'!R54,0,1)","v":0}]
[{"$f":"Parameter!B52","v":"Zuffenhausen"},{"$f":"'Ggl. Historie'!Y55","v":30537},{"$f":"'Ggl. Historie'!Z55","v":30000},{"$f":"'Ggl. Historie'!AA55","v":29254},{"$f":"'Ggl. Historie'!AB55","v":28567},{"$f":"'Ggl. Historie'!AC55","v":27867},{"$f":"SUMIF('Ggl. Korr.'!$B$5:$B$962,$A55,'Ggl. Korr.'!C$5:C$962)","v":0},{"$f":"SUMIF('Ggl. Korr.'!$B$5:$B$962,$A55,'Ggl. Korr.'!D$5:D$962)","v":0},{"$f":"SUMIF('Ggl. Korr.'!$B$5:$B$962,$A55,'Ggl. Korr.'!E$5:E$962)","v":0},{"$f":"SUMIF('Ggl. Korr.'!$B$5:$B$962,$A55,'Ggl. Korr.'!F$5:F$962)","v":0},{"$f":"SUMIF('Ggl. Korr.'!$B$5:$B$962,$A55,'Ggl. Korr.'!G$5:G$962)","v":0},30537,30000,29254,28567,27867,{"$f":"IF((P55-'Ggl. Korr.'!R55)<>0,P55-'Ggl. Korr.'!R55,\"\")","v":""},1,2,3,4,5,null,-688.74285714285713,27178.257142857143,26489.514285714286,25800.771428571428,25112.028571428571,24423.285714285714,23734.542857142857,23045.8,22357.057142857142,null,null,null,27867,-5509.942857142858,-0.19772285704032935,26965.82857142857,-476.31428571428478,null,{"$f":"IF(P55='Ggl. Korr.'!R55,0,1)","v":0}]
["Landeskirche",{"$f":"SUM(B5:B55)","v":2170345},{"$f":"SUM(C5:C55)","v":2144920},{"$f":"SUM(D5:D55)","v":2112033},{"$f":"SUM(E5:E55)","v":2081337},{"$f":"SUM(F5:F55)","v":2054505},{"$f":"SUMIF('Ggl. Korr.'!$B$5:$B$962,$A56,'Ggl. Korr.'!C$5:C$962)","v":0},{"$f":"SUMIF('Ggl. Korr.'!$B$5:$B$962,$A56,'Ggl. Korr.'!D$5:D$962)","v":0},{"$f":"SUMIF('Ggl. Korr.'!$B$5:$B$962,$A56,'Ggl. Korr.'!E$5:E$962)","v":0},{"$f":"SUMIF('Ggl. Korr.'!$B$5:$B$962,$A56,'Ggl. Korr.'!F$5:F$962)","v":0},{"$f":"SUMIF('Ggl. Korr.'!$B$5:$B$962,$A56,'Ggl. Korr.'!G$5:G$962)","v":0},{"$f":"SUM(L5:L55)","v":2167988},2143086,2110199,2079503,2052671,{"$f":"IF((P56-'Ggl. Korr.'!R56)<>0,P56-'Ggl. Korr.'!R56,\"\")","v":2052671},1,2,3,4,5,null,{"$f":"(SUM(R56:V56)*(R56*L56+S56*M56*2+T56*N56*3+U56*O56*4+V56*P56*5)-(R56*L56+S56*M56+T56*N56+U56*O56+P56*V56)*(R56+2*S56+3*T56+4*U56+5*V56))/(SUM(R56:V56)*(R56+S56*4+T56*9+U56*16+V56*25)-POWER(R56+S56*2+T56*3+U56*4+V56*5,2))","v":-29493.228571428572},{"$f":"$P56+($AF56-$P56)/8","v":2023177.7714285715},{"$f":"$P56+2*($AF56-$P56)/8","v":1993684.5428571429},{"$f":"$P56+3*($AF56-$P56)/8","v":1964191.3142857142},{"$f":"$P56+4*($AF56-$P56)/8","v":1934698.0857142857},{"$f":"$P56+5*($AF56-$P56)/8","v":1905204.8571428573},{"$f":"$P56+6*($AF56-$P56)/8","v":1875711.6285714286},{"$f":"$P56+7*($AF56-$P56)/8","v":1846218.4},1816725.1714285715,null,null,null,{"$f":"SUM(AJ5:AJ55)","v":2052671},{"$f":"SUM(AK5:AK55)","v":-235945.82857142857},-0.11494576021750616,{"$f":"SUM(AM5:AM55)","v":2016768.4000000001},{"$f":"SUM(AN5:AN55)","v":-23083.857142857145}]
[]
["Testzeile:",null,null,null,null,null,null,null,null,null,null,5,9,15,23,32,null,1,1,1,1,1,null,{"$f":"(SUM(R58:V58)*(R58*L58+S58*M58*2+T58*N58*3+U58*O58*4+V58*P58*5)-(R58*L58+S58*M58+T58*N58+U58*O58+P58*V58)*(R58+2*S58+3*T58+4*U58+5*V58))/(SUM(R58:V58)*(R58+S58*4+T58*9+U58*16+V58*25)-POWER(R58+S58*2+T58*3+U58*4+V58*5,2))","v":6.8},null,null,null,null,null,null,null,{"$f":"P58+7*X58","v":79.599999999999994}]

{"sheet":"Ggl. Grafik","index":6,"n_rows":113,"n_cols":44,"rows_kept":113,"cut":false,"hidden":false,"merged":[[122,1,122,2]]}
[null,null,null,{"$f":"A48","v":"Aalen"}]
["Auswahl:"]
[]
[]
[]
[]
[]
[]
[]
[]
[]
[]
[]
[]
[]
[]
[]
[]
[]
[]
[]
[]
[]
[]
[]
[null,null,null,null,null,null,null,{"$f":"\"Prognostizierte Veränderung der Zahl der Gemeindeglieder zwischen \"&Parameter!A8&\" und \"&Parameter!A2&\":\"","v":"Prognostizierte Veränderung der Zahl der Gemeindeglieder zwischen 2016 und 2024:"},null,null,null,null,null,null,null,null,null,null,null,{"$f":"VLOOKUP(A48,Gemeindeglieder1,38)","v":-0.10121298118734832}]
[null,null,null,null,null,null,null,{"$f":"\"Prognostizierte Veränderung der Zahl der Gemeindeglieder zwischen \"&Parameter!A8&\" und \"&Parameter!A2&\" pro Jahr:\"","v":"Prognostizierte Veränderung der Zahl der Gemeindeglieder zwischen 2016 und 2024 pro Jahr:"},null,null,null,null,null,null,null,null,null,null,null,{"$f":"VLOOKUP(A48,Gemeindeglieder1,38)/8","v":-1.2651622648418541E-2}]
[]
[]
[]
[]
[]
[]
[]
[]
[]
[]
[]
[]
[]
[]
[]
[]
[null,null,null,null,"Daten aus Tabelle Ggl. Historie",null,null,null,null,null,null,null,null,null,null,null,null,null,null,"Daten aus Tabelle Ggl. Prognose (Datengrundlage für Prognose)"]
[null,null,null,null,1997,{"$f":"E45+1","v":1998},{"$f":"F45+1","v":1999},2000,2001,2002,2003,2004,2005,2006,2007,2008,2009,2010,2011,2012,2013,2014,2015,2016,2017,2018,2019,2020,2021,2022,2023,2024,2025,2026,2027,2028,2029,2030,2031,2032,2033,2034,2035,2036]
[null,null,null,null,{"$f":"VLOOKUP($A$48,Gemeindeglieder,E45-1987)","v":42787},42141,42863,42743,42850,42882,42826,42706,42654,42399,41541,41203,40925,40430,40086,{"$f":"VLOOKUP($A$48,Gemeindeglieder1,R45-1998)","v":39317},{"$f":"VLOOKUP($A$48,Gemeindeglieder1,S45-1998)","v":38880},{"$f":"VLOOKUP($A$48,Gemeindeglieder1,T45-1998)","v":38380},{"$f":"VLOOKUP($A$48,Gemeindeglieder1,U45-1998)","v":37852},{"$f":"VLOOKUP($A$48,Gemeindeglieder1,V45-1998)","v":37452},{"$error":"#N/A"},{"$error":"#N/A"},{"$error":"#N/A"},{"$error":"#N/A"},{"$error":"#N/A"},{"$error":"#N/A"},{"$error":"#N/A"},{"$error":"#N/A"},{"$error":"#N/A"},{"$error":"#N/A"},{"$error":"#N/A"},{"$error":"#N/A"},{"$error":"#N/A"},{"$error":"#N/A"},{"$error":"#N/A"},{"$error":"#N/A"},{"$error":"#N/A"},{"$error":"#N/A"},{"$error":"#N/A"},{"$error":"#N/A"}]
[null,null,null,null,{"$error":"#N/A"},{"$error":"#N/A"},{"$error":"#N/A"},{"$error":"#N/A"},{"$error":"#N/A"},{"$error":"#N/A"},{"$error":"#N/A"},{"$error":"#N/A"},{"$error":"#N/A"},{"$error":"#N/A"},{"$error":"#N/A"},{"$error":"#N/A"},{"$error":"#N/A"},{"$error":"#N/A"},{"$error":"#N/A"},{"$error":"#N/A"},{"$error":"#N/A"},{"$error":"#N/A"},{"$error":"#N/A"},{"$error":"#N/A"},{"$f":"VLOOKUP($A$48,Gemeindeglieder1,Y45-1992)","v":36978.171428571426},36504.342857142859,36030.514285714286,35556.685714285719,35082.857142857145,34609.028571428571,34135.200000000004,33661.37142857143,{"$error":"#N/A"},{"$error":"#N/A"},{"$error":"#N/A"},{"$error":"#N/A"},{"$error":"#N/A"},{"$error":"#N/A"},{"$error":"#N/A"},{"$error":"#N/A"},{"$error":"#N/A"},{"$error":"#N/A"},{"$error":"#N/A"},{"$error":"#N/A"}]
["Aalen",null,null,null,{"$error":"#N/A"},{"$error":"#N/A"},{"$error":"#N/A"},{"$error":"#N/A"},{"$error":"#N/A"},{"$error":"#N/A"},{"$error":"#N/A"},{"$error":"#N/A"},{"$error":"#N/A"},{"$error":"#N/A"},{"$error":"#N/A"},{"$error":"#N/A"},{"$error":"#N/A"},{"$error":"#N/A"},{"$error":"#N/A"},{"$error":"#N/A"},{"$error":"#N/A"},{"$error":"#N/A"},{"$error":"#N/A"},{"$error":"#N/A"},{"$error":"#N/A"},{"$f":"VLOOKUP($A$48,Gemeindeglieder1,Z45-1979)","v":36942.342857142859},{"$error":"#N/A"},{"$error":"#N/A"},{"$error":"#N/A"},{"$error":"#N/A"},{"$error":"#N/A"},{"$error":"#N/A"},{"$error":"#N/A"},{"$error":"#N/A"},{"$error":"#N/A"},{"$error":"#N/A"},{"$error":"#N/A"},{"$error":"#N/A"},{"$error":"#N/A"},{"$error":"#N/A"},{"$error":"#N/A"},{"$error":"#N/A"},{"$error":"#N/A"},{"$error":"#N/A"}]
[]
[]
[]
[]
[]
[]
[]
[]
[]
[]
[]
[]
[]
[{"$f":"Parameter!B2","v":"Aalen"}]
[{"$f":"Parameter!B3","v":"Backnang"}]
[{"$f":"Parameter!B4","v":"Bad Cannstatt"}]
[{"$f":"Parameter!B5","v":"Bad Urach-Münsingen"}]
[{"$f":"Parameter!B6","v":"Balingen"}]
[{"$f":"Parameter!B7","v":"Bernhausen"}]
[{"$f":"Parameter!B8","v":"Besigheim"}]
[{"$f":"Parameter!B9","v":"Biberach"}]
[{"$f":"Parameter!B10","v":"Blaubeuren"}]
[{"$f":"Parameter!B11","v":"Blaufelden"}]
[{"$f":"Parameter!B12","v":"Böblingen"}]
[{"$f":"Parameter!B13","v":"Brackenheim"}]
[{"$f":"Parameter!B14","v":"Calw"}]
[{"$f":"Parameter!B15","v":"Crailsheim"}]
[{"$f":"Parameter!B16","v":"Degerloch"}]
[{"$f":"Parameter!B17","v":"Ditzingen"}]
[{"$f":"Parameter!B18","v":"Esslingen"}]
[{"$f":"Parameter!B19","v":"Freudenstadt"}]
[{"$f":"Parameter!B20","v":"Gaildorf"}]
[{"$f":"Parameter!B21","v":"Geislingen a.d. Steige"}]
[{"$f":"Parameter!B22","v":"Göppingen"}]
[{"$f":"Parameter!B23","v":"Heidenheim"}]
[{"$f":"Parameter!B24","v":"Heilbronn"}]
[{"$f":"Parameter!B25","v":"Herrenberg"}]
[{"$f":"Parameter!B26","v":"Kirchheim unter Teck"}]
[{"$f":"Parameter!B27","v":"Künzelsau"}]
[{"$f":"Parameter!B28","v":"Leonberg"}]
[{"$f":"Parameter!B29","v":"Ludwigsburg"}]
[{"$f":"Parameter!B30","v":"Marbach a.N."}]
[{"$f":"Parameter!B31","v":"Mühlacker"}]
[{"$f":"Parameter!B32","v":"Münsingen (siehe Bad Urach-Münsigen)"}]
[{"$f":"Parameter!B33","v":"Nagold"}]
[{"$f":"Parameter!B34","v":"Neuenbürg"}]
[{"$f":"Parameter!B35","v":"Neuenstadt a.K."}]
[{"$f":"Parameter!B36","v":"Nürtingen"}]
[{"$f":"Parameter!B37","v":"Öhringen"}]
[{"$f":"Parameter!B38","v":"Ravensburg"}]
[{"$f":"Parameter!B39","v":"Reutlingen"}]
[{"$f":"Parameter!B40","v":"Schorndorf"}]
[{"$f":"Parameter!B41","v":"Schwäbisch Gmünd"}]
[{"$f":"Parameter!B42","v":"Schwäbisch Hall"}]
[{"$f":"Parameter!B43","v":"Stuttgart"}]
[{"$f":"Parameter!B44","v":"Sulz/Neckar"}]
[{"$f":"Parameter!B45","v":"Tübingen"}]
[{"$f":"Parameter!B46","v":"Tuttlingen"}]
[{"$f":"Parameter!B47","v":"Ulm"}]
[{"$f":"Parameter!B48","v":"Vaihingen an der Enz"}]
[{"$f":"Parameter!B49","v":"Waiblingen"}]
[{"$f":"Parameter!B50","v":"Weikersheim"}]
[{"$f":"Parameter!B51","v":"Weinsberg"}]
[{"$f":"Parameter!B52","v":"Zuffenhausen"}]
[{"$f":"'Ggl. Historie'!A56","v":"zz Landeskirche"}]

{"sheet":"KG Korr.","index":7,"n_rows":222,"n_cols":22,"rows_kept":222,"cut":false,"hidden":false,"merged":[]}
["Verwaltung und Rückrechnung der verzögerten Auswirkung von Fusionen. "]
["Fusionen ab 1.1.2011 sollen erst \"verzögert\" für den \"übernächsten\" PfarrPlan wirksam werden"]
[null,"Die Daten hier werden auf das Tabellenblatt \"KG akt.\" übernommen"]
[]
[{"$f":"SUM(A7:A2966)","v":82},null,null,null,null,null,{"$f":"SUM(G7:G240)","v":0},null,null,null,null,null,{"$f":"SUM(M7:M2960)","v":12},"Noch nicht (bzw. nicht mehr) relevant für den PfarrPlan 2024, sondern erst für den PfarrPlan 2030"]
["Entfallene Kirchengemeinden","Fortlaufende Nummer","KG (neue [oder erhalten bleibende] KG in der ersten Zeile)","KB/Dekanat (muss in zweite Spalte, nach \"KG\", damit Auswertung richtig funktioniert)","Zum Nachvollziehen: Rückrechnung in der Anzahl der Kirchengemeinden","Rückrechnung in der gewichteten Zahl der Kirchengemeinden","Rückrechnung/Korrektur sonstige Gemeindeglieder","Stand Ggl. (Datum)","Datum der Fusion",null,null,null,"Entfallene Kirchengemeinden","Fortlaufende Nummer","KG (neue [oder erhalten bleibende] KG in der ersten Zeile)","KB/Dekanat (muss in zweite Spalte, nach \"KG\", damit Auswertung richtig funktioniert)","Zum Nachvollziehen: Rückrechnung in der Anzahl der Kirchengemeinden","Rückrechnung in der gewichteten Zahl der Kirchengemeinden","Rückrechnung/Korrektur sonstige Gemeindeglieder","Stand Ggl. (Datum)","Datum der Fusion","Eintrag PO?"]
[{"$f":"IF(D7=\"\",0,IF(B7<>0,0,IF(#REF!<>0,0,1)))","v":0},2,"Großerlach/Grab","Backnang",{"$f":"IF(B7<>\"\",-1,1)","v":-1},{"$f":"IF(ABS(G7)<400,0.5,IF(ABS(G7)<2801,1,IF(ABS(G7)<5601,1.5,IF(ABS(G7)<8401,2,IF(ABS(G7)<11201,2.5,1000)))))*(IF(G7<0,-1,1))","v":-1},-1361,"2010-12-31","2011-01-01",null,null,null,{"$f":"IF(P7=\"\",0,IF(N7<>0,0,IF(N6<>0,0,1)))","v":0},101,"Manzen-Ursenwang-Schlat","Göppingen",{"$f":"IF(N7<>\"\",-1,1)","v":-1},{"$f":"IF(ABS(S7)<400,0.5,IF(ABS(S7)<2801,1,IF(ABS(S7)<5601,1.5,IF(ABS(S7)<8401,2,IF(ABS(S7)<11201,2.5,1000)))))*(IF(S7<0,-1,1))","v":-1},{"$f":"-SUM(S8:S9)","v":-2136},"2015-12-31","2017-01-01","ok"]
[{"$f":"IF(D8=\"\",0,IF(B8<>0,0,IF(B7<>0,0,1)))","v":0},null,"Großerlach","Backnang",{"$f":"IF(B8<>\"\",-1,1)","v":1},1,869,"2010-12-31",null,null,null,null,0,null,"Schlat","Göppingen",1,{"$f":"IF(ABS(S8)<400,0.5,IF(ABS(S8)<2801,1,IF(ABS(S8)<5601,1.5,IF(ABS(S8)<8401,2,IF(ABS(S8)<11201,2.5,1000)))))*(IF(S8<0,-1,1))","v":1},910,"2015-12-31"]
[1,null,"Grab","Backnang",1,1,492,"2010-12-31",null,null,null,null,1,null,"Manzen-Ursenwang","Göppingen",1,{"$f":"IF(ABS(S9)<400,0.5,IF(ABS(S9)<2801,1,IF(ABS(S9)<5601,1.5,IF(ABS(S9)<8401,2,IF(ABS(S9)<11201,2.5,1000)))))*(IF(S9<0,-1,1))","v":1},1226,"2015-12-31"]
[0,3,"Besigheim ","Besigheim",-1,-1.5,-5270,"2010-12-31","2011-01-01",null,null,null,0,102,"Großbottwar","Marbach a.N.",-1,{"$f":"IF(ABS(S10)<400,0.5,IF(ABS(S10)<2801,1,IF(ABS(S10)<5601,1.5,IF(ABS(S10)<8401,2,IF(ABS(S10)<11201,2.5,1000)))))*(IF(S10<0,-1,1))","v":-1.5},{"$f":"-SUM(S11:S12)","v":-4051},"2015-12-31","2017-01-01","ok"]
[0,null,"Ottmarsheim","Besigheim",1,1,1020,"2010-12-31",null,null,null,null,0,null,"Großbottwar","Marbach a.N.",1,1.5,3351,"2015-12-31"]
[1,null,"Besigheim ","Besigheim",1,1.5,4250,"2010-12-31",null,null,null,null,1,null,"Winzerhausen","Marbach a.N.",1,1,700,"2015-12-31"]
[0,4,"Böckingen","Heilbronn",-1,-2,-8227,"2010-12-31","2011-01-01",null,null,null,0,103,"Schopfloch-Gutenberg","Kirchheim unter Teck",-1,-1,{"$f":"-SUM(S14:S15)","v":-914},"2015-12-31","2017-01-01","ok"]
[0,null,"Böckingen Stadtkirchengemeinde","Heilbronn",1,1.5,3613,"2010-12-31",null,null,null,null,0,null,"Schopfloch","Kirchheim unter Teck",1,1,400,"2015-12-31"]
[1,null,"Böckingen Auferstehungskirchengemeinde","Heilbronn",1,1.5,4614,"2010-12-31",null,null,null,null,1,null,"Gutenberg","Kirchheim unter Teck",1,1,514,"2015-12-31"]
[0,5,"Untermünkheim","Schwäbisch Hall",-1,-1,-1878,"2010-12-31","2011-01-01",null,null,null,0,104,"Gammesfeld-Hausen-Buch","Blaufelden",-1,-1,{"$f":"-SUM(S17:S19)","v":-708},"2015-12-31","2017-01-01","ok"]
[0,null,"Untermünkheim","Schwäbisch Hall",1,1,960,"2010-12-31",null,null,null,null,0,null,"Gammesfeld","Blaufelden",1,{"$f":"IF(ABS(S17)<400,0.5,IF(ABS(S17)<2801,1,IF(ABS(S17)<5601,1.5,IF(ABS(S17)<8401,2,IF(ABS(S17)<11201,2.5,1000)))))*(IF(S17<0,-1,1))","v":1},402,"2015-12-31"]
[1,null,"Enslingen","Schwäbisch Hall",1,1,564,"2010-12-31",null,null,null,null,{"$f":"IF(P18=\"\",0,IF(N18<>0,0,IF(N17<>0,0,1)))","v":1},null,"Hausen","Blaufelden",1,0.5,246,"2015-12-31"]
[1,null,"Ubrigshausen","Schwäbisch Hall",1,0.5,354,"2010-12-31",null,null,null,null,{"$f":"IF(P19=\"\",0,IF(N19<>0,0,IF(N18<>0,0,1)))","v":1},null,"Buch","Blaufelden",1,0.5,60,"2015-12-31"]
[0,6,"Döttingen-Steinkirchen","Schwäbisch Hall",-1,-0.5,-372,"2010-12-31","2011-01-01",null,null,null,{"$f":"IF(P20=\"\",0,IF(N20<>0,0,IF(N19<>0,0,1)))","v":0},105,"Sulzbach-Laufen","Gaildorf",-1,{"$f":"IF(ABS(S20)<400,0.5,IF(ABS(S20)<2801,1,IF(ABS(S20)<5601,1.5,IF(ABS(S20)<8401,2,IF(ABS(S20)<11201,2.5,1000)))))*(IF(S20<0,-1,1))","v":-1},{"$f":"-SUM(S21:S22)","v":-1612},"2015-12-31","2017-01-01","ok"]
[0,null,"Döttingen","Schwäbisch Hall",1,0.5,154,"2010-12-31",null,null,null,null,0,null,"Sulzbach am Kocher","Gaildorf",1,1,975,"2015-12-31"]
[1,null,"Steinkirchen","Schwäbisch Hall",1,0.5,218,"2010-12-31",null,null,null,null,1,null,"Laufen am Kocher","Gaildorf",1,1,637,"2015-12-31"]
[0,7,"Orlach-Jungholzhausen","Schwäbisch Hall",-1,-0.5,-363,"2010-12-31","2011-01-01",null,null,null,0,106,"Pfullingen","Reutlingen",-1,-2,{"$f":"-SUM(S24:S26)","v":-8146},"2015-12-31","2017-01-01","ok"]
[0,null,"Orlach","Schwäbisch Hall",1,0.5,239,"2010-12-31",null,null,null,null,0,null,"Pfullingen Martinskirchengemeinde","Reutlingen",1,1.5,4782,"2015-12-31"]
[1,null,"Jungholzhausen","Schwäbisch Hall",1,0.5,124,"2010-12-31",null,null,null,null,{"$f":"IF(P25=\"\",0,IF(N25<>0,0,IF(N24<>0,0,1)))","v":1},null,"Pfullingen Magdalenenkirchengemeinde","Reutlingen",1,{"$f":"IF(ABS(S25)<400,0.5,IF(ABS(S25)<2801,1,IF(ABS(S25)<5601,1.5,IF(ABS(S25)<8401,2,IF(ABS(S25)<11201,2.5,1000)))))*(IF(S25<0,-1,1))","v":1},1461,"2015-12-31"]
[0,8,"Lonsee-Halzhausen-Luizhausen","Ulm",-1,-1,-1419,"2010-12-31","2011-01-01",null,null,null,{"$f":"IF(P26=\"\",0,IF(N26<>0,0,IF(N24<>0,0,1)))","v":1},null,"Pfullingen Thomaskirchengemeinde","Reutlingen",1,1,1903,"2015-12-31"]
[0,null,"Lonsee","Ulm",1,1,1220,"2010-12-31",null,null,null,null,0,107,"Maisenbach Petruskirchengemeine","Calw",-1,-1,{"$f":"-SUM(S28:S30)","v":-802},"2015-12-31","2017-01-01","ok"]
[1,null,"Luizhausen","Ulm",1,0.5,199,"2010-12-31",null,null,null,null,0,null,"Maisenbach","Calw",1,0.5,335,"2015-12-31"]
[0,9,"Bad Cannstatt Lutherkirchengemeinde","Bad Cannstatt",-1,-1.5,-3206,"2010-12-31","2012-01-01",null,null,null,{"$f":"IF(P29=\"\",0,IF(N29<>0,0,IF(N28<>0,0,1)))","v":1},null,"Beinberg","Calw",1,{"$f":"IF(ABS(S29)<400,0.5,IF(ABS(S29)<2801,1,IF(ABS(S29)<5601,1.5,IF(ABS(S29)<8401,2,IF(ABS(S29)<11201,2.5,1000)))))*(IF(S29<0,-1,1))","v":0.5},269,"2015-12-31"]
[0,null,"Bad Cannstatt Lutherkirchengemeinde","Bad Cannstatt",1,1.5,2930,"2010-12-31",null,null,null,null,{"$f":"IF(P30=\"\",0,IF(N30<>0,0,IF(N28<>0,0,1)))","v":1},null,"Unterlegenhardt","Calw",1,0.5,198,"2015-12-31"]
[1,null,"Bad Cannstatt Blumhardtkirchengemeinde","Bad Cannstatt",1,0.5,276,"2010-12-31",null,null,null,null,0,108,"Schwann-Dennach","Neuenbürg",-1,-1,{"$f":"-SUM(S32:S33)","v":-1697},"2015-12-31","2017-01-01","ok"]
[0,10,"Rotfelden-Wenden","Nagold",-1,-1,-872,"2010-12-31","2012-01-01",null,null,null,0,null,"Schwann","Neuenbürg",1,1,1333,"2015-12-31"]
[0,null,"Rotfelden","Nagold",1,1,711,"2010-12-31",null,null,null,null,1,null,"Dennach","Neuenbürg",1,0.5,364,"2015-12-31"]
[1,null,"Wenden","Nagold",1,0.5,161,"2010-12-31",null,null,null,null,0,109,"Langenburg","Blaufelden",-1,-1,{"$f":"-SUM(S35:S37)","v":-1153},"2015-12-31","2017-01-01","ok"]
[0,11,"Schöntal","Künzelsau",-1,-1,-700,"2010-12-31","2012-01-01",null,null,null,null,null,"Langenburg","Blaufelden",1,{"$f":"IF(ABS(S35)<400,0.5,IF(ABS(S35)<2801,1,IF(ABS(S35)<5601,1.5,IF(ABS(S35)<8401,2,IF(ABS(S35)<11201,2.5,1000)))))*(IF(S35<0,-1,1))","v":1},793,"2015-12-31"]
[0,null,"Schöntal","Künzelsau",1,1,525,"2010-12-31",null,null,null,null,{"$f":"IF(P36=\"\",0,IF(N36<>0,0,IF(N34<>0,0,1)))","v":0},null,"Bächlingen","Blaufelden",1,0.5,209,"2015-12-31"]
[1,null,"Rossach","Künzelsau",1,0.5,175,"2010-12-31",null,null,null,null,1,null,"Unterregenbach","Blaufelden",1,0.5,151,"2015-12-31"]
[0,12,"Christuskirchengemeinde im Täle","Geislingen a.d. Steige",-1,-1,-2001,"2010-12-31","2012-01-01",null,null,null,0,110,null,null,-1,0.5,{"$f":"-SUM(S39:S40)","v":0}]
[0,null,"Deggingen-Bad Ditzenbach","Geislingen a.d. Steige",1,{"$f":"IF(ABS(G39)<400,0.5,IF(ABS(G39)<2801,1,IF(ABS(G39)<5601,1.5,IF(ABS(G39)<8401,2,IF(ABS(G39)<11201,2.5,1000)))))*(IF(G39<0,-1,1))","v":1},1644,"2010-12-31",null,null,null,null,0,null,"Achtung, falls relevant, in PO § 30 Abs. 3 PfG entfernen.",null,1,0.5]
[1,null,"Auendorf","Geislingen a.d. Steige",1,0.5,357,"2010-12-31",null,null,null,null,0,null,"Eintrag bei \"Errichtet für\" löschen",null,1,0.5]
[0,13,"Walddorfhäslach","Tübingen",-1,-1,-2785,"2010-12-31","2012-01-01"]
[0,null,"Walddorf","Tübingen",1,1,1894,"2010-12-31"]
[1,null,"Häslach","Tübingen",1,1,891,"2010-12-31"]
[0,14,"Wendlingen am Neckar","Nürtingen",-1,-1.5,-5558,"2011-12-31","2013-01-01"]
[0,null,"Wendlingen","Nürtingen",1,1.5,3773,"2011-12-31"]
[1,null,"Unterboihingen","Nürtingen",1,1,1785,"2011-12-31"]
[0,15,"Remseck Christuskirchengemeinde","Ludwigsburg",-1,-1,-2327,"2011-12-31","2013-12-01"]
[0,null,"Hochberg","Ludwigsburg",1,1,1360,"2011-12-31"]
[1,null,"Hochdorf","Ludwigsburg",1,1,967,"2011-12-31"]
[0,16,"Finsterlohr-Schmerbach-Lichtel","Weikersheim",-1,-1,-844,"2011-12-31","2013-12-01"]
[0,null,"Finsterlohr","Weikersheim",1,0.5,389,"2011-12-31"]
[1,null,"Schmerbach","Weikersheim",1,0.5,204,"2011-12-31"]
[1,null,"Lichtel","Weikersheim",1,0.5,251,"2011-12-31"]
[0,17,"Denkendorf","Esslingen",-1,-1.5,-4444,"2011-12-31","2013-01-01"]
[0,null,"Denkendorf Auferstehungskirchengemeinde","Esslingen",1,1,2677,"2011-12-31"]
[1,null,"Denkendorf Klosterkirchengemeinde","Esslingen",1,1,1767,"2011-12-31"]
[0,18,"Bad Urach und Seeburg","Bad Urach-Münsingen",-1,-1.5,-3750,"2011-12-31","2013-01-01"]
[0,null,"Bad urach Amanduskirchengemeinde","Bad Urach-Münsingen",1,1,1978,"2011-12-31"]
[1,null,"Bad Urach Dietrich-Bonhoeffer-Kirchengemeinde","Bad Urach-Münsingen",1,1,1586,"2011-12-31"]
[1,null,"Seeburg","Bad Urach-Münsingen",1,0.5,186,"2011-12-31"]
[0,19,"Heidenheim Paulus-Wald-Kirchengemeinde","Heidenheim",-1,-1.5,{"$f":"-SUM(G62:G63)","v":-3204},"2011-12-31","2013-12-01"]
[0,null,"Heidenheim Pauluskirchengemeinde","Heidenheim",1,1,1912,"2011-12-31"]
[1,null,"Heidenheim Waldkirchengemeinde","Heidenheim",1,1,1292,"2011-12-31"]
[0,20,"Weilimdorf Oswald-Wolfbusch","Zuffenhausen",-1,-1.5,{"$f":"-SUM(G65:G66)","v":-5293},"2011-12-31","2013-01-01"]
[0,null,"Weilimdorf Oswaldkirchengemeinde","Zuffenhausen",1,1.5,3170,"2011-12-31"]
[1,null,"Weilimdorf Wolfbuschkirchengemeinde","Zuffenhausen",1,1,2123,"2011-12-31"]
[0,21,"Stuttgart-Berg Heilandskirchengemeinde","Stuttgart",-1,-1,{"$f":"-SUM(G68:G69)","v":-1470},"2011-12-31","2013-01-01"]
[0,null,"Berg","Stuttgart",1,1,588,"2011-12-31"]
[{"$f":"IF(D69=\"\",0,IF(B69<>0,0,IF(B68<>0,0,1)))","v":1},null,"Stuttgart Heilandskirchengemeinde","Stuttgart",1,1,882,"2011-12-31"]
[0,22,"Pfalzgrafenweiler","Freudenstadt",-1,-1.5,{"$f":"-SUM(G71:G76)","v":-3304},"2011-12-31","2013-12-01"]
[0,null,"Pfalzgrafenweiler","Freudenstadt",1,{"$f":"IF(ABS(G71)<400,0.5,IF(ABS(G71)<2801,1,IF(ABS(G71)<5601,1.5,IF(ABS(G71)<8401,2,IF(ABS(G71)<11201,2.5,1000)))))*(IF(G71<0,-1,1))","v":1},2156,"2011-12-31"]
[1,null,"Edelweiler","Freudenstadt",{"$f":"IF(B72<>\"\",-1,1)","v":1},0.5,148,"2011-12-31"]
[1,null,"Kälberbronn","Freudenstadt",1,0.5,161,"2011-12-31"]
[1,null,"Durrweiler","Freudenstadt",1,0.5,372,"2011-12-31"]
[1,null,"Herzogsweiler","Freudenstadt",1,0.5,392,"2011-12-31"]
[1,null,"Neunuifra","Freudenstadt",1,0.5,75,"2011-12-31"]
[0,23,"Fellbach","Waiblingen",-1,-2,{"$f":"-SUM(G78:G81)","v":-8256},"2011-12-31","2013-12-01"]
[0,null,"Fellbach Lutherkirchengemeinde","Waiblingen",1,1.5,4154,"2011-12-31"]
[1,null,"Fellbach Pauluskirchengemeinde","Waiblingen",1,1,2591,"2011-12-31"]
[1,null,"Fellbach Melanchthonkirchengemeinde","Waiblingen",1,1,1154,"2011-12-31"]
[1,null,"Fellbach Johannes-Brenz-Kirchengemeinde","Waiblingen",1,0.5,357,"2011-12-31"]
[0,24,"Neuenstein","Öhringen",-1,-1.5,{"$f":"-SUM(G83:G84)","v":-3158},"2011-12-31","2013-01-01"]
[0,null,"Neuenstein","Öhringen",1,1,2718,"2011-12-31"]
[1,null,"Eschelbach-Kesselfeld","Öhringen",1,1,440,"2011-12-31"]
[0,25,"Nürtingen Stadtkirchengemeinde","Nürtingen",-1,-1.5,-3093,"2011-12-31","2013-01-01"]
[0,null,"Nürtingen Stadtkirchengemeinde","Nürtingen",1,1,2529,"2011-12-31"]
[1,null,"Nürtingen-Enzenhardt","Nürtingen",1,1,564,"2011-12-31"]
[0,26,"Dürnau-Gammelshausen","Göppingen",-1,-1,-1625,"2011-12-31","2013-01-01"]
[0,null,"Dürnau","Göppingen",1,1,998,"2011-12-31"]
[1,null,"Gammelshausen","Göppingen",1,1,627,"2011-12-31"]
[0,27,"Rohr-Dürrlewang","Degerloch",-1,-1.5,-3934,"2011-12-31","2013-01-01"]
[0,null,"Dürrlewang","Degerloch",1,1,1049,"2011-12-31"]
[1,null,"Rohr","Degerloch",1,1.5,2885,"2011-12-31"]
[0,28,"Metzingen-Nord","Bad Urach-Münsingen",-1,-1,-2674,"2011-12-31","2013-12-01"]
[0,null,"Metzingen Friedenskirchengemeinde","Bad Urach-Münsingen",1,1,1898,"2011-12-31"]
[1,null,"Metzingen Neugreuth","Bad Urach-Münsingen",1,1,776,"2011-12-31"]
[0,29,"Monakam-Unterhaugstett","Calw",-1,-1,-1322,"2011-12-31","2013-12-01"]
[0,null,"Monakam","Calw",1,1,775,"2011-12-31"]
[1,null,"Unterhaugstett","Calw",1,1,547,"2011-12-31"]
[0,30,"Wolfenhausen-Nellingsheim","Tübingen",-1,-1,-723,"2012-12-31","2013-12-01"]
[0,null,"Wolfenhausen","Tübingen",1,1,439,"2012-12-31"]
[1,null,"Nellingsheim","Tübingen",1,0.5,284,"2012-12-31"]
[0,31,"Baiersbronn","Freudenstadt",-1,{"$f":"IF(ABS(G103)<400,0.5,IF(ABS(G103)<2801,1,IF(ABS(G103)<5601,1.5,IF(ABS(G103)<8401,2,IF(ABS(G103)<11201,2.5,1000)))))*(IF(G103<0,-1,1))","v":-1.5},-3669,"2012-12-31","2013-12-01"]
[0,null,"Baiersbronn","Freudenstadt",1,1.5,3493,"2012-12-31"]
[1,null,"Friedrichstal","Freudenstadt",1,0.5,176,"2012-12-31"]
[0,32,"Öhringen","Öhringen",-1,-2.5,-9556,"2012-12-31","2013-12-01"]
[0,null,"Öhringen","Öhringen",1,2.5,8730,"2012-12-31"]
[1,null,"Michelbach am Wald","Öhringen",1,1,826,"2012-12-31"]
[0,33,"Apfelstetten-Buttenhausen","Bad Urach-Münsingen",-1,-1,-723,"2012-12-31","2013-12-01"]
[0,null,"Buttenhausen","Bad Urach-Münsingen",1,1,403,"2012-12-31"]
[1,null,"Apfelstetten","Bad Urach-Münsingen",1,0.5,320,"2012-12-31"]
[0,34,"Nikolaikirchengemeinde Heilbronn","Heilbronn",-1,-1.5,-3958,"2012-12-31","2013-12-01"]
[0,null,"Wartberg-Au-Kirchengemeinde","Heilbronn",1,1,1784,"2012-12-31"]
[1,null,"Nikolaikirchengemeinde Heilbronn","Heilbronn",1,1,2174,"2012-12-31"]
[0,35,"Kirchberg/Jagst","Blaufelden",-1,-1,-1113,"2012-12-31","2013-12-01"]
[0,null,"Kirchberg","Blaufelden",1,1,1015,"2012-12-31"]
[1,null,"Hornberg","Blaufelden",1,0.5,98,"2012-12-31"]
[0,36,"Emmingen-Pfrondorf","Nagold",-1,-1,-1281,"2012-12-31","2013-12-01"]
[0,null,"Pfrondorf","Nagold",1,0.5,387,"2012-12-31"]
[1,null,"Emmingen","Nagold",1,1,894,"2012-12-31"]
[0,37,"Mehrstetten-Sondernach","Bad Urach-Münsingen",-1,-1,-1136,"2012-12-31","2013-12-01"]
[0,null,"Mehrstetten","Bad Urach-Münsingen",1,1,938,"2012-12-31"]
[1,null,"Sondernach","Bad Urach-Münsingen",1,0.5,198,"2012-12-31"]
[0,38,"Ödenwaldstetten-Pfronstetten","Bad Urach-Münsingen",-1,-1,{"$f":"-SUM(G125:G126)","v":-657},"2012-12-31","2013-12-01"]
[0,null,"Ödenwaldstetten","Bad Urach-Münsingen",1,1,461,"2012-12-31"]
[1,null,"Pfronstetten","Bad Urach-Münsingen",1,0.5,196,"2012-12-31"]
[0,39,"Heuchlingen-Heldenfingen","Heidenheim",-1,-1,{"$f":"-SUM(G128:G129)","v":-1241},"2012-12-31","2013-12-01"]
[0,null,"Heuchlingen","Heidenheim",1,1,547,"2012-12-31"]
[1,null,"Heldenfingen","Heidenheim",1,1,694,"2012-12-31"]
[0,40,"Grömbach-Wörnersberg","Nagold",-1,-1,{"$f":"-SUM(G131:G132)","v":-764},"2012-12-31","2013-12-01"]
[0,null,"Grömbach","Nagold",1,1,585,"2012-12-31"]
[1,null,"Wörnersberg","Nagold",1,0.5,179,"2012-12-31"]
[{"$f":"IF(D133=\"\",0,IF(B133<>0,0,IF(B132<>0,0,1)))","v":0},41,"Breitenberg-Oberkollwangen","Calw",-1,-1,{"$f":"-SUM(G134:G135)","v":-733},"2012-12-31","2013-12-01"]
[0,null,"Breitenberg","Calw",1,1,481,"2012-12-31"]
[1,null,"Oberkollwangen","Calw",1,{"$f":"IF(ABS(G135)<400,0.5,IF(ABS(G135)<2801,1,IF(ABS(G135)<5601,1.5,IF(ABS(G135)<8401,2,IF(ABS(G135)<11201,2.5,1000)))))*(IF(G135<0,-1,1))","v":0.5},252,"2012-12-31"]
[0,42,"Winnenden","Waiblingen",{"$f":"IF(B136<>\"\",-1,1)","v":-1},-1.5,{"$f":"-SUM(G137:G138)","v":-4526},"2012-12-31","2013-12-01"]
[0,null,"Stadtkirchengemeinde Winnenden","Waiblingen",1,1.5,2946,"2012-12-31"]
[1,null,"Winnenden Paul-Schneider-Haus","Waiblingen",1,1,1580,"2012-12-31"]
[0,43,"Buchenbach-Eberbach","Künzelsau",-1,-1,{"$f":"-SUM(G140:G141)","v":-744},"2012-12-31","2013-12-01"]
[0,null,"Buchenbach","Künzelsau",1,1,632,"2012-12-31"]
[1,null,"Eberbach","Künzelsau",1,0.5,112,"2012-12-31"]
[0,44,"Tuttlingen Friedenskirchengemeinde","Tuttlingen",-1,-1.5,{"$f":"-SUM(G143:G144)","v":-2869},"2012-12-31","2013-12-01"]
[0,null,"Tuttlingen Martinskirchengemeinde","Tuttlingen",1,1,1541,"2012-12-31"]
[1,null,"Tuttlingen Versöhnungskirchengemeinde","Tuttlingen",1,1,1328,"2012-12-31"]
[0,45,"Setzingen-Nerenstetten","Ulm",-1,-1,{"$f":"-SUM(G146:G147)","v":-640},"2012-12-31","2013-12-01"]
[0,null,"Setzingen","Ulm",1,1,449,"2012-12-31"]
[1,null,"Nerenstetten","Ulm",1,0.5,191,"2012-12-31"]
[0,46,"Reutlingen West-Betzingen","Reutlingen",-1,-1.5,{"$f":"-SUM(G149:G150)","v":-5259},"2012-12-31","2013-12-01"]
[0,null,"Reutlingen Mauritiuskirche","Reutlingen",1,1.5,3920,"2012-12-31"]
[1,null,"Reutlingen Christuskirche","Reutlingen",1,1,1339,"2012-12-31"]
[0,47,"Reichenbach/Fils","Esslingen",-1,-1.5,{"$f":"-SUM(G152:G153)","v":-3015},"2012-12-31","2013-07-01"]
[0,null,"Reichenbach Siegenbergkirchengemeinde","Esslingen",1,1,1113,"2012-12-31"]
[1,null,"Reichenbach Mauritiuskirchengemeinde","Esslingen",1,1,1902,"2012-12-31"]
[0,48,"Hertmannsweiler-Bürg","Waiblingen",-1,-1,{"$f":"-SUM(G155:G156)","v":-1293},"2012-12-31","2013-12-01"]
[0,null,"Hertmannsweiler","Waiblingen",1,1,1018,"2012-12-31"]
[1,null,"Bürg","Waiblingen",1,0.5,275,"2012-12-31"]
[0,49,"Dottingen-Rietheim","Bad Urach-Münsingen",-1,-1,{"$f":"-SUM(G158:G159)","v":-1137},"2012-12-31","2013-12-01"]
[0,null,"Dottingen","Bad Urach-Münsingen",1,1,656,"2012-12-31"]
[1,null,"Rietheim","Bad Urach-Münsingen",1,1,481,"2012-12-31"]
[0,50,"Waiblingen","Waiblingen",-1,-2.5,{"$f":"-SUM(G161:G164)","v":-9006},"2011-12-31","2013-12-01"]
[0,null,"Waiblingen Michaelskirchengemeinde","Waiblingen",1,1.5,3166,"2011-12-31"]
[1,null,"Waiblingen Martin-Luther-Kirchengemeine","Waiblingen",1,1,1710,"2011-12-31"]
[1,null,"Waiblingen Dietrich-Bonhoeffer-Kirchengemeinde","Waiblingen",1,1,1620,"2011-12-31"]
[1,null,"Waiblingen Korber Höhe","Waiblingen",1,1,2510,"2011-12-31"]
[0,51,"Münklingen-Hausen","Leonberg",-1,-1,{"$f":"-SUM(G166:G167)","v":-1113},"2012-12-31","2013-12-01"]
[0,null,"Münklingen","Leonberg",1,1,684,"2012-12-31"]
[1,null,"Hausen","Leonberg",1,{"$f":"IF(ABS(G167)<400,0.5,IF(ABS(G167)<2801,1,IF(ABS(G167)<5601,1.5,IF(ABS(G167)<8401,2,IF(ABS(G167)<11201,2.5,1000)))))*(IF(G167<0,-1,1))","v":1},429,"2012-12-31"]
[0,52,"Bünzwangen-Sulpach","Göppingen",-1,-1,-1601,"2011-12-31","2013-01-01"]
[0,null,"Bünzwangen","Göppingen",1,1,1050,"2011-12-31"]
[1,null,"Sulpach","Göppingen",1,1,551,"2011-12-31"]
[0,53,"Stuttgart Himmelsleiter","Zuffenhausen",-1,-1.5,-5163,"2011-12-31","2013-01-01"]
[0,null,"Stuttgart-Rohr","Zuffenhausen",{"$f":"IF(B172<>\"\",-1,1)","v":1},{"$f":"IF(ABS(G172)<400,0.5,IF(ABS(G172)<2801,1,IF(ABS(G172)<5601,1.5,IF(ABS(G172)<8401,2,IF(ABS(G172)<11201,2.5,1000)))))*(IF(G172<0,-1,1))","v":1},2553,"2011-12-31"]
[1,null,"Suttgart-Freiburg","Zuffenhausen",{"$f":"IF(B173<>\"\",-1,1)","v":1},{"$f":"IF(ABS(G173)<400,0.5,IF(ABS(G173)<2801,1,IF(ABS(G173)<5601,1.5,IF(ABS(G173)<8401,2,IF(ABS(G173)<11201,2.5,1000)))))*(IF(G173<0,-1,1))","v":1},1722,"2011-12-31"]
[1,null,"Mönchfeld","Zuffenhausen",1,1,888,"2011-12-31"]
[0,54,"Aich-Neuenhaus","Nürtingen",-1,-1,-2501,"2013-12-31","2015-01-01"]
[0,null,"Aich","Nürtingen",1,1,1457,"2013-12-31"]
[1,null,"Neuenhaus","Nürtingen",1,1,1044,"2013-12-31"]
[0,55,"Trossingen","Tuttlingen",-1,-2,-6575,"2013-12-31","2015-01-01"]
[0,null,"Trossingen","Tuttlingen",1,1.5,5115,"2013-12-31"]
[1,null,"Schura","Tuttlingen",1,1,1460,"2013-12-31"]
[0,56,"Hohenstaufen-Maitis","Göppingen",-1,-1,-1670,"2013-12-31","2015-01-01"]
[0,null,"Hohenstaufen","Göppingen",1,1,1396,"2013-12-31"]
[1,null,"Maitis","Göppingen",1,0.5,274,"2013-12-31"]
[0,57,"Steinbach-Tullau","Schwäbisch Hall",-1,-1,-591,"2013-12-31","2014-11-30"]
[0,null,"Steinbach","Schwäbisch Hall",1,1,424,"2013-12-31"]
[1,null,"Tullau","Schwäbisch Hall",1,0.5,167,"2013-12-31"]
[0,58,"Geislingen","Geislingen a.d. Steige",{"$f":"IF(B187<>\"\",-1,1)","v":-1},{"$f":"IF(ABS(G187)<400,0.5,IF(ABS(G187)<2801,1,IF(ABS(G187)<5601,1.5,IF(ABS(G187)<8401,2,IF(ABS(G187)<11201,2.5,1000)))))*(IF(G187<0,-1,1))","v":-1},-2494,"2014-12-31","2015-11-29"]
[0,null,"Geislingen Stadtkirche","Geislingen a.d. Steige",1,1,1068,"2014-12-31"]
[1,null,"Geislingen Pauluskirche","Geislingen a.d. Steige",1,1,1426,"2014-12-31"]
[0,59,"Lorch und Weitmars","Schwäbisch Gmünd",-1,-1.5,-3171,"2014-12-31","2016-01-01"]
[0,null,"Lorch","Schwäbisch Gmünd",1,1,2722,"2014-12-31"]
[1,null,"Weitmars","Schwäbisch Gmünd",1,1,449,"2014-12-31"]
[0,60,"Uhingen","Göppingen",-1,-1.5,-5321,"2014-12-31","2016-01-01"]
[0,null,"Uhingen","Göppingen",1,1.5,4937,"2014-12-31"]
[1,null,"Baiereck","Göppingen",1,0.5,384,"2014-12-31"]
[0,61,"Kirchheim Stadtkirchengemeinde","Kirchheim unter Teck",-1,-2,-7325,"2014-12-31","2016-01-01"]
[{"$f":"IF(D197=\"\",0,IF(B197<>0,0,IF(B196<>0,0,1)))","v":0},null,"Kirchheim Auferstehungskirchengemeinde","Kirchheim unter Teck",{"$f":"IF(B197<>\"\",-1,1)","v":1},{"$f":"IF(ABS(G197)<400,0.5,IF(ABS(G197)<2801,1,IF(ABS(G197)<5601,1.5,IF(ABS(G197)<8401,2,IF(ABS(G197)<11201,2.5,1000)))))*(IF(G197<0,-1,1))","v":1},1563,"2014-12-31"]
[1,null,"Kirchheim Kreuzkirchengemeinde","Kirchheim unter Teck",{"$f":"IF(B198<>\"\",-1,1)","v":1},{"$f":"IF(ABS(G198)<400,0.5,IF(ABS(G198)<2801,1,IF(ABS(G198)<5601,1.5,IF(ABS(G198)<8401,2,IF(ABS(G198)<11201,2.5,1000)))))*(IF(G198<0,-1,1))","v":1},1912,"2014-12-31"]
[1,null,"Kirchheim Martinskirchengemeinde","Kirchheim unter Teck",1,1.5,2880,"2014-12-31"]
[1,null,"Kirchheim Thomaskirchengemeinde","Kirchheim unter Teck",1,1,970,"2014-12-31"]
[0,62,"Ötlingen-Lindorf","Kirchheim unter Teck",-1,-1.5,-3044,"2014-12-31","2016-01-01"]
[0,null,"Lindorf Matthäuskirchengemeinde","Kirchheim unter Teck",1,1,711,"2014-12-31"]
[1,null,"Ötlingen Johanneskirchengemeinde","Kirchheim unter Teck",1,1,2333,"2014-12-31"]
[0,63,"Pinache-Serres","Mühlacker",-1,-1,-918,"2014-12-31","2016-01-01"]
[0,null,"Pinache","Mühlacker",1,1,554,"2014-12-31"]
[1,null,"Serres","Mühlacker",1,0.5,364,"2014-12-31"]
[0,64,"Leonberg-Nord","Leonberg",{"$f":"IF(B207<>\"\",-1,1)","v":-1},{"$f":"IF(ABS(G207)<400,0.5,IF(ABS(G207)<2801,1,IF(ABS(G207)<5601,1.5,IF(ABS(G207)<8401,2,IF(ABS(G207)<11201,2.5,1000)))))*(IF(G207<0,-1,1))","v":-2},-5890,"2014-12-31","2016-01-01"]
[0,null,"Leonberg Stadtkirche/Gartenstadt","Leonberg",1,1.5,3079,"2014-12-31"]
[1,null,"Leonberg Blosenbergkirchengemeinde","Leonberg",{"$f":"IF(B209<>\"\",-1,1)","v":1},{"$f":"IF(ABS(G209)<400,0.5,IF(ABS(G209)<2801,1,IF(ABS(G209)<5601,1.5,IF(ABS(G209)<8401,2,IF(ABS(G209)<11201,2.5,1000)))))*(IF(G209<0,-1,1))","v":1},1206,"2014-12-31"]
[1,null,"Leonberg-Ramtel Versöhnungskirchengemeinde","Leonberg",1,1,1605,"2014-12-31"]
[0,65,"Esslingen Stadtkirchengemeinde","Esslingen",-1,-1.5,-3834,"2014-12-31","2016-01-01"]
[0,null,"Esslingen Stadt- und Frauenkirchengemeinde","Esslingen",1,1,2640,"2014-12-31"]
[1,null,"Esslingen Südkirchengemeinde","Esslingen",1,1,1194,"2014-12-31"]
[0,66,"Nagold","Nagold",-1,-1.5,-5352,"2014-12-31","2016-01-01"]
[0,null,"Nagold Stadtkirchengemeinde","Nagold",1,1,1838,"2014-12-31"]
[1,null,"Nagold Remigiuskirchengemeinde","Nagold",{"$f":"IF(B216<>\"\",-1,1)","v":1},{"$f":"IF(ABS(G216)<400,0.5,IF(ABS(G216)<2801,1,IF(ABS(G216)<5601,1.5,IF(ABS(G216)<8401,2,IF(ABS(G216)<11201,2.5,1000)))))*(IF(G216<0,-1,1))","v":1},1750,"2014-12-31"]
[1,null,"Nagold-Iselshausen","Nagold",1,1,1764,"2014-12-31"]
[0,67,"Esslingen-Nord","Esslingen",-1,-1.5,-5090,"2014-12-31","2016-01-01"]
[0,null,"Esslingen St. Bernhardt-Wäldenbronn","Esslingen",1,1.5,3287,"2014-12-31"]
[1,null,"Esslingen Hohenkreuz","Esslingen",1,1,1803,"2014-12-31"]
[]
[null,null,"Fortsetzung in der Tabelle rechts daneben!"]

{"sheet":"KG akt.","index":8,"n_rows":57,"n_cols":11,"rows_kept":57,"cut":false,"hidden":false,"merged":[]}
["Aktuelle Kirchengemeindezahlen (mit begründetem Nachvollzug der Veränderungen seit dem vorigen PfarrPlan)"]
["Jahr der zu Grunde zu legenden Daten (31.12.):"]
[{"$f":"Parameter!A8","v":2016}]
[{"$f":"Parameter!B1","v":"Dekanat/Kirchenbezirk"},null,{"$f":"\"Zahl der Kirchengemeinden beim vorigen Mal (PfarrPlan \"&Parameter!A5&\")\"","v":"Zahl der Kirchengemeinden beim vorigen Mal (PfarrPlan 2018)"},"Verbleibende Differenz, wenn Tab. \"Korr.\" bereits berücksichtigt","Erklärung der Differenz",{"$f":"\"Zahl der Kirchengemeinden nach po-ausgabe_KG Ende \"&Parameter!A8&\" (ohne Korrekturen!)\"","v":"Zahl der Kirchengemeinden nach po-ausgabe_KG Ende 2016 (ohne Korrekturen!)"},"+/- (Korrektur/Rückrechnung; siehe voriges Tabellenblatt)","Modifzierte Zahl der Kirchengemeinden (ohne Korrekturen!)","+/- (Korrektur/Rückrechnung; siehe voriges Tabellenblatt)","Gründe für Korrekturen (siehe voriges Tabellenblatt)","Für den PfarrPlan maßgebliche Zahl der gewichteten Kirchengemeinden"]
[{"$f":"Parameter!B2","v":"Aalen"},null,24,{"$f":"F5-C5+G5","v":0},null,{"$f":"COUNTIF('Dateneingabe Ggl. und KG'!G$2:G$14000,A5)","v":24},{"$f":"SUMIF('KG Korr.'!D$6:D$973,A5,'KG Korr.'!E$6:E$973)","v":0},{"$f":"SUMIF('Dateneingabe Ggl. und KG'!G$2:G$14000,A5,'Dateneingabe Ggl. und KG'!E$2:E$14000)","v":23},{"$f":"SUMIF('KG Korr.'!D$6:D$973,A5,'KG Korr.'!F$6:F$973)","v":0},null,{"$f":"H5+I5","v":23}]
[{"$f":"Parameter!B3","v":"Backnang"},null,23,{"$f":"F6-C6+G6","v":0},null,{"$f":"COUNTIF('Dateneingabe Ggl. und KG'!G$2:G$14000,A6)","v":22},{"$f":"SUMIF('KG Korr.'!D$6:D$973,A6,'KG Korr.'!E$6:E$973)","v":1},{"$f":"SUMIF('Dateneingabe Ggl. und KG'!G$2:G$14000,A6,'Dateneingabe Ggl. und KG'!E$2:E$14000)","v":24},{"$f":"SUMIF('KG Korr.'!D$6:D$973,A6,'KG Korr.'!F$6:F$973)","v":1},"Großerlach und Grab 1.1.2011",{"$f":"H6+I6","v":25}]
[{"$f":"Parameter!B4","v":"Bad Cannstatt"},null,21,0,null,{"$f":"COUNTIF('Dateneingabe Ggl. und KG'!G$2:G$14000,A7)","v":20},{"$f":"SUMIF('KG Korr.'!D$6:D$973,A7,'KG Korr.'!E$6:E$973)","v":1},{"$f":"SUMIF('Dateneingabe Ggl. und KG'!G$2:G$14000,A7,'Dateneingabe Ggl. und KG'!E$2:E$14000)","v":20},{"$f":"SUMIF('KG Korr.'!D$6:D$973,A7,'KG Korr.'!F$6:F$973)","v":0.5},"Luther und Blumhardt 1.1.2012",20.5]
[{"$f":"Parameter!B5","v":"Bad Urach-Münsingen"},null,55,0,null,{"$f":"COUNTIF('Dateneingabe Ggl. und KG'!G$2:G$14000,A8)","v":48},{"$f":"SUMIF('KG Korr.'!D$6:D$973,A8,'KG Korr.'!E$6:E$973)","v":7},{"$f":"SUMIF('Dateneingabe Ggl. und KG'!G$2:G$14000,A8,'Dateneingabe Ggl. und KG'!E$2:E$14000)","v":48},{"$f":"SUMIF('KG Korr.'!D$6:D$973,A8,'KG Korr.'!F$6:F$973)","v":4.5},"Amandus und Bonhoeffer und Seeburg 1.1.2013, Metzingen Frieden und Neugreuth 1.12.2013, Buttenhausen und Apfelstetten 1.12.2013, Mehrstetten und Sondernach 1.12.2013, Ödenwaldstetten und Pfronstetten 1.12.2013, Dottingen und Rietheim 1.12.2013",52.5]
[{"$f":"Parameter!B6","v":"Balingen"},null,37,-1,"Künftiger Wechsel Isingen (Teil) von Balingen nach Sulz/Neckar",{"$f":"COUNTIF('Dateneingabe Ggl. und KG'!G$2:G$14000,A9)","v":36},{"$f":"SUMIF('KG Korr.'!D$6:D$973,A9,'KG Korr.'!E$6:E$973)","v":0},{"$f":"SUMIF('Dateneingabe Ggl. und KG'!G$2:G$14000,A9,'Dateneingabe Ggl. und KG'!E$2:E$14000)","v":37},{"$f":"SUMIF('KG Korr.'!D$6:D$973,A9,'KG Korr.'!F$6:F$973)","v":0},null,37]
[{"$f":"Parameter!B7","v":"Bernhausen"},null,16,0,null,{"$f":"COUNTIF('Dateneingabe Ggl. und KG'!G$2:G$14000,A10)","v":16},{"$f":"SUMIF('KG Korr.'!D$6:D$973,A10,'KG Korr.'!E$6:E$973)","v":0},{"$f":"SUMIF('Dateneingabe Ggl. und KG'!G$2:G$14000,A10,'Dateneingabe Ggl. und KG'!E$2:E$14000)","v":21},{"$f":"SUMIF('KG Korr.'!D$6:D$973,A10,'KG Korr.'!F$6:F$973)","v":0},null,21]
[{"$f":"Parameter!B8","v":"Besigheim"},null,20,0,null,{"$f":"COUNTIF('Dateneingabe Ggl. und KG'!G$2:G$14000,A11)","v":19},{"$f":"SUMIF('KG Korr.'!D$6:D$973,A11,'KG Korr.'!E$6:E$973)","v":1},{"$f":"SUMIF('Dateneingabe Ggl. und KG'!G$2:G$14000,A11,'Dateneingabe Ggl. und KG'!E$2:E$14000)","v":21.5},{"$f":"SUMIF('KG Korr.'!D$6:D$973,A11,'KG Korr.'!F$6:F$973)","v":1},"Ottmarsheim und Besigheim 1.1.2011",22.5]
[{"$f":"Parameter!B9","v":"Biberach"},null,25,0,null,{"$f":"COUNTIF('Dateneingabe Ggl. und KG'!G$2:G$14000,A12)","v":25},{"$f":"SUMIF('KG Korr.'!D$6:D$973,A12,'KG Korr.'!E$6:E$973)","v":0},{"$f":"SUMIF('Dateneingabe Ggl. und KG'!G$2:G$14000,A12,'Dateneingabe Ggl. und KG'!E$2:E$14000)","v":26.5},{"$f":"SUMIF('KG Korr.'!D$6:D$973,A12,'KG Korr.'!F$6:F$973)","v":0},null,26.5]
[{"$f":"Parameter!B10","v":"Blaubeuren"},null,29,0,null,{"$f":"COUNTIF('Dateneingabe Ggl. und KG'!G$2:G$14000,A13)","v":29},{"$f":"SUMIF('KG Korr.'!D$6:D$973,A13,'KG Korr.'!E$6:E$973)","v":0},{"$f":"SUMIF('Dateneingabe Ggl. und KG'!G$2:G$14000,A13,'Dateneingabe Ggl. und KG'!E$2:E$14000)","v":26.5},{"$f":"SUMIF('KG Korr.'!D$6:D$973,A13,'KG Korr.'!F$6:F$973)","v":0},null,26.5]
[{"$f":"Parameter!B11","v":"Blaufelden"},null,38,-2,"Wechsel Eberbach von Blaufelden nach Künzelsau, \nWechsel Ruppertshofen von Blaufelden nach Schwäbisch Hall",{"$f":"COUNTIF('Dateneingabe Ggl. und KG'!G$2:G$14000,A14)","v":35},{"$f":"SUMIF('KG Korr.'!D$6:D$973,A14,'KG Korr.'!E$6:E$973)","v":1},{"$f":"SUMIF('Dateneingabe Ggl. und KG'!G$2:G$14000,A14,'Dateneingabe Ggl. und KG'!E$2:E$14000)","v":24},{"$f":"SUMIF('KG Korr.'!D$6:D$973,A14,'KG Korr.'!F$6:F$973)","v":0.5},"Kirchberg und Hornberg 1.12.2013",24.5]
[{"$f":"Parameter!B12","v":"Böblingen"},null,24,0,null,{"$f":"COUNTIF('Dateneingabe Ggl. und KG'!G$2:G$14000,A15)","v":24},{"$f":"SUMIF('KG Korr.'!D$6:D$973,A15,'KG Korr.'!E$6:E$973)","v":0},{"$f":"SUMIF('Dateneingabe Ggl. und KG'!G$2:G$14000,A15,'Dateneingabe Ggl. und KG'!E$2:E$14000)","v":28.5},{"$f":"SUMIF('KG Korr.'!D$6:D$973,A15,'KG Korr.'!F$6:F$973)","v":0},null,28.5]
[{"$f":"Parameter!B13","v":"Brackenheim"},null,24,0,null,{"$f":"COUNTIF('Dateneingabe Ggl. und KG'!G$2:G$14000,A16)","v":24},{"$f":"SUMIF('KG Korr.'!D$6:D$973,A16,'KG Korr.'!E$6:E$973)","v":0},{"$f":"SUMIF('Dateneingabe Ggl. und KG'!G$2:G$14000,A16,'Dateneingabe Ggl. und KG'!E$2:E$14000)","v":22.5},{"$f":"SUMIF('KG Korr.'!D$6:D$973,A16,'KG Korr.'!F$6:F$973)","v":0},null,22.5]
[{"$f":"Parameter!B14","v":"Calw"},null,39,0,"Wechsel Kapfenhardt von Neuenbürg nach Calw,\nkünftiger Wechsel Aichelberg von Calw nach Neuenbürg",{"$f":"COUNTIF('Dateneingabe Ggl. und KG'!G$2:G$14000,A17)","v":37},{"$f":"SUMIF('KG Korr.'!D$6:D$973,A17,'KG Korr.'!E$6:E$973)","v":2},{"$f":"SUMIF('Dateneingabe Ggl. und KG'!G$2:G$14000,A17,'Dateneingabe Ggl. und KG'!E$2:E$14000)","v":31.5},{"$f":"SUMIF('KG Korr.'!D$6:D$973,A17,'KG Korr.'!F$6:F$973)","v":1.5},"Breitenberg und Oberkollwangen 1.12.2013, Monakam und Unterhaugstett 1.12.2013",33]
[{"$f":"Parameter!B15","v":"Crailsheim"},null,30,0,null,{"$f":"COUNTIF('Dateneingabe Ggl. und KG'!G$2:G$14000,A18)","v":30},{"$f":"SUMIF('KG Korr.'!D$6:D$973,A18,'KG Korr.'!E$6:E$973)","v":0},{"$f":"SUMIF('Dateneingabe Ggl. und KG'!G$2:G$14000,A18,'Dateneingabe Ggl. und KG'!E$2:E$14000)","v":27.5},{"$f":"SUMIF('KG Korr.'!D$6:D$973,A18,'KG Korr.'!F$6:F$973)","v":0},null,27.5]
[{"$f":"Parameter!B16","v":"Degerloch"},null,18,0,null,{"$f":"COUNTIF('Dateneingabe Ggl. und KG'!G$2:G$14000,A19)","v":17},{"$f":"SUMIF('KG Korr.'!D$6:D$973,A19,'KG Korr.'!E$6:E$973)","v":1},{"$f":"SUMIF('Dateneingabe Ggl. und KG'!G$2:G$14000,A19,'Dateneingabe Ggl. und KG'!E$2:E$14000)","v":20},{"$f":"SUMIF('KG Korr.'!D$6:D$973,A19,'KG Korr.'!F$6:F$973)","v":1},"Dürrlewang und Rohr 1.1.2013",21]
[{"$f":"Parameter!B17","v":"Ditzingen"},null,13,0,null,{"$f":"COUNTIF('Dateneingabe Ggl. und KG'!G$2:G$14000,A20)","v":13},{"$f":"SUMIF('KG Korr.'!D$6:D$973,A20,'KG Korr.'!E$6:E$973)","v":0},{"$f":"SUMIF('Dateneingabe Ggl. und KG'!G$2:G$14000,A20,'Dateneingabe Ggl. und KG'!E$2:E$14000)","v":15.5},{"$f":"SUMIF('KG Korr.'!D$6:D$973,A20,'KG Korr.'!F$6:F$973)","v":0},null,15.5]
[{"$f":"Parameter!B18","v":"Esslingen"},null,26,0,null,{"$f":"COUNTIF('Dateneingabe Ggl. und KG'!G$2:G$14000,A21)","v":22},{"$f":"SUMIF('KG Korr.'!D$6:D$973,A21,'KG Korr.'!E$6:E$973)","v":4},{"$f":"SUMIF('Dateneingabe Ggl. und KG'!G$2:G$14000,A21,'Dateneingabe Ggl. und KG'!E$2:E$14000)","v":27},{"$f":"SUMIF('KG Korr.'!D$6:D$973,A21,'KG Korr.'!F$6:F$973)","v":2.5},"Reichenbach Siegenberg und Mauritius 1.7.2013, Denkendorf Auferstehung und Kloster 1.1.2013, Esslingen Stadt- und Frauenkirche und Esslingen Südkirchengemeinde 1.1.2016, Esslingen St. Bernhardt-Wäldenbronn und Esslingen Hohenkreuz 1.1.2016",29.5]
[{"$f":"Parameter!B19","v":"Freudenstadt"},null,42,0,null,{"$f":"COUNTIF('Dateneingabe Ggl. und KG'!G$2:G$14000,A22)","v":36},{"$f":"SUMIF('KG Korr.'!D$6:D$973,A22,'KG Korr.'!E$6:E$973)","v":6},{"$f":"SUMIF('Dateneingabe Ggl. und KG'!G$2:G$14000,A22,'Dateneingabe Ggl. und KG'!E$2:E$14000)","v":32},{"$f":"SUMIF('KG Korr.'!D$6:D$973,A22,'KG Korr.'!F$6:F$973)","v":2.5},"Pfalzgrafenweiler, Edelweiler, Kälberbronn, Durrweiler, Herzogsweiler und Neunuifra 1.12.2013, Baiersbronn und Friedrichstal 1.12.2013",34.5]
[{"$f":"Parameter!B20","v":"Gaildorf"},null,18,0,null,{"$f":"COUNTIF('Dateneingabe Ggl. und KG'!G$2:G$14000,A23)","v":18},{"$f":"SUMIF('KG Korr.'!D$6:D$973,A23,'KG Korr.'!E$6:E$973)","v":0},{"$f":"SUMIF('Dateneingabe Ggl. und KG'!G$2:G$14000,A23,'Dateneingabe Ggl. und KG'!E$2:E$14000)","v":18},{"$f":"SUMIF('KG Korr.'!D$6:D$973,A23,'KG Korr.'!F$6:F$973)","v":0},null,18]
[{"$f":"Parameter!B21","v":"Geislingen a.d. Steige"},null,26,0,null,{"$f":"COUNTIF('Dateneingabe Ggl. und KG'!G$2:G$14000,A24)","v":24},{"$f":"SUMIF('KG Korr.'!D$6:D$973,A24,'KG Korr.'!E$6:E$973)","v":2},{"$f":"SUMIF('Dateneingabe Ggl. und KG'!G$2:G$14000,A24,'Dateneingabe Ggl. und KG'!E$2:E$14000)","v":21},{"$f":"SUMIF('KG Korr.'!D$6:D$973,A24,'KG Korr.'!F$6:F$973)","v":1.5},"Deggingen-Bad Ditzenbach und Auendorf 1.1.2012. Geislingen Stadtkirche und Geislingen Pauluskirche 29.11.2015",22.5]
[{"$f":"Parameter!B22","v":"Göppingen"},null,36,1,"Wechsel Baiereck 1.1.2016 von Schorndorf nach Göppingen",{"$f":"COUNTIF('Dateneingabe Ggl. und KG'!G$2:G$14000,A25)","v":33},{"$f":"SUMIF('KG Korr.'!D$6:D$973,A25,'KG Korr.'!E$6:E$973)","v":4},{"$f":"SUMIF('Dateneingabe Ggl. und KG'!G$2:G$14000,A25,'Dateneingabe Ggl. und KG'!E$2:E$14000)","v":33.5},{"$f":"SUMIF('KG Korr.'!D$6:D$973,A25,'KG Korr.'!F$6:F$973)","v":3},"Dürnau und Gammelshausen 1.1.2013, Bünswangen und Sulpach 1.1.2013, Göppingen und Maitis 1.1.2015, Uhingen und Baiereck 1.1.2016",36.5]
[{"$f":"Parameter!B23","v":"Heidenheim"},null,30,0,null,{"$f":"COUNTIF('Dateneingabe Ggl. und KG'!G$2:G$14000,A26)","v":28},{"$f":"SUMIF('KG Korr.'!D$6:D$973,A26,'KG Korr.'!E$6:E$973)","v":2},{"$f":"SUMIF('Dateneingabe Ggl. und KG'!G$2:G$14000,A26,'Dateneingabe Ggl. und KG'!E$2:E$14000)","v":30.5},{"$f":"SUMIF('KG Korr.'!D$6:D$973,A26,'KG Korr.'!F$6:F$973)","v":1.5},"Heuchlingen und Heldenfingen 1.12.2013, Paulus und Wald 1.12.2013",32]
[{"$f":"Parameter!B24","v":"Heilbronn"},null,27,0,null,{"$f":"COUNTIF('Dateneingabe Ggl. und KG'!G$2:G$14000,A27)","v":25},{"$f":"SUMIF('KG Korr.'!D$6:D$973,A27,'KG Korr.'!E$6:E$973)","v":2},{"$f":"SUMIF('Dateneingabe Ggl. und KG'!G$2:G$14000,A27,'Dateneingabe Ggl. und KG'!E$2:E$14000)","v":30},{"$f":"SUMIF('KG Korr.'!D$6:D$973,A27,'KG Korr.'!F$6:F$973)","v":1.5},"Wartberg-Au und Nikolai 1.1.2013, Böckingen Stadt und Auferstehung 1.1.2011",31.5]
[{"$f":"Parameter!B25","v":"Herrenberg"},null,24,0,null,{"$f":"COUNTIF('Dateneingabe Ggl. und KG'!G$2:G$14000,A28)","v":24},{"$f":"SUMIF('KG Korr.'!D$6:D$973,A28,'KG Korr.'!E$6:E$973)","v":0},{"$f":"SUMIF('Dateneingabe Ggl. und KG'!G$2:G$14000,A28,'Dateneingabe Ggl. und KG'!E$2:E$14000)","v":25},{"$f":"SUMIF('KG Korr.'!D$6:D$973,A28,'KG Korr.'!F$6:F$973)","v":0},null,25]
[{"$f":"Parameter!B26","v":"Kirchheim unter Teck"},null,25,0,null,{"$f":"COUNTIF('Dateneingabe Ggl. und KG'!G$2:G$14000,A29)","v":21},{"$f":"SUMIF('KG Korr.'!D$6:D$973,A29,'KG Korr.'!E$6:E$973)","v":4},{"$f":"SUMIF('Dateneingabe Ggl. und KG'!G$2:G$14000,A29,'Dateneingabe Ggl. und KG'!E$2:E$14000)","v":22},{"$f":"SUMIF('KG Korr.'!D$6:D$973,A29,'KG Korr.'!F$6:F$973)","v":3},"Kirchheim Auferstehungskirche und Kirchheim Kreuzkirche und Kirchheim Martinskirche und Kirchheim Thomaskirche 1.1.2016, Kirchheim Matthäuskirchengemeinde und Ötlingen Johanneskirchengemeinde 1.1.2016",25]
[{"$f":"Parameter!B27","v":"Künzelsau"},null,16,1,"Wechsel Eberbach von Blaufelden nach Künzelsau",{"$f":"COUNTIF('Dateneingabe Ggl. und KG'!G$2:G$14000,A30)","v":15},{"$f":"SUMIF('KG Korr.'!D$6:D$973,A30,'KG Korr.'!E$6:E$973)","v":2},{"$f":"SUMIF('Dateneingabe Ggl. und KG'!G$2:G$14000,A30,'Dateneingabe Ggl. und KG'!E$2:E$14000)","v":14},{"$f":"SUMIF('KG Korr.'!D$6:D$973,A30,'KG Korr.'!F$6:F$973)","v":1},"Schöntal und Rossach 1.1.2012; Buchenbach und Eberbach 1.12.2013",15]
[{"$f":"Parameter!B28","v":"Leonberg"},null,23,0,null,{"$f":"COUNTIF('Dateneingabe Ggl. und KG'!G$2:G$14000,A31)","v":20},{"$f":"SUMIF('KG Korr.'!D$6:D$973,A31,'KG Korr.'!E$6:E$973)","v":3},{"$f":"SUMIF('Dateneingabe Ggl. und KG'!G$2:G$14000,A31,'Dateneingabe Ggl. und KG'!E$2:E$14000)","v":22.5},{"$f":"SUMIF('KG Korr.'!D$6:D$973,A31,'KG Korr.'!F$6:F$973)","v":2.5},"Münklingen und Hausen 1.12.2013, Leonberg Stadtkirche/Gartenstadt und Leonberg Blosenbergkirche und Leonberg-Ramtel Versöhnungskirche 1.1.2016",25]
[{"$f":"Parameter!B29","v":"Ludwigsburg"},null,24,0,null,{"$f":"COUNTIF('Dateneingabe Ggl. und KG'!G$2:G$14000,A32)","v":23},{"$f":"SUMIF('KG Korr.'!D$6:D$973,A32,'KG Korr.'!E$6:E$973)","v":1},{"$f":"SUMIF('Dateneingabe Ggl. und KG'!G$2:G$14000,A32,'Dateneingabe Ggl. und KG'!E$2:E$14000)","v":28},{"$f":"SUMIF('KG Korr.'!D$6:D$973,A32,'KG Korr.'!F$6:F$973)","v":1},"Hochberg und Hochdorf 1.12.2013",29]
[{"$f":"Parameter!B30","v":"Marbach a.N."},null,20,0,null,{"$f":"COUNTIF('Dateneingabe Ggl. und KG'!G$2:G$14000,A33)","v":20},{"$f":"SUMIF('KG Korr.'!D$6:D$973,A33,'KG Korr.'!E$6:E$973)","v":0},{"$f":"SUMIF('Dateneingabe Ggl. und KG'!G$2:G$14000,A33,'Dateneingabe Ggl. und KG'!E$2:E$14000)","v":21},{"$f":"SUMIF('KG Korr.'!D$6:D$973,A33,'KG Korr.'!F$6:F$973)","v":0},null,21]
[{"$f":"Parameter!B31","v":"Mühlacker"},null,27,0,null,{"$f":"COUNTIF('Dateneingabe Ggl. und KG'!G$2:G$14000,A34)","v":26},{"$f":"SUMIF('KG Korr.'!D$6:D$973,A34,'KG Korr.'!E$6:E$973)","v":1},{"$f":"SUMIF('Dateneingabe Ggl. und KG'!G$2:G$14000,A34,'Dateneingabe Ggl. und KG'!E$2:E$14000)","v":26},{"$f":"SUMIF('KG Korr.'!D$6:D$973,A34,'KG Korr.'!F$6:F$973)","v":0.5},"Pinache und Serres 1.1.2016",26.5]
[{"$f":"Parameter!B32","v":"Münsingen (siehe Bad Urach-Münsigen)"},null,null,0,null,{"$f":"COUNTIF('Dateneingabe Ggl. und KG'!G$2:G$14000,A35)","v":0},{"$f":"SUMIF('KG Korr.'!D$6:D$973,A35,'KG Korr.'!E$6:E$973)","v":0},{"$f":"SUMIF('Dateneingabe Ggl. und KG'!G$2:G$14000,A35,'Dateneingabe Ggl. und KG'!E$2:E$14000)","v":0},{"$f":"SUMIF('KG Korr.'!D$6:D$973,A35,'KG Korr.'!F$6:F$973)","v":0},null,0]
[{"$f":"Parameter!B33","v":"Nagold"},null,34,0,null,{"$f":"COUNTIF('Dateneingabe Ggl. und KG'!G$2:G$14000,A36)","v":29},{"$f":"SUMIF('KG Korr.'!D$6:D$973,A36,'KG Korr.'!E$6:E$973)","v":5},{"$f":"SUMIF('Dateneingabe Ggl. und KG'!G$2:G$14000,A36,'Dateneingabe Ggl. und KG'!E$2:E$14000)","v":27.5},{"$f":"SUMIF('KG Korr.'!D$6:D$973,A36,'KG Korr.'!F$6:F$973)","v":3},"Rotfelden und Wenden 1.12.2012, Pfrondorf und Emmingen 1.12.2013, Grömbach und Wörnersberg 1.12.2013, Nagold Stadtkirchengemeinde und Nagold Remigiuskirchengemeinde und Nagold-Iselshausen 1.1.2016",30.5]
[{"$f":"Parameter!B34","v":"Neuenbürg"},null,29,0,"Wechsel Kapfenhardt von Neuenbürg nach Calw, \nkünftiger Wechsel Aichelberg von Calw nach Neuenbürg",{"$f":"COUNTIF('Dateneingabe Ggl. und KG'!G$2:G$14000,A37)","v":29},{"$f":"SUMIF('KG Korr.'!D$6:D$973,A37,'KG Korr.'!E$6:E$973)","v":0},{"$f":"SUMIF('Dateneingabe Ggl. und KG'!G$2:G$14000,A37,'Dateneingabe Ggl. und KG'!E$2:E$14000)","v":27.5},{"$f":"SUMIF('KG Korr.'!D$6:D$973,A37,'KG Korr.'!F$6:F$973)","v":0},null,27.5]
[{"$f":"Parameter!B35","v":"Neuenstadt a.K."},null,24,0,null,{"$f":"COUNTIF('Dateneingabe Ggl. und KG'!G$2:G$14000,A38)","v":24},{"$f":"SUMIF('KG Korr.'!D$6:D$973,A38,'KG Korr.'!E$6:E$973)","v":0},{"$f":"SUMIF('Dateneingabe Ggl. und KG'!G$2:G$14000,A38,'Dateneingabe Ggl. und KG'!E$2:E$14000)","v":22},{"$f":"SUMIF('KG Korr.'!D$6:D$973,A38,'KG Korr.'!F$6:F$973)","v":0},null,22]
[{"$f":"Parameter!B36","v":"Nürtingen"},null,31,0,null,{"$f":"COUNTIF('Dateneingabe Ggl. und KG'!G$2:G$14000,A39)","v":28},{"$f":"SUMIF('KG Korr.'!D$6:D$973,A39,'KG Korr.'!E$6:E$973)","v":3},{"$f":"SUMIF('Dateneingabe Ggl. und KG'!G$2:G$14000,A39,'Dateneingabe Ggl. und KG'!E$2:E$14000)","v":29.5},{"$f":"SUMIF('KG Korr.'!D$6:D$973,A39,'KG Korr.'!F$6:F$973)","v":2.5},"Wendlingen und Unterboihingen 1.1.2013, Nürtingen Stadtkirche und Enzenhardt 1.1.2013, Aich und Neuenhaus 1.1.2015",32]
[{"$f":"Parameter!B37","v":"Öhringen"},null,20,0,null,{"$f":"COUNTIF('Dateneingabe Ggl. und KG'!G$2:G$14000,A40)","v":18},{"$f":"SUMIF('KG Korr.'!D$6:D$973,A40,'KG Korr.'!E$6:E$973)","v":2},{"$f":"SUMIF('Dateneingabe Ggl. und KG'!G$2:G$14000,A40,'Dateneingabe Ggl. und KG'!E$2:E$14000)","v":20},{"$f":"SUMIF('KG Korr.'!D$6:D$973,A40,'KG Korr.'!F$6:F$973)","v":1.5},"Öhringen und Michelbach am Wald 1.12.2013, Neuenstein und Eschelbach-Kesselfeld 1.1.2013",21.5]
[{"$f":"Parameter!B38","v":"Ravensburg"},null,29,0,null,{"$f":"COUNTIF('Dateneingabe Ggl. und KG'!G$2:G$14000,A41)","v":29},{"$f":"SUMIF('KG Korr.'!D$6:D$973,A41,'KG Korr.'!E$6:E$973)","v":0},{"$f":"SUMIF('Dateneingabe Ggl. und KG'!G$2:G$14000,A41,'Dateneingabe Ggl. und KG'!E$2:E$14000)","v":33},{"$f":"SUMIF('KG Korr.'!D$6:D$973,A41,'KG Korr.'!F$6:F$973)","v":0},null,33]
[{"$f":"Parameter!B39","v":"Reutlingen"},null,34,0,null,{"$f":"COUNTIF('Dateneingabe Ggl. und KG'!G$2:G$14000,A42)","v":33},{"$f":"SUMIF('KG Korr.'!D$6:D$973,A42,'KG Korr.'!E$6:E$973)","v":1},{"$f":"SUMIF('Dateneingabe Ggl. und KG'!G$2:G$14000,A42,'Dateneingabe Ggl. und KG'!E$2:E$14000)","v":36},{"$f":"SUMIF('KG Korr.'!D$6:D$973,A42,'KG Korr.'!F$6:F$973)","v":1},"Reutlingen Mauritus und Christus 1.12.2013",37]
[{"$f":"Parameter!B40","v":"Schorndorf"},null,29,-1,"Wechsel Baiereck 1.1.2016 von Schorndorf nach Göppingen",{"$f":"COUNTIF('Dateneingabe Ggl. und KG'!G$2:G$14000,A43)","v":28},{"$f":"SUMIF('KG Korr.'!D$6:D$973,A43,'KG Korr.'!E$6:E$973)","v":0},{"$f":"SUMIF('Dateneingabe Ggl. und KG'!G$2:G$14000,A43,'Dateneingabe Ggl. und KG'!E$2:E$14000)","v":30},{"$f":"SUMIF('KG Korr.'!D$6:D$973,A43,'KG Korr.'!F$6:F$973)","v":0},null,30]
[{"$f":"Parameter!B41","v":"Schwäbisch Gmünd"},null,20,0,null,{"$f":"COUNTIF('Dateneingabe Ggl. und KG'!G$2:G$14000,A44)","v":19},{"$f":"SUMIF('KG Korr.'!D$6:D$973,A44,'KG Korr.'!E$6:E$973)","v":1},{"$f":"SUMIF('Dateneingabe Ggl. und KG'!G$2:G$14000,A44,'Dateneingabe Ggl. und KG'!E$2:E$14000)","v":20.5},{"$f":"SUMIF('KG Korr.'!D$6:D$973,A44,'KG Korr.'!F$6:F$973)","v":0.5},"Lorch und Weitmars 1.1.2016",21]
[{"$f":"Parameter!B42","v":"Schwäbisch Hall"},null,41,1,"Wechsel Ruppertshofen von Blaufelden nach Schwäbisch Hall",{"$f":"COUNTIF('Dateneingabe Ggl. und KG'!G$2:G$14000,A45)","v":37},{"$f":"SUMIF('KG Korr.'!D$6:D$973,A45,'KG Korr.'!E$6:E$973)","v":5},{"$f":"SUMIF('Dateneingabe Ggl. und KG'!G$2:G$14000,A45,'Dateneingabe Ggl. und KG'!E$2:E$14000)","v":33.5},{"$f":"SUMIF('KG Korr.'!D$6:D$973,A45,'KG Korr.'!F$6:F$973)","v":3},"Untermünkheim, Enslingen und Übrigshausen 1.1.2011, Döttingen und Steinkirchen 1.1.2011, Orlach und Jungholzhausen 1.1.2011, Steinbach und Tullau 30.11.2014",36.5]
[{"$f":"Parameter!B43","v":"Stuttgart"},null,22,0,null,{"$f":"COUNTIF('Dateneingabe Ggl. und KG'!G$2:G$14000,A46)","v":21},{"$f":"SUMIF('KG Korr.'!D$6:D$973,A46,'KG Korr.'!E$6:E$973)","v":1},{"$f":"SUMIF('Dateneingabe Ggl. und KG'!G$2:G$14000,A46,'Dateneingabe Ggl. und KG'!E$2:E$14000)","v":25.5},{"$f":"SUMIF('KG Korr.'!D$6:D$973,A46,'KG Korr.'!F$6:F$973)","v":1},"Berg und Heilandskirche 1.1.2013",26.5]
[{"$f":"Parameter!B44","v":"Sulz/Neckar"},null,36,1,"Künftiger Wechsel Isingen (Teil) von Balingen nach Sulz/Neckar",{"$f":"COUNTIF('Dateneingabe Ggl. und KG'!G$2:G$14000,A47)","v":37},{"$f":"SUMIF('KG Korr.'!D$6:D$973,A47,'KG Korr.'!E$6:E$973)","v":0},{"$f":"SUMIF('Dateneingabe Ggl. und KG'!G$2:G$14000,A47,'Dateneingabe Ggl. und KG'!E$2:E$14000)","v":33.5},{"$f":"SUMIF('KG Korr.'!D$6:D$973,A47,'KG Korr.'!F$6:F$973)","v":0},null,33.5]
[{"$f":"Parameter!B45","v":"Tübingen"},null,46,0,null,{"$f":"COUNTIF('Dateneingabe Ggl. und KG'!G$2:G$14000,A48)","v":44},{"$f":"SUMIF('KG Korr.'!D$6:D$973,A48,'KG Korr.'!E$6:E$973)","v":2},{"$f":"SUMIF('Dateneingabe Ggl. und KG'!G$2:G$14000,A48,'Dateneingabe Ggl. und KG'!E$2:E$14000)","v":47},{"$f":"SUMIF('KG Korr.'!D$6:D$973,A48,'KG Korr.'!F$6:F$973)","v":1.5},"Wolfenhausen und Nellingsheim 1.12.2013, Walddorf und Häslach 1.1.2012",48.5]
[{"$f":"Parameter!B46","v":"Tuttlingen"},null,23,0,null,{"$f":"COUNTIF('Dateneingabe Ggl. und KG'!G$2:G$14000,A49)","v":21},{"$f":"SUMIF('KG Korr.'!D$6:D$973,A49,'KG Korr.'!E$6:E$973)","v":2},{"$f":"SUMIF('Dateneingabe Ggl. und KG'!G$2:G$14000,A49,'Dateneingabe Ggl. und KG'!E$2:E$14000)","v":25.5},{"$f":"SUMIF('KG Korr.'!D$6:D$973,A49,'KG Korr.'!F$6:F$973)","v":1},"Tuttlingen Martin und Versöhnung 1.12.2013, Trossingen und Schura 1.1.2015",26.5]
[{"$f":"Parameter!B47","v":"Ulm"},null,38,0,null,{"$f":"COUNTIF('Dateneingabe Ggl. und KG'!G$2:G$14000,A50)","v":36},{"$f":"SUMIF('KG Korr.'!D$6:D$973,A50,'KG Korr.'!E$6:E$973)","v":2},{"$f":"SUMIF('Dateneingabe Ggl. und KG'!G$2:G$14000,A50,'Dateneingabe Ggl. und KG'!E$2:E$14000)","v":35},{"$f":"SUMIF('KG Korr.'!D$6:D$973,A50,'KG Korr.'!F$6:F$973)","v":1},"Lonsee und Luizhausen 1.1.2011, Setzingen und Nerenstetten 1.12.2013",36]
[{"$f":"Parameter!B48","v":"Vaihingen an der Enz"},null,20,0,null,{"$f":"COUNTIF('Dateneingabe Ggl. und KG'!G$2:G$14000,A51)","v":20},{"$f":"SUMIF('KG Korr.'!D$6:D$973,A51,'KG Korr.'!E$6:E$973)","v":0},{"$f":"SUMIF('Dateneingabe Ggl. und KG'!G$2:G$14000,A51,'Dateneingabe Ggl. und KG'!E$2:E$14000)","v":20.5},{"$f":"SUMIF('KG Korr.'!D$6:D$973,A51,'KG Korr.'!F$6:F$973)","v":0},null,20.5]
[{"$f":"Parameter!B49","v":"Waiblingen"},null,35,0,null,{"$f":"COUNTIF('Dateneingabe Ggl. und KG'!G$2:G$14000,A52)","v":27},{"$f":"SUMIF('KG Korr.'!D$6:D$973,A52,'KG Korr.'!E$6:E$973)","v":8},{"$f":"SUMIF('Dateneingabe Ggl. und KG'!G$2:G$14000,A52,'Dateneingabe Ggl. und KG'!E$2:E$14000)","v":32.5},{"$f":"SUMIF('KG Korr.'!D$6:D$973,A52,'KG Korr.'!F$6:F$973)","v":5.5},"Hertmannsweiler und Bürg 1.12.2013, Waiblingen Michael, Martin-Luther, Dietrich-Bonhoeffer und Korber Höhe 1.12.2013, Fellbach Luther, Paulus, Melanchthon und Brenz 1.12.2013, Winnenden Stadtkirche und Paul-Schneider 1.12.2013",38]
[{"$f":"Parameter!B50","v":"Weikersheim"},null,36,0,null,{"$f":"COUNTIF('Dateneingabe Ggl. und KG'!G$2:G$14000,A53)","v":34},{"$f":"SUMIF('KG Korr.'!D$6:D$973,A53,'KG Korr.'!E$6:E$973)","v":2},{"$f":"SUMIF('Dateneingabe Ggl. und KG'!G$2:G$14000,A53,'Dateneingabe Ggl. und KG'!E$2:E$14000)","v":23},{"$f":"SUMIF('KG Korr.'!D$6:D$973,A53,'KG Korr.'!F$6:F$973)","v":0.5},"Finsterlohr, Schmerbach und Lichtel 1.12.2013",23.5]
[{"$f":"Parameter!B51","v":"Weinsberg"},null,23,0,null,{"$f":"COUNTIF('Dateneingabe Ggl. und KG'!G$2:G$14000,A54)","v":23},{"$f":"SUMIF('KG Korr.'!D$6:D$973,A54,'KG Korr.'!E$6:E$973)","v":0},{"$f":"SUMIF('Dateneingabe Ggl. und KG'!G$2:G$14000,A54,'Dateneingabe Ggl. und KG'!E$2:E$14000)","v":23},{"$f":"SUMIF('KG Korr.'!D$6:D$973,A54,'KG Korr.'!F$6:F$973)","v":0},null,23]
[{"$f":"Parameter!B52","v":"Zuffenhausen"},null,11,0,null,{"$f":"COUNTIF('Dateneingabe Ggl. und KG'!G$2:G$14000,A55)","v":8},{"$f":"SUMIF('KG Korr.'!D$6:D$973,A55,'KG Korr.'!E$6:E$973)","v":3},{"$f":"SUMIF('Dateneingabe Ggl. und KG'!G$2:G$14000,A55,'Dateneingabe Ggl. und KG'!E$2:E$14000)","v":11},{"$f":"SUMIF('KG Korr.'!D$6:D$973,A55,'KG Korr.'!F$6:F$973)","v":2.5},"Weilimdorf Oswald und Wolfbusch 1.1.2013, Rohr, Freiburg und Mönchberg 1.1.2013",13.5]
[]
["Landeskirche",null,{"$f":"SUM(C5:C55)","v":1381},{"$f":"SUM(D5:D55)","v":0},null,{"$f":"SUM(F5:F55)","v":1299},{"$f":"SUM(G5:G55)","v":82},{"$f":"SUM(H5:H55)","v":1323.5},{"$f":"SUM(I5:I55)","v":55},null,{"$f":"SUM(K5:K55)","v":1378.5}]

{"sheet":"Zählung","index":9,"n_rows":56,"n_cols":9,"rows_kept":56,"cut":false,"hidden":false,"merged":[]}
[{"$f":"\"Bei den Dekanatämtern abgefragte Daten für den PfarrPlan \"&Parameter!A2","v":"Bei den Dekanatämtern abgefragte Daten für den PfarrPlan 2024"}]
["Die Daten werden in einer separten Datei aggregiert und dann hier eingefügt."]
[1,2,3,4,5,6,7,8,9]
[null,null,"Krankenhausseelsorge, für die keine landeskirchliche Sonderpfarrstelle zur Verfügung steht (entsprechend den Kriterien des PfarrPlans) (grau/kursiv = nicht berücksichtigt, da nicht im Krankenhausplan des Landes Baden-Württemberg enthalten)","Stellenanteile (Berechnung: In der Regel pro angefangene 200 Betten 0,25; bis 50 Betten nichts; insgesamt höchstens 1,0)","Hochschulseelsorge, für die keine landeskirchliche Sonderpfarrstelle zur Verfügung steht (entsprechend den Kriterien des PfarrPlans)  (grau/kursiv = nicht berücksichtigt, da im Kirchenbezirk weniger als ca. 500  bis 1000 Studierende oder Berufsakademie)","Stellen-anteile","Reha, geriatrische Reha, Hospizeinrichten (grau/kursiv = nicht berücksichtigt wegen zu geringer Zahlen oder weil keine Reha-Einrichtung, sondern z.B. Alteneinrichtung)","Stellen-anteile","Zahl zusätzlicher Predigtstellen mit mindestends 14tägigem Predigtdienst (entsprechend den weiter präzisierten Kriterien des PfarrPlans)"]
[1,{"$f":"Parameter!B2","v":"Aalen"},"Ostalbklinikum Aalen (450), Virngrundklinik Ellwangen (280)",1,"Hochschule für Technik und Wirtschaft (4.600)",0.25,null,null,12]
[2,{"$f":"Parameter!B3","v":"Backnang"},null,null,null,null,"Hospizstiftung Rems-Murr-Kreis e.V., Pusteblume (8 Plätze + Kinder, Jugendliche), Ambulanter Kinder- und Jugendhospizdienst Sternentraum (wechselnd Kinder, Jugendliche)",null,14]
[3,{"$f":"Parameter!B4","v":"Bad Cannstatt"},null,null,null,null,null,null,1]
[4,{"$f":"Parameter!B5","v":"Bad Urach-Münsingen"},"KKH Ermstalklinik Bad Urach (190), KH Münsingen (105), Zwiefalten (339), Laichingen (49)",1,null,null,"Reha (Orthopädische, geriatrische, neurologische Abteilungen) 750 Betten",0.5,12]
[5,{"$f":"Parameter!B6","v":"Balingen"},"Zollernalbklinikum Balingen (270), SRH Krankenhaus Sigmaringen (384)",1,"Hochschule Albstadt-Sigmaringen (3700)",0.25,null,null,22]
[6,{"$f":"Parameter!B7","v":"Bernhausen"},null,null,null,null,null,null,6]
[7,{"$f":"Parameter!B8","v":"Besigheim"},null,null,null,null,"Hospiz Bietigheim (7 Zimmer)",null,12]
[8,{"$f":"Parameter!B9","v":"Biberach"},"KH Biberach (320), Fachklinik für Neurologie Dietenbronn (100), KH Laupheim (74), KH Riedlingen (54), Fachpflegeheim ZfP Riedlingen (46) (nicht zusammenzufassen)",1,"Hochschule Biberach (2000)",0.25,null,null,17]
[9,{"$f":"Parameter!B10","v":"Blaubeuren"},"KH Blaubeuren (121), Kreiskrankenhaus Ehingen (198)",0.5,null,null,null,null,2]
[10,{"$f":"Parameter!B11","v":"Blaufelden"}]
[11,{"$f":"Parameter!B12","v":"Böblingen"},null,null,null,null,null,null,12]
[12,{"$f":"Parameter!B13","v":"Brackenheim"},"KH Brackenheim (130) (wird geschlossen)",null,null,null,null,null,2]
[13,{"$f":"Parameter!B14","v":"Calw"},"Kreiskrankenhaus Calw (199) und Klinik Dr. Römer in Hirsau (48) (zusammenzufassen); Paracelsus Krankenhaus Bad Liebenzell (65)",0.75,null,null,"AOK Schlossbergklinik Orthopädie/Stoffwechsel (129)",null,8]
[14,{"$f":"Parameter!B15","v":"Crailsheim"},"Klinikum Crailsheim",0.25,null,null,null,null,4]
[15,{"$f":"Parameter!B16","v":"Degerloch"},null,null,"Uni Hohenheim (5.000)",0.25,null,null,7]
[16,{"$f":"Parameter!B17","v":"Ditzingen"},null,null,null,null,null,null,1]
[17,{"$f":"Parameter!B18","v":"Esslingen"},null,null,"Hochschule Esslingen (5.600)",0.25,"Hospiz Esslingen (8 Betten)",null,14]
[18,{"$f":"Parameter!B19","v":"Freudenstadt"},null,null,"Ab 2017 ist eine Außenstelle der Universität Stuttgart mit 180 Studenten vorgesehen",null,null,null,20]
[19,{"$f":"Parameter!B20","v":"Gaildorf"},null,null,null,null,null,null,2]
[20,{"$f":"Parameter!B21","v":"Geislingen a.d. Steige"},null,null,"Hochschule Nürtingen Außenstelle Geislingen (2.300)",0.25,null,null,10]
[21,{"$f":"Parameter!B22","v":"Göppingen"},null,null,"Hochschule Esslingen Standort Göppingen (1.200)",0.25,"Hospiz Faurndau: 8 Betten",null,12]
[22,{"$f":"Parameter!B23","v":"Heidenheim"},null,null,null,null,null,null,17]
[23,{"$f":"Parameter!B24","v":"Heilbronn"},null,null,"Hochschule Heilbronn (4.700)",0.25,"SRH Gesundheitszentrum (Innere Medizin, Orthopädie) (327), Bad Wimpfen REHA (Dagnosik, Pflege)",0.25,10]
[24,{"$f":"Parameter!B25","v":"Herrenberg"},"KH Herrenberg (150)",0.25,null,null,"Im KH sind 6 Betten der neu eingerichteten Palliativstation enthalten",null,5]
[25,{"$f":"Parameter!B26","v":"Kirchheim unter Teck"},"KH Kirchheim",0.75,null,null,null,null,7]
[26,{"$f":"Parameter!B27","v":"Künzelsau"},"Hohenloher Krankenhaus (Betriebsteil Künzelsau)",0.25,"Reinhold-Würth-Hochschule (Campus Künzelsau) (1.500)",0.25,null,null,3]
[27,{"$f":"Parameter!B28","v":"Leonberg"},null,null,null,null,null,null,10]
[28,{"$f":"Parameter!B29","v":"Ludwigsburg"},null,null,null,null,null,null,7]
[29,{"$f":"Parameter!B30","v":"Marbach a.N."},"KH Marbach (120)",0.25,null,null,null,null,5]
[30,{"$f":"Parameter!B31","v":"Mühlacker"},null,null,null,null,"Geriatrische Reha Mühlacker (65 Betten)",null,10]
[31,{"$f":"Parameter!B32","v":"Münsingen (siehe Bad Urach-Münsigen)"}]
[32,{"$f":"Parameter!B33","v":"Nagold"},"Klinikum Nagold (290)",0.5,null,null,null,null,10]
[33,{"$f":"Parameter!B34","v":"Neuenbürg"},"Enzkreisklinik (Neuenbürg) (82), Sana-Krankenhaus Bad Wildbad (103) (nicht zusammenzufassen), Bad Herrenalb: Sanima Klinik am Mayenberg, private Fachklinik für Psychiatrie, Psychosomatik, Psychotherapie und Neurologie (27)",0.5,null,null,"Engelsbrand (Gerontopsychiatrie) 112, Dobel Akura Ruhland Kliniken, Waldklinik (Orthopädie, Neurologie,  Onkologie) 300; Bad Herrenalb Fachklinik Falkenburg (Orthopädie, Kardiologie) 375; Bad Wildbad Johanneshaus (Psychisch Kranke)117; Schömberg Berufsförderungswerk (Berufliche Reha) 400 (davon 340 wohnhaft vor Ort);  Bad Herrenalb Celenus-Klinik (Psychosomatik) 88",0.5,11]
[34,{"$f":"Parameter!B35","v":"Neuenstadt a.K."},"KH Möckmühl (80) (wird geschlossen)",null,null,null,null,null,11]
[35,{"$f":"Parameter!B36","v":"Nürtingen"},null,null,"Hochschule für Wirtschaft und Umwelt Nürtingen-Geislingen inklusive des neuen Fachbereichs Kunsttherapie (keine eigenständige Hochschule mehr): 3086 am Standort Nürtingen",0.25,null,null,4]
[36,{"$f":"Parameter!B37","v":"Öhringen"},"Krankenhaus Öhringen (unter 200)",0.25,null,null,null,null,7]
[37,{"$f":"Parameter!B38","v":"Ravensburg"},"Bad Waldsee (85), Tettnang (140) Weingarten KH 14 Nothelfer (133), Wangen Oberschwabenklinik (200) (nicht zusammenzufassen)",1,"Weingarten PH (3470), Weingarten-Ravensburg Hochschule (3800), Friedrichshafen Zeppelinuniversität (1300), Friedrichshafen Duale Hochschule (1300)",0.5,"Bad Waldsee Städtische Reha-Klinik (480), Bad Waldsee Waldburg-Zeil-Hofgarten Klinik (209), Bad Waldsee Privatklinik Urbachtal (60), Wangen Hospiz (9), Wangen Zentrum für Psychiatrie (?)",0.5,17]
[38,{"$f":"Parameter!B39","v":"Reutlingen"},null,null,null,null,null,null,11]
[39,{"$f":"Parameter!B40","v":"Schorndorf"},null,null,null,null,null,null,13]
[40,{"$f":"Parameter!B41","v":"Schwäbisch Gmünd"}," ",null,"Pädagogische Hochschule (2700)",0.25,null,null,7]
[41,{"$f":"Parameter!B42","v":"Schwäbisch Hall"},"Diakonieklinikum SHA (Krankenhauspfarrstellen sind zum Teil landeskirchlich mitfinanziert) (492)",null,"Campus Schwäbisch Hall der Hochschule Heilbronn, Hochschule für Management und Vertrieb (1150 zum WS 2016) (soll von Künzelsau mit versorgt werden)",null,null,null,9]
[42,{"$f":"Parameter!B43","v":"Stuttgart"},null,null,null,null,null,null,15]
[43,{"$f":"Parameter!B44","v":"Sulz/Neckar"},"SRK Krankenhaus Oberndorf a.N. (120)",0.25,null,null,null,null,10]
[44,{"$f":"Parameter!B45","v":"Tübingen"},"Tropenklinik Paul-Lechler-KH Tübingen (101)",null,"Hochschule für Forstwirtschaft Rottenburg (ca. 1.200)",null,"Reha-Klinik Sebastiansweiler - ab April 2017, wenn neue Miter in den Neubau des Betreuten Wohnens einziehen: Medizin./geriatrische Reha: 125, Pflegeheim Rosengarten: 76, Wochkomastation Rosengarten: 14, Kurzzeitpflege Haupthaus: 16, Betreutes Wohnen: 55 (mind.), Gesamt: 286",null,16]
[45,{"$f":"Parameter!B46","v":"Tuttlingen"},"KKH Rottweil (294), Schwarzwald-Baar-Klinikum Villingen-Schwenningen (25%)",0.75,"Hochschule Furtwangen university (HFU), VS-Schwenningen (2300), Duale Hochschule Baden-Württemberg (DHBW) VS-Schwenningen (2500), HFU/ Hochschule Furtwangen - Informatik, Technik, Wirtschaft, Medien, Gesundheit; Standort Tuttlingen (650), HFW Rottweil ??, Musikhochschule Trossingen (490), Bundesakademie für musikalische Jugendbildung Trossingen (90)",0.25,"Hospiz Spaichingen (15), Geriatrische Reha-Klinik Bethel Trossingen (60)",null,17]
[46,{"$f":"Parameter!B47","v":"Ulm"},"KH Langenau (80)",0.25,null,null,"Tannenhof Wiblingen (Einrichtung des LWB für geistig schwerbehinderte Erwachsene mit Hospizabteilung; 250), Bethesda Ulm (Geriatrische Klinik; 90), Hospiz Ulm e.V. (10)",null,13]
[47,{"$f":"Parameter!B48","v":"Vaihingen an der Enz"},"KH in Vaihingen an der Enz wurde zum 1.1.2016 gesclossen",null,null,null,null,null,3]
[48,{"$f":"Parameter!B49","v":"Waiblingen"},null,null,null,null,null,null,4]
[49,{"$f":"Parameter!B50","v":"Weikersheim"},null,null,null,null,null,null,2]
[50,{"$f":"Parameter!B51","v":"Weinsberg"},"SLK Lungenklinik Löwenstein (205)",0.5,null,null,null,null,4]
[51,{"$f":"Parameter!B52","v":"Zuffenhausen"},null,null,null,null,null,null,16]
[null,"Summen",null,{"$f":"SUM(D5:D55)","v":11},0,{"$f":"SUM(F5:F55)","v":3.5},null,{"$f":"SUM(H5:H55)","v":1.75},{"$f":"SUM(I5:I55)","v":464}]

{"sheet":"Parameter","index":10,"n_rows":52,"n_cols":2,"rows_kept":52,"cut":false,"hidden":false,"merged":[]}
["Zieljahr des aktuellen PfarrPlans:","Dekanat/Kirchenbezirk"]
[2024,"Aalen"]
[null,"Backnang"]
["Zieljahr des vorigen PfarrPlans:","Bad Cannstatt"]
[2018,"Bad Urach-Münsingen"]
[null,"Balingen"]
["Jahr der Datengrundlage (31.12.):","Bernhausen"]
[2016,"Besigheim"]
[null,"Biberach"]
["Zahl der zu Grunde zu legenden Wochenstunden RU:","Blaubeuren"]
[25,"Blaufelden"]
[null,"Böblingen"]
[null,"Brackenheim"]
[null,"Calw"]
[null,"Crailsheim"]
[null,"Degerloch"]
[null,"Ditzingen"]
[null,"Esslingen"]
[null,"Freudenstadt"]
[null,"Gaildorf"]
[null,"Geislingen a.d. Steige"]
[null,"Göppingen"]
[null,"Heidenheim"]
[null,"Heilbronn"]
[null,"Herrenberg"]
[null,"Kirchheim unter Teck"]
[null,"Künzelsau"]
[null,"Leonberg"]
[null,"Ludwigsburg"]
[null,"Marbach a.N."]
[null,"Mühlacker"]
[null,"Münsingen (siehe Bad Urach-Münsigen)"]
[null,"Nagold"]
[null,"Neuenbürg"]
[null,"Neuenstadt a.K."]
[null,"Nürtingen"]
[null,"Öhringen"]
[null,"Ravensburg"]
[null,"Reutlingen"]
[null,"Schorndorf"]
[null,"Schwäbisch Gmünd"]
[null,"Schwäbisch Hall"]
[null,"Stuttgart"]
[null,"Sulz/Neckar"]
[null,"Tübingen"]
[null,"Tuttlingen"]
[null,"Ulm"]
[null,"Vaihingen an der Enz"]
[null,"Waiblingen"]
[null,"Weikersheim"]
[null,"Weinsberg"]
[null,"Zuffenhausen"]